{"text_format":"1","workbook":"xlsx","n_sheets":6,"sheets":["Saisie","Bilan","Notes","Evolution","journal","Références"],"not_rendered":{"charts":2,"images":0,"macros":1,"external_links":0,"defined_names":15,"comments":0,"pivot_tables":0},"unopened":[],"bounds":{"document_bytes":16777216,"sheet_cells":100000,"rows_first":2000,"rows_last":500,"rows_between":2000,"halvings":0,"cell_chars":16384,"cell_head_chars":4096},"cells_cut":0,"cells_raw":0,"read":"whole","date_system":"1900"}

{"sheet":"Saisie","index":0,"n_rows":40,"n_cols":11,"rows_kept":40,"cut":false,"hidden":false,"merged":[]}
[]
[null,"Statistiques",null,"Devoir surveillé",null,null,null,null,null,null,"EN cliquant sur la case colorée du thème ou du type on peut choisir parmi la liste définie dans références "]
[]
[null,null,null,null,null,null,null,null,null,null,"Les notes sont calculées directement sur la feuilles notes"]
["Période",1,"Non Noté",{"$f":"IF(C5=\"Non noté\",0,1)","v":0},null,null,null,null,null,null,"on peut changer les valeurs des compétences dans la feuille journal, les notes seront automatiquement changées"]
[null,3,{"$f":"IF(D5=1,\"Sur :\",\"\")","v":""},20,null,null,null,null,null,null,"Si on a choisi sans note, il n'y aura pas de note calculée, mais on peut toujours mettre des notes directement dans la feuille de notes"]
[]
[null,null,null,null,null,null,null,null,null,null,"Peut-on mettre une note sans compétences? Non pas pour l'instant"]
[null,"S'approprier","Analyser","Réaliser","Valider","Communiquer",null,"Note"]
["NOM Prénom",null,null,null,null,null,null,{"$f":"IF(D5=1,D6,\"\")","v":""},null,null,"On peut changer les notes dans la feuille note, et ajouter nn pour les élèves qui ne sont pas notés. (même si un a apparaitra dans le bilan de compétences)"]
[null,null,null,null,null,null,null,{"$f":"IF($D$5=1,IF(COUNTIF(B11:F11,\"\")=5,\"a\",SUM(B11:F11)/SUM($B$10:$F$10)*$H$10),\"\")","v":""}]
[null,null,null,null,null,null,null,{"$f":"IF($D$5=1,IF(COUNTIF(B12:F12,\"\")=5,\"a\",SUM(B12:F12)/SUM($B$10:$F$10)*$H$10),\"\")","v":""}]
[null,null,null,null,null,null,null,""]
[null,null,null,null,null,null,null,""]
[null,null,null,null,null,null,null,""]
[null,null,null,null,null,null,null,""]
[null,null,null,null,null,null,null,""]
[null,null,null,null,null,null,null,""]
[null,null,null,null,null,null,null,""]
[null,null,null,null,null,null,null,""]
[null,null,null,null,null,null,null,""]
[null,null,null,null,null,null,null,""]
[null,null,null,null,null,null,null,""]
[null,null,null,null,null,null,null,""]
[null,null,null,null,null,null,null,""]
[null,null,null,null,null,null,null,""]
[null,null,null,null,null,null,null,""]
[null,null,null,null,null,null,null,""]
[null,null,null,null,null,null,null,""]
[null,null,null,null,null,null,null,""]
[null,null,null,null,null,null,null,""]
[null,null,null,null,null,null,null,""]
[null,null,null,null,null,null,null,""]
[null,null,null,null,null,null,null,""]
[null,null,null,null,null,null,null,""]
[null,null,null,null,null,null,null,""]
[null,null,null,null,null,null,null,""]
[null,null,null,null,null,null,null,""]
[null,null,null,null,null,null,null,""]
[null,null,null,null,null,null,null,""]

{"sheet":"Bilan","index":1,"n_rows":35,"n_cols":44,"rows_kept":35,"cut":false,"hidden":false,"merged":[]}
[null,null,{"$f":"IF(OR(AND($B$2=1,C$3=\"T1\"),AND($B$2=2,C$3=\"T2\"),AND($B$2=3,C$3=\"T3\"),($B$2=4)),Evolution!C1,\"\")","v":""},{"$f":"IF(OR(AND($B$2=1,D$3=\"T1\"),AND($B$2=2,D$3=\"T2\"),AND($B$2=3,D$3=\"T3\"),($B$2=4)),Evolution!D1,\"\")","v":""},{"$f":"IF(OR(AND($B$2=1,E$3=\"T1\"),AND($B$2=2,E$3=\"T2\"),AND($B$2=3,E$3=\"T3\"),($B$2=4)),Evolution!E1,\"\")","v":""},{"$f":"IF(OR(AND($B$2=1,F$3=\"T1\"),AND($B$2=2,F$3=\"T2\"),AND($B$2=3,F$3=\"T3\"),($B$2=4)),Evolution!F1,\"\")","v":""},{"$f":"IF(OR(AND($B$2=1,G$3=\"T1\"),AND($B$2=2,G$3=\"T2\"),AND($B$2=3,G$3=\"T3\"),($B$2=4)),Evolution!G1,\"\")","v":""},{"$f":"IF(OR(AND($B$2=1,H$3=\"T1\"),AND($B$2=2,H$3=\"T2\"),AND($B$2=3,H$3=\"T3\"),($B$2=4)),Evolution!H1,\"\")","v":""},{"$f":"IF(OR(AND($B$2=1,I$3=\"T1\"),AND($B$2=2,I$3=\"T2\"),AND($B$2=3,I$3=\"T3\"),($B$2=4)),Evolution!I1,\"\")","v":""},{"$f":"IF(OR(AND($B$2=1,J$3=\"T1\"),AND($B$2=2,J$3=\"T2\"),AND($B$2=3,J$3=\"T3\"),($B$2=4)),Evolution!J1,\"\")","v":""},{"$f":"IF(OR(AND($B$2=1,K$3=\"T1\"),AND($B$2=2,K$3=\"T2\"),AND($B$2=3,K$3=\"T3\"),($B$2=4)),Evolution!K1,\"\")","v":""},{"$f":"IF(OR(AND($B$2=1,L$3=\"T1\"),AND($B$2=2,L$3=\"T2\"),AND($B$2=3,L$3=\"T3\"),($B$2=4)),Evolution!L1,\"\")","v":""},{"$f":"IF(OR(AND($B$2=1,M$3=\"T1\"),AND($B$2=2,M$3=\"T2\"),AND($B$2=3,M$3=\"T3\"),($B$2=4)),Evolution!M1,\"\")","v":""},{"$f":"IF(OR(AND($B$2=1,N$3=\"T1\"),AND($B$2=2,N$3=\"T2\"),AND($B$2=3,N$3=\"T3\"),($B$2=4)),Evolution!N1,\"\")","v":""},{"$f":"IF(OR(AND($B$2=1,O$3=\"T1\"),AND($B$2=2,O$3=\"T2\"),AND($B$2=3,O$3=\"T3\"),($B$2=4)),Evolution!O1,\"\")","v":""},{"$f":"IF(OR(AND($B$2=1,P$3=\"T1\"),AND($B$2=2,P$3=\"T2\"),AND($B$2=3,P$3=\"T3\"),($B$2=4)),Evolution!P1,\"\")","v":""},{"$f":"IF(OR(AND($B$2=1,Q$3=\"T1\"),AND($B$2=2,Q$3=\"T2\"),AND($B$2=3,Q$3=\"T3\"),($B$2=4)),Evolution!Q1,\"\")","v":""},{"$f":"IF(OR(AND($B$2=1,R$3=\"T1\"),AND($B$2=2,R$3=\"T2\"),AND($B$2=3,R$3=\"T3\"),($B$2=4)),Evolution!R1,\"\")","v":""},{"$f":"IF(OR(AND($B$2=1,S$3=\"T1\"),AND($B$2=2,S$3=\"T2\"),AND($B$2=3,S$3=\"T3\"),($B$2=4)),Evolution!S1,\"\")","v":""},{"$f":"IF(OR(AND($B$2=1,T$3=\"T1\"),AND($B$2=2,T$3=\"T2\"),AND($B$2=3,T$3=\"T3\"),($B$2=4)),Evolution!T1,\"\")","v":""},{"$f":"IF(OR(AND($B$2=1,U$3=\"T1\"),AND($B$2=2,U$3=\"T2\"),AND($B$2=3,U$3=\"T3\"),($B$2=4)),Evolution!U1,\"\")","v":""},{"$f":"IF(OR(AND($B$2=1,V$3=\"T1\"),AND($B$2=2,V$3=\"T2\"),AND($B$2=3,V$3=\"T3\"),($B$2=4)),Evolution!V1,\"\")","v":""},{"$f":"IF(OR(AND($B$2=1,W$3=\"T1\"),AND($B$2=2,W$3=\"T2\"),AND($B$2=3,W$3=\"T3\"),($B$2=4)),Evolution!W1,\"\")","v":""},{"$f":"IF(OR(AND($B$2=1,X$3=\"T1\"),AND($B$2=2,X$3=\"T2\"),AND($B$2=3,X$3=\"T3\"),($B$2=4)),Evolution!X1,\"\")","v":""},{"$f":"IF(OR(AND($B$2=1,Y$3=\"T1\"),AND($B$2=2,Y$3=\"T2\"),AND($B$2=3,Y$3=\"T3\"),($B$2=4)),Evolution!Y1,\"\")","v":""},{"$f":"IF(OR(AND($B$2=1,Z$3=\"T1\"),AND($B$2=2,Z$3=\"T2\"),AND($B$2=3,Z$3=\"T3\"),($B$2=4)),Evolution!Z1,\"\")","v":""},{"$f":"IF(OR(AND($B$2=1,AA$3=\"T1\"),AND($B$2=2,AA$3=\"T2\"),AND($B$2=3,AA$3=\"T3\"),($B$2=4)),Evolution!AA1,\"\")","v":""},{"$f":"IF(OR(AND($B$2=1,AB$3=\"T1\"),AND($B$2=2,AB$3=\"T2\"),AND($B$2=3,AB$3=\"T3\"),($B$2=4)),Evolution!AB1,\"\")","v":""},{"$f":"IF(OR(AND($B$2=1,AC$3=\"T1\"),AND($B$2=2,AC$3=\"T2\"),AND($B$2=3,AC$3=\"T3\"),($B$2=4)),Evolution!AC1,\"\")","v":""},{"$f":"IF(OR(AND($B$2=1,AD$3=\"T1\"),AND($B$2=2,AD$3=\"T2\"),AND($B$2=3,AD$3=\"T3\"),($B$2=4)),Evolution!AD1,\"\")","v":""},{"$f":"IF(OR(AND($B$2=1,AE$3=\"T1\"),AND($B$2=2,AE$3=\"T2\"),AND($B$2=3,AE$3=\"T3\"),($B$2=4)),Evolution!AE1,\"\")","v":""},{"$f":"IF(OR(AND($B$2=1,AF$3=\"T1\"),AND($B$2=2,AF$3=\"T2\"),AND($B$2=3,AF$3=\"T3\"),($B$2=4)),Evolution!AF1,\"\")","v":""},{"$f":"IF(OR(AND($B$2=1,AG$3=\"T1\"),AND($B$2=2,AG$3=\"T2\"),AND($B$2=3,AG$3=\"T3\"),($B$2=4)),Evolution!AG1,\"\")","v":""},{"$f":"IF(OR(AND($B$2=1,AH$3=\"T1\"),AND($B$2=2,AH$3=\"T2\"),AND($B$2=3,AH$3=\"T3\"),($B$2=4)),Evolution!AH1,\"\")","v":""},{"$f":"IF(OR(AND($B$2=1,AI$3=\"T1\"),AND($B$2=2,AI$3=\"T2\"),AND($B$2=3,AI$3=\"T3\"),($B$2=4)),Evolution!AI1,\"\")","v":""},{"$f":"IF(OR(AND($B$2=1,AJ$3=\"T1\"),AND($B$2=2,AJ$3=\"T2\"),AND($B$2=3,AJ$3=\"T3\"),($B$2=4)),Evolution!AJ1,\"\")","v":""},{"$f":"IF(OR(AND($B$2=1,AK$3=\"T1\"),AND($B$2=2,AK$3=\"T2\"),AND($B$2=3,AK$3=\"T3\"),($B$2=4)),Evolution!AK1,\"\")","v":""},{"$f":"IF(OR(AND($B$2=1,AL$3=\"T1\"),AND($B$2=2,AL$3=\"T2\"),AND($B$2=3,AL$3=\"T3\"),($B$2=4)),Evolution!AL1,\"\")","v":""},{"$f":"IF(OR(AND($B$2=1,AM$3=\"T1\"),AND($B$2=2,AM$3=\"T2\"),AND($B$2=3,AM$3=\"T3\"),($B$2=4)),Evolution!AM1,\"\")","v":""},{"$f":"IF(OR(AND($B$2=1,AN$3=\"T1\"),AND($B$2=2,AN$3=\"T2\"),AND($B$2=3,AN$3=\"T3\"),($B$2=4)),Evolution!AN1,\"\")","v":""},{"$f":"IF(OR(AND($B$2=1,AO$3=\"T1\"),AND($B$2=2,AO$3=\"T2\"),AND($B$2=3,AO$3=\"T3\"),($B$2=4)),Evolution!AO1,\"\")","v":""},{"$f":"IF(OR(AND($B$2=1,AP$3=\"T1\"),AND($B$2=2,AP$3=\"T2\"),AND($B$2=3,AP$3=\"T3\"),($B$2=4)),Evolution!AP1,\"\")","v":""},{"$f":"IF(OR(AND($B$2=1,AQ$3=\"T1\"),AND($B$2=2,AQ$3=\"T2\"),AND($B$2=3,AQ$3=\"T3\"),($B$2=4)),Evolution!AQ1,\"\")","v":""},{"$f":"IF(OR(AND($B$2=1,AR$3=\"T1\"),AND($B$2=2,AR$3=\"T2\"),AND($B$2=3,AR$3=\"T3\"),($B$2=4)),Evolution!AR1,\"\")","v":""}]
[null,1,{"$f":"IF(OR(AND($B$2=1,C$3=\"T1\"),AND($B$2=2,C$3=\"T2\"),AND($B$2=3,C$3=\"T3\"),($B$2=4)),Evolution!C2,\"\")","v":""},{"$f":"IF(OR(AND($B$2=1,D$3=\"T1\"),AND($B$2=2,D$3=\"T2\"),AND($B$2=3,D$3=\"T3\"),($B$2=4)),Evolution!D2,\"\")","v":""},{"$f":"IF(OR(AND($B$2=1,E$3=\"T1\"),AND($B$2=2,E$3=\"T2\"),AND($B$2=3,E$3=\"T3\"),($B$2=4)),Evolution!E2,\"\")","v":""},{"$f":"IF(OR(AND($B$2=1,F$3=\"T1\"),AND($B$2=2,F$3=\"T2\"),AND($B$2=3,F$3=\"T3\"),($B$2=4)),Evolution!F2,\"\")","v":""},{"$f":"IF(OR(AND($B$2=1,G$3=\"T1\"),AND($B$2=2,G$3=\"T2\"),AND($B$2=3,G$3=\"T3\"),($B$2=4)),Evolution!G2,\"\")","v":""},{"$f":"IF(OR(AND($B$2=1,H$3=\"T1\"),AND($B$2=2,H$3=\"T2\"),AND($B$2=3,H$3=\"T3\"),($B$2=4)),Evolution!H2,\"\")","v":""},{"$f":"IF(OR(AND($B$2=1,I$3=\"T1\"),AND($B$2=2,I$3=\"T2\"),AND($B$2=3,I$3=\"T3\"),($B$2=4)),Evolution!I2,\"\")","v":""},{"$f":"IF(OR(AND($B$2=1,J$3=\"T1\"),AND($B$2=2,J$3=\"T2\"),AND($B$2=3,J$3=\"T3\"),($B$2=4)),Evolution!J2,\"\")","v":""},{"$f":"IF(OR(AND($B$2=1,K$3=\"T1\"),AND($B$2=2,K$3=\"T2\"),AND($B$2=3,K$3=\"T3\"),($B$2=4)),Evolution!K2,\"\")","v":""},{"$f":"IF(OR(AND($B$2=1,L$3=\"T1\"),AND($B$2=2,L$3=\"T2\"),AND($B$2=3,L$3=\"T3\"),($B$2=4)),Evolution!L2,\"\")","v":""},{"$f":"IF(OR(AND($B$2=1,M$3=\"T1\"),AND($B$2=2,M$3=\"T2\"),AND($B$2=3,M$3=\"T3\"),($B$2=4)),Evolution!M2,\"\")","v":""},{"$f":"IF(OR(AND($B$2=1,N$3=\"T1\"),AND($B$2=2,N$3=\"T2\"),AND($B$2=3,N$3=\"T3\"),($B$2=4)),Evolution!N2,\"\")","v":""},{"$f":"IF(OR(AND($B$2=1,O$3=\"T1\"),AND($B$2=2,O$3=\"T2\"),AND($B$2=3,O$3=\"T3\"),($B$2=4)),Evolution!O2,\"\")","v":""},{"$f":"IF(OR(AND($B$2=1,P$3=\"T1\"),AND($B$2=2,P$3=\"T2\"),AND($B$2=3,P$3=\"T3\"),($B$2=4)),Evolution!P2,\"\")","v":""},{"$f":"IF(OR(AND($B$2=1,Q$3=\"T1\"),AND($B$2=2,Q$3=\"T2\"),AND($B$2=3,Q$3=\"T3\"),($B$2=4)),Evolution!Q2,\"\")","v":""},{"$f":"IF(OR(AND($B$2=1,R$3=\"T1\"),AND($B$2=2,R$3=\"T2\"),AND($B$2=3,R$3=\"T3\"),($B$2=4)),Evolution!R2,\"\")","v":""},{"$f":"IF(OR(AND($B$2=1,S$3=\"T1\"),AND($B$2=2,S$3=\"T2\"),AND($B$2=3,S$3=\"T3\"),($B$2=4)),Evolution!S2,\"\")","v":""},{"$f":"IF(OR(AND($B$2=1,T$3=\"T1\"),AND($B$2=2,T$3=\"T2\"),AND($B$2=3,T$3=\"T3\"),($B$2=4)),Evolution!T2,\"\")","v":""},{"$f":"IF(OR(AND($B$2=1,U$3=\"T1\"),AND($B$2=2,U$3=\"T2\"),AND($B$2=3,U$3=\"T3\"),($B$2=4)),Evolution!U2,\"\")","v":""},{"$f":"IF(OR(AND($B$2=1,V$3=\"T1\"),AND($B$2=2,V$3=\"T2\"),AND($B$2=3,V$3=\"T3\"),($B$2=4)),Evolution!V2,\"\")","v":""},{"$f":"IF(OR(AND($B$2=1,W$3=\"T1\"),AND($B$2=2,W$3=\"T2\"),AND($B$2=3,W$3=\"T3\"),($B$2=4)),Evolution!W2,\"\")","v":""},{"$f":"IF(OR(AND($B$2=1,X$3=\"T1\"),AND($B$2=2,X$3=\"T2\"),AND($B$2=3,X$3=\"T3\"),($B$2=4)),Evolution!X2,\"\")","v":""},{"$f":"IF(OR(AND($B$2=1,Y$3=\"T1\"),AND($B$2=2,Y$3=\"T2\"),AND($B$2=3,Y$3=\"T3\"),($B$2=4)),Evolution!Y2,\"\")","v":""},{"$f":"IF(OR(AND($B$2=1,Z$3=\"T1\"),AND($B$2=2,Z$3=\"T2\"),AND($B$2=3,Z$3=\"T3\"),($B$2=4)),Evolution!Z2,\"\")","v":""},{"$f":"IF(OR(AND($B$2=1,AA$3=\"T1\"),AND($B$2=2,AA$3=\"T2\"),AND($B$2=3,AA$3=\"T3\"),($B$2=4)),Evolution!AA2,\"\")","v":""},{"$f":"IF(OR(AND($B$2=1,AB$3=\"T1\"),AND($B$2=2,AB$3=\"T2\"),AND($B$2=3,AB$3=\"T3\"),($B$2=4)),Evolution!AB2,\"\")","v":""},{"$f":"IF(OR(AND($B$2=1,AC$3=\"T1\"),AND($B$2=2,AC$3=\"T2\"),AND($B$2=3,AC$3=\"T3\"),($B$2=4)),Evolution!AC2,\"\")","v":""},{"$f":"IF(OR(AND($B$2=1,AD$3=\"T1\"),AND($B$2=2,AD$3=\"T2\"),AND($B$2=3,AD$3=\"T3\"),($B$2=4)),Evolution!AD2,\"\")","v":""},{"$f":"IF(OR(AND($B$2=1,AE$3=\"T1\"),AND($B$2=2,AE$3=\"T2\"),AND($B$2=3,AE$3=\"T3\"),($B$2=4)),Evolution!AE2,\"\")","v":""},{"$f":"IF(OR(AND($B$2=1,AF$3=\"T1\"),AND($B$2=2,AF$3=\"T2\"),AND($B$2=3,AF$3=\"T3\"),($B$2=4)),Evolution!AF2,\"\")","v":""},{"$f":"IF(OR(AND($B$2=1,AG$3=\"T1\"),AND($B$2=2,AG$3=\"T2\"),AND($B$2=3,AG$3=\"T3\"),($B$2=4)),Evolution!AG2,\"\")","v":""},{"$f":"IF(OR(AND($B$2=1,AH$3=\"T1\"),AND($B$2=2,AH$3=\"T2\"),AND($B$2=3,AH$3=\"T3\"),($B$2=4)),Evolution!AH2,\"\")","v":""},{"$f":"IF(OR(AND($B$2=1,AI$3=\"T1\"),AND($B$2=2,AI$3=\"T2\"),AND($B$2=3,AI$3=\"T3\"),($B$2=4)),Evolution!AI2,\"\")","v":""},{"$f":"IF(OR(AND($B$2=1,AJ$3=\"T1\"),AND($B$2=2,AJ$3=\"T2\"),AND($B$2=3,AJ$3=\"T3\"),($B$2=4)),Evolution!AJ2,\"\")","v":""},{"$f":"IF(OR(AND($B$2=1,AK$3=\"T1\"),AND($B$2=2,AK$3=\"T2\"),AND($B$2=3,AK$3=\"T3\"),($B$2=4)),Evolution!AK2,\"\")","v":""},{"$f":"IF(OR(AND($B$2=1,AL$3=\"T1\"),AND($B$2=2,AL$3=\"T2\"),AND($B$2=3,AL$3=\"T3\"),($B$2=4)),Evolution!AL2,\"\")","v":""},{"$f":"IF(OR(AND($B$2=1,AM$3=\"T1\"),AND($B$2=2,AM$3=\"T2\"),AND($B$2=3,AM$3=\"T3\"),($B$2=4)),Evolution!AM2,\"\")","v":""},{"$f":"IF(OR(AND($B$2=1,AN$3=\"T1\"),AND($B$2=2,AN$3=\"T2\"),AND($B$2=3,AN$3=\"T3\"),($B$2=4)),Evolution!AN2,\"\")","v":""},{"$f":"IF(OR(AND($B$2=1,AO$3=\"T1\"),AND($B$2=2,AO$3=\"T2\"),AND($B$2=3,AO$3=\"T3\"),($B$2=4)),Evolution!AO2,\"\")","v":""},{"$f":"IF(OR(AND($B$2=1,AP$3=\"T1\"),AND($B$2=2,AP$3=\"T2\"),AND($B$2=3,AP$3=\"T3\"),($B$2=4)),Evolution!AP2,\"\")","v":""},{"$f":"IF(OR(AND($B$2=1,AQ$3=\"T1\"),AND($B$2=2,AQ$3=\"T2\"),AND($B$2=3,AQ$3=\"T3\"),($B$2=4)),Evolution!AQ2,\"\")","v":""},{"$f":"IF(OR(AND($B$2=1,AR$3=\"T1\"),AND($B$2=2,AR$3=\"T2\"),AND($B$2=3,AR$3=\"T3\"),($B$2=4)),Evolution!AR2,\"\")","v":""}]
[null,true,{"$f":"IF(OR(AND($B$2=1,Evolution!C$3=\"T1\"),AND($B$2=2,Evolution!C$3=\"T2\"),AND($B$2=3,Evolution!C$3=\"T3\"),($B$2=4)),Evolution!C3,\"\")","v":""},{"$f":"IF(OR(AND($B$2=1,Evolution!D$3=\"T1\"),AND($B$2=2,Evolution!D$3=\"T2\"),AND($B$2=3,Evolution!D$3=\"T3\"),($B$2=4)),Evolution!D3,\"\")","v":""},{"$f":"IF(OR(AND($B$2=1,Evolution!E$3=\"T1\"),AND($B$2=2,Evolution!E$3=\"T2\"),AND($B$2=3,Evolution!E$3=\"T3\"),($B$2=4)),Evolution!E3,\"\")","v":""},{"$f":"IF(OR(AND($B$2=1,Evolution!F$3=\"T1\"),AND($B$2=2,Evolution!F$3=\"T2\"),AND($B$2=3,Evolution!F$3=\"T3\"),($B$2=4)),Evolution!F3,\"\")","v":""},{"$f":"IF(OR(AND($B$2=1,Evolution!G$3=\"T1\"),AND($B$2=2,Evolution!G$3=\"T2\"),AND($B$2=3,Evolution!G$3=\"T3\"),($B$2=4)),Evolution!G3,\"\")","v":""},{"$f":"IF(OR(AND($B$2=1,Evolution!H$3=\"T1\"),AND($B$2=2,Evolution!H$3=\"T2\"),AND($B$2=3,Evolution!H$3=\"T3\"),($B$2=4)),Evolution!H3,\"\")","v":""},{"$f":"IF(OR(AND($B$2=1,Evolution!I$3=\"T1\"),AND($B$2=2,Evolution!I$3=\"T2\"),AND($B$2=3,Evolution!I$3=\"T3\"),($B$2=4)),Evolution!I3,\"\")","v":""},{"$f":"IF(OR(AND($B$2=1,Evolution!J$3=\"T1\"),AND($B$2=2,Evolution!J$3=\"T2\"),AND($B$2=3,Evolution!J$3=\"T3\"),($B$2=4)),Evolution!J3,\"\")","v":""},{"$f":"IF(OR(AND($B$2=1,Evolution!K$3=\"T1\"),AND($B$2=2,Evolution!K$3=\"T2\"),AND($B$2=3,Evolution!K$3=\"T3\"),($B$2=4)),Evolution!K3,\"\")","v":""},{"$f":"IF(OR(AND($B$2=1,Evolution!L$3=\"T1\"),AND($B$2=2,Evolution!L$3=\"T2\"),AND($B$2=3,Evolution!L$3=\"T3\"),($B$2=4)),Evolution!L3,\"\")","v":""},{"$f":"IF(OR(AND($B$2=1,Evolution!M$3=\"T1\"),AND($B$2=2,Evolution!M$3=\"T2\"),AND($B$2=3,Evolution!M$3=\"T3\"),($B$2=4)),Evolution!M3,\"\")","v":""},{"$f":"IF(OR(AND($B$2=1,Evolution!N$3=\"T1\"),AND($B$2=2,Evolution!N$3=\"T2\"),AND($B$2=3,Evolution!N$3=\"T3\"),($B$2=4)),Evolution!N3,\"\")","v":""},{"$f":"IF(OR(AND($B$2=1,Evolution!O$3=\"T1\"),AND($B$2=2,Evolution!O$3=\"T2\"),AND($B$2=3,Evolution!O$3=\"T3\"),($B$2=4)),Evolution!O3,\"\")","v":""},{"$f":"IF(OR(AND($B$2=1,Evolution!P$3=\"T1\"),AND($B$2=2,Evolution!P$3=\"T2\"),AND($B$2=3,Evolution!P$3=\"T3\"),($B$2=4)),Evolution!P3,\"\")","v":""},{"$f":"IF(OR(AND($B$2=1,Evolution!Q$3=\"T1\"),AND($B$2=2,Evolution!Q$3=\"T2\"),AND($B$2=3,Evolution!Q$3=\"T3\"),($B$2=4)),Evolution!Q3,\"\")","v":""},{"$f":"IF(OR(AND($B$2=1,Evolution!R$3=\"T1\"),AND($B$2=2,Evolution!R$3=\"T2\"),AND($B$2=3,Evolution!R$3=\"T3\"),($B$2=4)),Evolution!R3,\"\")","v":""},{"$f":"IF(OR(AND($B$2=1,Evolution!S$3=\"T1\"),AND($B$2=2,Evolution!S$3=\"T2\"),AND($B$2=3,Evolution!S$3=\"T3\"),($B$2=4)),Evolution!S3,\"\")","v":""},{"$f":"IF(OR(AND($B$2=1,Evolution!T$3=\"T1\"),AND($B$2=2,Evolution!T$3=\"T2\"),AND($B$2=3,Evolution!T$3=\"T3\"),($B$2=4)),Evolution!T3,\"\")","v":""},{"$f":"IF(OR(AND($B$2=1,Evolution!U$3=\"T1\"),AND($B$2=2,Evolution!U$3=\"T2\"),AND($B$2=3,Evolution!U$3=\"T3\"),($B$2=4)),Evolution!U3,\"\")","v":""},{"$f":"IF(OR(AND($B$2=1,Evolution!V$3=\"T1\"),AND($B$2=2,Evolution!V$3=\"T2\"),AND($B$2=3,Evolution!V$3=\"T3\"),($B$2=4)),Evolution!V3,\"\")","v":""},{"$f":"IF(OR(AND($B$2=1,Evolution!W$3=\"T1\"),AND($B$2=2,Evolution!W$3=\"T2\"),AND($B$2=3,Evolution!W$3=\"T3\"),($B$2=4)),Evolution!W3,\"\")","v":""},{"$f":"IF(OR(AND($B$2=1,Evolution!X$3=\"T1\"),AND($B$2=2,Evolution!X$3=\"T2\"),AND($B$2=3,Evolution!X$3=\"T3\"),($B$2=4)),Evolution!X3,\"\")","v":""},{"$f":"IF(OR(AND($B$2=1,Evolution!Y$3=\"T1\"),AND($B$2=2,Evolution!Y$3=\"T2\"),AND($B$2=3,Evolution!Y$3=\"T3\"),($B$2=4)),Evolution!Y3,\"\")","v":""},{"$f":"IF(OR(AND($B$2=1,Evolution!Z$3=\"T1\"),AND($B$2=2,Evolution!Z$3=\"T2\"),AND($B$2=3,Evolution!Z$3=\"T3\"),($B$2=4)),Evolution!Z3,\"\")","v":""},{"$f":"IF(OR(AND($B$2=1,Evolution!AA$3=\"T1\"),AND($B$2=2,Evolution!AA$3=\"T2\"),AND($B$2=3,Evolution!AA$3=\"T3\"),($B$2=4)),Evolution!AA3,\"\")","v":""},{"$f":"IF(OR(AND($B$2=1,Evolution!AB$3=\"T1\"),AND($B$2=2,Evolution!AB$3=\"T2\"),AND($B$2=3,Evolution!AB$3=\"T3\"),($B$2=4)),Evolution!AB3,\"\")","v":""},{"$f":"IF(OR(AND($B$2=1,Evolution!AC$3=\"T1\"),AND($B$2=2,Evolution!AC$3=\"T2\"),AND($B$2=3,Evolution!AC$3=\"T3\"),($B$2=4)),Evolution!AC3,\"\")","v":""},{"$f":"IF(OR(AND($B$2=1,Evolution!AD$3=\"T1\"),AND($B$2=2,Evolution!AD$3=\"T2\"),AND($B$2=3,Evolution!AD$3=\"T3\"),($B$2=4)),Evolution!AD3,\"\")","v":""},{"$f":"IF(OR(AND($B$2=1,Evolution!AE$3=\"T1\"),AND($B$2=2,Evolution!AE$3=\"T2\"),AND($B$2=3,Evolution!AE$3=\"T3\"),($B$2=4)),Evolution!AE3,\"\")","v":""},{"$f":"IF(OR(AND($B$2=1,Evolution!AF$3=\"T1\"),AND($B$2=2,Evolution!AF$3=\"T2\"),AND($B$2=3,Evolution!AF$3=\"T3\"),($B$2=4)),Evolution!AF3,\"\")","v":""},{"$f":"IF(OR(AND($B$2=1,Evolution!AG$3=\"T1\"),AND($B$2=2,Evolution!AG$3=\"T2\"),AND($B$2=3,Evolution!AG$3=\"T3\"),($B$2=4)),Evolution!AG3,\"\")","v":""},{"$f":"IF(OR(AND($B$2=1,Evolution!AH$3=\"T1\"),AND($B$2=2,Evolution!AH$3=\"T2\"),AND($B$2=3,Evolution!AH$3=\"T3\"),($B$2=4)),Evolution!AH3,\"\")","v":""},{"$f":"IF(OR(AND($B$2=1,Evolution!AI$3=\"T1\"),AND($B$2=2,Evolution!AI$3=\"T2\"),AND($B$2=3,Evolution!AI$3=\"T3\"),($B$2=4)),Evolution!AI3,\"\")","v":""},{"$f":"IF(OR(AND($B$2=1,Evolution!AJ$3=\"T1\"),AND($B$2=2,Evolution!AJ$3=\"T2\"),AND($B$2=3,Evolution!AJ$3=\"T3\"),($B$2=4)),Evolution!AJ3,\"\")","v":""},{"$f":"IF(OR(AND($B$2=1,Evolution!AK$3=\"T1\"),AND($B$2=2,Evolution!AK$3=\"T2\"),AND($B$2=3,Evolution!AK$3=\"T3\"),($B$2=4)),Evolution!AK3,\"\")","v":""},{"$f":"IF(OR(AND($B$2=1,Evolution!AL$3=\"T1\"),AND($B$2=2,Evolution!AL$3=\"T2\"),AND($B$2=3,Evolution!AL$3=\"T3\"),($B$2=4)),Evolution!AL3,\"\")","v":""},{"$f":"IF(OR(AND($B$2=1,Evolution!AM$3=\"T1\"),AND($B$2=2,Evolution!AM$3=\"T2\"),AND($B$2=3,Evolution!AM$3=\"T3\"),($B$2=4)),Evolution!AM3,\"\")","v":""},{"$f":"IF(OR(AND($B$2=1,Evolution!AN$3=\"T1\"),AND($B$2=2,Evolution!AN$3=\"T2\"),AND($B$2=3,Evolution!AN$3=\"T3\"),($B$2=4)),Evolution!AN3,\"\")","v":""},{"$f":"IF(OR(AND($B$2=1,Evolution!AO$3=\"T1\"),AND($B$2=2,Evolution!AO$3=\"T2\"),AND($B$2=3,Evolution!AO$3=\"T3\"),($B$2=4)),Evolution!AO3,\"\")","v":""},{"$f":"IF(OR(AND($B$2=1,Evolution!AP$3=\"T1\"),AND($B$2=2,Evolution!AP$3=\"T2\"),AND($B$2=3,Evolution!AP$3=\"T3\"),($B$2=4)),Evolution!AP3,\"\")","v":""},{"$f":"IF(OR(AND($B$2=1,Evolution!AQ$3=\"T1\"),AND($B$2=2,Evolution!AQ$3=\"T2\"),AND($B$2=3,Evolution!AQ$3=\"T3\"),($B$2=4)),Evolution!AQ3,\"\")","v":""},{"$f":"IF(OR(AND($B$2=1,Evolution!AR$3=\"T1\"),AND($B$2=2,Evolution!AR$3=\"T2\"),AND($B$2=3,Evolution!AR$3=\"T3\"),($B$2=4)),Evolution!AR3,\"\")","v":""}]
[null,{"$f":"IF($B$3=TRUE,\"sur\",\"\")","v":"sur"},{"$f":"IF($B$3=TRUE,IF(OR(AND($B$2=1,C$3=\"T1\"),AND($B$2=2,C$3=\"T2\"),AND($B$2=3,C$3=\"T3\"),($B$2=4)),Evolution!C4,\"\"),\"\")","v":""},{"$f":"IF($B$3=TRUE,IF(OR(AND($B$2=1,D$3=\"T1\"),AND($B$2=2,D$3=\"T2\"),AND($B$2=3,D$3=\"T3\"),($B$2=4)),Evolution!D4,\"\"),\"\")","v":""},{"$f":"IF($B$3=TRUE,IF(OR(AND($B$2=1,E$3=\"T1\"),AND($B$2=2,E$3=\"T2\"),AND($B$2=3,E$3=\"T3\"),($B$2=4)),Evolution!E4,\"\"),\"\")","v":""},{"$f":"IF($B$3=TRUE,IF(OR(AND($B$2=1,F$3=\"T1\"),AND($B$2=2,F$3=\"T2\"),AND($B$2=3,F$3=\"T3\"),($B$2=4)),Evolution!F4,\"\"),\"\")","v":""},{"$f":"IF($B$3=TRUE,IF(OR(AND($B$2=1,G$3=\"T1\"),AND($B$2=2,G$3=\"T2\"),AND($B$2=3,G$3=\"T3\"),($B$2=4)),Evolution!G4,\"\"),\"\")","v":""},{"$f":"IF($B$3=TRUE,IF(OR(AND($B$2=1,H$3=\"T1\"),AND($B$2=2,H$3=\"T2\"),AND($B$2=3,H$3=\"T3\"),($B$2=4)),Evolution!H4,\"\"),\"\")","v":""},{"$f":"IF($B$3=TRUE,IF(OR(AND($B$2=1,I$3=\"T1\"),AND($B$2=2,I$3=\"T2\"),AND($B$2=3,I$3=\"T3\"),($B$2=4)),Evolution!I4,\"\"),\"\")","v":""},{"$f":"IF($B$3=TRUE,IF(OR(AND($B$2=1,J$3=\"T1\"),AND($B$2=2,J$3=\"T2\"),AND($B$2=3,J$3=\"T3\"),($B$2=4)),Evolution!J4,\"\"),\"\")","v":""},{"$f":"IF($B$3=TRUE,IF(OR(AND($B$2=1,K$3=\"T1\"),AND($B$2=2,K$3=\"T2\"),AND($B$2=3,K$3=\"T3\"),($B$2=4)),Evolution!K4,\"\"),\"\")","v":""},{"$f":"IF($B$3=TRUE,IF(OR(AND($B$2=1,L$3=\"T1\"),AND($B$2=2,L$3=\"T2\"),AND($B$2=3,L$3=\"T3\"),($B$2=4)),Evolution!L4,\"\"),\"\")","v":""},{"$f":"IF($B$3=TRUE,IF(OR(AND($B$2=1,M$3=\"T1\"),AND($B$2=2,M$3=\"T2\"),AND($B$2=3,M$3=\"T3\"),($B$2=4)),Evolution!M4,\"\"),\"\")","v":""},{"$f":"IF($B$3=TRUE,IF(OR(AND($B$2=1,N$3=\"T1\"),AND($B$2=2,N$3=\"T2\"),AND($B$2=3,N$3=\"T3\"),($B$2=4)),Evolution!N4,\"\"),\"\")","v":""},{"$f":"IF($B$3=TRUE,IF(OR(AND($B$2=1,O$3=\"T1\"),AND($B$2=2,O$3=\"T2\"),AND($B$2=3,O$3=\"T3\"),($B$2=4)),Evolution!O4,\"\"),\"\")","v":""},{"$f":"IF($B$3=TRUE,IF(OR(AND($B$2=1,P$3=\"T1\"),AND($B$2=2,P$3=\"T2\"),AND($B$2=3,P$3=\"T3\"),($B$2=4)),Evolution!P4,\"\"),\"\")","v":""},{"$f":"IF($B$3=TRUE,IF(OR(AND($B$2=1,Q$3=\"T1\"),AND($B$2=2,Q$3=\"T2\"),AND($B$2=3,Q$3=\"T3\"),($B$2=4)),Evolution!Q4,\"\"),\"\")","v":""},{"$f":"IF($B$3=TRUE,IF(OR(AND($B$2=1,R$3=\"T1\"),AND($B$2=2,R$3=\"T2\"),AND($B$2=3,R$3=\"T3\"),($B$2=4)),Evolution!R4,\"\"),\"\")","v":""},{"$f":"IF($B$3=TRUE,IF(OR(AND($B$2=1,S$3=\"T1\"),AND($B$2=2,S$3=\"T2\"),AND($B$2=3,S$3=\"T3\"),($B$2=4)),Evolution!S4,\"\"),\"\")","v":""},{"$f":"IF($B$3=TRUE,IF(OR(AND($B$2=1,T$3=\"T1\"),AND($B$2=2,T$3=\"T2\"),AND($B$2=3,T$3=\"T3\"),($B$2=4)),Evolution!T4,\"\"),\"\")","v":""},{"$f":"IF($B$3=TRUE,IF(OR(AND($B$2=1,U$3=\"T1\"),AND($B$2=2,U$3=\"T2\"),AND($B$2=3,U$3=\"T3\"),($B$2=4)),Evolution!U4,\"\"),\"\")","v":""},{"$f":"IF($B$3=TRUE,IF(OR(AND($B$2=1,V$3=\"T1\"),AND($B$2=2,V$3=\"T2\"),AND($B$2=3,V$3=\"T3\"),($B$2=4)),Evolution!V4,\"\"),\"\")","v":""},{"$f":"IF($B$3=TRUE,IF(OR(AND($B$2=1,W$3=\"T1\"),AND($B$2=2,W$3=\"T2\"),AND($B$2=3,W$3=\"T3\"),($B$2=4)),Evolution!W4,\"\"),\"\")","v":""},{"$f":"IF($B$3=TRUE,IF(OR(AND($B$2=1,X$3=\"T1\"),AND($B$2=2,X$3=\"T2\"),AND($B$2=3,X$3=\"T3\"),($B$2=4)),Evolution!X4,\"\"),\"\")","v":""},{"$f":"IF($B$3=TRUE,IF(OR(AND($B$2=1,Y$3=\"T1\"),AND($B$2=2,Y$3=\"T2\"),AND($B$2=3,Y$3=\"T3\"),($B$2=4)),Evolution!Y4,\"\"),\"\")","v":""},{"$f":"IF($B$3=TRUE,IF(OR(AND($B$2=1,Z$3=\"T1\"),AND($B$2=2,Z$3=\"T2\"),AND($B$2=3,Z$3=\"T3\"),($B$2=4)),Evolution!Z4,\"\"),\"\")","v":""},{"$f":"IF($B$3=TRUE,IF(OR(AND($B$2=1,AA$3=\"T1\"),AND($B$2=2,AA$3=\"T2\"),AND($B$2=3,AA$3=\"T3\"),($B$2=4)),Evolution!AA4,\"\"),\"\")","v":""},{"$f":"IF($B$3=TRUE,IF(OR(AND($B$2=1,AB$3=\"T1\"),AND($B$2=2,AB$3=\"T2\"),AND($B$2=3,AB$3=\"T3\"),($B$2=4)),Evolution!AB4,\"\"),\"\")","v":""},{"$f":"IF($B$3=TRUE,IF(OR(AND($B$2=1,AC$3=\"T1\"),AND($B$2=2,AC$3=\"T2\"),AND($B$2=3,AC$3=\"T3\"),($B$2=4)),Evolution!AC4,\"\"),\"\")","v":""},{"$f":"IF($B$3=TRUE,IF(OR(AND($B$2=1,AD$3=\"T1\"),AND($B$2=2,AD$3=\"T2\"),AND($B$2=3,AD$3=\"T3\"),($B$2=4)),Evolution!AD4,\"\"),\"\")","v":""},{"$f":"IF($B$3=TRUE,IF(OR(AND($B$2=1,AE$3=\"T1\"),AND($B$2=2,AE$3=\"T2\"),AND($B$2=3,AE$3=\"T3\"),($B$2=4)),Evolution!AE4,\"\"),\"\")","v":""},{"$f":"IF($B$3=TRUE,IF(OR(AND($B$2=1,AF$3=\"T1\"),AND($B$2=2,AF$3=\"T2\"),AND($B$2=3,AF$3=\"T3\"),($B$2=4)),Evolution!AF4,\"\"),\"\")","v":""},{"$f":"IF($B$3=TRUE,IF(OR(AND($B$2=1,AG$3=\"T1\"),AND($B$2=2,AG$3=\"T2\"),AND($B$2=3,AG$3=\"T3\"),($B$2=4)),Evolution!AG4,\"\"),\"\")","v":""},{"$f":"IF($B$3=TRUE,IF(OR(AND($B$2=1,AH$3=\"T1\"),AND($B$2=2,AH$3=\"T2\"),AND($B$2=3,AH$3=\"T3\"),($B$2=4)),Evolution!AH4,\"\"),\"\")","v":""},{"$f":"IF($B$3=TRUE,IF(OR(AND($B$2=1,AI$3=\"T1\"),AND($B$2=2,AI$3=\"T2\"),AND($B$2=3,AI$3=\"T3\"),($B$2=4)),Evolution!AI4,\"\"),\"\")","v":""},{"$f":"IF($B$3=TRUE,IF(OR(AND($B$2=1,AJ$3=\"T1\"),AND($B$2=2,AJ$3=\"T2\"),AND($B$2=3,AJ$3=\"T3\"),($B$2=4)),Evolution!AJ4,\"\"),\"\")","v":""},{"$f":"IF($B$3=TRUE,IF(OR(AND($B$2=1,AK$3=\"T1\"),AND($B$2=2,AK$3=\"T2\"),AND($B$2=3,AK$3=\"T3\"),($B$2=4)),Evolution!AK4,\"\"),\"\")","v":""},{"$f":"IF($B$3=TRUE,IF(OR(AND($B$2=1,AL$3=\"T1\"),AND($B$2=2,AL$3=\"T2\"),AND($B$2=3,AL$3=\"T3\"),($B$2=4)),Evolution!AL4,\"\"),\"\")","v":""},{"$f":"IF($B$3=TRUE,IF(OR(AND($B$2=1,AM$3=\"T1\"),AND($B$2=2,AM$3=\"T2\"),AND($B$2=3,AM$3=\"T3\"),($B$2=4)),Evolution!AM4,\"\"),\"\")","v":""},{"$f":"IF($B$3=TRUE,IF(OR(AND($B$2=1,AN$3=\"T1\"),AND($B$2=2,AN$3=\"T2\"),AND($B$2=3,AN$3=\"T3\"),($B$2=4)),Evolution!AN4,\"\"),\"\")","v":""},{"$f":"IF($B$3=TRUE,IF(OR(AND($B$2=1,AO$3=\"T1\"),AND($B$2=2,AO$3=\"T2\"),AND($B$2=3,AO$3=\"T3\"),($B$2=4)),Evolution!AO4,\"\"),\"\")","v":""},{"$f":"IF($B$3=TRUE,IF(OR(AND($B$2=1,AP$3=\"T1\"),AND($B$2=2,AP$3=\"T2\"),AND($B$2=3,AP$3=\"T3\"),($B$2=4)),Evolution!AP4,\"\"),\"\")","v":""},{"$f":"IF($B$3=TRUE,IF(OR(AND($B$2=1,AQ$3=\"T1\"),AND($B$2=2,AQ$3=\"T2\"),AND($B$2=3,AQ$3=\"T3\"),($B$2=4)),Evolution!AQ4,\"\"),\"\")","v":""},{"$f":"IF($B$3=TRUE,IF(OR(AND($B$2=1,AR$3=\"T1\"),AND($B$2=2,AR$3=\"T2\"),AND($B$2=3,AR$3=\"T3\"),($B$2=4)),Evolution!AR4,\"\"),\"\")","v":""}]
[null,{"$f":"IF($B$3=TRUE,\"Notes:\",\"\")","v":"Notes:"},{"$f":"IF(OR(C4=\"\",$B$3=FALSE),\"\",IF(VLOOKUP(Bilan!$A$1,Notes!$A$6:$AQ$35,COLUMN(B1),FALSE)=\"\",\"\",VLOOKUP(Bilan!$A$1,Notes!$A$6:$AQ$35,COLUMN(B1),FALSE)))","v":""},{"$f":"IF(OR(D4=\"\",$B$3=FALSE),\"\",IF(VLOOKUP(Bilan!$A$1,Notes!$A$6:$AQ$35,COLUMN(C1),FALSE)=\"\",\"\",VLOOKUP(Bilan!$A$1,Notes!$A$6:$AQ$35,COLUMN(C1),FALSE)))","v":""},{"$f":"IF(OR(E4=\"\",$B$3=FALSE),\"\",IF(VLOOKUP(Bilan!$A$1,Notes!$A$6:$AQ$35,COLUMN(D1),FALSE)=\"\",\"\",VLOOKUP(Bilan!$A$1,Notes!$A$6:$AQ$35,COLUMN(D1),FALSE)))","v":""},{"$f":"IF(OR(F4=\"\",$B$3=FALSE),\"\",IF(VLOOKUP(Bilan!$A$1,Notes!$A$6:$AQ$35,COLUMN(E1),FALSE)=\"\",\"\",VLOOKUP(Bilan!$A$1,Notes!$A$6:$AQ$35,COLUMN(E1),FALSE)))","v":""},{"$f":"IF(OR(G4=\"\",$B$3=FALSE),\"\",IF(VLOOKUP(Bilan!$A$1,Notes!$A$6:$AQ$35,COLUMN(F1),FALSE)=\"\",\"\",VLOOKUP(Bilan!$A$1,Notes!$A$6:$AQ$35,COLUMN(F1),FALSE)))","v":""},{"$f":"IF(OR(H4=\"\",$B$3=FALSE),\"\",IF(VLOOKUP(Bilan!$A$1,Notes!$A$6:$AQ$35,COLUMN(G1),FALSE)=\"\",\"\",VLOOKUP(Bilan!$A$1,Notes!$A$6:$AQ$35,COLUMN(G1),FALSE)))","v":""},{"$f":"IF(OR(I4=\"\",$B$3=FALSE),\"\",IF(VLOOKUP(Bilan!$A$1,Notes!$A$6:$AQ$35,COLUMN(H1),FALSE)=\"\",\"\",VLOOKUP(Bilan!$A$1,Notes!$A$6:$AQ$35,COLUMN(H1),FALSE)))","v":""},{"$f":"IF(OR(J4=\"\",$B$3=FALSE),\"\",IF(VLOOKUP(Bilan!$A$1,Notes!$A$6:$AQ$35,COLUMN(I1),FALSE)=\"\",\"\",VLOOKUP(Bilan!$A$1,Notes!$A$6:$AQ$35,COLUMN(I1),FALSE)))","v":""},{"$f":"IF(OR(K4=\"\",$B$3=FALSE),\"\",IF(VLOOKUP(Bilan!$A$1,Notes!$A$6:$AQ$35,COLUMN(J1),FALSE)=\"\",\"\",VLOOKUP(Bilan!$A$1,Notes!$A$6:$AQ$35,COLUMN(J1),FALSE)))","v":""},{"$f":"IF(OR(L4=\"\",$B$3=FALSE),\"\",IF(VLOOKUP(Bilan!$A$1,Notes!$A$6:$AQ$35,COLUMN(K1),FALSE)=\"\",\"\",VLOOKUP(Bilan!$A$1,Notes!$A$6:$AQ$35,COLUMN(K1),FALSE)))","v":""},{"$f":"IF(OR(M4=\"\",$B$3=FALSE),\"\",IF(VLOOKUP(Bilan!$A$1,Notes!$A$6:$AQ$35,COLUMN(L1),FALSE)=\"\",\"\",VLOOKUP(Bilan!$A$1,Notes!$A$6:$AQ$35,COLUMN(L1),FALSE)))","v":""},{"$f":"IF(OR(N4=\"\",$B$3=FALSE),\"\",IF(VLOOKUP(Bilan!$A$1,Notes!$A$6:$AQ$35,COLUMN(M1),FALSE)=\"\",\"\",VLOOKUP(Bilan!$A$1,Notes!$A$6:$AQ$35,COLUMN(M1),FALSE)))","v":""},{"$f":"IF(OR(O4=\"\",$B$3=FALSE),\"\",IF(VLOOKUP(Bilan!$A$1,Notes!$A$6:$AQ$35,COLUMN(N1),FALSE)=\"\",\"\",VLOOKUP(Bilan!$A$1,Notes!$A$6:$AQ$35,COLUMN(N1),FALSE)))","v":""},{"$f":"IF(OR(P4=\"\",$B$3=FALSE),\"\",IF(VLOOKUP(Bilan!$A$1,Notes!$A$6:$AQ$35,COLUMN(O1),FALSE)=\"\",\"\",VLOOKUP(Bilan!$A$1,Notes!$A$6:$AQ$35,COLUMN(O1),FALSE)))","v":""},{"$f":"IF(OR(Q4=\"\",$B$3=FALSE),\"\",IF(VLOOKUP(Bilan!$A$1,Notes!$A$6:$AQ$35,COLUMN(P1),FALSE)=\"\",\"\",VLOOKUP(Bilan!$A$1,Notes!$A$6:$AQ$35,COLUMN(P1),FALSE)))","v":""},{"$f":"IF(OR(R4=\"\",$B$3=FALSE),\"\",IF(VLOOKUP(Bilan!$A$1,Notes!$A$6:$AQ$35,COLUMN(Q1),FALSE)=\"\",\"\",VLOOKUP(Bilan!$A$1,Notes!$A$6:$AQ$35,COLUMN(Q1),FALSE)))","v":""},{"$f":"IF(OR(S4=\"\",$B$3=FALSE),\"\",IF(VLOOKUP(Bilan!$A$1,Notes!$A$6:$AQ$35,COLUMN(R1),FALSE)=\"\",\"\",VLOOKUP(Bilan!$A$1,Notes!$A$6:$AQ$35,COLUMN(R1),FALSE)))","v":""},{"$f":"IF(OR(T4=\"\",$B$3=FALSE),\"\",IF(VLOOKUP(Bilan!$A$1,Notes!$A$6:$AQ$35,COLUMN(S1),FALSE)=\"\",\"\",VLOOKUP(Bilan!$A$1,Notes!$A$6:$AQ$35,COLUMN(S1),FALSE)))","v":""},{"$f":"IF(OR(U4=\"\",$B$3=FALSE),\"\",IF(VLOOKUP(Bilan!$A$1,Notes!$A$6:$AQ$35,COLUMN(T1),FALSE)=\"\",\"\",VLOOKUP(Bilan!$A$1,Notes!$A$6:$AQ$35,COLUMN(T1),FALSE)))","v":""},{"$f":"IF(OR(V4=\"\",$B$3=FALSE),\"\",IF(VLOOKUP(Bilan!$A$1,Notes!$A$6:$AQ$35,COLUMN(U1),FALSE)=\"\",\"\",VLOOKUP(Bilan!$A$1,Notes!$A$6:$AQ$35,COLUMN(U1),FALSE)))","v":""},{"$f":"IF(OR(W4=\"\",$B$3=FALSE),\"\",IF(VLOOKUP(Bilan!$A$1,Notes!$A$6:$AQ$35,COLUMN(V1),FALSE)=\"\",\"\",VLOOKUP(Bilan!$A$1,Notes!$A$6:$AQ$35,COLUMN(V1),FALSE)))","v":""},{"$f":"IF(OR(X4=\"\",$B$3=FALSE),\"\",IF(VLOOKUP(Bilan!$A$1,Notes!$A$6:$AQ$35,COLUMN(W1),FALSE)=\"\",\"\",VLOOKUP(Bilan!$A$1,Notes!$A$6:$AQ$35,COLUMN(W1),FALSE)))","v":""},{"$f":"IF(OR(Y4=\"\",$B$3=FALSE),\"\",IF(VLOOKUP(Bilan!$A$1,Notes!$A$6:$AQ$35,COLUMN(X1),FALSE)=\"\",\"\",VLOOKUP(Bilan!$A$1,Notes!$A$6:$AQ$35,COLUMN(X1),FALSE)))","v":""},{"$f":"IF(OR(Z4=\"\",$B$3=FALSE),\"\",IF(VLOOKUP(Bilan!$A$1,Notes!$A$6:$AQ$35,COLUMN(Y1),FALSE)=\"\",\"\",VLOOKUP(Bilan!$A$1,Notes!$A$6:$AQ$35,COLUMN(Y1),FALSE)))","v":""},{"$f":"IF(OR(AA4=\"\",$B$3=FALSE),\"\",IF(VLOOKUP(Bilan!$A$1,Notes!$A$6:$AQ$35,COLUMN(Z1),FALSE)=\"\",\"\",VLOOKUP(Bilan!$A$1,Notes!$A$6:$AQ$35,COLUMN(Z1),FALSE)))","v":""},{"$f":"IF(OR(AB4=\"\",$B$3=FALSE),\"\",IF(VLOOKUP(Bilan!$A$1,Notes!$A$6:$AQ$35,COLUMN(AA1),FALSE)=\"\",\"\",VLOOKUP(Bilan!$A$1,Notes!$A$6:$AQ$35,COLUMN(AA1),FALSE)))","v":""},{"$f":"IF(OR(AC4=\"\",$B$3=FALSE),\"\",IF(VLOOKUP(Bilan!$A$1,Notes!$A$6:$AQ$35,COLUMN(AB1),FALSE)=\"\",\"\",VLOOKUP(Bilan!$A$1,Notes!$A$6:$AQ$35,COLUMN(AB1),FALSE)))","v":""},{"$f":"IF(OR(AD4=\"\",$B$3=FALSE),\"\",IF(VLOOKUP(Bilan!$A$1,Notes!$A$6:$AQ$35,COLUMN(AC1),FALSE)=\"\",\"\",VLOOKUP(Bilan!$A$1,Notes!$A$6:$AQ$35,COLUMN(AC1),FALSE)))","v":""},{"$f":"IF(OR(AE4=\"\",$B$3=FALSE),\"\",IF(VLOOKUP(Bilan!$A$1,Notes!$A$6:$AQ$35,COLUMN(AD1),FALSE)=\"\",\"\",VLOOKUP(Bilan!$A$1,Notes!$A$6:$AQ$35,COLUMN(AD1),FALSE)))","v":""},{"$f":"IF(OR(AF4=\"\",$B$3=FALSE),\"\",IF(VLOOKUP(Bilan!$A$1,Notes!$A$6:$AQ$35,COLUMN(AE1),FALSE)=\"\",\"\",VLOOKUP(Bilan!$A$1,Notes!$A$6:$AQ$35,COLUMN(AE1),FALSE)))","v":""},{"$f":"IF(OR(AG4=\"\",$B$3=FALSE),\"\",IF(VLOOKUP(Bilan!$A$1,Notes!$A$6:$AQ$35,COLUMN(AF1),FALSE)=\"\",\"\",VLOOKUP(Bilan!$A$1,Notes!$A$6:$AQ$35,COLUMN(AF1),FALSE)))","v":""},{"$f":"IF(OR(AH4=\"\",$B$3=FALSE),\"\",IF(VLOOKUP(Bilan!$A$1,Notes!$A$6:$AQ$35,COLUMN(AG1),FALSE)=\"\",\"\",VLOOKUP(Bilan!$A$1,Notes!$A$6:$AQ$35,COLUMN(AG1),FALSE)))","v":""},{"$f":"IF(OR(AI4=\"\",$B$3=FALSE),\"\",IF(VLOOKUP(Bilan!$A$1,Notes!$A$6:$AQ$35,COLUMN(AH1),FALSE)=\"\",\"\",VLOOKUP(Bilan!$A$1,Notes!$A$6:$AQ$35,COLUMN(AH1),FALSE)))","v":""},{"$f":"IF(OR(AJ4=\"\",$B$3=FALSE),\"\",IF(VLOOKUP(Bilan!$A$1,Notes!$A$6:$AQ$35,COLUMN(AI1),FALSE)=\"\",\"\",VLOOKUP(Bilan!$A$1,Notes!$A$6:$AQ$35,COLUMN(AI1),FALSE)))","v":""},{"$f":"IF(OR(AK4=\"\",$B$3=FALSE),\"\",IF(VLOOKUP(Bilan!$A$1,Notes!$A$6:$AQ$35,COLUMN(AJ1),FALSE)=\"\",\"\",VLOOKUP(Bilan!$A$1,Notes!$A$6:$AQ$35,COLUMN(AJ1),FALSE)))","v":""},{"$f":"IF(OR(AL4=\"\",$B$3=FALSE),\"\",IF(VLOOKUP(Bilan!$A$1,Notes!$A$6:$AQ$35,COLUMN(AK1),FALSE)=\"\",\"\",VLOOKUP(Bilan!$A$1,Notes!$A$6:$AQ$35,COLUMN(AK1),FALSE)))","v":""},{"$f":"IF(OR(AM4=\"\",$B$3=FALSE),\"\",IF(VLOOKUP(Bilan!$A$1,Notes!$A$6:$AQ$35,COLUMN(AL1),FALSE)=\"\",\"\",VLOOKUP(Bilan!$A$1,Notes!$A$6:$AQ$35,COLUMN(AL1),FALSE)))","v":""},{"$f":"IF(OR(AN4=\"\",$B$3=FALSE),\"\",IF(VLOOKUP(Bilan!$A$1,Notes!$A$6:$AQ$35,COLUMN(AM1),FALSE)=\"\",\"\",VLOOKUP(Bilan!$A$1,Notes!$A$6:$AQ$35,COLUMN(AM1),FALSE)))","v":""},{"$f":"IF(OR(AO4=\"\",$B$3=FALSE),\"\",IF(VLOOKUP(Bilan!$A$1,Notes!$A$6:$AQ$35,COLUMN(AN1),FALSE)=\"\",\"\",VLOOKUP(Bilan!$A$1,Notes!$A$6:$AQ$35,COLUMN(AN1),FALSE)))","v":""},{"$f":"IF(OR(AP4=\"\",$B$3=FALSE),\"\",IF(VLOOKUP(Bilan!$A$1,Notes!$A$6:$AQ$35,COLUMN(AO1),FALSE)=\"\",\"\",VLOOKUP(Bilan!$A$1,Notes!$A$6:$AQ$35,COLUMN(AO1),FALSE)))","v":""},{"$f":"IF(OR(AQ4=\"\",$B$3=FALSE),\"\",IF(VLOOKUP(Bilan!$A$1,Notes!$A$6:$AQ$35,COLUMN(AP1),FALSE)=\"\",\"\",VLOOKUP(Bilan!$A$1,Notes!$A$6:$AQ$35,COLUMN(AP1),FALSE)))","v":""},{"$f":"IF(OR(AR4=\"\",$B$3=FALSE),\"\",IF(VLOOKUP(Bilan!$A$1,Notes!$A$6:$AQ$35,COLUMN(AQ1),FALSE)=\"\",\"\",VLOOKUP(Bilan!$A$1,Notes!$A$6:$AQ$35,COLUMN(AQ1),FALSE)))","v":""}]
[{"$f":"IF($B$2=1,AVERAGEIF($C$3:$AR$3,\"T1\",C6:AR6),IF($B$2=2,AVERAGEIF($C$3:$AR$3,\"T2\",C6:AR6),IF($B$2=3,AVERAGEIF($C$3:$AR$3,\"T3\",C6:AR6),IF($B$2=4,AVERAGE(C6:AR6)))))","v":{"$error":"#DIV/0!"}},{"$f":"INDEX(Evolution!$A$1:$AS$165,MATCH(Bilan!$A$1,Evolution!$A$1:$A$165,0),COLUMN(B1))","v":"S"},{"$f":"IF(OR(AND($B$2=1,C$3=\"T1\"),AND($B$2=2,C$3=\"T2\"),AND($B$2=3,C$3=\"T3\"),($B$2=4)),INDEX(Evolution!$A$1:$AS$165,MATCH(Bilan!$A$1,Evolution!$A$1:$A$165,0),COLUMN(C1)),\"\")","v":""},{"$f":"IF(OR(AND($B$2=1,D$3=\"T1\"),AND($B$2=2,D$3=\"T2\"),AND($B$2=3,D$3=\"T3\"),($B$2=4)),INDEX(Evolution!$A$1:$AS$165,MATCH(Bilan!$A$1,Evolution!$A$1:$A$165,0),COLUMN(D1)),\"\")","v":""},{"$f":"IF(OR(AND($B$2=1,E$3=\"T1\"),AND($B$2=2,E$3=\"T2\"),AND($B$2=3,E$3=\"T3\"),($B$2=4)),INDEX(Evolution!$A$1:$AS$165,MATCH(Bilan!$A$1,Evolution!$A$1:$A$165,0),COLUMN(E1)),\"\")","v":""},{"$f":"IF(OR(AND($B$2=1,F$3=\"T1\"),AND($B$2=2,F$3=\"T2\"),AND($B$2=3,F$3=\"T3\"),($B$2=4)),INDEX(Evolution!$A$1:$AS$165,MATCH(Bilan!$A$1,Evolution!$A$1:$A$165,0),COLUMN(F1)),\"\")","v":""},{"$f":"IF(OR(AND($B$2=1,G$3=\"T1\"),AND($B$2=2,G$3=\"T2\"),AND($B$2=3,G$3=\"T3\"),($B$2=4)),INDEX(Evolution!$A$1:$AS$165,MATCH(Bilan!$A$1,Evolution!$A$1:$A$165,0),COLUMN(G1)),\"\")","v":""},{"$f":"IF(OR(AND($B$2=1,H$3=\"T1\"),AND($B$2=2,H$3=\"T2\"),AND($B$2=3,H$3=\"T3\"),($B$2=4)),INDEX(Evolution!$A$1:$AS$165,MATCH(Bilan!$A$1,Evolution!$A$1:$A$165,0),COLUMN(H1)),\"\")","v":""},{"$f":"IF(OR(AND($B$2=1,I$3=\"T1\"),AND($B$2=2,I$3=\"T2\"),AND($B$2=3,I$3=\"T3\"),($B$2=4)),INDEX(Evolution!$A$1:$AS$165,MATCH(Bilan!$A$1,Evolution!$A$1:$A$165,0),COLUMN(I1)),\"\")","v":""},{"$f":"IF(OR(AND($B$2=1,J$3=\"T1\"),AND($B$2=2,J$3=\"T2\"),AND($B$2=3,J$3=\"T3\"),($B$2=4)),INDEX(Evolution!$A$1:$AS$165,MATCH(Bilan!$A$1,Evolution!$A$1:$A$165,0),COLUMN(J1)),\"\")","v":""},{"$f":"IF(OR(AND($B$2=1,K$3=\"T1\"),AND($B$2=2,K$3=\"T2\"),AND($B$2=3,K$3=\"T3\"),($B$2=4)),INDEX(Evolution!$A$1:$AS$165,MATCH(Bilan!$A$1,Evolution!$A$1:$A$165,0),COLUMN(K1)),\"\")","v":""},{"$f":"IF(OR(AND($B$2=1,L$3=\"T1\"),AND($B$2=2,L$3=\"T2\"),AND($B$2=3,L$3=\"T3\"),($B$2=4)),INDEX(Evolution!$A$1:$AS$165,MATCH(Bilan!$A$1,Evolution!$A$1:$A$165,0),COLUMN(L1)),\"\")","v":""},{"$f":"IF(OR(AND($B$2=1,M$3=\"T1\"),AND($B$2=2,M$3=\"T2\"),AND($B$2=3,M$3=\"T3\"),($B$2=4)),INDEX(Evolution!$A$1:$AS$165,MATCH(Bilan!$A$1,Evolution!$A$1:$A$165,0),COLUMN(M1)),\"\")","v":""},{"$f":"IF(OR(AND($B$2=1,N$3=\"T1\"),AND($B$2=2,N$3=\"T2\"),AND($B$2=3,N$3=\"T3\"),($B$2=4)),INDEX(Evolution!$A$1:$AS$165,MATCH(Bilan!$A$1,Evolution!$A$1:$A$165,0),COLUMN(N1)),\"\")","v":""},{"$f":"IF(OR(AND($B$2=1,O$3=\"T1\"),AND($B$2=2,O$3=\"T2\"),AND($B$2=3,O$3=\"T3\"),($B$2=4)),INDEX(Evolution!$A$1:$AS$165,MATCH(Bilan!$A$1,Evolution!$A$1:$A$165,0),COLUMN(O1)),\"\")","v":""},{"$f":"IF(OR(AND($B$2=1,P$3=\"T1\"),AND($B$2=2,P$3=\"T2\"),AND($B$2=3,P$3=\"T3\"),($B$2=4)),INDEX(Evolution!$A$1:$AS$165,MATCH(Bilan!$A$1,Evolution!$A$1:$A$165,0),COLUMN(P1)),\"\")","v":""},{"$f":"IF(OR(AND($B$2=1,Q$3=\"T1\"),AND($B$2=2,Q$3=\"T2\"),AND($B$2=3,Q$3=\"T3\"),($B$2=4)),INDEX(Evolution!$A$1:$AS$165,MATCH(Bilan!$A$1,Evolution!$A$1:$A$165,0),COLUMN(Q1)),\"\")","v":""},{"$f":"IF(OR(AND($B$2=1,R$3=\"T1\"),AND($B$2=2,R$3=\"T2\"),AND($B$2=3,R$3=\"T3\"),($B$2=4)),INDEX(Evolution!$A$1:$AS$165,MATCH(Bilan!$A$1,Evolution!$A$1:$A$165,0),COLUMN(R1)),\"\")","v":""},{"$f":"IF(OR(AND($B$2=1,S$3=\"T1\"),AND($B$2=2,S$3=\"T2\"),AND($B$2=3,S$3=\"T3\"),($B$2=4)),INDEX(Evolution!$A$1:$AS$165,MATCH(Bilan!$A$1,Evolution!$A$1:$A$165,0),COLUMN(S1)),\"\")","v":""},{"$f":"IF(OR(AND($B$2=1,T$3=\"T1\"),AND($B$2=2,T$3=\"T2\"),AND($B$2=3,T$3=\"T3\"),($B$2=4)),INDEX(Evolution!$A$1:$AS$165,MATCH(Bilan!$A$1,Evolution!$A$1:$A$165,0),COLUMN(T1)),\"\")","v":""},{"$f":"IF(OR(AND($B$2=1,U$3=\"T1\"),AND($B$2=2,U$3=\"T2\"),AND($B$2=3,U$3=\"T3\"),($B$2=4)),INDEX(Evolution!$A$1:$AS$165,MATCH(Bilan!$A$1,Evolution!$A$1:$A$165,0),COLUMN(U1)),\"\")","v":""},{"$f":"IF(OR(AND($B$2=1,V$3=\"T1\"),AND($B$2=2,V$3=\"T2\"),AND($B$2=3,V$3=\"T3\"),($B$2=4)),INDEX(Evolution!$A$1:$AS$165,MATCH(Bilan!$A$1,Evolution!$A$1:$A$165,0),COLUMN(V1)),\"\")","v":""},{"$f":"IF(OR(AND($B$2=1,W$3=\"T1\"),AND($B$2=2,W$3=\"T2\"),AND($B$2=3,W$3=\"T3\"),($B$2=4)),INDEX(Evolution!$A$1:$AS$165,MATCH(Bilan!$A$1,Evolution!$A$1:$A$165,0),COLUMN(W1)),\"\")","v":""},{"$f":"IF(OR(AND($B$2=1,X$3=\"T1\"),AND($B$2=2,X$3=\"T2\"),AND($B$2=3,X$3=\"T3\"),($B$2=4)),INDEX(Evolution!$A$1:$AS$165,MATCH(Bilan!$A$1,Evolution!$A$1:$A$165,0),COLUMN(X1)),\"\")","v":""},{"$f":"IF(OR(AND($B$2=1,Y$3=\"T1\"),AND($B$2=2,Y$3=\"T2\"),AND($B$2=3,Y$3=\"T3\"),($B$2=4)),INDEX(Evolution!$A$1:$AS$165,MATCH(Bilan!$A$1,Evolution!$A$1:$A$165,0),COLUMN(Y1)),\"\")","v":""},{"$f":"IF(OR(AND($B$2=1,Z$3=\"T1\"),AND($B$2=2,Z$3=\"T2\"),AND($B$2=3,Z$3=\"T3\"),($B$2=4)),INDEX(Evolution!$A$1:$AS$165,MATCH(Bilan!$A$1,Evolution!$A$1:$A$165,0),COLUMN(Z1)),\"\")","v":""},{"$f":"IF(OR(AND($B$2=1,AA$3=\"T1\"),AND($B$2=2,AA$3=\"T2\"),AND($B$2=3,AA$3=\"T3\"),($B$2=4)),INDEX(Evolution!$A$1:$AS$165,MATCH(Bilan!$A$1,Evolution!$A$1:$A$165,0),COLUMN(AA1)),\"\")","v":""},{"$f":"IF(OR(AND($B$2=1,AB$3=\"T1\"),AND($B$2=2,AB$3=\"T2\"),AND($B$2=3,AB$3=\"T3\"),($B$2=4)),INDEX(Evolution!$A$1:$AS$165,MATCH(Bilan!$A$1,Evolution!$A$1:$A$165,0),COLUMN(AB1)),\"\")","v":""},{"$f":"IF(OR(AND($B$2=1,AC$3=\"T1\"),AND($B$2=2,AC$3=\"T2\"),AND($B$2=3,AC$3=\"T3\"),($B$2=4)),INDEX(Evolution!$A$1:$AS$165,MATCH(Bilan!$A$1,Evolution!$A$1:$A$165,0),COLUMN(AC1)),\"\")","v":""},{"$f":"IF(OR(AND($B$2=1,AD$3=\"T1\"),AND($B$2=2,AD$3=\"T2\"),AND($B$2=3,AD$3=\"T3\"),($B$2=4)),INDEX(Evolution!$A$1:$AS$165,MATCH(Bilan!$A$1,Evolution!$A$1:$A$165,0),COLUMN(AD1)),\"\")","v":""},{"$f":"IF(OR(AND($B$2=1,AE$3=\"T1\"),AND($B$2=2,AE$3=\"T2\"),AND($B$2=3,AE$3=\"T3\"),($B$2=4)),INDEX(Evolution!$A$1:$AS$165,MATCH(Bilan!$A$1,Evolution!$A$1:$A$165,0),COLUMN(AE1)),\"\")","v":""},{"$f":"IF(OR(AND($B$2=1,AF$3=\"T1\"),AND($B$2=2,AF$3=\"T2\"),AND($B$2=3,AF$3=\"T3\"),($B$2=4)),INDEX(Evolution!$A$1:$AS$165,MATCH(Bilan!$A$1,Evolution!$A$1:$A$165,0),COLUMN(AF1)),\"\")","v":""},{"$f":"IF(OR(AND($B$2=1,AG$3=\"T1\"),AND($B$2=2,AG$3=\"T2\"),AND($B$2=3,AG$3=\"T3\"),($B$2=4)),INDEX(Evolution!$A$1:$AS$165,MATCH(Bilan!$A$1,Evolution!$A$1:$A$165,0),COLUMN(AG1)),\"\")","v":""},{"$f":"IF(OR(AND($B$2=1,AH$3=\"T1\"),AND($B$2=2,AH$3=\"T2\"),AND($B$2=3,AH$3=\"T3\"),($B$2=4)),INDEX(Evolution!$A$1:$AS$165,MATCH(Bilan!$A$1,Evolution!$A$1:$A$165,0),COLUMN(AH1)),\"\")","v":""},{"$f":"IF(OR(AND($B$2=1,AI$3=\"T1\"),AND($B$2=2,AI$3=\"T2\"),AND($B$2=3,AI$3=\"T3\"),($B$2=4)),INDEX(Evolution!$A$1:$AS$165,MATCH(Bilan!$A$1,Evolution!$A$1:$A$165,0),COLUMN(AI1)),\"\")","v":""},{"$f":"IF(OR(AND($B$2=1,AJ$3=\"T1\"),AND($B$2=2,AJ$3=\"T2\"),AND($B$2=3,AJ$3=\"T3\"),($B$2=4)),INDEX(Evolution!$A$1:$AS$165,MATCH(Bilan!$A$1,Evolution!$A$1:$A$165,0),COLUMN(AJ1)),\"\")","v":""},{"$f":"IF(OR(AND($B$2=1,AK$3=\"T1\"),AND($B$2=2,AK$3=\"T2\"),AND($B$2=3,AK$3=\"T3\"),($B$2=4)),INDEX(Evolution!$A$1:$AS$165,MATCH(Bilan!$A$1,Evolution!$A$1:$A$165,0),COLUMN(AK1)),\"\")","v":""},{"$f":"IF(OR(AND($B$2=1,AL$3=\"T1\"),AND($B$2=2,AL$3=\"T2\"),AND($B$2=3,AL$3=\"T3\"),($B$2=4)),INDEX(Evolution!$A$1:$AS$165,MATCH(Bilan!$A$1,Evolution!$A$1:$A$165,0),COLUMN(AL1)),\"\")","v":""},{"$f":"IF(OR(AND($B$2=1,AM$3=\"T1\"),AND($B$2=2,AM$3=\"T2\"),AND($B$2=3,AM$3=\"T3\"),($B$2=4)),INDEX(Evolution!$A$1:$AS$165,MATCH(Bilan!$A$1,Evolution!$A$1:$A$165,0),COLUMN(AM1)),\"\")","v":""},{"$f":"IF(OR(AND($B$2=1,AN$3=\"T1\"),AND($B$2=2,AN$3=\"T2\"),AND($B$2=3,AN$3=\"T3\"),($B$2=4)),INDEX(Evolution!$A$1:$AS$165,MATCH(Bilan!$A$1,Evolution!$A$1:$A$165,0),COLUMN(AN1)),\"\")","v":""},{"$f":"IF(OR(AND($B$2=1,AO$3=\"T1\"),AND($B$2=2,AO$3=\"T2\"),AND($B$2=3,AO$3=\"T3\"),($B$2=4)),INDEX(Evolution!$A$1:$AS$165,MATCH(Bilan!$A$1,Evolution!$A$1:$A$165,0),COLUMN(AO1)),\"\")","v":""},{"$f":"IF(OR(AND($B$2=1,AP$3=\"T1\"),AND($B$2=2,AP$3=\"T2\"),AND($B$2=3,AP$3=\"T3\"),($B$2=4)),INDEX(Evolution!$A$1:$AS$165,MATCH(Bilan!$A$1,Evolution!$A$1:$A$165,0),COLUMN(AP1)),\"\")","v":""},{"$f":"IF(OR(AND($B$2=1,AQ$3=\"T1\"),AND($B$2=2,AQ$3=\"T2\"),AND($B$2=3,AQ$3=\"T3\"),($B$2=4)),INDEX(Evolution!$A$1:$AS$165,MATCH(Bilan!$A$1,Evolution!$A$1:$A$165,0),COLUMN(AQ1)),\"\")","v":""},{"$f":"IF(OR(AND($B$2=1,AR$3=\"T1\"),AND($B$2=2,AR$3=\"T2\"),AND($B$2=3,AR$3=\"T3\"),($B$2=4)),INDEX(Evolution!$A$1:$AS$165,MATCH(Bilan!$A$1,Evolution!$A$1:$A$165,0),COLUMN(AR1)),\"\")","v":""}]
[{"$f":"IF($B$2=1,AVERAGEIF($C$3:$AR$3,\"T1\",C7:AR7),IF($B$2=2,AVERAGEIF($C$3:$AR$3,\"T2\",C7:AR7),IF($B$2=3,AVERAGEIF($C$3:$AR$3,\"T3\",C7:AR7),IF($B$2=4,AVERAGE(C7:AR7)))))","v":{"$error":"#DIV/0!"}},{"$f":"INDEX(Evolution!$A$1:$AS$165,MATCH(Bilan!$A$1,Evolution!$A$1:$A$165,0)+1,COLUMN(B1))","v":"A"},{"$f":"IF(OR(AND($B$2=1,C$3=\"T1\"),AND($B$2=2,C$3=\"T2\"),AND($B$2=3,C$3=\"T3\"),($B$2=4)),INDEX(Evolution!$A$1:$AS$165,MATCH(Bilan!$A$1,Evolution!$A$1:$A$165,0)+1,COLUMN(C2)),\"\")","v":""},{"$f":"IF(OR(AND($B$2=1,D$3=\"T1\"),AND($B$2=2,D$3=\"T2\"),AND($B$2=3,D$3=\"T3\"),($B$2=4)),INDEX(Evolution!$A$1:$AS$165,MATCH(Bilan!$A$1,Evolution!$A$1:$A$165,0)+1,COLUMN(D2)),\"\")","v":""},{"$f":"IF(OR(AND($B$2=1,E$3=\"T1\"),AND($B$2=2,E$3=\"T2\"),AND($B$2=3,E$3=\"T3\"),($B$2=4)),INDEX(Evolution!$A$1:$AS$165,MATCH(Bilan!$A$1,Evolution!$A$1:$A$165,0)+1,COLUMN(E2)),\"\")","v":""},{"$f":"IF(OR(AND($B$2=1,F$3=\"T1\"),AND($B$2=2,F$3=\"T2\"),AND($B$2=3,F$3=\"T3\"),($B$2=4)),INDEX(Evolution!$A$1:$AS$165,MATCH(Bilan!$A$1,Evolution!$A$1:$A$165,0)+1,COLUMN(F2)),\"\")","v":""},{"$f":"IF(OR(AND($B$2=1,G$3=\"T1\"),AND($B$2=2,G$3=\"T2\"),AND($B$2=3,G$3=\"T3\"),($B$2=4)),INDEX(Evolution!$A$1:$AS$165,MATCH(Bilan!$A$1,Evolution!$A$1:$A$165,0)+1,COLUMN(G2)),\"\")","v":""},{"$f":"IF(OR(AND($B$2=1,H$3=\"T1\"),AND($B$2=2,H$3=\"T2\"),AND($B$2=3,H$3=\"T3\"),($B$2=4)),INDEX(Evolution!$A$1:$AS$165,MATCH(Bilan!$A$1,Evolution!$A$1:$A$165,0)+1,COLUMN(H2)),\"\")","v":""},{"$f":"IF(OR(AND($B$2=1,I$3=\"T1\"),AND($B$2=2,I$3=\"T2\"),AND($B$2=3,I$3=\"T3\"),($B$2=4)),INDEX(Evolution!$A$1:$AS$165,MATCH(Bilan!$A$1,Evolution!$A$1:$A$165,0)+1,COLUMN(I2)),\"\")","v":""},{"$f":"IF(OR(AND($B$2=1,J$3=\"T1\"),AND($B$2=2,J$3=\"T2\"),AND($B$2=3,J$3=\"T3\"),($B$2=4)),INDEX(Evolution!$A$1:$AS$165,MATCH(Bilan!$A$1,Evolution!$A$1:$A$165,0)+1,COLUMN(J2)),\"\")","v":""},{"$f":"IF(OR(AND($B$2=1,K$3=\"T1\"),AND($B$2=2,K$3=\"T2\"),AND($B$2=3,K$3=\"T3\"),($B$2=4)),INDEX(Evolution!$A$1:$AS$165,MATCH(Bilan!$A$1,Evolution!$A$1:$A$165,0)+1,COLUMN(K2)),\"\")","v":""},{"$f":"IF(OR(AND($B$2=1,L$3=\"T1\"),AND($B$2=2,L$3=\"T2\"),AND($B$2=3,L$3=\"T3\"),($B$2=4)),INDEX(Evolution!$A$1:$AS$165,MATCH(Bilan!$A$1,Evolution!$A$1:$A$165,0)+1,COLUMN(L2)),\"\")","v":""},{"$f":"IF(OR(AND($B$2=1,M$3=\"T1\"),AND($B$2=2,M$3=\"T2\"),AND($B$2=3,M$3=\"T3\"),($B$2=4)),INDEX(Evolution!$A$1:$AS$165,MATCH(Bilan!$A$1,Evolution!$A$1:$A$165,0)+1,COLUMN(M2)),\"\")","v":""},{"$f":"IF(OR(AND($B$2=1,N$3=\"T1\"),AND($B$2=2,N$3=\"T2\"),AND($B$2=3,N$3=\"T3\"),($B$2=4)),INDEX(Evolution!$A$1:$AS$165,MATCH(Bilan!$A$1,Evolution!$A$1:$A$165,0)+1,COLUMN(N2)),\"\")","v":""},{"$f":"IF(OR(AND($B$2=1,O$3=\"T1\"),AND($B$2=2,O$3=\"T2\"),AND($B$2=3,O$3=\"T3\"),($B$2=4)),INDEX(Evolution!$A$1:$AS$165,MATCH(Bilan!$A$1,Evolution!$A$1:$A$165,0)+1,COLUMN(O2)),\"\")","v":""},{"$f":"IF(OR(AND($B$2=1,P$3=\"T1\"),AND($B$2=2,P$3=\"T2\"),AND($B$2=3,P$3=\"T3\"),($B$2=4)),INDEX(Evolution!$A$1:$AS$165,MATCH(Bilan!$A$1,Evolution!$A$1:$A$165,0)+1,COLUMN(P2)),\"\")","v":""},{"$f":"IF(OR(AND($B$2=1,Q$3=\"T1\"),AND($B$2=2,Q$3=\"T2\"),AND($B$2=3,Q$3=\"T3\"),($B$2=4)),INDEX(Evolution!$A$1:$AS$165,MATCH(Bilan!$A$1,Evolution!$A$1:$A$165,0)+1,COLUMN(Q2)),\"\")","v":""},{"$f":"IF(OR(AND($B$2=1,R$3=\"T1\"),AND($B$2=2,R$3=\"T2\"),AND($B$2=3,R$3=\"T3\"),($B$2=4)),INDEX(Evolution!$A$1:$AS$165,MATCH(Bilan!$A$1,Evolution!$A$1:$A$165,0)+1,COLUMN(R2)),\"\")","v":""},{"$f":"IF(OR(AND($B$2=1,S$3=\"T1\"),AND($B$2=2,S$3=\"T2\"),AND($B$2=3,S$3=\"T3\"),($B$2=4)),INDEX(Evolution!$A$1:$AS$165,MATCH(Bilan!$A$1,Evolution!$A$1:$A$165,0)+1,COLUMN(S2)),\"\")","v":""},{"$f":"IF(OR(AND($B$2=1,T$3=\"T1\"),AND($B$2=2,T$3=\"T2\"),AND($B$2=3,T$3=\"T3\"),($B$2=4)),INDEX(Evolution!$A$1:$AS$165,MATCH(Bilan!$A$1,Evolution!$A$1:$A$165,0)+1,COLUMN(T2)),\"\")","v":""},{"$f":"IF(OR(AND($B$2=1,U$3=\"T1\"),AND($B$2=2,U$3=\"T2\"),AND($B$2=3,U$3=\"T3\"),($B$2=4)),INDEX(Evolution!$A$1:$AS$165,MATCH(Bilan!$A$1,Evolution!$A$1:$A$165,0)+1,COLUMN(U2)),\"\")","v":""},{"$f":"IF(OR(AND($B$2=1,V$3=\"T1\"),AND($B$2=2,V$3=\"T2\"),AND($B$2=3,V$3=\"T3\"),($B$2=4)),INDEX(Evolution!$A$1:$AS$165,MATCH(Bilan!$A$1,Evolution!$A$1:$A$165,0)+1,COLUMN(V2)),\"\")","v":""},{"$f":"IF(OR(AND($B$2=1,W$3=\"T1\"),AND($B$2=2,W$3=\"T2\"),AND($B$2=3,W$3=\"T3\"),($B$2=4)),INDEX(Evolution!$A$1:$AS$165,MATCH(Bilan!$A$1,Evolution!$A$1:$A$165,0)+1,COLUMN(W2)),\"\")","v":""},{"$f":"IF(OR(AND($B$2=1,X$3=\"T1\"),AND($B$2=2,X$3=\"T2\"),AND($B$2=3,X$3=\"T3\"),($B$2=4)),INDEX(Evolution!$A$1:$AS$165,MATCH(Bilan!$A$1,Evolution!$A$1:$A$165,0)+1,COLUMN(X2)),\"\")","v":""},{"$f":"IF(OR(AND($B$2=1,Y$3=\"T1\"),AND($B$2=2,Y$3=\"T2\"),AND($B$2=3,Y$3=\"T3\"),($B$2=4)),INDEX(Evolution!$A$1:$AS$165,MATCH(Bilan!$A$1,Evolution!$A$1:$A$165,0)+1,COLUMN(Y2)),\"\")","v":""},{"$f":"IF(OR(AND($B$2=1,Z$3=\"T1\"),AND($B$2=2,Z$3=\"T2\"),AND($B$2=3,Z$3=\"T3\"),($B$2=4)),INDEX(Evolution!$A$1:$AS$165,MATCH(Bilan!$A$1,Evolution!$A$1:$A$165,0)+1,COLUMN(Z2)),\"\")","v":""},{"$f":"IF(OR(AND($B$2=1,AA$3=\"T1\"),AND($B$2=2,AA$3=\"T2\"),AND($B$2=3,AA$3=\"T3\"),($B$2=4)),INDEX(Evolution!$A$1:$AS$165,MATCH(Bilan!$A$1,Evolution!$A$1:$A$165,0)+1,COLUMN(AA2)),\"\")","v":""},{"$f":"IF(OR(AND($B$2=1,AB$3=\"T1\"),AND($B$2=2,AB$3=\"T2\"),AND($B$2=3,AB$3=\"T3\"),($B$2=4)),INDEX(Evolution!$A$1:$AS$165,MATCH(Bilan!$A$1,Evolution!$A$1:$A$165,0)+1,COLUMN(AB2)),\"\")","v":""},{"$f":"IF(OR(AND($B$2=1,AC$3=\"T1\"),AND($B$2=2,AC$3=\"T2\"),AND($B$2=3,AC$3=\"T3\"),($B$2=4)),INDEX(Evolution!$A$1:$AS$165,MATCH(Bilan!$A$1,Evolution!$A$1:$A$165,0)+1,COLUMN(AC2)),\"\")","v":""},{"$f":"IF(OR(AND($B$2=1,AD$3=\"T1\"),AND($B$2=2,AD$3=\"T2\"),AND($B$2=3,AD$3=\"T3\"),($B$2=4)),INDEX(Evolution!$A$1:$AS$165,MATCH(Bilan!$A$1,Evolution!$A$1:$A$165,0)+1,COLUMN(AD2)),\"\")","v":""},{"$f":"IF(OR(AND($B$2=1,AE$3=\"T1\"),AND($B$2=2,AE$3=\"T2\"),AND($B$2=3,AE$3=\"T3\"),($B$2=4)),INDEX(Evolution!$A$1:$AS$165,MATCH(Bilan!$A$1,Evolution!$A$1:$A$165,0)+1,COLUMN(AE2)),\"\")","v":""},{"$f":"IF(OR(AND($B$2=1,AF$3=\"T1\"),AND($B$2=2,AF$3=\"T2\"),AND($B$2=3,AF$3=\"T3\"),($B$2=4)),INDEX(Evolution!$A$1:$AS$165,MATCH(Bilan!$A$1,Evolution!$A$1:$A$165,0)+1,COLUMN(AF2)),\"\")","v":""},{"$f":"IF(OR(AND($B$2=1,AG$3=\"T1\"),AND($B$2=2,AG$3=\"T2\"),AND($B$2=3,AG$3=\"T3\"),($B$2=4)),INDEX(Evolution!$A$1:$AS$165,MATCH(Bilan!$A$1,Evolution!$A$1:$A$165,0)+1,COLUMN(AG2)),\"\")","v":""},{"$f":"IF(OR(AND($B$2=1,AH$3=\"T1\"),AND($B$2=2,AH$3=\"T2\"),AND($B$2=3,AH$3=\"T3\"),($B$2=4)),INDEX(Evolution!$A$1:$AS$165,MATCH(Bilan!$A$1,Evolution!$A$1:$A$165,0)+1,COLUMN(AH2)),\"\")","v":""},{"$f":"IF(OR(AND($B$2=1,AI$3=\"T1\"),AND($B$2=2,AI$3=\"T2\"),AND($B$2=3,AI$3=\"T3\"),($B$2=4)),INDEX(Evolution!$A$1:$AS$165,MATCH(Bilan!$A$1,Evolution!$A$1:$A$165,0)+1,COLUMN(AI2)),\"\")","v":""},{"$f":"IF(OR(AND($B$2=1,AJ$3=\"T1\"),AND($B$2=2,AJ$3=\"T2\"),AND($B$2=3,AJ$3=\"T3\"),($B$2=4)),INDEX(Evolution!$A$1:$AS$165,MATCH(Bilan!$A$1,Evolution!$A$1:$A$165,0)+1,COLUMN(AJ2)),\"\")","v":""},{"$f":"IF(OR(AND($B$2=1,AK$3=\"T1\"),AND($B$2=2,AK$3=\"T2\"),AND($B$2=3,AK$3=\"T3\"),($B$2=4)),INDEX(Evolution!$A$1:$AS$165,MATCH(Bilan!$A$1,Evolution!$A$1:$A$165,0)+1,COLUMN(AK2)),\"\")","v":""},{"$f":"IF(OR(AND($B$2=1,AL$3=\"T1\"),AND($B$2=2,AL$3=\"T2\"),AND($B$2=3,AL$3=\"T3\"),($B$2=4)),INDEX(Evolution!$A$1:$AS$165,MATCH(Bilan!$A$1,Evolution!$A$1:$A$165,0)+1,COLUMN(AL2)),\"\")","v":""},{"$f":"IF(OR(AND($B$2=1,AM$3=\"T1\"),AND($B$2=2,AM$3=\"T2\"),AND($B$2=3,AM$3=\"T3\"),($B$2=4)),INDEX(Evolution!$A$1:$AS$165,MATCH(Bilan!$A$1,Evolution!$A$1:$A$165,0)+1,COLUMN(AM2)),\"\")","v":""},{"$f":"IF(OR(AND($B$2=1,AN$3=\"T1\"),AND($B$2=2,AN$3=\"T2\"),AND($B$2=3,AN$3=\"T3\"),($B$2=4)),INDEX(Evolution!$A$1:$AS$165,MATCH(Bilan!$A$1,Evolution!$A$1:$A$165,0)+1,COLUMN(AN2)),\"\")","v":""},{"$f":"IF(OR(AND($B$2=1,AO$3=\"T1\"),AND($B$2=2,AO$3=\"T2\"),AND($B$2=3,AO$3=\"T3\"),($B$2=4)),INDEX(Evolution!$A$1:$AS$165,MATCH(Bilan!$A$1,Evolution!$A$1:$A$165,0)+1,COLUMN(AO2)),\"\")","v":""},{"$f":"IF(OR(AND($B$2=1,AP$3=\"T1\"),AND($B$2=2,AP$3=\"T2\"),AND($B$2=3,AP$3=\"T3\"),($B$2=4)),INDEX(Evolution!$A$1:$AS$165,MATCH(Bilan!$A$1,Evolution!$A$1:$A$165,0)+1,COLUMN(AP2)),\"\")","v":""},{"$f":"IF(OR(AND($B$2=1,AQ$3=\"T1\"),AND($B$2=2,AQ$3=\"T2\"),AND($B$2=3,AQ$3=\"T3\"),($B$2=4)),INDEX(Evolution!$A$1:$AS$165,MATCH(Bilan!$A$1,Evolution!$A$1:$A$165,0)+1,COLUMN(AQ2)),\"\")","v":""},{"$f":"IF(OR(AND($B$2=1,AR$3=\"T1\"),AND($B$2=2,AR$3=\"T2\"),AND($B$2=3,AR$3=\"T3\"),($B$2=4)),INDEX(Evolution!$A$1:$AS$165,MATCH(Bilan!$A$1,Evolution!$A$1:$A$165,0)+1,COLUMN(AR2)),\"\")","v":""}]
[{"$error":"#DIV/0!"},{"$f":"INDEX(Evolution!$A$1:$AS$165,MATCH(Bilan!$A$1,Evolution!$A$1:$A$165,0)+2,COLUMN(B1))","v":"R"},{"$f":"IF(OR(AND($B$2=1,C$3=\"T1\"),AND($B$2=2,C$3=\"T2\"),AND($B$2=3,C$3=\"T3\"),($B$2=4)),INDEX(Evolution!$A$1:$AS$165,MATCH(Bilan!$A$1,Evolution!$A$1:$A$165,0)+2,COLUMN(C3)),\"\")","v":""},{"$f":"IF(OR(AND($B$2=1,D$3=\"T1\"),AND($B$2=2,D$3=\"T2\"),AND($B$2=3,D$3=\"T3\"),($B$2=4)),INDEX(Evolution!$A$1:$AS$165,MATCH(Bilan!$A$1,Evolution!$A$1:$A$165,0)+2,COLUMN(D3)),\"\")","v":""},{"$f":"IF(OR(AND($B$2=1,E$3=\"T1\"),AND($B$2=2,E$3=\"T2\"),AND($B$2=3,E$3=\"T3\"),($B$2=4)),INDEX(Evolution!$A$1:$AS$165,MATCH(Bilan!$A$1,Evolution!$A$1:$A$165,0)+2,COLUMN(E3)),\"\")","v":""},{"$f":"IF(OR(AND($B$2=1,F$3=\"T1\"),AND($B$2=2,F$3=\"T2\"),AND($B$2=3,F$3=\"T3\"),($B$2=4)),INDEX(Evolution!$A$1:$AS$165,MATCH(Bilan!$A$1,Evolution!$A$1:$A$165,0)+2,COLUMN(F3)),\"\")","v":""},{"$f":"IF(OR(AND($B$2=1,G$3=\"T1\"),AND($B$2=2,G$3=\"T2\"),AND($B$2=3,G$3=\"T3\"),($B$2=4)),INDEX(Evolution!$A$1:$AS$165,MATCH(Bilan!$A$1,Evolution!$A$1:$A$165,0)+2,COLUMN(G3)),\"\")","v":""},{"$f":"IF(OR(AND($B$2=1,H$3=\"T1\"),AND($B$2=2,H$3=\"T2\"),AND($B$2=3,H$3=\"T3\"),($B$2=4)),INDEX(Evolution!$A$1:$AS$165,MATCH(Bilan!$A$1,Evolution!$A$1:$A$165,0)+2,COLUMN(H3)),\"\")","v":""},{"$f":"IF(OR(AND($B$2=1,I$3=\"T1\"),AND($B$2=2,I$3=\"T2\"),AND($B$2=3,I$3=\"T3\"),($B$2=4)),INDEX(Evolution!$A$1:$AS$165,MATCH(Bilan!$A$1,Evolution!$A$1:$A$165,0)+2,COLUMN(I3)),\"\")","v":""},{"$f":"IF(OR(AND($B$2=1,J$3=\"T1\"),AND($B$2=2,J$3=\"T2\"),AND($B$2=3,J$3=\"T3\"),($B$2=4)),INDEX(Evolution!$A$1:$AS$165,MATCH(Bilan!$A$1,Evolution!$A$1:$A$165,0)+2,COLUMN(J3)),\"\")","v":""},{"$f":"IF(OR(AND($B$2=1,K$3=\"T1\"),AND($B$2=2,K$3=\"T2\"),AND($B$2=3,K$3=\"T3\"),($B$2=4)),INDEX(Evolution!$A$1:$AS$165,MATCH(Bilan!$A$1,Evolution!$A$1:$A$165,0)+2,COLUMN(K3)),\"\")","v":""},{"$f":"IF(OR(AND($B$2=1,L$3=\"T1\"),AND($B$2=2,L$3=\"T2\"),AND($B$2=3,L$3=\"T3\"),($B$2=4)),INDEX(Evolution!$A$1:$AS$165,MATCH(Bilan!$A$1,Evolution!$A$1:$A$165,0)+2,COLUMN(L3)),\"\")","v":""},{"$f":"IF(OR(AND($B$2=1,M$3=\"T1\"),AND($B$2=2,M$3=\"T2\"),AND($B$2=3,M$3=\"T3\"),($B$2=4)),INDEX(Evolution!$A$1:$AS$165,MATCH(Bilan!$A$1,Evolution!$A$1:$A$165,0)+2,COLUMN(M3)),\"\")","v":""},{"$f":"IF(OR(AND($B$2=1,N$3=\"T1\"),AND($B$2=2,N$3=\"T2\"),AND($B$2=3,N$3=\"T3\"),($B$2=4)),INDEX(Evolution!$A$1:$AS$165,MATCH(Bilan!$A$1,Evolution!$A$1:$A$165,0)+2,COLUMN(N3)),\"\")","v":""},{"$f":"IF(OR(AND($B$2=1,O$3=\"T1\"),AND($B$2=2,O$3=\"T2\"),AND($B$2=3,O$3=\"T3\"),($B$2=4)),INDEX(Evolution!$A$1:$AS$165,MATCH(Bilan!$A$1,Evolution!$A$1:$A$165,0)+2,COLUMN(O3)),\"\")","v":""},{"$f":"IF(OR(AND($B$2=1,P$3=\"T1\"),AND($B$2=2,P$3=\"T2\"),AND($B$2=3,P$3=\"T3\"),($B$2=4)),INDEX(Evolution!$A$1:$AS$165,MATCH(Bilan!$A$1,Evolution!$A$1:$A$165,0)+2,COLUMN(P3)),\"\")","v":""},{"$f":"IF(OR(AND($B$2=1,Q$3=\"T1\"),AND($B$2=2,Q$3=\"T2\"),AND($B$2=3,Q$3=\"T3\"),($B$2=4)),INDEX(Evolution!$A$1:$AS$165,MATCH(Bilan!$A$1,Evolution!$A$1:$A$165,0)+2,COLUMN(Q3)),\"\")","v":""},{"$f":"IF(OR(AND($B$2=1,R$3=\"T1\"),AND($B$2=2,R$3=\"T2\"),AND($B$2=3,R$3=\"T3\"),($B$2=4)),INDEX(Evolution!$A$1:$AS$165,MATCH(Bilan!$A$1,Evolution!$A$1:$A$165,0)+2,COLUMN(R3)),\"\")","v":""},{"$f":"IF(OR(AND($B$2=1,S$3=\"T1\"),AND($B$2=2,S$3=\"T2\"),AND($B$2=3,S$3=\"T3\"),($B$2=4)),INDEX(Evolution!$A$1:$AS$165,MATCH(Bilan!$A$1,Evolution!$A$1:$A$165,0)+2,COLUMN(S3)),\"\")","v":""},{"$f":"IF(OR(AND($B$2=1,T$3=\"T1\"),AND($B$2=2,T$3=\"T2\"),AND($B$2=3,T$3=\"T3\"),($B$2=4)),INDEX(Evolution!$A$1:$AS$165,MATCH(Bilan!$A$1,Evolution!$A$1:$A$165,0)+2,COLUMN(T3)),\"\")","v":""},{"$f":"IF(OR(AND($B$2=1,U$3=\"T1\"),AND($B$2=2,U$3=\"T2\"),AND($B$2=3,U$3=\"T3\"),($B$2=4)),INDEX(Evolution!$A$1:$AS$165,MATCH(Bilan!$A$1,Evolution!$A$1:$A$165,0)+2,COLUMN(U3)),\"\")","v":""},{"$f":"IF(OR(AND($B$2=1,V$3=\"T1\"),AND($B$2=2,V$3=\"T2\"),AND($B$2=3,V$3=\"T3\"),($B$2=4)),INDEX(Evolution!$A$1:$AS$165,MATCH(Bilan!$A$1,Evolution!$A$1:$A$165,0)+2,COLUMN(V3)),\"\")","v":""},{"$f":"IF(OR(AND($B$2=1,W$3=\"T1\"),AND($B$2=2,W$3=\"T2\"),AND($B$2=3,W$3=\"T3\"),($B$2=4)),INDEX(Evolution!$A$1:$AS$165,MATCH(Bilan!$A$1,Evolution!$A$1:$A$165,0)+2,COLUMN(W3)),\"\")","v":""},{"$f":"IF(OR(AND($B$2=1,X$3=\"T1\"),AND($B$2=2,X$3=\"T2\"),AND($B$2=3,X$3=\"T3\"),($B$2=4)),INDEX(Evolution!$A$1:$AS$165,MATCH(Bilan!$A$1,Evolution!$A$1:$A$165,0)+2,COLUMN(X3)),\"\")","v":""},{"$f":"IF(OR(AND($B$2=1,Y$3=\"T1\"),AND($B$2=2,Y$3=\"T2\"),AND($B$2=3,Y$3=\"T3\"),($B$2=4)),INDEX(Evolution!$A$1:$AS$165,MATCH(Bilan!$A$1,Evolution!$A$1:$A$165,0)+2,COLUMN(Y3)),\"\")","v":""},{"$f":"IF(OR(AND($B$2=1,Z$3=\"T1\"),AND($B$2=2,Z$3=\"T2\"),AND($B$2=3,Z$3=\"T3\"),($B$2=4)),INDEX(Evolution!$A$1:$AS$165,MATCH(Bilan!$A$1,Evolution!$A$1:$A$165,0)+2,COLUMN(Z3)),\"\")","v":""},{"$f":"IF(OR(AND($B$2=1,AA$3=\"T1\"),AND($B$2=2,AA$3=\"T2\"),AND($B$2=3,AA$3=\"T3\"),($B$2=4)),INDEX(Evolution!$A$1:$AS$165,MATCH(Bilan!$A$1,Evolution!$A$1:$A$165,0)+2,COLUMN(AA3)),\"\")","v":""},{"$f":"IF(OR(AND($B$2=1,AB$3=\"T1\"),AND($B$2=2,AB$3=\"T2\"),AND($B$2=3,AB$3=\"T3\"),($B$2=4)),INDEX(Evolution!$A$1:$AS$165,MATCH(Bilan!$A$1,Evolution!$A$1:$A$165,0)+2,COLUMN(AB3)),\"\")","v":""},{"$f":"IF(OR(AND($B$2=1,AC$3=\"T1\"),AND($B$2=2,AC$3=\"T2\"),AND($B$2=3,AC$3=\"T3\"),($B$2=4)),INDEX(Evolution!$A$1:$AS$165,MATCH(Bilan!$A$1,Evolution!$A$1:$A$165,0)+2,COLUMN(AC3)),\"\")","v":""},{"$f":"IF(OR(AND($B$2=1,AD$3=\"T1\"),AND($B$2=2,AD$3=\"T2\"),AND($B$2=3,AD$3=\"T3\"),($B$2=4)),INDEX(Evolution!$A$1:$AS$165,MATCH(Bilan!$A$1,Evolution!$A$1:$A$165,0)+2,COLUMN(AD3)),\"\")","v":""},{"$f":"IF(OR(AND($B$2=1,AE$3=\"T1\"),AND($B$2=2,AE$3=\"T2\"),AND($B$2=3,AE$3=\"T3\"),($B$2=4)),INDEX(Evolution!$A$1:$AS$165,MATCH(Bilan!$A$1,Evolution!$A$1:$A$165,0)+2,COLUMN(AE3)),\"\")","v":""},{"$f":"IF(OR(AND($B$2=1,AF$3=\"T1\"),AND($B$2=2,AF$3=\"T2\"),AND($B$2=3,AF$3=\"T3\"),($B$2=4)),INDEX(Evolution!$A$1:$AS$165,MATCH(Bilan!$A$1,Evolution!$A$1:$A$165,0)+2,COLUMN(AF3)),\"\")","v":""},{"$f":"IF(OR(AND($B$2=1,AG$3=\"T1\"),AND($B$2=2,AG$3=\"T2\"),AND($B$2=3,AG$3=\"T3\"),($B$2=4)),INDEX(Evolution!$A$1:$AS$165,MATCH(Bilan!$A$1,Evolution!$A$1:$A$165,0)+2,COLUMN(AG3)),\"\")","v":""},{"$f":"IF(OR(AND($B$2=1,AH$3=\"T1\"),AND($B$2=2,AH$3=\"T2\"),AND($B$2=3,AH$3=\"T3\"),($B$2=4)),INDEX(Evolution!$A$1:$AS$165,MATCH(Bilan!$A$1,Evolution!$A$1:$A$165,0)+2,COLUMN(AH3)),\"\")","v":""},{"$f":"IF(OR(AND($B$2=1,AI$3=\"T1\"),AND($B$2=2,AI$3=\"T2\"),AND($B$2=3,AI$3=\"T3\"),($B$2=4)),INDEX(Evolution!$A$1:$AS$165,MATCH(Bilan!$A$1,Evolution!$A$1:$A$165,0)+2,COLUMN(AI3)),\"\")","v":""},{"$f":"IF(OR(AND($B$2=1,AJ$3=\"T1\"),AND($B$2=2,AJ$3=\"T2\"),AND($B$2=3,AJ$3=\"T3\"),($B$2=4)),INDEX(Evolution!$A$1:$AS$165,MATCH(Bilan!$A$1,Evolution!$A$1:$A$165,0)+2,COLUMN(AJ3)),\"\")","v":""},{"$f":"IF(OR(AND($B$2=1,AK$3=\"T1\"),AND($B$2=2,AK$3=\"T2\"),AND($B$2=3,AK$3=\"T3\"),($B$2=4)),INDEX(Evolution!$A$1:$AS$165,MATCH(Bilan!$A$1,Evolution!$A$1:$A$165,0)+2,COLUMN(AK3)),\"\")","v":""},{"$f":"IF(OR(AND($B$2=1,AL$3=\"T1\"),AND($B$2=2,AL$3=\"T2\"),AND($B$2=3,AL$3=\"T3\"),($B$2=4)),INDEX(Evolution!$A$1:$AS$165,MATCH(Bilan!$A$1,Evolution!$A$1:$A$165,0)+2,COLUMN(AL3)),\"\")","v":""},{"$f":"IF(OR(AND($B$2=1,AM$3=\"T1\"),AND($B$2=2,AM$3=\"T2\"),AND($B$2=3,AM$3=\"T3\"),($B$2=4)),INDEX(Evolution!$A$1:$AS$165,MATCH(Bilan!$A$1,Evolution!$A$1:$A$165,0)+2,COLUMN(AM3)),\"\")","v":""},{"$f":"IF(OR(AND($B$2=1,AN$3=\"T1\"),AND($B$2=2,AN$3=\"T2\"),AND($B$2=3,AN$3=\"T3\"),($B$2=4)),INDEX(Evolution!$A$1:$AS$165,MATCH(Bilan!$A$1,Evolution!$A$1:$A$165,0)+2,COLUMN(AN3)),\"\")","v":""},{"$f":"IF(OR(AND($B$2=1,AO$3=\"T1\"),AND($B$2=2,AO$3=\"T2\"),AND($B$2=3,AO$3=\"T3\"),($B$2=4)),INDEX(Evolution!$A$1:$AS$165,MATCH(Bilan!$A$1,Evolution!$A$1:$A$165,0)+2,COLUMN(AO3)),\"\")","v":""},{"$f":"IF(OR(AND($B$2=1,AP$3=\"T1\"),AND($B$2=2,AP$3=\"T2\"),AND($B$2=3,AP$3=\"T3\"),($B$2=4)),INDEX(Evolution!$A$1:$AS$165,MATCH(Bilan!$A$1,Evolution!$A$1:$A$165,0)+2,COLUMN(AP3)),\"\")","v":""},{"$f":"IF(OR(AND($B$2=1,AQ$3=\"T1\"),AND($B$2=2,AQ$3=\"T2\"),AND($B$2=3,AQ$3=\"T3\"),($B$2=4)),INDEX(Evolution!$A$1:$AS$165,MATCH(Bilan!$A$1,Evolution!$A$1:$A$165,0)+2,COLUMN(AQ3)),\"\")","v":""},{"$f":"IF(OR(AND($B$2=1,AR$3=\"T1\"),AND($B$2=2,AR$3=\"T2\"),AND($B$2=3,AR$3=\"T3\"),($B$2=4)),INDEX(Evolution!$A$1:$AS$165,MATCH(Bilan!$A$1,Evolution!$A$1:$A$165,0)+2,COLUMN(AR3)),\"\")","v":""}]
[{"$error":"#DIV/0!"},{"$f":"INDEX(Evolution!$A$1:$AS$165,MATCH(Bilan!$A$1,Evolution!$A$1:$A$165,0)+3,COLUMN(B1))","v":"V"},{"$f":"IF(OR(AND($B$2=1,C$3=\"T1\"),AND($B$2=2,C$3=\"T2\"),AND($B$2=3,C$3=\"T3\"),($B$2=4)),INDEX(Evolution!$A$1:$AS$165,MATCH(Bilan!$A$1,Evolution!$A$1:$A$165,0)+3,COLUMN(C4)),\"\")","v":""},{"$f":"IF(OR(AND($B$2=1,D$3=\"T1\"),AND($B$2=2,D$3=\"T2\"),AND($B$2=3,D$3=\"T3\"),($B$2=4)),INDEX(Evolution!$A$1:$AS$165,MATCH(Bilan!$A$1,Evolution!$A$1:$A$165,0)+3,COLUMN(D4)),\"\")","v":""},{"$f":"IF(OR(AND($B$2=1,E$3=\"T1\"),AND($B$2=2,E$3=\"T2\"),AND($B$2=3,E$3=\"T3\"),($B$2=4)),INDEX(Evolution!$A$1:$AS$165,MATCH(Bilan!$A$1,Evolution!$A$1:$A$165,0)+3,COLUMN(E4)),\"\")","v":""},{"$f":"IF(OR(AND($B$2=1,F$3=\"T1\"),AND($B$2=2,F$3=\"T2\"),AND($B$2=3,F$3=\"T3\"),($B$2=4)),INDEX(Evolution!$A$1:$AS$165,MATCH(Bilan!$A$1,Evolution!$A$1:$A$165,0)+3,COLUMN(F4)),\"\")","v":""},{"$f":"IF(OR(AND($B$2=1,G$3=\"T1\"),AND($B$2=2,G$3=\"T2\"),AND($B$2=3,G$3=\"T3\"),($B$2=4)),INDEX(Evolution!$A$1:$AS$165,MATCH(Bilan!$A$1,Evolution!$A$1:$A$165,0)+3,COLUMN(G4)),\"\")","v":""},{"$f":"IF(OR(AND($B$2=1,H$3=\"T1\"),AND($B$2=2,H$3=\"T2\"),AND($B$2=3,H$3=\"T3\"),($B$2=4)),INDEX(Evolution!$A$1:$AS$165,MATCH(Bilan!$A$1,Evolution!$A$1:$A$165,0)+3,COLUMN(H4)),\"\")","v":""},{"$f":"IF(OR(AND($B$2=1,I$3=\"T1\"),AND($B$2=2,I$3=\"T2\"),AND($B$2=3,I$3=\"T3\"),($B$2=4)),INDEX(Evolution!$A$1:$AS$165,MATCH(Bilan!$A$1,Evolution!$A$1:$A$165,0)+3,COLUMN(I4)),\"\")","v":""},{"$f":"IF(OR(AND($B$2=1,J$3=\"T1\"),AND($B$2=2,J$3=\"T2\"),AND($B$2=3,J$3=\"T3\"),($B$2=4)),INDEX(Evolution!$A$1:$AS$165,MATCH(Bilan!$A$1,Evolution!$A$1:$A$165,0)+3,COLUMN(J4)),\"\")","v":""},{"$f":"IF(OR(AND($B$2=1,K$3=\"T1\"),AND($B$2=2,K$3=\"T2\"),AND($B$2=3,K$3=\"T3\"),($B$2=4)),INDEX(Evolution!$A$1:$AS$165,MATCH(Bilan!$A$1,Evolution!$A$1:$A$165,0)+3,COLUMN(K4)),\"\")","v":""},{"$f":"IF(OR(AND($B$2=1,L$3=\"T1\"),AND($B$2=2,L$3=\"T2\"),AND($B$2=3,L$3=\"T3\"),($B$2=4)),INDEX(Evolution!$A$1:$AS$165,MATCH(Bilan!$A$1,Evolution!$A$1:$A$165,0)+3,COLUMN(L4)),\"\")","v":""},{"$f":"IF(OR(AND($B$2=1,M$3=\"T1\"),AND($B$2=2,M$3=\"T2\"),AND($B$2=3,M$3=\"T3\"),($B$2=4)),INDEX(Evolution!$A$1:$AS$165,MATCH(Bilan!$A$1,Evolution!$A$1:$A$165,0)+3,COLUMN(M4)),\"\")","v":""},{"$f":"IF(OR(AND($B$2=1,N$3=\"T1\"),AND($B$2=2,N$3=\"T2\"),AND($B$2=3,N$3=\"T3\"),($B$2=4)),INDEX(Evolution!$A$1:$AS$165,MATCH(Bilan!$A$1,Evolution!$A$1:$A$165,0)+3,COLUMN(N4)),\"\")","v":""},{"$f":"IF(OR(AND($B$2=1,O$3=\"T1\"),AND($B$2=2,O$3=\"T2\"),AND($B$2=3,O$3=\"T3\"),($B$2=4)),INDEX(Evolution!$A$1:$AS$165,MATCH(Bilan!$A$1,Evolution!$A$1:$A$165,0)+3,COLUMN(O4)),\"\")","v":""},{"$f":"IF(OR(AND($B$2=1,P$3=\"T1\"),AND($B$2=2,P$3=\"T2\"),AND($B$2=3,P$3=\"T3\"),($B$2=4)),INDEX(Evolution!$A$1:$AS$165,MATCH(Bilan!$A$1,Evolution!$A$1:$A$165,0)+3,COLUMN(P4)),\"\")","v":""},{"$f":"IF(OR(AND($B$2=1,Q$3=\"T1\"),AND($B$2=2,Q$3=\"T2\"),AND($B$2=3,Q$3=\"T3\"),($B$2=4)),INDEX(Evolution!$A$1:$AS$165,MATCH(Bilan!$A$1,Evolution!$A$1:$A$165,0)+3,COLUMN(Q4)),\"\")","v":""},{"$f":"IF(OR(AND($B$2=1,R$3=\"T1\"),AND($B$2=2,R$3=\"T2\"),AND($B$2=3,R$3=\"T3\"),($B$2=4)),INDEX(Evolution!$A$1:$AS$165,MATCH(Bilan!$A$1,Evolution!$A$1:$A$165,0)+3,COLUMN(R4)),\"\")","v":""},{"$f":"IF(OR(AND($B$2=1,S$3=\"T1\"),AND($B$2=2,S$3=\"T2\"),AND($B$2=3,S$3=\"T3\"),($B$2=4)),INDEX(Evolution!$A$1:$AS$165,MATCH(Bilan!$A$1,Evolution!$A$1:$A$165,0)+3,COLUMN(S4)),\"\")","v":""},{"$f":"IF(OR(AND($B$2=1,T$3=\"T1\"),AND($B$2=2,T$3=\"T2\"),AND($B$2=3,T$3=\"T3\"),($B$2=4)),INDEX(Evolution!$A$1:$AS$165,MATCH(Bilan!$A$1,Evolution!$A$1:$A$165,0)+3,COLUMN(T4)),\"\")","v":""},{"$f":"IF(OR(AND($B$2=1,U$3=\"T1\"),AND($B$2=2,U$3=\"T2\"),AND($B$2=3,U$3=\"T3\"),($B$2=4)),INDEX(Evolution!$A$1:$AS$165,MATCH(Bilan!$A$1,Evolution!$A$1:$A$165,0)+3,COLUMN(U4)),\"\")","v":""},{"$f":"IF(OR(AND($B$2=1,V$3=\"T1\"),AND($B$2=2,V$3=\"T2\"),AND($B$2=3,V$3=\"T3\"),($B$2=4)),INDEX(Evolution!$A$1:$AS$165,MATCH(Bilan!$A$1,Evolution!$A$1:$A$165,0)+3,COLUMN(V4)),\"\")","v":""},{"$f":"IF(OR(AND($B$2=1,W$3=\"T1\"),AND($B$2=2,W$3=\"T2\"),AND($B$2=3,W$3=\"T3\"),($B$2=4)),INDEX(Evolution!$A$1:$AS$165,MATCH(Bilan!$A$1,Evolution!$A$1:$A$165,0)+3,COLUMN(W4)),\"\")","v":""},{"$f":"IF(OR(AND($B$2=1,X$3=\"T1\"),AND($B$2=2,X$3=\"T2\"),AND($B$2=3,X$3=\"T3\"),($B$2=4)),INDEX(Evolution!$A$1:$AS$165,MATCH(Bilan!$A$1,Evolution!$A$1:$A$165,0)+3,COLUMN(X4)),\"\")","v":""},{"$f":"IF(OR(AND($B$2=1,Y$3=\"T1\"),AND($B$2=2,Y$3=\"T2\"),AND($B$2=3,Y$3=\"T3\"),($B$2=4)),INDEX(Evolution!$A$1:$AS$165,MATCH(Bilan!$A$1,Evolution!$A$1:$A$165,0)+3,COLUMN(Y4)),\"\")","v":""},{"$f":"IF(OR(AND($B$2=1,Z$3=\"T1\"),AND($B$2=2,Z$3=\"T2\"),AND($B$2=3,Z$3=\"T3\"),($B$2=4)),INDEX(Evolution!$A$1:$AS$165,MATCH(Bilan!$A$1,Evolution!$A$1:$A$165,0)+3,COLUMN(Z4)),\"\")","v":""},{"$f":"IF(OR(AND($B$2=1,AA$3=\"T1\"),AND($B$2=2,AA$3=\"T2\"),AND($B$2=3,AA$3=\"T3\"),($B$2=4)),INDEX(Evolution!$A$1:$AS$165,MATCH(Bilan!$A$1,Evolution!$A$1:$A$165,0)+3,COLUMN(AA4)),\"\")","v":""},{"$f":"IF(OR(AND($B$2=1,AB$3=\"T1\"),AND($B$2=2,AB$3=\"T2\"),AND($B$2=3,AB$3=\"T3\"),($B$2=4)),INDEX(Evolution!$A$1:$AS$165,MATCH(Bilan!$A$1,Evolution!$A$1:$A$165,0)+3,COLUMN(AB4)),\"\")","v":""},{"$f":"IF(OR(AND($B$2=1,AC$3=\"T1\"),AND($B$2=2,AC$3=\"T2\"),AND($B$2=3,AC$3=\"T3\"),($B$2=4)),INDEX(Evolution!$A$1:$AS$165,MATCH(Bilan!$A$1,Evolution!$A$1:$A$165,0)+3,COLUMN(AC4)),\"\")","v":""},{"$f":"IF(OR(AND($B$2=1,AD$3=\"T1\"),AND($B$2=2,AD$3=\"T2\"),AND($B$2=3,AD$3=\"T3\"),($B$2=4)),INDEX(Evolution!$A$1:$AS$165,MATCH(Bilan!$A$1,Evolution!$A$1:$A$165,0)+3,COLUMN(AD4)),\"\")","v":""},{"$f":"IF(OR(AND($B$2=1,AE$3=\"T1\"),AND($B$2=2,AE$3=\"T2\"),AND($B$2=3,AE$3=\"T3\"),($B$2=4)),INDEX(Evolution!$A$1:$AS$165,MATCH(Bilan!$A$1,Evolution!$A$1:$A$165,0)+3,COLUMN(AE4)),\"\")","v":""},{"$f":"IF(OR(AND($B$2=1,AF$3=\"T1\"),AND($B$2=2,AF$3=\"T2\"),AND($B$2=3,AF$3=\"T3\"),($B$2=4)),INDEX(Evolution!$A$1:$AS$165,MATCH(Bilan!$A$1,Evolution!$A$1:$A$165,0)+3,COLUMN(AF4)),\"\")","v":""},{"$f":"IF(OR(AND($B$2=1,AG$3=\"T1\"),AND($B$2=2,AG$3=\"T2\"),AND($B$2=3,AG$3=\"T3\"),($B$2=4)),INDEX(Evolution!$A$1:$AS$165,MATCH(Bilan!$A$1,Evolution!$A$1:$A$165,0)+3,COLUMN(AG4)),\"\")","v":""},{"$f":"IF(OR(AND($B$2=1,AH$3=\"T1\"),AND($B$2=2,AH$3=\"T2\"),AND($B$2=3,AH$3=\"T3\"),($B$2=4)),INDEX(Evolution!$A$1:$AS$165,MATCH(Bilan!$A$1,Evolution!$A$1:$A$165,0)+3,COLUMN(AH4)),\"\")","v":""},{"$f":"IF(OR(AND($B$2=1,AI$3=\"T1\"),AND($B$2=2,AI$3=\"T2\"),AND($B$2=3,AI$3=\"T3\"),($B$2=4)),INDEX(Evolution!$A$1:$AS$165,MATCH(Bilan!$A$1,Evolution!$A$1:$A$165,0)+3,COLUMN(AI4)),\"\")","v":""},{"$f":"IF(OR(AND($B$2=1,AJ$3=\"T1\"),AND($B$2=2,AJ$3=\"T2\"),AND($B$2=3,AJ$3=\"T3\"),($B$2=4)),INDEX(Evolution!$A$1:$AS$165,MATCH(Bilan!$A$1,Evolution!$A$1:$A$165,0)+3,COLUMN(AJ4)),\"\")","v":""},{"$f":"IF(OR(AND($B$2=1,AK$3=\"T1\"),AND($B$2=2,AK$3=\"T2\"),AND($B$2=3,AK$3=\"T3\"),($B$2=4)),INDEX(Evolution!$A$1:$AS$165,MATCH(Bilan!$A$1,Evolution!$A$1:$A$165,0)+3,COLUMN(AK4)),\"\")","v":""},{"$f":"IF(OR(AND($B$2=1,AL$3=\"T1\"),AND($B$2=2,AL$3=\"T2\"),AND($B$2=3,AL$3=\"T3\"),($B$2=4)),INDEX(Evolution!$A$1:$AS$165,MATCH(Bilan!$A$1,Evolution!$A$1:$A$165,0)+3,COLUMN(AL4)),\"\")","v":""},{"$f":"IF(OR(AND($B$2=1,AM$3=\"T1\"),AND($B$2=2,AM$3=\"T2\"),AND($B$2=3,AM$3=\"T3\"),($B$2=4)),INDEX(Evolution!$A$1:$AS$165,MATCH(Bilan!$A$1,Evolution!$A$1:$A$165,0)+3,COLUMN(AM4)),\"\")","v":""},{"$f":"IF(OR(AND($B$2=1,AN$3=\"T1\"),AND($B$2=2,AN$3=\"T2\"),AND($B$2=3,AN$3=\"T3\"),($B$2=4)),INDEX(Evolution!$A$1:$AS$165,MATCH(Bilan!$A$1,Evolution!$A$1:$A$165,0)+3,COLUMN(AN4)),\"\")","v":""},{"$f":"IF(OR(AND($B$2=1,AO$3=\"T1\"),AND($B$2=2,AO$3=\"T2\"),AND($B$2=3,AO$3=\"T3\"),($B$2=4)),INDEX(Evolution!$A$1:$AS$165,MATCH(Bilan!$A$1,Evolution!$A$1:$A$165,0)+3,COLUMN(AO4)),\"\")","v":""},{"$f":"IF(OR(AND($B$2=1,AP$3=\"T1\"),AND($B$2=2,AP$3=\"T2\"),AND($B$2=3,AP$3=\"T3\"),($B$2=4)),INDEX(Evolution!$A$1:$AS$165,MATCH(Bilan!$A$1,Evolution!$A$1:$A$165,0)+3,COLUMN(AP4)),\"\")","v":""},{"$f":"IF(OR(AND($B$2=1,AQ$3=\"T1\"),AND($B$2=2,AQ$3=\"T2\"),AND($B$2=3,AQ$3=\"T3\"),($B$2=4)),INDEX(Evolution!$A$1:$AS$165,MATCH(Bilan!$A$1,Evolution!$A$1:$A$165,0)+3,COLUMN(AQ4)),\"\")","v":""},{"$f":"IF(OR(AND($B$2=1,AR$3=\"T1\"),AND($B$2=2,AR$3=\"T2\"),AND($B$2=3,AR$3=\"T3\"),($B$2=4)),INDEX(Evolution!$A$1:$AS$165,MATCH(Bilan!$A$1,Evolution!$A$1:$A$165,0)+3,COLUMN(AR4)),\"\")","v":""}]
[{"$error":"#DIV/0!"},{"$f":"INDEX(Evolution!$A$1:$AS$165,MATCH(Bilan!$A$1,Evolution!$A$1:$A$165,0)+4,COLUMN(B1))","v":"C"},{"$f":"IF(OR(AND($B$2=1,C$3=\"T1\"),AND($B$2=2,C$3=\"T2\"),AND($B$2=3,C$3=\"T3\"),($B$2=4)),INDEX(Evolution!$A$1:$AS$165,MATCH(Bilan!$A$1,Evolution!$A$1:$A$165,0)+4,COLUMN(C5)),\"\")","v":""},{"$f":"IF(OR(AND($B$2=1,D$3=\"T1\"),AND($B$2=2,D$3=\"T2\"),AND($B$2=3,D$3=\"T3\"),($B$2=4)),INDEX(Evolution!$A$1:$AS$165,MATCH(Bilan!$A$1,Evolution!$A$1:$A$165,0)+4,COLUMN(D5)),\"\")","v":""},{"$f":"IF(OR(AND($B$2=1,E$3=\"T1\"),AND($B$2=2,E$3=\"T2\"),AND($B$2=3,E$3=\"T3\"),($B$2=4)),INDEX(Evolution!$A$1:$AS$165,MATCH(Bilan!$A$1,Evolution!$A$1:$A$165,0)+4,COLUMN(E5)),\"\")","v":""},{"$f":"IF(OR(AND($B$2=1,F$3=\"T1\"),AND($B$2=2,F$3=\"T2\"),AND($B$2=3,F$3=\"T3\"),($B$2=4)),INDEX(Evolution!$A$1:$AS$165,MATCH(Bilan!$A$1,Evolution!$A$1:$A$165,0)+4,COLUMN(F5)),\"\")","v":""},{"$f":"IF(OR(AND($B$2=1,G$3=\"T1\"),AND($B$2=2,G$3=\"T2\"),AND($B$2=3,G$3=\"T3\"),($B$2=4)),INDEX(Evolution!$A$1:$AS$165,MATCH(Bilan!$A$1,Evolution!$A$1:$A$165,0)+4,COLUMN(G5)),\"\")","v":""},{"$f":"IF(OR(AND($B$2=1,H$3=\"T1\"),AND($B$2=2,H$3=\"T2\"),AND($B$2=3,H$3=\"T3\"),($B$2=4)),INDEX(Evolution!$A$1:$AS$165,MATCH(Bilan!$A$1,Evolution!$A$1:$A$165,0)+4,COLUMN(H5)),\"\")","v":""},{"$f":"IF(OR(AND($B$2=1,I$3=\"T1\"),AND($B$2=2,I$3=\"T2\"),AND($B$2=3,I$3=\"T3\"),($B$2=4)),INDEX(Evolution!$A$1:$AS$165,MATCH(Bilan!$A$1,Evolution!$A$1:$A$165,0)+4,COLUMN(I5)),\"\")","v":""},{"$f":"IF(OR(AND($B$2=1,J$3=\"T1\"),AND($B$2=2,J$3=\"T2\"),AND($B$2=3,J$3=\"T3\"),($B$2=4)),INDEX(Evolution!$A$1:$AS$165,MATCH(Bilan!$A$1,Evolution!$A$1:$A$165,0)+4,COLUMN(J5)),\"\")","v":""},{"$f":"IF(OR(AND($B$2=1,K$3=\"T1\"),AND($B$2=2,K$3=\"T2\"),AND($B$2=3,K$3=\"T3\"),($B$2=4)),INDEX(Evolution!$A$1:$AS$165,MATCH(Bilan!$A$1,Evolution!$A$1:$A$165,0)+4,COLUMN(K5)),\"\")","v":""},{"$f":"IF(OR(AND($B$2=1,L$3=\"T1\"),AND($B$2=2,L$3=\"T2\"),AND($B$2=3,L$3=\"T3\"),($B$2=4)),INDEX(Evolution!$A$1:$AS$165,MATCH(Bilan!$A$1,Evolution!$A$1:$A$165,0)+4,COLUMN(L5)),\"\")","v":""},{"$f":"IF(OR(AND($B$2=1,M$3=\"T1\"),AND($B$2=2,M$3=\"T2\"),AND($B$2=3,M$3=\"T3\"),($B$2=4)),INDEX(Evolution!$A$1:$AS$165,MATCH(Bilan!$A$1,Evolution!$A$1:$A$165,0)+4,COLUMN(M5)),\"\")","v":""},{"$f":"IF(OR(AND($B$2=1,N$3=\"T1\"),AND($B$2=2,N$3=\"T2\"),AND($B$2=3,N$3=\"T3\"),($B$2=4)),INDEX(Evolution!$A$1:$AS$165,MATCH(Bilan!$A$1,Evolution!$A$1:$A$165,0)+4,COLUMN(N5)),\"\")","v":""},{"$f":"IF(OR(AND($B$2=1,O$3=\"T1\"),AND($B$2=2,O$3=\"T2\"),AND($B$2=3,O$3=\"T3\"),($B$2=4)),INDEX(Evolution!$A$1:$AS$165,MATCH(Bilan!$A$1,Evolution!$A$1:$A$165,0)+4,COLUMN(O5)),\"\")","v":""},{"$f":"IF(OR(AND($B$2=1,P$3=\"T1\"),AND($B$2=2,P$3=\"T2\"),AND($B$2=3,P$3=\"T3\"),($B$2=4)),INDEX(Evolution!$A$1:$AS$165,MATCH(Bilan!$A$1,Evolution!$A$1:$A$165,0)+4,COLUMN(P5)),\"\")","v":""},{"$f":"IF(OR(AND($B$2=1,Q$3=\"T1\"),AND($B$2=2,Q$3=\"T2\"),AND($B$2=3,Q$3=\"T3\"),($B$2=4)),INDEX(Evolution!$A$1:$AS$165,MATCH(Bilan!$A$1,Evolution!$A$1:$A$165,0)+4,COLUMN(Q5)),\"\")","v":""},{"$f":"IF(OR(AND($B$2=1,R$3=\"T1\"),AND($B$2=2,R$3=\"T2\"),AND($B$2=3,R$3=\"T3\"),($B$2=4)),INDEX(Evolution!$A$1:$AS$165,MATCH(Bilan!$A$1,Evolution!$A$1:$A$165,0)+4,COLUMN(R5)),\"\")","v":""},{"$f":"IF(OR(AND($B$2=1,S$3=\"T1\"),AND($B$2=2,S$3=\"T2\"),AND($B$2=3,S$3=\"T3\"),($B$2=4)),INDEX(Evolution!$A$1:$AS$165,MATCH(Bilan!$A$1,Evolution!$A$1:$A$165,0)+4,COLUMN(S5)),\"\")","v":""},{"$f":"IF(OR(AND($B$2=1,T$3=\"T1\"),AND($B$2=2,T$3=\"T2\"),AND($B$2=3,T$3=\"T3\"),($B$2=4)),INDEX(Evolution!$A$1:$AS$165,MATCH(Bilan!$A$1,Evolution!$A$1:$A$165,0)+4,COLUMN(T5)),\"\")","v":""},{"$f":"IF(OR(AND($B$2=1,U$3=\"T1\"),AND($B$2=2,U$3=\"T2\"),AND($B$2=3,U$3=\"T3\"),($B$2=4)),INDEX(Evolution!$A$1:$AS$165,MATCH(Bilan!$A$1,Evolution!$A$1:$A$165,0)+4,COLUMN(U5)),\"\")","v":""},{"$f":"IF(OR(AND($B$2=1,V$3=\"T1\"),AND($B$2=2,V$3=\"T2\"),AND($B$2=3,V$3=\"T3\"),($B$2=4)),INDEX(Evolution!$A$1:$AS$165,MATCH(Bilan!$A$1,Evolution!$A$1:$A$165,0)+4,COLUMN(V5)),\"\")","v":""},{"$f":"IF(OR(AND($B$2=1,W$3=\"T1\"),AND($B$2=2,W$3=\"T2\"),AND($B$2=3,W$3=\"T3\"),($B$2=4)),INDEX(Evolution!$A$1:$AS$165,MATCH(Bilan!$A$1,Evolution!$A$1:$A$165,0)+4,COLUMN(W5)),\"\")","v":""},{"$f":"IF(OR(AND($B$2=1,X$3=\"T1\"),AND($B$2=2,X$3=\"T2\"),AND($B$2=3,X$3=\"T3\"),($B$2=4)),INDEX(Evolution!$A$1:$AS$165,MATCH(Bilan!$A$1,Evolution!$A$1:$A$165,0)+4,COLUMN(X5)),\"\")","v":""},{"$f":"IF(OR(AND($B$2=1,Y$3=\"T1\"),AND($B$2=2,Y$3=\"T2\"),AND($B$2=3,Y$3=\"T3\"),($B$2=4)),INDEX(Evolution!$A$1:$AS$165,MATCH(Bilan!$A$1,Evolution!$A$1:$A$165,0)+4,COLUMN(Y5)),\"\")","v":""},{"$f":"IF(OR(AND($B$2=1,Z$3=\"T1\"),AND($B$2=2,Z$3=\"T2\"),AND($B$2=3,Z$3=\"T3\"),($B$2=4)),INDEX(Evolution!$A$1:$AS$165,MATCH(Bilan!$A$1,Evolution!$A$1:$A$165,0)+4,COLUMN(Z5)),\"\")","v":""},{"$f":"IF(OR(AND($B$2=1,AA$3=\"T1\"),AND($B$2=2,AA$3=\"T2\"),AND($B$2=3,AA$3=\"T3\"),($B$2=4)),INDEX(Evolution!$A$1:$AS$165,MATCH(Bilan!$A$1,Evolution!$A$1:$A$165,0)+4,COLUMN(AA5)),\"\")","v":""},{"$f":"IF(OR(AND($B$2=1,AB$3=\"T1\"),AND($B$2=2,AB$3=\"T2\"),AND($B$2=3,AB$3=\"T3\"),($B$2=4)),INDEX(Evolution!$A$1:$AS$165,MATCH(Bilan!$A$1,Evolution!$A$1:$A$165,0)+4,COLUMN(AB5)),\"\")","v":""},{"$f":"IF(OR(AND($B$2=1,AC$3=\"T1\"),AND($B$2=2,AC$3=\"T2\"),AND($B$2=3,AC$3=\"T3\"),($B$2=4)),INDEX(Evolution!$A$1:$AS$165,MATCH(Bilan!$A$1,Evolution!$A$1:$A$165,0)+4,COLUMN(AC5)),\"\")","v":""},{"$f":"IF(OR(AND($B$2=1,AD$3=\"T1\"),AND($B$2=2,AD$3=\"T2\"),AND($B$2=3,AD$3=\"T3\"),($B$2=4)),INDEX(Evolution!$A$1:$AS$165,MATCH(Bilan!$A$1,Evolution!$A$1:$A$165,0)+4,COLUMN(AD5)),\"\")","v":""},{"$f":"IF(OR(AND($B$2=1,AE$3=\"T1\"),AND($B$2=2,AE$3=\"T2\"),AND($B$2=3,AE$3=\"T3\"),($B$2=4)),INDEX(Evolution!$A$1:$AS$165,MATCH(Bilan!$A$1,Evolution!$A$1:$A$165,0)+4,COLUMN(AE5)),\"\")","v":""},{"$f":"IF(OR(AND($B$2=1,AF$3=\"T1\"),AND($B$2=2,AF$3=\"T2\"),AND($B$2=3,AF$3=\"T3\"),($B$2=4)),INDEX(Evolution!$A$1:$AS$165,MATCH(Bilan!$A$1,Evolution!$A$1:$A$165,0)+4,COLUMN(AF5)),\"\")","v":""},{"$f":"IF(OR(AND($B$2=1,AG$3=\"T1\"),AND($B$2=2,AG$3=\"T2\"),AND($B$2=3,AG$3=\"T3\"),($B$2=4)),INDEX(Evolution!$A$1:$AS$165,MATCH(Bilan!$A$1,Evolution!$A$1:$A$165,0)+4,COLUMN(AG5)),\"\")","v":""},{"$f":"IF(OR(AND($B$2=1,AH$3=\"T1\"),AND($B$2=2,AH$3=\"T2\"),AND($B$2=3,AH$3=\"T3\"),($B$2=4)),INDEX(Evolution!$A$1:$AS$165,MATCH(Bilan!$A$1,Evolution!$A$1:$A$165,0)+4,COLUMN(AH5)),\"\")","v":""},{"$f":"IF(OR(AND($B$2=1,AI$3=\"T1\"),AND($B$2=2,AI$3=\"T2\"),AND($B$2=3,AI$3=\"T3\"),($B$2=4)),INDEX(Evolution!$A$1:$AS$165,MATCH(Bilan!$A$1,Evolution!$A$1:$A$165,0)+4,COLUMN(AI5)),\"\")","v":""},{"$f":"IF(OR(AND($B$2=1,AJ$3=\"T1\"),AND($B$2=2,AJ$3=\"T2\"),AND($B$2=3,AJ$3=\"T3\"),($B$2=4)),INDEX(Evolution!$A$1:$AS$165,MATCH(Bilan!$A$1,Evolution!$A$1:$A$165,0)+4,COLUMN(AJ5)),\"\")","v":""},{"$f":"IF(OR(AND($B$2=1,AK$3=\"T1\"),AND($B$2=2,AK$3=\"T2\"),AND($B$2=3,AK$3=\"T3\"),($B$2=4)),INDEX(Evolution!$A$1:$AS$165,MATCH(Bilan!$A$1,Evolution!$A$1:$A$165,0)+4,COLUMN(AK5)),\"\")","v":""},{"$f":"IF(OR(AND($B$2=1,AL$3=\"T1\"),AND($B$2=2,AL$3=\"T2\"),AND($B$2=3,AL$3=\"T3\"),($B$2=4)),INDEX(Evolution!$A$1:$AS$165,MATCH(Bilan!$A$1,Evolution!$A$1:$A$165,0)+4,COLUMN(AL5)),\"\")","v":""},{"$f":"IF(OR(AND($B$2=1,AM$3=\"T1\"),AND($B$2=2,AM$3=\"T2\"),AND($B$2=3,AM$3=\"T3\"),($B$2=4)),INDEX(Evolution!$A$1:$AS$165,MATCH(Bilan!$A$1,Evolution!$A$1:$A$165,0)+4,COLUMN(AM5)),\"\")","v":""},{"$f":"IF(OR(AND($B$2=1,AN$3=\"T1\"),AND($B$2=2,AN$3=\"T2\"),AND($B$2=3,AN$3=\"T3\"),($B$2=4)),INDEX(Evolution!$A$1:$AS$165,MATCH(Bilan!$A$1,Evolution!$A$1:$A$165,0)+4,COLUMN(AN5)),\"\")","v":""},{"$f":"IF(OR(AND($B$2=1,AO$3=\"T1\"),AND($B$2=2,AO$3=\"T2\"),AND($B$2=3,AO$3=\"T3\"),($B$2=4)),INDEX(Evolution!$A$1:$AS$165,MATCH(Bilan!$A$1,Evolution!$A$1:$A$165,0)+4,COLUMN(AO5)),\"\")","v":""},{"$f":"IF(OR(AND($B$2=1,AP$3=\"T1\"),AND($B$2=2,AP$3=\"T2\"),AND($B$2=3,AP$3=\"T3\"),($B$2=4)),INDEX(Evolution!$A$1:$AS$165,MATCH(Bilan!$A$1,Evolution!$A$1:$A$165,0)+4,COLUMN(AP5)),\"\")","v":""},{"$f":"IF(OR(AND($B$2=1,AQ$3=\"T1\"),AND($B$2=2,AQ$3=\"T2\"),AND($B$2=3,AQ$3=\"T3\"),($B$2=4)),INDEX(Evolution!$A$1:$AS$165,MATCH(Bilan!$A$1,Evolution!$A$1:$A$165,0)+4,COLUMN(AQ5)),\"\")","v":""},{"$f":"IF(OR(AND($B$2=1,AR$3=\"T1\"),AND($B$2=2,AR$3=\"T2\"),AND($B$2=3,AR$3=\"T3\"),($B$2=4)),INDEX(Evolution!$A$1:$AS$165,MATCH(Bilan!$A$1,Evolution!$A$1:$A$165,0)+4,COLUMN(AR5)),\"\")","v":""}]
[]
[]
[]
[]
[]
[]
[]
[]
[]
[]
[]
[]
[]
[]
[]
[]
[]
[]
[]
[]
[]
[]
[null,null,{"$f":"IF(OR(AND($B$2=1,C$3=\"T1\"),AND($B$2=2,C$3=\"T2\"),AND($B$2=3,C$3=\"T3\"),($B$2=4)),IF($B$3=TRUE,Evolution!C5,\"\"),\"\")","v":""},{"$f":"IF(OR(AND($B$2=1,D$3=\"T1\"),AND($B$2=2,D$3=\"T2\"),AND($B$2=3,D$3=\"T3\"),($B$2=4)),IF($B$3=TRUE,Evolution!D5,\"\"),\"\")","v":""},{"$f":"IF(OR(AND($B$2=1,E$3=\"T1\"),AND($B$2=2,E$3=\"T2\"),AND($B$2=3,E$3=\"T3\"),($B$2=4)),IF($B$3=TRUE,Evolution!E5,\"\"),\"\")","v":""},{"$f":"IF(OR(AND($B$2=1,F$3=\"T1\"),AND($B$2=2,F$3=\"T2\"),AND($B$2=3,F$3=\"T3\"),($B$2=4)),IF($B$3=TRUE,Evolution!F5,\"\"),\"\")","v":""},{"$f":"IF(OR(AND($B$2=1,G$3=\"T1\"),AND($B$2=2,G$3=\"T2\"),AND($B$2=3,G$3=\"T3\"),($B$2=4)),IF($B$3=TRUE,Evolution!G5,\"\"),\"\")","v":""},{"$f":"IF(OR(AND($B$2=1,H$3=\"T1\"),AND($B$2=2,H$3=\"T2\"),AND($B$2=3,H$3=\"T3\"),($B$2=4)),IF($B$3=TRUE,Evolution!H5,\"\"),\"\")","v":""},{"$f":"IF(OR(AND($B$2=1,I$3=\"T1\"),AND($B$2=2,I$3=\"T2\"),AND($B$2=3,I$3=\"T3\"),($B$2=4)),IF($B$3=TRUE,Evolution!I5,\"\"),\"\")","v":""},{"$f":"IF(OR(AND($B$2=1,J$3=\"T1\"),AND($B$2=2,J$3=\"T2\"),AND($B$2=3,J$3=\"T3\"),($B$2=4)),IF($B$3=TRUE,Evolution!J5,\"\"),\"\")","v":""},{"$f":"IF(OR(AND($B$2=1,K$3=\"T1\"),AND($B$2=2,K$3=\"T2\"),AND($B$2=3,K$3=\"T3\"),($B$2=4)),IF($B$3=TRUE,Evolution!K5,\"\"),\"\")","v":""},{"$f":"IF(OR(AND($B$2=1,L$3=\"T1\"),AND($B$2=2,L$3=\"T2\"),AND($B$2=3,L$3=\"T3\"),($B$2=4)),IF($B$3=TRUE,Evolution!L5,\"\"),\"\")","v":""},{"$f":"IF(OR(AND($B$2=1,M$3=\"T1\"),AND($B$2=2,M$3=\"T2\"),AND($B$2=3,M$3=\"T3\"),($B$2=4)),IF($B$3=TRUE,Evolution!M5,\"\"),\"\")","v":""},{"$f":"IF(OR(AND($B$2=1,N$3=\"T1\"),AND($B$2=2,N$3=\"T2\"),AND($B$2=3,N$3=\"T3\"),($B$2=4)),IF($B$3=TRUE,Evolution!N5,\"\"),\"\")","v":""},{"$f":"IF(OR(AND($B$2=1,O$3=\"T1\"),AND($B$2=2,O$3=\"T2\"),AND($B$2=3,O$3=\"T3\"),($B$2=4)),IF($B$3=TRUE,Evolution!O5,\"\"),\"\")","v":""},{"$f":"IF(OR(AND($B$2=1,P$3=\"T1\"),AND($B$2=2,P$3=\"T2\"),AND($B$2=3,P$3=\"T3\"),($B$2=4)),IF($B$3=TRUE,Evolution!P5,\"\"),\"\")","v":""},{"$f":"IF(OR(AND($B$2=1,Q$3=\"T1\"),AND($B$2=2,Q$3=\"T2\"),AND($B$2=3,Q$3=\"T3\"),($B$2=4)),IF($B$3=TRUE,Evolution!Q5,\"\"),\"\")","v":""},{"$f":"IF(OR(AND($B$2=1,R$3=\"T1\"),AND($B$2=2,R$3=\"T2\"),AND($B$2=3,R$3=\"T3\"),($B$2=4)),IF($B$3=TRUE,Evolution!R5,\"\"),\"\")","v":""},{"$f":"IF(OR(AND($B$2=1,S$3=\"T1\"),AND($B$2=2,S$3=\"T2\"),AND($B$2=3,S$3=\"T3\"),($B$2=4)),IF($B$3=TRUE,Evolution!S5,\"\"),\"\")","v":""},{"$f":"IF(OR(AND($B$2=1,T$3=\"T1\"),AND($B$2=2,T$3=\"T2\"),AND($B$2=3,T$3=\"T3\"),($B$2=4)),IF($B$3=TRUE,Evolution!T5,\"\"),\"\")","v":""},{"$f":"IF(OR(AND($B$2=1,U$3=\"T1\"),AND($B$2=2,U$3=\"T2\"),AND($B$2=3,U$3=\"T3\"),($B$2=4)),IF($B$3=TRUE,Evolution!U5,\"\"),\"\")","v":""},{"$f":"IF(OR(AND($B$2=1,V$3=\"T1\"),AND($B$2=2,V$3=\"T2\"),AND($B$2=3,V$3=\"T3\"),($B$2=4)),IF($B$3=TRUE,Evolution!V5,\"\"),\"\")","v":""},{"$f":"IF(OR(AND($B$2=1,W$3=\"T1\"),AND($B$2=2,W$3=\"T2\"),AND($B$2=3,W$3=\"T3\"),($B$2=4)),IF($B$3=TRUE,Evolution!W5,\"\"),\"\")","v":""},{"$f":"IF(OR(AND($B$2=1,X$3=\"T1\"),AND($B$2=2,X$3=\"T2\"),AND($B$2=3,X$3=\"T3\"),($B$2=4)),IF($B$3=TRUE,Evolution!X5,\"\"),\"\")","v":""},{"$f":"IF(OR(AND($B$2=1,Y$3=\"T1\"),AND($B$2=2,Y$3=\"T2\"),AND($B$2=3,Y$3=\"T3\"),($B$2=4)),IF($B$3=TRUE,Evolution!Y5,\"\"),\"\")","v":""},{"$f":"IF(OR(AND($B$2=1,Z$3=\"T1\"),AND($B$2=2,Z$3=\"T2\"),AND($B$2=3,Z$3=\"T3\"),($B$2=4)),IF($B$3=TRUE,Evolution!Z5,\"\"),\"\")","v":""},{"$f":"IF(OR(AND($B$2=1,AA$3=\"T1\"),AND($B$2=2,AA$3=\"T2\"),AND($B$2=3,AA$3=\"T3\"),($B$2=4)),IF($B$3=TRUE,Evolution!AA5,\"\"),\"\")","v":""},{"$f":"IF(OR(AND($B$2=1,AB$3=\"T1\"),AND($B$2=2,AB$3=\"T2\"),AND($B$2=3,AB$3=\"T3\"),($B$2=4)),IF($B$3=TRUE,Evolution!AB5,\"\"),\"\")","v":""},{"$f":"IF(OR(AND($B$2=1,AC$3=\"T1\"),AND($B$2=2,AC$3=\"T2\"),AND($B$2=3,AC$3=\"T3\"),($B$2=4)),IF($B$3=TRUE,Evolution!AC5,\"\"),\"\")","v":""},{"$f":"IF(OR(AND($B$2=1,AD$3=\"T1\"),AND($B$2=2,AD$3=\"T2\"),AND($B$2=3,AD$3=\"T3\"),($B$2=4)),IF($B$3=TRUE,Evolution!AD5,\"\"),\"\")","v":""},{"$f":"IF(OR(AND($B$2=1,AE$3=\"T1\"),AND($B$2=2,AE$3=\"T2\"),AND($B$2=3,AE$3=\"T3\"),($B$2=4)),IF($B$3=TRUE,Evolution!AE5,\"\"),\"\")","v":""},{"$f":"IF(OR(AND($B$2=1,AF$3=\"T1\"),AND($B$2=2,AF$3=\"T2\"),AND($B$2=3,AF$3=\"T3\"),($B$2=4)),IF($B$3=TRUE,Evolution!AF5,\"\"),\"\")","v":""},{"$f":"IF(OR(AND($B$2=1,AG$3=\"T1\"),AND($B$2=2,AG$3=\"T2\"),AND($B$2=3,AG$3=\"T3\"),($B$2=4)),IF($B$3=TRUE,Evolution!AG5,\"\"),\"\")","v":""},{"$f":"IF(OR(AND($B$2=1,AH$3=\"T1\"),AND($B$2=2,AH$3=\"T2\"),AND($B$2=3,AH$3=\"T3\"),($B$2=4)),IF($B$3=TRUE,Evolution!AH5,\"\"),\"\")","v":""},{"$f":"IF(OR(AND($B$2=1,AI$3=\"T1\"),AND($B$2=2,AI$3=\"T2\"),AND($B$2=3,AI$3=\"T3\"),($B$2=4)),IF($B$3=TRUE,Evolution!AI5,\"\"),\"\")","v":""},{"$f":"IF(OR(AND($B$2=1,AJ$3=\"T1\"),AND($B$2=2,AJ$3=\"T2\"),AND($B$2=3,AJ$3=\"T3\"),($B$2=4)),IF($B$3=TRUE,Evolution!AJ5,\"\"),\"\")","v":""},{"$f":"IF(OR(AND($B$2=1,AK$3=\"T1\"),AND($B$2=2,AK$3=\"T2\"),AND($B$2=3,AK$3=\"T3\"),($B$2=4)),IF($B$3=TRUE,Evolution!AK5,\"\"),\"\")","v":""},{"$f":"IF(OR(AND($B$2=1,AL$3=\"T1\"),AND($B$2=2,AL$3=\"T2\"),AND($B$2=3,AL$3=\"T3\"),($B$2=4)),IF($B$3=TRUE,Evolution!AL5,\"\"),\"\")","v":""},{"$f":"IF(OR(AND($B$2=1,AM$3=\"T1\"),AND($B$2=2,AM$3=\"T2\"),AND($B$2=3,AM$3=\"T3\"),($B$2=4)),IF($B$3=TRUE,Evolution!AM5,\"\"),\"\")","v":""},{"$f":"IF(OR(AND($B$2=1,AN$3=\"T1\"),AND($B$2=2,AN$3=\"T2\"),AND($B$2=3,AN$3=\"T3\"),($B$2=4)),IF($B$3=TRUE,Evolution!AN5,\"\"),\"\")","v":""},{"$f":"IF(OR(AND($B$2=1,AO$3=\"T1\"),AND($B$2=2,AO$3=\"T2\"),AND($B$2=3,AO$3=\"T3\"),($B$2=4)),IF($B$3=TRUE,Evolution!AO5,\"\"),\"\")","v":""},{"$f":"IF(OR(AND($B$2=1,AP$3=\"T1\"),AND($B$2=2,AP$3=\"T2\"),AND($B$2=3,AP$3=\"T3\"),($B$2=4)),IF($B$3=TRUE,Evolution!AP5,\"\"),\"\")","v":""},{"$f":"IF(OR(AND($B$2=1,AQ$3=\"T1\"),AND($B$2=2,AQ$3=\"T2\"),AND($B$2=3,AQ$3=\"T3\"),($B$2=4)),IF($B$3=TRUE,Evolution!AQ5,\"\"),\"\")","v":""},{"$f":"IF(OR(AND($B$2=1,AR$3=\"T1\"),AND($B$2=2,AR$3=\"T2\"),AND($B$2=3,AR$3=\"T3\"),($B$2=4)),IF($B$3=TRUE,Evolution!AR5,\"\"),\"\")","v":""}]
[null,{"$f":"IF($B$3=TRUE,VLOOKUP($A$1,notes100,COLUMN(A1)),\"\")","v":{"$error":"#N/A"}},{"$f":"IF(OR(C4=\"\",C5=\"a\"),ERROR.TYPE(3),VLOOKUP($A$1,notes100,COLUMN(B1)))","v":{"$error":"#N/A"}},{"$error":"#N/A"},{"$error":"#N/A"},{"$error":"#N/A"},{"$error":"#N/A"},{"$error":"#N/A"},{"$error":"#N/A"},{"$error":"#N/A"},{"$error":"#N/A"},{"$error":"#N/A"},{"$error":"#N/A"},{"$error":"#N/A"},{"$error":"#N/A"},{"$error":"#N/A"},{"$error":"#N/A"},{"$error":"#N/A"},{"$error":"#N/A"},{"$error":"#N/A"},{"$error":"#N/A"},{"$error":"#N/A"},{"$error":"#N/A"},{"$error":"#N/A"},{"$error":"#N/A"},{"$error":"#N/A"},{"$error":"#N/A"},{"$error":"#N/A"},{"$error":"#N/A"},{"$error":"#N/A"},{"$error":"#N/A"},{"$error":"#N/A"},{"$error":"#N/A"},{"$error":"#N/A"},{"$error":"#N/A"},{"$error":"#N/A"},{"$error":"#N/A"},{"$error":"#N/A"},{"$error":"#N/A"},{"$error":"#N/A"},{"$error":"#N/A"},{"$error":"#N/A"},{"$error":"#N/A"},{"$error":"#N/A"}]
[null,"classe",{"$f":"IF(C4<>\"\",Notes!B75,ERROR.TYPE(3))","v":{"$error":"#N/A"}},{"$f":"IF(D4<>\"\",Notes!C75,ERROR.TYPE(3))","v":{"$error":"#N/A"}},{"$f":"IF(E4<>\"\",Notes!D75,ERROR.TYPE(3))","v":{"$error":"#N/A"}},{"$f":"IF(F4<>\"\",Notes!E75,ERROR.TYPE(3))","v":{"$error":"#N/A"}},{"$f":"IF(G4<>\"\",Notes!F75,ERROR.TYPE(3))","v":{"$error":"#N/A"}},{"$f":"IF(H4<>\"\",Notes!G75,ERROR.TYPE(3))","v":{"$error":"#N/A"}},{"$f":"IF(I4<>\"\",Notes!H75,ERROR.TYPE(3))","v":{"$error":"#N/A"}},{"$f":"IF(J4<>\"\",Notes!I75,ERROR.TYPE(3))","v":{"$error":"#N/A"}},{"$f":"IF(K4<>\"\",Notes!J75,ERROR.TYPE(3))","v":{"$error":"#N/A"}},{"$f":"IF(L4<>\"\",Notes!K75,ERROR.TYPE(3))","v":{"$error":"#N/A"}},{"$f":"IF(M4<>\"\",Notes!L75,ERROR.TYPE(3))","v":{"$error":"#N/A"}},{"$f":"IF(N4<>\"\",Notes!M75,ERROR.TYPE(3))","v":{"$error":"#N/A"}},{"$f":"IF(O4<>\"\",Notes!N75,ERROR.TYPE(3))","v":{"$error":"#N/A"}},{"$f":"IF(P4<>\"\",Notes!O75,ERROR.TYPE(3))","v":{"$error":"#N/A"}},{"$f":"IF(Q4<>\"\",Notes!P75,ERROR.TYPE(3))","v":{"$error":"#N/A"}},{"$f":"IF(R4<>\"\",Notes!Q75,ERROR.TYPE(3))","v":{"$error":"#N/A"}},{"$f":"IF(S4<>\"\",Notes!R75,ERROR.TYPE(3))","v":{"$error":"#N/A"}},{"$f":"IF(T4<>\"\",Notes!S75,ERROR.TYPE(3))","v":{"$error":"#N/A"}},{"$f":"IF(U4<>\"\",Notes!T75,ERROR.TYPE(3))","v":{"$error":"#N/A"}},{"$f":"IF(V4<>\"\",Notes!U75,ERROR.TYPE(3))","v":{"$error":"#N/A"}},{"$f":"IF(W4<>\"\",Notes!V75,ERROR.TYPE(3))","v":{"$error":"#N/A"}},{"$f":"IF(X4<>\"\",Notes!W75,ERROR.TYPE(3))","v":{"$error":"#N/A"}},{"$f":"IF(Y4<>\"\",Notes!X75,ERROR.TYPE(3))","v":{"$error":"#N/A"}},{"$f":"IF(Z4<>\"\",Notes!Y75,ERROR.TYPE(3))","v":{"$error":"#N/A"}},{"$f":"IF(AA4<>\"\",Notes!Z75,ERROR.TYPE(3))","v":{"$error":"#N/A"}},{"$f":"IF(AB4<>\"\",Notes!AA75,ERROR.TYPE(3))","v":{"$error":"#N/A"}},{"$f":"IF(AC4<>\"\",Notes!AB75,ERROR.TYPE(3))","v":{"$error":"#N/A"}},{"$f":"IF(AD4<>\"\",Notes!AC75,ERROR.TYPE(3))","v":{"$error":"#N/A"}},{"$f":"IF(AE4<>\"\",Notes!AD75,ERROR.TYPE(3))","v":{"$error":"#N/A"}},{"$f":"IF(AF4<>\"\",Notes!AE75,ERROR.TYPE(3))","v":{"$error":"#N/A"}},{"$f":"IF(AG4<>\"\",Notes!AF75,ERROR.TYPE(3))","v":{"$error":"#N/A"}},{"$f":"IF(AH4<>\"\",Notes!AG75,ERROR.TYPE(3))","v":{"$error":"#N/A"}},{"$f":"IF(AI4<>\"\",Notes!AH75,ERROR.TYPE(3))","v":{"$error":"#N/A"}},{"$f":"IF(AJ4<>\"\",Notes!AI75,ERROR.TYPE(3))","v":{"$error":"#N/A"}},{"$f":"IF(AK4<>\"\",Notes!AJ75,ERROR.TYPE(3))","v":{"$error":"#N/A"}},{"$f":"IF(AL4<>\"\",Notes!AK75,ERROR.TYPE(3))","v":{"$error":"#N/A"}},{"$f":"IF(AM4<>\"\",Notes!AL75,ERROR.TYPE(3))","v":{"$error":"#N/A"}},{"$f":"IF(AN4<>\"\",Notes!AM75,ERROR.TYPE(3))","v":{"$error":"#N/A"}},{"$f":"IF(AO4<>\"\",Notes!AN75,ERROR.TYPE(3))","v":{"$error":"#N/A"}},{"$f":"IF(AP4<>\"\",Notes!AO75,ERROR.TYPE(3))","v":{"$error":"#N/A"}},{"$f":"IF(AQ4<>\"\",Notes!AP75,ERROR.TYPE(3))","v":{"$error":"#N/A"}},{"$f":"IF(AR4<>\"\",Notes!AQ75,ERROR.TYPE(3))","v":{"$error":"#N/A"}}]

{"sheet":"Notes","index":2,"n_rows":75,"n_cols":44,"rows_kept":75,"cut":false,"hidden":false,"merged":[]}
[null,{"$f":"IF(journal!C1=\"\",\"\",journal!C1)","v":"Statistiques"},{"$f":"IF(journal!D1=\"\",\"\",journal!D1)","v":"                 "},{"$f":"IF(journal!E1=\"\",\"\",journal!E1)","v":"                 "},{"$f":"IF(journal!F1=\"\",\"\",journal!F1)","v":"                 "},{"$f":"IF(journal!G1=\"\",\"\",journal!G1)","v":"                 "},{"$f":"IF(journal!H1=\"\",\"\",journal!H1)","v":"                 "},{"$f":"IF(journal!I1=\"\",\"\",journal!I1)","v":"                 "},{"$f":"IF(journal!J1=\"\",\"\",journal!J1)","v":"                 "},{"$f":"IF(journal!K1=\"\",\"\",journal!K1)","v":"                 "},{"$f":"IF(journal!L1=\"\",\"\",journal!L1)","v":"                 "},{"$f":"IF(journal!M1=\"\",\"\",journal!M1)","v":"                 "},{"$f":"IF(journal!N1=\"\",\"\",journal!N1)","v":"                 "},{"$f":"IF(journal!O1=\"\",\"\",journal!O1)","v":"                 "},{"$f":"IF(journal!P1=\"\",\"\",journal!P1)","v":"                 "},{"$f":"IF(journal!Q1=\"\",\"\",journal!Q1)","v":"                 "},{"$f":"IF(journal!R1=\"\",\"\",journal!R1)","v":"                 "},{"$f":"IF(journal!S1=\"\",\"\",journal!S1)","v":"                 "},{"$f":"IF(journal!T1=\"\",\"\",journal!T1)","v":"                 "},{"$f":"IF(journal!U1=\"\",\"\",journal!U1)","v":"                 "},{"$f":"IF(journal!V1=\"\",\"\",journal!V1)","v":"                 "},{"$f":"IF(journal!W1=\"\",\"\",journal!W1)","v":"                 "},{"$f":"IF(journal!X1=\"\",\"\",journal!X1)","v":"                 "},{"$f":"IF(journal!Y1=\"\",\"\",journal!Y1)","v":"                 "},{"$f":"IF(journal!Z1=\"\",\"\",journal!Z1)","v":"                 "},{"$f":"IF(journal!AA1=\"\",\"\",journal!AA1)","v":"                 "},{"$f":"IF(journal!AB1=\"\",\"\",journal!AB1)","v":"                 "},{"$f":"IF(journal!AC1=\"\",\"\",journal!AC1)","v":"                 "},{"$f":"IF(journal!AD1=\"\",\"\",journal!AD1)","v":"                 "},{"$f":"IF(journal!AE1=\"\",\"\",journal!AE1)","v":"                 "},{"$f":"IF(journal!AF1=\"\",\"\",journal!AF1)","v":"                 "},{"$f":"IF(journal!AG1=\"\",\"\",journal!AG1)","v":"                 "},{"$f":"IF(journal!AH1=\"\",\"\",journal!AH1)","v":"                 "},{"$f":"IF(journal!AI1=\"\",\"\",journal!AI1)","v":"                 "},{"$f":"IF(journal!AJ1=\"\",\"\",journal!AJ1)","v":"                 "},{"$f":"IF(journal!AK1=\"\",\"\",journal!AK1)","v":"                 "},{"$f":"IF(journal!AL1=\"\",\"\",journal!AL1)","v":"                 "},{"$f":"IF(journal!AM1=\"\",\"\",journal!AM1)","v":"                 "},{"$f":"IF(journal!AN1=\"\",\"\",journal!AN1)","v":"                 "},{"$f":"IF(journal!AO1=\"\",\"\",journal!AO1)","v":"                 "},{"$f":"IF(journal!AP1=\"\",\"\",journal!AP1)","v":"                 "},{"$f":"IF(journal!AQ1=\"\",\"\",journal!AQ1)","v":"                 "},{"$f":"IF(journal!AR1=\"\",\"\",journal!AR1)","v":"                 "}]
[null,{"$f":"IF(journal!C2=\"\",\"\",journal!C2)","v":""},{"$f":"IF(journal!D2=\"\",\"\",journal!D2)","v":""},{"$f":"IF(journal!E2=\"\",\"\",journal!E2)","v":""},{"$f":"IF(journal!F2=\"\",\"\",journal!F2)","v":""},{"$f":"IF(journal!G2=\"\",\"\",journal!G2)","v":""},{"$f":"IF(journal!H2=\"\",\"\",journal!H2)","v":""},{"$f":"IF(journal!I2=\"\",\"\",journal!I2)","v":""},{"$f":"IF(journal!J2=\"\",\"\",journal!J2)","v":""},{"$f":"IF(journal!K2=\"\",\"\",journal!K2)","v":""},{"$f":"IF(journal!L2=\"\",\"\",journal!L2)","v":""},{"$f":"IF(journal!M2=\"\",\"\",journal!M2)","v":""},{"$f":"IF(journal!N2=\"\",\"\",journal!N2)","v":""},{"$f":"IF(journal!O2=\"\",\"\",journal!O2)","v":""},{"$f":"IF(journal!P2=\"\",\"\",journal!P2)","v":""},{"$f":"IF(journal!Q2=\"\",\"\",journal!Q2)","v":""},{"$f":"IF(journal!R2=\"\",\"\",journal!R2)","v":""},{"$f":"IF(journal!S2=\"\",\"\",journal!S2)","v":""},{"$f":"IF(journal!T2=\"\",\"\",journal!T2)","v":""},{"$f":"IF(journal!U2=\"\",\"\",journal!U2)","v":""},{"$f":"IF(journal!V2=\"\",\"\",journal!V2)","v":""},{"$f":"IF(journal!W2=\"\",\"\",journal!W2)","v":""},{"$f":"IF(journal!X2=\"\",\"\",journal!X2)","v":""},{"$f":"IF(journal!Y2=\"\",\"\",journal!Y2)","v":""},{"$f":"IF(journal!Z2=\"\",\"\",journal!Z2)","v":""},{"$f":"IF(journal!AA2=\"\",\"\",journal!AA2)","v":""},{"$f":"IF(journal!AB2=\"\",\"\",journal!AB2)","v":""},{"$f":"IF(journal!AC2=\"\",\"\",journal!AC2)","v":""},{"$f":"IF(journal!AD2=\"\",\"\",journal!AD2)","v":""},{"$f":"IF(journal!AE2=\"\",\"\",journal!AE2)","v":""},{"$f":"IF(journal!AF2=\"\",\"\",journal!AF2)","v":""},{"$f":"IF(journal!AG2=\"\",\"\",journal!AG2)","v":""},{"$f":"IF(journal!AH2=\"\",\"\",journal!AH2)","v":""},{"$f":"IF(journal!AI2=\"\",\"\",journal!AI2)","v":""},{"$f":"IF(journal!AJ2=\"\",\"\",journal!AJ2)","v":""},{"$f":"IF(journal!AK2=\"\",\"\",journal!AK2)","v":""},{"$f":"IF(journal!AL2=\"\",\"\",journal!AL2)","v":""},{"$f":"IF(journal!AM2=\"\",\"\",journal!AM2)","v":""},{"$f":"IF(journal!AN2=\"\",\"\",journal!AN2)","v":""},{"$f":"IF(journal!AO2=\"\",\"\",journal!AO2)","v":""},{"$f":"IF(journal!AP2=\"\",\"\",journal!AP2)","v":""},{"$f":"IF(journal!AQ2=\"\",\"\",journal!AQ2)","v":""},{"$f":"IF(journal!AR2=\"\",\"\",journal!AR2)","v":""}]
[null,{"$f":"IF(journal!C3=\"\",\"\",journal!C3)","v":""},{"$f":"IF(journal!D3=\"\",\"\",journal!D3)","v":""},{"$f":"IF(journal!E3=\"\",\"\",journal!E3)","v":""},{"$f":"IF(journal!F3=\"\",\"\",journal!F3)","v":""},{"$f":"IF(journal!G3=\"\",\"\",journal!G3)","v":""},{"$f":"IF(journal!H3=\"\",\"\",journal!H3)","v":""},{"$f":"IF(journal!I3=\"\",\"\",journal!I3)","v":""},{"$f":"IF(journal!J3=\"\",\"\",journal!J3)","v":""},{"$f":"IF(journal!K3=\"\",\"\",journal!K3)","v":""},{"$f":"IF(journal!L3=\"\",\"\",journal!L3)","v":""},{"$f":"IF(journal!M3=\"\",\"\",journal!M3)","v":""},{"$f":"IF(journal!N3=\"\",\"\",journal!N3)","v":""},{"$f":"IF(journal!O3=\"\",\"\",journal!O3)","v":""},{"$f":"IF(journal!P3=\"\",\"\",journal!P3)","v":""},{"$f":"IF(journal!Q3=\"\",\"\",journal!Q3)","v":""},{"$f":"IF(journal!R3=\"\",\"\",journal!R3)","v":""},{"$f":"IF(journal!S3=\"\",\"\",journal!S3)","v":""},{"$f":"IF(journal!T3=\"\",\"\",journal!T3)","v":""},{"$f":"IF(journal!U3=\"\",\"\",journal!U3)","v":""},{"$f":"IF(journal!V3=\"\",\"\",journal!V3)","v":""},{"$f":"IF(journal!W3=\"\",\"\",journal!W3)","v":""},{"$f":"IF(journal!X3=\"\",\"\",journal!X3)","v":""},{"$f":"IF(journal!Y3=\"\",\"\",journal!Y3)","v":""},{"$f":"IF(journal!Z3=\"\",\"\",journal!Z3)","v":""},{"$f":"IF(journal!AA3=\"\",\"\",journal!AA3)","v":""},{"$f":"IF(journal!AB3=\"\",\"\",journal!AB3)","v":""},{"$f":"IF(journal!AC3=\"\",\"\",journal!AC3)","v":""},{"$f":"IF(journal!AD3=\"\",\"\",journal!AD3)","v":""},{"$f":"IF(journal!AE3=\"\",\"\",journal!AE3)","v":""},{"$f":"IF(journal!AF3=\"\",\"\",journal!AF3)","v":""},{"$f":"IF(journal!AG3=\"\",\"\",journal!AG3)","v":""},{"$f":"IF(journal!AH3=\"\",\"\",journal!AH3)","v":""},{"$f":"IF(journal!AI3=\"\",\"\",journal!AI3)","v":""},{"$f":"IF(journal!AJ3=\"\",\"\",journal!AJ3)","v":""},{"$f":"IF(journal!AK3=\"\",\"\",journal!AK3)","v":""},{"$f":"IF(journal!AL3=\"\",\"\",journal!AL3)","v":""},{"$f":"IF(journal!AM3=\"\",\"\",journal!AM3)","v":""},{"$f":"IF(journal!AN3=\"\",\"\",journal!AN3)","v":""},{"$f":"IF(journal!AO3=\"\",\"\",journal!AO3)","v":""},{"$f":"IF(journal!AP3=\"\",\"\",journal!AP3)","v":""},{"$f":"IF(journal!AQ3=\"\",\"\",journal!AQ3)","v":""},{"$f":"IF(journal!AR3=\"\",\"\",journal!AR3)","v":""}]
[null,{"$f":"IF(journal!C4=\"\",\"\",journal!C4)","v":""},{"$f":"IF(journal!D4=\"\",\"\",journal!D4)","v":""},{"$f":"IF(journal!E4=\"\",\"\",journal!E4)","v":""},{"$f":"IF(journal!F4=\"\",\"\",journal!F4)","v":""},{"$f":"IF(journal!G4=\"\",\"\",journal!G4)","v":""},{"$f":"IF(journal!H4=\"\",\"\",journal!H4)","v":""},{"$f":"IF(journal!I4=\"\",\"\",journal!I4)","v":""},{"$f":"IF(journal!J4=\"\",\"\",journal!J4)","v":""},{"$f":"IF(journal!K4=\"\",\"\",journal!K4)","v":""},{"$f":"IF(journal!L4=\"\",\"\",journal!L4)","v":""},{"$f":"IF(journal!M4=\"\",\"\",journal!M4)","v":""},{"$f":"IF(journal!N4=\"\",\"\",journal!N4)","v":""},{"$f":"IF(journal!O4=\"\",\"\",journal!O4)","v":""},{"$f":"IF(journal!P4=\"\",\"\",journal!P4)","v":""},{"$f":"IF(journal!Q4=\"\",\"\",journal!Q4)","v":""},{"$f":"IF(journal!R4=\"\",\"\",journal!R4)","v":""},{"$f":"IF(journal!S4=\"\",\"\",journal!S4)","v":""},{"$f":"IF(journal!T4=\"\",\"\",journal!T4)","v":""},{"$f":"IF(journal!U4=\"\",\"\",journal!U4)","v":""},{"$f":"IF(journal!V4=\"\",\"\",journal!V4)","v":""},{"$f":"IF(journal!W4=\"\",\"\",journal!W4)","v":""},{"$f":"IF(journal!X4=\"\",\"\",journal!X4)","v":""},{"$f":"IF(journal!Y4=\"\",\"\",journal!Y4)","v":""},{"$f":"IF(journal!Z4=\"\",\"\",journal!Z4)","v":""},{"$f":"IF(journal!AA4=\"\",\"\",journal!AA4)","v":""},{"$f":"IF(journal!AB4=\"\",\"\",journal!AB4)","v":""},{"$f":"IF(journal!AC4=\"\",\"\",journal!AC4)","v":""},{"$f":"IF(journal!AD4=\"\",\"\",journal!AD4)","v":""},{"$f":"IF(journal!AE4=\"\",\"\",journal!AE4)","v":""},{"$f":"IF(journal!AF4=\"\",\"\",journal!AF4)","v":""},{"$f":"IF(journal!AG4=\"\",\"\",journal!AG4)","v":""},{"$f":"IF(journal!AH4=\"\",\"\",journal!AH4)","v":""},{"$f":"IF(journal!AI4=\"\",\"\",journal!AI4)","v":""},{"$f":"IF(journal!AJ4=\"\",\"\",journal!AJ4)","v":""},{"$f":"IF(journal!AK4=\"\",\"\",journal!AK4)","v":""},{"$f":"IF(journal!AL4=\"\",\"\",journal!AL4)","v":""},{"$f":"IF(journal!AM4=\"\",\"\",journal!AM4)","v":""},{"$f":"IF(journal!AN4=\"\",\"\",journal!AN4)","v":""},{"$f":"IF(journal!AO4=\"\",\"\",journal!AO4)","v":""},{"$f":"IF(journal!AP4=\"\",\"\",journal!AP4)","v":""},{"$f":"IF(journal!AQ4=\"\",\"\",journal!AQ4)","v":""},{"$f":"IF(journal!AR4=\"\",\"\",journal!AR4)","v":""}]
[{"$f":"Saisie!A10","v":"NOM Prénom"},{"$f":"IF(journal!C5=\"\",\"\",journal!C5)","v":""},{"$f":"IF(journal!D5=\"\",\"\",journal!D5)","v":""},{"$f":"IF(journal!E5=\"\",\"\",journal!E5)","v":""},{"$f":"IF(journal!F5=\"\",\"\",journal!F5)","v":""},{"$f":"IF(journal!G5=\"\",\"\",journal!G5)","v":""},{"$f":"IF(journal!H5=\"\",\"\",journal!H5)","v":""},{"$f":"IF(journal!I5=\"\",\"\",journal!I5)","v":""},{"$f":"IF(journal!J5=\"\",\"\",journal!J5)","v":""},{"$f":"IF(journal!K5=\"\",\"\",journal!K5)","v":""},{"$f":"IF(journal!L5=\"\",\"\",journal!L5)","v":""},{"$f":"IF(journal!M5=\"\",\"\",journal!M5)","v":""},{"$f":"IF(journal!N5=\"\",\"\",journal!N5)","v":""},{"$f":"IF(journal!O5=\"\",\"\",journal!O5)","v":""},{"$f":"IF(journal!P5=\"\",\"\",journal!P5)","v":""},{"$f":"IF(journal!Q5=\"\",\"\",journal!Q5)","v":""},{"$f":"IF(journal!R5=\"\",\"\",journal!R5)","v":""},{"$f":"IF(journal!S5=\"\",\"\",journal!S5)","v":""},{"$f":"IF(journal!T5=\"\",\"\",journal!T5)","v":""},{"$f":"IF(journal!U5=\"\",\"\",journal!U5)","v":""},{"$f":"IF(journal!V5=\"\",\"\",journal!V5)","v":""},{"$f":"IF(journal!W5=\"\",\"\",journal!W5)","v":""},{"$f":"IF(journal!X5=\"\",\"\",journal!X5)","v":""},{"$f":"IF(journal!Y5=\"\",\"\",journal!Y5)","v":""},{"$f":"IF(journal!Z5=\"\",\"\",journal!Z5)","v":""},{"$f":"IF(journal!AA5=\"\",\"\",journal!AA5)","v":""},{"$f":"IF(journal!AB5=\"\",\"\",journal!AB5)","v":""},{"$f":"IF(journal!AC5=\"\",\"\",journal!AC5)","v":""},{"$f":"IF(journal!AD5=\"\",\"\",journal!AD5)","v":""},{"$f":"IF(journal!AE5=\"\",\"\",journal!AE5)","v":""},{"$f":"IF(journal!AF5=\"\",\"\",journal!AF5)","v":""},{"$f":"IF(journal!AG5=\"\",\"\",journal!AG5)","v":""},{"$f":"IF(journal!AH5=\"\",\"\",journal!AH5)","v":""},{"$f":"IF(journal!AI5=\"\",\"\",journal!AI5)","v":""},{"$f":"IF(journal!AJ5=\"\",\"\",journal!AJ5)","v":""},{"$f":"IF(journal!AK5=\"\",\"\",journal!AK5)","v":""},{"$f":"IF(journal!AL5=\"\",\"\",journal!AL5)","v":""},{"$f":"IF(journal!AM5=\"\",\"\",journal!AM5)","v":""},{"$f":"IF(journal!AN5=\"\",\"\",journal!AN5)","v":""},{"$f":"IF(journal!AO5=\"\",\"\",journal!AO5)","v":""},{"$f":"IF(journal!AP5=\"\",\"\",journal!AP5)","v":""},{"$f":"IF(journal!AQ5=\"\",\"\",journal!AQ5)","v":""},{"$f":"IF(journal!AR5=\"\",\"\",journal!AR5)","v":""}]
[{"$f":"IF(Saisie!A11=\"\",\"\",Saisie!A11)","v":""},null,null,null,null,null,{"$f":"IF(G$4<>\"\",IF(Saisie!M11<>\"a\",G$4*SUM(OFFSET(journal!H$6,(ROW(F6)-5)*5,,5,1))/SUM(journal!H$6:H$10),\"a\"),\"\")","v":""},{"$f":"IF(H$4<>\"\",IF(Saisie!N11<>\"a\",H$4*SUM(OFFSET(journal!I$6,(ROW(G6)-5)*5,,5,1))/SUM(journal!I$6:I$10),\"a\"),\"\")","v":""},{"$f":"IF(I$4<>\"\",IF(Saisie!O11<>\"a\",I$4*SUM(OFFSET(journal!J$6,(ROW(H6)-5)*5,,5,1))/SUM(journal!J$6:J$10),\"a\"),\"\")","v":""},{"$f":"IF(J$4<>\"\",IF(Saisie!P11<>\"a\",J$4*SUM(OFFSET(journal!K$6,(ROW(I6)-5)*5,,5,1))/SUM(journal!K$6:K$10),\"a\"),\"\")","v":""},{"$f":"IF(K$4<>\"\",IF(Saisie!Q11<>\"a\",K$4*SUM(OFFSET(journal!L$6,(ROW(J6)-5)*5,,5,1))/SUM(journal!L$6:L$10),\"a\"),\"\")","v":""},{"$f":"IF(L$4<>\"\",IF(Saisie!R11<>\"a\",L$4*SUM(OFFSET(journal!M$6,(ROW(K6)-5)*5,,5,1))/SUM(journal!M$6:M$10),\"a\"),\"\")","v":""},{"$f":"IF(M$4<>\"\",IF(Saisie!S11<>\"a\",M$4*SUM(OFFSET(journal!N$6,(ROW(L6)-5)*5,,5,1))/SUM(journal!N$6:N$10),\"a\"),\"\")","v":""},{"$f":"IF(N$4<>\"\",IF(Saisie!T11<>\"a\",N$4*SUM(OFFSET(journal!O$6,(ROW(M6)-5)*5,,5,1))/SUM(journal!O$6:O$10),\"a\"),\"\")","v":""},{"$f":"IF(O$4<>\"\",IF(Saisie!U11<>\"a\",O$4*SUM(OFFSET(journal!P$6,(ROW(N6)-5)*5,,5,1))/SUM(journal!P$6:P$10),\"a\"),\"\")","v":""},{"$f":"IF(P$4<>\"\",IF(Saisie!V11<>\"a\",P$4*SUM(OFFSET(journal!Q$6,(ROW(O6)-5)*5,,5,1))/SUM(journal!Q$6:Q$10),\"a\"),\"\")","v":""},{"$f":"IF(Q$4<>\"\",IF(Saisie!W11<>\"a\",Q$4*SUM(OFFSET(journal!R$6,(ROW(P6)-5)*5,,5,1))/SUM(journal!R$6:R$10),\"a\"),\"\")","v":""},{"$f":"IF(R$4<>\"\",IF(Saisie!X11<>\"a\",R$4*SUM(OFFSET(journal!S$6,(ROW(Q6)-5)*5,,5,1))/SUM(journal!S$6:S$10),\"a\"),\"\")","v":""},{"$f":"IF(S$4<>\"\",IF(Saisie!Y11<>\"a\",S$4*SUM(OFFSET(journal!T$6,(ROW(R6)-5)*5,,5,1))/SUM(journal!T$6:T$10),\"a\"),\"\")","v":""},{"$f":"IF(T$4<>\"\",IF(Saisie!Z11<>\"a\",T$4*SUM(OFFSET(journal!U$6,(ROW(S6)-5)*5,,5,1))/SUM(journal!U$6:U$10),\"a\"),\"\")","v":""},{"$f":"IF(U$4<>\"\",IF(Saisie!AA11<>\"a\",U$4*SUM(OFFSET(journal!V$6,(ROW(T6)-5)*5,,5,1))/SUM(journal!V$6:V$10),\"a\"),\"\")","v":""},{"$f":"IF(V$4<>\"\",IF(Saisie!AB11<>\"a\",V$4*SUM(OFFSET(journal!W$6,(ROW(U6)-5)*5,,5,1))/SUM(journal!W$6:W$10),\"a\"),\"\")","v":""},{"$f":"IF(W$4<>\"\",IF(Saisie!AC11<>\"a\",W$4*SUM(OFFSET(journal!X$6,(ROW(V6)-5)*5,,5,1))/SUM(journal!X$6:X$10),\"a\"),\"\")","v":""},{"$f":"IF(X$4<>\"\",IF(Saisie!AD11<>\"a\",X$4*SUM(OFFSET(journal!Y$6,(ROW(W6)-5)*5,,5,1))/SUM(journal!Y$6:Y$10),\"a\"),\"\")","v":""},{"$f":"IF(Y$4<>\"\",IF(Saisie!AE11<>\"a\",Y$4*SUM(OFFSET(journal!Z$6,(ROW(X6)-5)*5,,5,1))/SUM(journal!Z$6:Z$10),\"a\"),\"\")","v":""},{"$f":"IF(Z$4<>\"\",IF(Saisie!AF11<>\"a\",Z$4*SUM(OFFSET(journal!AA$6,(ROW(Y6)-5)*5,,5,1))/SUM(journal!AA$6:AA$10),\"a\"),\"\")","v":""},{"$f":"IF(AA$4<>\"\",IF(Saisie!AG11<>\"a\",AA$4*SUM(OFFSET(journal!AB$6,(ROW(Z6)-5)*5,,5,1))/SUM(journal!AB$6:AB$10),\"a\"),\"\")","v":""},{"$f":"IF(AB$4<>\"\",IF(Saisie!AH11<>\"a\",AB$4*SUM(OFFSET(journal!AC$6,(ROW(AA6)-5)*5,,5,1))/SUM(journal!AC$6:AC$10),\"a\"),\"\")","v":""},{"$f":"IF(AC$4<>\"\",IF(Saisie!AI11<>\"a\",AC$4*SUM(OFFSET(journal!AD$6,(ROW(AB6)-5)*5,,5,1))/SUM(journal!AD$6:AD$10),\"a\"),\"\")","v":""},{"$f":"IF(AD$4<>\"\",IF(Saisie!AJ11<>\"a\",AD$4*SUM(OFFSET(journal!AE$6,(ROW(AC6)-5)*5,,5,1))/SUM(journal!AE$6:AE$10),\"a\"),\"\")","v":""},{"$f":"IF(AE$4<>\"\",IF(Saisie!AK11<>\"a\",AE$4*SUM(OFFSET(journal!AF$6,(ROW(AD6)-5)*5,,5,1))/SUM(journal!AF$6:AF$10),\"a\"),\"\")","v":""},{"$f":"IF(AF$4<>\"\",IF(Saisie!AL11<>\"a\",AF$4*SUM(OFFSET(journal!AG$6,(ROW(AE6)-5)*5,,5,1))/SUM(journal!AG$6:AG$10),\"a\"),\"\")","v":""},{"$f":"IF(AG$4<>\"\",IF(Saisie!AM11<>\"a\",AG$4*SUM(OFFSET(journal!AH$6,(ROW(AF6)-5)*5,,5,1))/SUM(journal!AH$6:AH$10),\"a\"),\"\")","v":""},{"$f":"IF(AH$4<>\"\",IF(Saisie!AN11<>\"a\",AH$4*SUM(OFFSET(journal!AI$6,(ROW(AG6)-5)*5,,5,1))/SUM(journal!AI$6:AI$10),\"a\"),\"\")","v":""},{"$f":"IF(AI$4<>\"\",IF(Saisie!AO11<>\"a\",AI$4*SUM(OFFSET(journal!AJ$6,(ROW(AH6)-5)*5,,5,1))/SUM(journal!AJ$6:AJ$10),\"a\"),\"\")","v":""},{"$f":"IF(AJ$4<>\"\",IF(Saisie!AP11<>\"a\",AJ$4*SUM(OFFSET(journal!AK$6,(ROW(AI6)-5)*5,,5,1))/SUM(journal!AK$6:AK$10),\"a\"),\"\")","v":""},{"$f":"IF(AK$4<>\"\",IF(Saisie!AQ11<>\"a\",AK$4*SUM(OFFSET(journal!AL$6,(ROW(AJ6)-5)*5,,5,1))/SUM(journal!AL$6:AL$10),\"a\"),\"\")","v":""},{"$f":"IF(AL$4<>\"\",IF(Saisie!AR11<>\"a\",AL$4*SUM(OFFSET(journal!AM$6,(ROW(AK6)-5)*5,,5,1))/SUM(journal!AM$6:AM$10),\"a\"),\"\")","v":""},{"$f":"IF(AM$4<>\"\",IF(Saisie!AS11<>\"a\",AM$4*SUM(OFFSET(journal!AN$6,(ROW(AL6)-5)*5,,5,1))/SUM(journal!AN$6:AN$10),\"a\"),\"\")","v":""},{"$f":"IF(AN$4<>\"\",IF(Saisie!AT11<>\"a\",AN$4*SUM(OFFSET(journal!AO$6,(ROW(AM6)-5)*5,,5,1))/SUM(journal!AO$6:AO$10),\"a\"),\"\")","v":""},{"$f":"IF(AO$4<>\"\",IF(Saisie!AU11<>\"a\",AO$4*SUM(OFFSET(journal!AP$6,(ROW(AN6)-5)*5,,5,1))/SUM(journal!AP$6:AP$10),\"a\"),\"\")","v":""},{"$f":"IF(AP$4<>\"\",IF(Saisie!AV11<>\"a\",AP$4*SUM(OFFSET(journal!AQ$6,(ROW(AO6)-5)*5,,5,1))/SUM(journal!AQ$6:AQ$10),\"a\"),\"\")","v":""},{"$f":"IF(AQ$4<>\"\",IF(Saisie!AW11<>\"a\",AQ$4*SUM(OFFSET(journal!AR$6,(ROW(AP6)-5)*5,,5,1))/SUM(journal!AR$6:AR$10),\"a\"),\"\")","v":""}]
[{"$f":"IF(Saisie!A12=\"\",\"\",Saisie!A12)","v":""},null,null,null,null,null,{"$f":"IF(G$4<>\"\",IF(Saisie!M12<>\"a\",G$4*SUM(OFFSET(journal!H$6,(ROW(F7)-5)*5,,5,1))/SUM(journal!H$6:H$10),\"a\"),\"\")","v":""},{"$f":"IF(H$4<>\"\",IF(Saisie!N12<>\"a\",H$4*SUM(OFFSET(journal!I$6,(ROW(G7)-5)*5,,5,1))/SUM(journal!I$6:I$10),\"a\"),\"\")","v":""},{"$f":"IF(I$4<>\"\",IF(Saisie!O12<>\"a\",I$4*SUM(OFFSET(journal!J$6,(ROW(H7)-5)*5,,5,1))/SUM(journal!J$6:J$10),\"a\"),\"\")","v":""},{"$f":"IF(J$4<>\"\",IF(Saisie!P12<>\"a\",J$4*SUM(OFFSET(journal!K$6,(ROW(I7)-5)*5,,5,1))/SUM(journal!K$6:K$10),\"a\"),\"\")","v":""},{"$f":"IF(K$4<>\"\",IF(Saisie!Q12<>\"a\",K$4*SUM(OFFSET(journal!L$6,(ROW(J7)-5)*5,,5,1))/SUM(journal!L$6:L$10),\"a\"),\"\")","v":""},{"$f":"IF(L$4<>\"\",IF(Saisie!R12<>\"a\",L$4*SUM(OFFSET(journal!M$6,(ROW(K7)-5)*5,,5,1))/SUM(journal!M$6:M$10),\"a\"),\"\")","v":""},{"$f":"IF(M$4<>\"\",IF(Saisie!S12<>\"a\",M$4*SUM(OFFSET(journal!N$6,(ROW(L7)-5)*5,,5,1))/SUM(journal!N$6:N$10),\"a\"),\"\")","v":""},{"$f":"IF(N$4<>\"\",IF(Saisie!T12<>\"a\",N$4*SUM(OFFSET(journal!O$6,(ROW(M7)-5)*5,,5,1))/SUM(journal!O$6:O$10),\"a\"),\"\")","v":""},{"$f":"IF(O$4<>\"\",IF(Saisie!U12<>\"a\",O$4*SUM(OFFSET(journal!P$6,(ROW(N7)-5)*5,,5,1))/SUM(journal!P$6:P$10),\"a\"),\"\")","v":""},{"$f":"IF(P$4<>\"\",IF(Saisie!V12<>\"a\",P$4*SUM(OFFSET(journal!Q$6,(ROW(O7)-5)*5,,5,1))/SUM(journal!Q$6:Q$10),\"a\"),\"\")","v":""},{"$f":"IF(Q$4<>\"\",IF(Saisie!W12<>\"a\",Q$4*SUM(OFFSET(journal!R$6,(ROW(P7)-5)*5,,5,1))/SUM(journal!R$6:R$10),\"a\"),\"\")","v":""},{"$f":"IF(R$4<>\"\",IF(Saisie!X12<>\"a\",R$4*SUM(OFFSET(journal!S$6,(ROW(Q7)-5)*5,,5,1))/SUM(journal!S$6:S$10),\"a\"),\"\")","v":""},{"$f":"IF(S$4<>\"\",IF(Saisie!Y12<>\"a\",S$4*SUM(OFFSET(journal!T$6,(ROW(R7)-5)*5,,5,1))/SUM(journal!T$6:T$10),\"a\"),\"\")","v":""},{"$f":"IF(T$4<>\"\",IF(Saisie!Z12<>\"a\",T$4*SUM(OFFSET(journal!U$6,(ROW(S7)-5)*5,,5,1))/SUM(journal!U$6:U$10),\"a\"),\"\")","v":""},{"$f":"IF(U$4<>\"\",IF(Saisie!AA12<>\"a\",U$4*SUM(OFFSET(journal!V$6,(ROW(T7)-5)*5,,5,1))/SUM(journal!V$6:V$10),\"a\"),\"\")","v":""},{"$f":"IF(V$4<>\"\",IF(Saisie!AB12<>\"a\",V$4*SUM(OFFSET(journal!W$6,(ROW(U7)-5)*5,,5,1))/SUM(journal!W$6:W$10),\"a\"),\"\")","v":""},{"$f":"IF(W$4<>\"\",IF(Saisie!AC12<>\"a\",W$4*SUM(OFFSET(journal!X$6,(ROW(V7)-5)*5,,5,1))/SUM(journal!X$6:X$10),\"a\"),\"\")","v":""},{"$f":"IF(X$4<>\"\",IF(Saisie!AD12<>\"a\",X$4*SUM(OFFSET(journal!Y$6,(ROW(W7)-5)*5,,5,1))/SUM(journal!Y$6:Y$10),\"a\"),\"\")","v":""},{"$f":"IF(Y$4<>\"\",IF(Saisie!AE12<>\"a\",Y$4*SUM(OFFSET(journal!Z$6,(ROW(X7)-5)*5,,5,1))/SUM(journal!Z$6:Z$10),\"a\"),\"\")","v":""},{"$f":"IF(Z$4<>\"\",IF(Saisie!AF12<>\"a\",Z$4*SUM(OFFSET(journal!AA$6,(ROW(Y7)-5)*5,,5,1))/SUM(journal!AA$6:AA$10),\"a\"),\"\")","v":""},{"$f":"IF(AA$4<>\"\",IF(Saisie!AG12<>\"a\",AA$4*SUM(OFFSET(journal!AB$6,(ROW(Z7)-5)*5,,5,1))/SUM(journal!AB$6:AB$10),\"a\"),\"\")","v":""},{"$f":"IF(AB$4<>\"\",IF(Saisie!AH12<>\"a\",AB$4*SUM(OFFSET(journal!AC$6,(ROW(AA7)-5)*5,,5,1))/SUM(journal!AC$6:AC$10),\"a\"),\"\")","v":""},{"$f":"IF(AC$4<>\"\",IF(Saisie!AI12<>\"a\",AC$4*SUM(OFFSET(journal!AD$6,(ROW(AB7)-5)*5,,5,1))/SUM(journal!AD$6:AD$10),\"a\"),\"\")","v":""},{"$f":"IF(AD$4<>\"\",IF(Saisie!AJ12<>\"a\",AD$4*SUM(OFFSET(journal!AE$6,(ROW(AC7)-5)*5,,5,1))/SUM(journal!AE$6:AE$10),\"a\"),\"\")","v":""},{"$f":"IF(AE$4<>\"\",IF(Saisie!AK12<>\"a\",AE$4*SUM(OFFSET(journal!AF$6,(ROW(AD7)-5)*5,,5,1))/SUM(journal!AF$6:AF$10),\"a\"),\"\")","v":""},{"$f":"IF(AF$4<>\"\",IF(Saisie!AL12<>\"a\",AF$4*SUM(OFFSET(journal!AG$6,(ROW(AE7)-5)*5,,5,1))/SUM(journal!AG$6:AG$10),\"a\"),\"\")","v":""},{"$f":"IF(AG$4<>\"\",IF(Saisie!AM12<>\"a\",AG$4*SUM(OFFSET(journal!AH$6,(ROW(AF7)-5)*5,,5,1))/SUM(journal!AH$6:AH$10),\"a\"),\"\")","v":""},{"$f":"IF(AH$4<>\"\",IF(Saisie!AN12<>\"a\",AH$4*SUM(OFFSET(journal!AI$6,(ROW(AG7)-5)*5,,5,1))/SUM(journal!AI$6:AI$10),\"a\"),\"\")","v":""},{"$f":"IF(AI$4<>\"\",IF(Saisie!AO12<>\"a\",AI$4*SUM(OFFSET(journal!AJ$6,(ROW(AH7)-5)*5,,5,1))/SUM(journal!AJ$6:AJ$10),\"a\"),\"\")","v":""},{"$f":"IF(AJ$4<>\"\",IF(Saisie!AP12<>\"a\",AJ$4*SUM(OFFSET(journal!AK$6,(ROW(AI7)-5)*5,,5,1))/SUM(journal!AK$6:AK$10),\"a\"),\"\")","v":""},{"$f":"IF(AK$4<>\"\",IF(Saisie!AQ12<>\"a\",AK$4*SUM(OFFSET(journal!AL$6,(ROW(AJ7)-5)*5,,5,1))/SUM(journal!AL$6:AL$10),\"a\"),\"\")","v":""},{"$f":"IF(AL$4<>\"\",IF(Saisie!AR12<>\"a\",AL$4*SUM(OFFSET(journal!AM$6,(ROW(AK7)-5)*5,,5,1))/SUM(journal!AM$6:AM$10),\"a\"),\"\")","v":""},{"$f":"IF(AM$4<>\"\",IF(Saisie!AS12<>\"a\",AM$4*SUM(OFFSET(journal!AN$6,(ROW(AL7)-5)*5,,5,1))/SUM(journal!AN$6:AN$10),\"a\"),\"\")","v":""},{"$f":"IF(AN$4<>\"\",IF(Saisie!AT12<>\"a\",AN$4*SUM(OFFSET(journal!AO$6,(ROW(AM7)-5)*5,,5,1))/SUM(journal!AO$6:AO$10),\"a\"),\"\")","v":""},{"$f":"IF(AO$4<>\"\",IF(Saisie!AU12<>\"a\",AO$4*SUM(OFFSET(journal!AP$6,(ROW(AN7)-5)*5,,5,1))/SUM(journal!AP$6:AP$10),\"a\"),\"\")","v":""},{"$f":"IF(AP$4<>\"\",IF(Saisie!AV12<>\"a\",AP$4*SUM(OFFSET(journal!AQ$6,(ROW(AO7)-5)*5,,5,1))/SUM(journal!AQ$6:AQ$10),\"a\"),\"\")","v":""},{"$f":"IF(AQ$4<>\"\",IF(Saisie!AW12<>\"a\",AQ$4*SUM(OFFSET(journal!AR$6,(ROW(AP7)-5)*5,,5,1))/SUM(journal!AR$6:AR$10),\"a\"),\"\")","v":""}]
[{"$f":"IF(Saisie!A13=\"\",\"\",Saisie!A13)","v":""},null,null,null,null,null,{"$f":"IF(G$4<>\"\",IF(Saisie!M13<>\"a\",G$4*SUM(OFFSET(journal!H$6,(ROW(F8)-5)*5,,5,1))/SUM(journal!H$6:H$10),\"a\"),\"\")","v":""},{"$f":"IF(H$4<>\"\",IF(Saisie!N13<>\"a\",H$4*SUM(OFFSET(journal!I$6,(ROW(G8)-5)*5,,5,1))/SUM(journal!I$6:I$10),\"a\"),\"\")","v":""},{"$f":"IF(I$4<>\"\",IF(Saisie!O13<>\"a\",I$4*SUM(OFFSET(journal!J$6,(ROW(H8)-5)*5,,5,1))/SUM(journal!J$6:J$10),\"a\"),\"\")","v":""},{"$f":"IF(J$4<>\"\",IF(Saisie!P13<>\"a\",J$4*SUM(OFFSET(journal!K$6,(ROW(I8)-5)*5,,5,1))/SUM(journal!K$6:K$10),\"a\"),\"\")","v":""},{"$f":"IF(K$4<>\"\",IF(Saisie!Q13<>\"a\",K$4*SUM(OFFSET(journal!L$6,(ROW(J8)-5)*5,,5,1))/SUM(journal!L$6:L$10),\"a\"),\"\")","v":""},{"$f":"IF(L$4<>\"\",IF(Saisie!R13<>\"a\",L$4*SUM(OFFSET(journal!M$6,(ROW(K8)-5)*5,,5,1))/SUM(journal!M$6:M$10),\"a\"),\"\")","v":""},{"$f":"IF(M$4<>\"\",IF(Saisie!S13<>\"a\",M$4*SUM(OFFSET(journal!N$6,(ROW(L8)-5)*5,,5,1))/SUM(journal!N$6:N$10),\"a\"),\"\")","v":""},{"$f":"IF(N$4<>\"\",IF(Saisie!T13<>\"a\",N$4*SUM(OFFSET(journal!O$6,(ROW(M8)-5)*5,,5,1))/SUM(journal!O$6:O$10),\"a\"),\"\")","v":""},{"$f":"IF(O$4<>\"\",IF(Saisie!U13<>\"a\",O$4*SUM(OFFSET(journal!P$6,(ROW(N8)-5)*5,,5,1))/SUM(journal!P$6:P$10),\"a\"),\"\")","v":""},{"$f":"IF(P$4<>\"\",IF(Saisie!V13<>\"a\",P$4*SUM(OFFSET(journal!Q$6,(ROW(O8)-5)*5,,5,1))/SUM(journal!Q$6:Q$10),\"a\"),\"\")","v":""},{"$f":"IF(Q$4<>\"\",IF(Saisie!W13<>\"a\",Q$4*SUM(OFFSET(journal!R$6,(ROW(P8)-5)*5,,5,1))/SUM(journal!R$6:R$10),\"a\"),\"\")","v":""},{"$f":"IF(R$4<>\"\",IF(Saisie!X13<>\"a\",R$4*SUM(OFFSET(journal!S$6,(ROW(Q8)-5)*5,,5,1))/SUM(journal!S$6:S$10),\"a\"),\"\")","v":""},{"$f":"IF(S$4<>\"\",IF(Saisie!Y13<>\"a\",S$4*SUM(OFFSET(journal!T$6,(ROW(R8)-5)*5,,5,1))/SUM(journal!T$6:T$10),\"a\"),\"\")","v":""},{"$f":"IF(T$4<>\"\",IF(Saisie!Z13<>\"a\",T$4*SUM(OFFSET(journal!U$6,(ROW(S8)-5)*5,,5,1))/SUM(journal!U$6:U$10),\"a\"),\"\")","v":""},{"$f":"IF(U$4<>\"\",IF(Saisie!AA13<>\"a\",U$4*SUM(OFFSET(journal!V$6,(ROW(T8)-5)*5,,5,1))/SUM(journal!V$6:V$10),\"a\"),\"\")","v":""},{"$f":"IF(V$4<>\"\",IF(Saisie!AB13<>\"a\",V$4*SUM(OFFSET(journal!W$6,(ROW(U8)-5)*5,,5,1))/SUM(journal!W$6:W$10),\"a\"),\"\")","v":""},{"$f":"IF(W$4<>\"\",IF(Saisie!AC13<>\"a\",W$4*SUM(OFFSET(journal!X$6,(ROW(V8)-5)*5,,5,1))/SUM(journal!X$6:X$10),\"a\"),\"\")","v":""},{"$f":"IF(X$4<>\"\",IF(Saisie!AD13<>\"a\",X$4*SUM(OFFSET(journal!Y$6,(ROW(W8)-5)*5,,5,1))/SUM(journal!Y$6:Y$10),\"a\"),\"\")","v":""},{"$f":"IF(Y$4<>\"\",IF(Saisie!AE13<>\"a\",Y$4*SUM(OFFSET(journal!Z$6,(ROW(X8)-5)*5,,5,1))/SUM(journal!Z$6:Z$10),\"a\"),\"\")","v":""},{"$f":"IF(Z$4<>\"\",IF(Saisie!AF13<>\"a\",Z$4*SUM(OFFSET(journal!AA$6,(ROW(Y8)-5)*5,,5,1))/SUM(journal!AA$6:AA$10),\"a\"),\"\")","v":""},{"$f":"IF(AA$4<>\"\",IF(Saisie!AG13<>\"a\",AA$4*SUM(OFFSET(journal!AB$6,(ROW(Z8)-5)*5,,5,1))/SUM(journal!AB$6:AB$10),\"a\"),\"\")","v":""},{"$f":"IF(AB$4<>\"\",IF(Saisie!AH13<>\"a\",AB$4*SUM(OFFSET(journal!AC$6,(ROW(AA8)-5)*5,,5,1))/SUM(journal!AC$6:AC$10),\"a\"),\"\")","v":""},{"$f":"IF(AC$4<>\"\",IF(Saisie!AI13<>\"a\",AC$4*SUM(OFFSET(journal!AD$6,(ROW(AB8)-5)*5,,5,1))/SUM(journal!AD$6:AD$10),\"a\"),\"\")","v":""},{"$f":"IF(AD$4<>\"\",IF(Saisie!AJ13<>\"a\",AD$4*SUM(OFFSET(journal!AE$6,(ROW(AC8)-5)*5,,5,1))/SUM(journal!AE$6:AE$10),\"a\"),\"\")","v":""},{"$f":"IF(AE$4<>\"\",IF(Saisie!AK13<>\"a\",AE$4*SUM(OFFSET(journal!AF$6,(ROW(AD8)-5)*5,,5,1))/SUM(journal!AF$6:AF$10),\"a\"),\"\")","v":""},{"$f":"IF(AF$4<>\"\",IF(Saisie!AL13<>\"a\",AF$4*SUM(OFFSET(journal!AG$6,(ROW(AE8)-5)*5,,5,1))/SUM(journal!AG$6:AG$10),\"a\"),\"\")","v":""},{"$f":"IF(AG$4<>\"\",IF(Saisie!AM13<>\"a\",AG$4*SUM(OFFSET(journal!AH$6,(ROW(AF8)-5)*5,,5,1))/SUM(journal!AH$6:AH$10),\"a\"),\"\")","v":""},{"$f":"IF(AH$4<>\"\",IF(Saisie!AN13<>\"a\",AH$4*SUM(OFFSET(journal!AI$6,(ROW(AG8)-5)*5,,5,1))/SUM(journal!AI$6:AI$10),\"a\"),\"\")","v":""},{"$f":"IF(AI$4<>\"\",IF(Saisie!AO13<>\"a\",AI$4*SUM(OFFSET(journal!AJ$6,(ROW(AH8)-5)*5,,5,1))/SUM(journal!AJ$6:AJ$10),\"a\"),\"\")","v":""},{"$f":"IF(AJ$4<>\"\",IF(Saisie!AP13<>\"a\",AJ$4*SUM(OFFSET(journal!AK$6,(ROW(AI8)-5)*5,,5,1))/SUM(journal!AK$6:AK$10),\"a\"),\"\")","v":""},{"$f":"IF(AK$4<>\"\",IF(Saisie!AQ13<>\"a\",AK$4*SUM(OFFSET(journal!AL$6,(ROW(AJ8)-5)*5,,5,1))/SUM(journal!AL$6:AL$10),\"a\"),\"\")","v":""},{"$f":"IF(AL$4<>\"\",IF(Saisie!AR13<>\"a\",AL$4*SUM(OFFSET(journal!AM$6,(ROW(AK8)-5)*5,,5,1))/SUM(journal!AM$6:AM$10),\"a\"),\"\")","v":""},{"$f":"IF(AM$4<>\"\",IF(Saisie!AS13<>\"a\",AM$4*SUM(OFFSET(journal!AN$6,(ROW(AL8)-5)*5,,5,1))/SUM(journal!AN$6:AN$10),\"a\"),\"\")","v":""},{"$f":"IF(AN$4<>\"\",IF(Saisie!AT13<>\"a\",AN$4*SUM(OFFSET(journal!AO$6,(ROW(AM8)-5)*5,,5,1))/SUM(journal!AO$6:AO$10),\"a\"),\"\")","v":""},{"$f":"IF(AO$4<>\"\",IF(Saisie!AU13<>\"a\",AO$4*SUM(OFFSET(journal!AP$6,(ROW(AN8)-5)*5,,5,1))/SUM(journal!AP$6:AP$10),\"a\"),\"\")","v":""},{"$f":"IF(AP$4<>\"\",IF(Saisie!AV13<>\"a\",AP$4*SUM(OFFSET(journal!AQ$6,(ROW(AO8)-5)*5,,5,1))/SUM(journal!AQ$6:AQ$10),\"a\"),\"\")","v":""},{"$f":"IF(AQ$4<>\"\",IF(Saisie!AW13<>\"a\",AQ$4*SUM(OFFSET(journal!AR$6,(ROW(AP8)-5)*5,,5,1))/SUM(journal!AR$6:AR$10),\"a\"),\"\")","v":""}]
[{"$f":"IF(Saisie!A14=\"\",\"\",Saisie!A14)","v":""},null,null,null,null,null,{"$f":"IF(G$4<>\"\",IF(Saisie!M14<>\"a\",G$4*SUM(OFFSET(journal!H$6,(ROW(F9)-5)*5,,5,1))/SUM(journal!H$6:H$10),\"a\"),\"\")","v":""},{"$f":"IF(H$4<>\"\",IF(Saisie!N14<>\"a\",H$4*SUM(OFFSET(journal!I$6,(ROW(G9)-5)*5,,5,1))/SUM(journal!I$6:I$10),\"a\"),\"\")","v":""},{"$f":"IF(I$4<>\"\",IF(Saisie!O14<>\"a\",I$4*SUM(OFFSET(journal!J$6,(ROW(H9)-5)*5,,5,1))/SUM(journal!J$6:J$10),\"a\"),\"\")","v":""},{"$f":"IF(J$4<>\"\",IF(Saisie!P14<>\"a\",J$4*SUM(OFFSET(journal!K$6,(ROW(I9)-5)*5,,5,1))/SUM(journal!K$6:K$10),\"a\"),\"\")","v":""},{"$f":"IF(K$4<>\"\",IF(Saisie!Q14<>\"a\",K$4*SUM(OFFSET(journal!L$6,(ROW(J9)-5)*5,,5,1))/SUM(journal!L$6:L$10),\"a\"),\"\")","v":""},{"$f":"IF(L$4<>\"\",IF(Saisie!R14<>\"a\",L$4*SUM(OFFSET(journal!M$6,(ROW(K9)-5)*5,,5,1))/SUM(journal!M$6:M$10),\"a\"),\"\")","v":""},{"$f":"IF(M$4<>\"\",IF(Saisie!S14<>\"a\",M$4*SUM(OFFSET(journal!N$6,(ROW(L9)-5)*5,,5,1))/SUM(journal!N$6:N$10),\"a\"),\"\")","v":""},{"$f":"IF(N$4<>\"\",IF(Saisie!T14<>\"a\",N$4*SUM(OFFSET(journal!O$6,(ROW(M9)-5)*5,,5,1))/SUM(journal!O$6:O$10),\"a\"),\"\")","v":""},{"$f":"IF(O$4<>\"\",IF(Saisie!U14<>\"a\",O$4*SUM(OFFSET(journal!P$6,(ROW(N9)-5)*5,,5,1))/SUM(journal!P$6:P$10),\"a\"),\"\")","v":""},{"$f":"IF(P$4<>\"\",IF(Saisie!V14<>\"a\",P$4*SUM(OFFSET(journal!Q$6,(ROW(O9)-5)*5,,5,1))/SUM(journal!Q$6:Q$10),\"a\"),\"\")","v":""},{"$f":"IF(Q$4<>\"\",IF(Saisie!W14<>\"a\",Q$4*SUM(OFFSET(journal!R$6,(ROW(P9)-5)*5,,5,1))/SUM(journal!R$6:R$10),\"a\"),\"\")","v":""},{"$f":"IF(R$4<>\"\",IF(Saisie!X14<>\"a\",R$4*SUM(OFFSET(journal!S$6,(ROW(Q9)-5)*5,,5,1))/SUM(journal!S$6:S$10),\"a\"),\"\")","v":""},{"$f":"IF(S$4<>\"\",IF(Saisie!Y14<>\"a\",S$4*SUM(OFFSET(journal!T$6,(ROW(R9)-5)*5,,5,1))/SUM(journal!T$6:T$10),\"a\"),\"\")","v":""},{"$f":"IF(T$4<>\"\",IF(Saisie!Z14<>\"a\",T$4*SUM(OFFSET(journal!U$6,(ROW(S9)-5)*5,,5,1))/SUM(journal!U$6:U$10),\"a\"),\"\")","v":""},{"$f":"IF(U$4<>\"\",IF(Saisie!AA14<>\"a\",U$4*SUM(OFFSET(journal!V$6,(ROW(T9)-5)*5,,5,1))/SUM(journal!V$6:V$10),\"a\"),\"\")","v":""},{"$f":"IF(V$4<>\"\",IF(Saisie!AB14<>\"a\",V$4*SUM(OFFSET(journal!W$6,(ROW(U9)-5)*5,,5,1))/SUM(journal!W$6:W$10),\"a\"),\"\")","v":""},{"$f":"IF(W$4<>\"\",IF(Saisie!AC14<>\"a\",W$4*SUM(OFFSET(journal!X$6,(ROW(V9)-5)*5,,5,1))/SUM(journal!X$6:X$10),\"a\"),\"\")","v":""},{"$f":"IF(X$4<>\"\",IF(Saisie!AD14<>\"a\",X$4*SUM(OFFSET(journal!Y$6,(ROW(W9)-5)*5,,5,1))/SUM(journal!Y$6:Y$10),\"a\"),\"\")","v":""},{"$f":"IF(Y$4<>\"\",IF(Saisie!AE14<>\"a\",Y$4*SUM(OFFSET(journal!Z$6,(ROW(X9)-5)*5,,5,1))/SUM(journal!Z$6:Z$10),\"a\"),\"\")","v":""},{"$f":"IF(Z$4<>\"\",IF(Saisie!AF14<>\"a\",Z$4*SUM(OFFSET(journal!AA$6,(ROW(Y9)-5)*5,,5,1))/SUM(journal!AA$6:AA$10),\"a\"),\"\")","v":""},{"$f":"IF(AA$4<>\"\",IF(Saisie!AG14<>\"a\",AA$4*SUM(OFFSET(journal!AB$6,(ROW(Z9)-5)*5,,5,1))/SUM(journal!AB$6:AB$10),\"a\"),\"\")","v":""},{"$f":"IF(AB$4<>\"\",IF(Saisie!AH14<>\"a\",AB$4*SUM(OFFSET(journal!AC$6,(ROW(AA9)-5)*5,,5,1))/SUM(journal!AC$6:AC$10),\"a\"),\"\")","v":""},{"$f":"IF(AC$4<>\"\",IF(Saisie!AI14<>\"a\",AC$4*SUM(OFFSET(journal!AD$6,(ROW(AB9)-5)*5,,5,1))/SUM(journal!AD$6:AD$10),\"a\"),\"\")","v":""},{"$f":"IF(AD$4<>\"\",IF(Saisie!AJ14<>\"a\",AD$4*SUM(OFFSET(journal!AE$6,(ROW(AC9)-5)*5,,5,1))/SUM(journal!AE$6:AE$10),\"a\"),\"\")","v":""},{"$f":"IF(AE$4<>\"\",IF(Saisie!AK14<>\"a\",AE$4*SUM(OFFSET(journal!AF$6,(ROW(AD9)-5)*5,,5,1))/SUM(journal!AF$6:AF$10),\"a\"),\"\")","v":""},{"$f":"IF(AF$4<>\"\",IF(Saisie!AL14<>\"a\",AF$4*SUM(OFFSET(journal!AG$6,(ROW(AE9)-5)*5,,5,1))/SUM(journal!AG$6:AG$10),\"a\"),\"\")","v":""},{"$f":"IF(AG$4<>\"\",IF(Saisie!AM14<>\"a\",AG$4*SUM(OFFSET(journal!AH$6,(ROW(AF9)-5)*5,,5,1))/SUM(journal!AH$6:AH$10),\"a\"),\"\")","v":""},{"$f":"IF(AH$4<>\"\",IF(Saisie!AN14<>\"a\",AH$4*SUM(OFFSET(journal!AI$6,(ROW(AG9)-5)*5,,5,1))/SUM(journal!AI$6:AI$10),\"a\"),\"\")","v":""},{"$f":"IF(AI$4<>\"\",IF(Saisie!AO14<>\"a\",AI$4*SUM(OFFSET(journal!AJ$6,(ROW(AH9)-5)*5,,5,1))/SUM(journal!AJ$6:AJ$10),\"a\"),\"\")","v":""},{"$f":"IF(AJ$4<>\"\",IF(Saisie!AP14<>\"a\",AJ$4*SUM(OFFSET(journal!AK$6,(ROW(AI9)-5)*5,,5,1))/SUM(journal!AK$6:AK$10),\"a\"),\"\")","v":""},{"$f":"IF(AK$4<>\"\",IF(Saisie!AQ14<>\"a\",AK$4*SUM(OFFSET(journal!AL$6,(ROW(AJ9)-5)*5,,5,1))/SUM(journal!AL$6:AL$10),\"a\"),\"\")","v":""},{"$f":"IF(AL$4<>\"\",IF(Saisie!AR14<>\"a\",AL$4*SUM(OFFSET(journal!AM$6,(ROW(AK9)-5)*5,,5,1))/SUM(journal!AM$6:AM$10),\"a\"),\"\")","v":""},{"$f":"IF(AM$4<>\"\",IF(Saisie!AS14<>\"a\",AM$4*SUM(OFFSET(journal!AN$6,(ROW(AL9)-5)*5,,5,1))/SUM(journal!AN$6:AN$10),\"a\"),\"\")","v":""},{"$f":"IF(AN$4<>\"\",IF(Saisie!AT14<>\"a\",AN$4*SUM(OFFSET(journal!AO$6,(ROW(AM9)-5)*5,,5,1))/SUM(journal!AO$6:AO$10),\"a\"),\"\")","v":""},{"$f":"IF(AO$4<>\"\",IF(Saisie!AU14<>\"a\",AO$4*SUM(OFFSET(journal!AP$6,(ROW(AN9)-5)*5,,5,1))/SUM(journal!AP$6:AP$10),\"a\"),\"\")","v":""},{"$f":"IF(AP$4<>\"\",IF(Saisie!AV14<>\"a\",AP$4*SUM(OFFSET(journal!AQ$6,(ROW(AO9)-5)*5,,5,1))/SUM(journal!AQ$6:AQ$10),\"a\"),\"\")","v":""},{"$f":"IF(AQ$4<>\"\",IF(Saisie!AW14<>\"a\",AQ$4*SUM(OFFSET(journal!AR$6,(ROW(AP9)-5)*5,,5,1))/SUM(journal!AR$6:AR$10),\"a\"),\"\")","v":""}]
[{"$f":"IF(Saisie!A15=\"\",\"\",Saisie!A15)","v":""},null,null,null,null,null,{"$f":"IF(G$4<>\"\",IF(Saisie!M15<>\"a\",G$4*SUM(OFFSET(journal!H$6,(ROW(F10)-5)*5,,5,1))/SUM(journal!H$6:H$10),\"a\"),\"\")","v":""},{"$f":"IF(H$4<>\"\",IF(Saisie!N15<>\"a\",H$4*SUM(OFFSET(journal!I$6,(ROW(G10)-5)*5,,5,1))/SUM(journal!I$6:I$10),\"a\"),\"\")","v":""},{"$f":"IF(I$4<>\"\",IF(Saisie!O15<>\"a\",I$4*SUM(OFFSET(journal!J$6,(ROW(H10)-5)*5,,5,1))/SUM(journal!J$6:J$10),\"a\"),\"\")","v":""},{"$f":"IF(J$4<>\"\",IF(Saisie!P15<>\"a\",J$4*SUM(OFFSET(journal!K$6,(ROW(I10)-5)*5,,5,1))/SUM(journal!K$6:K$10),\"a\"),\"\")","v":""},{"$f":"IF(K$4<>\"\",IF(Saisie!Q15<>\"a\",K$4*SUM(OFFSET(journal!L$6,(ROW(J10)-5)*5,,5,1))/SUM(journal!L$6:L$10),\"a\"),\"\")","v":""},{"$f":"IF(L$4<>\"\",IF(Saisie!R15<>\"a\",L$4*SUM(OFFSET(journal!M$6,(ROW(K10)-5)*5,,5,1))/SUM(journal!M$6:M$10),\"a\"),\"\")","v":""},{"$f":"IF(M$4<>\"\",IF(Saisie!S15<>\"a\",M$4*SUM(OFFSET(journal!N$6,(ROW(L10)-5)*5,,5,1))/SUM(journal!N$6:N$10),\"a\"),\"\")","v":""},{"$f":"IF(N$4<>\"\",IF(Saisie!T15<>\"a\",N$4*SUM(OFFSET(journal!O$6,(ROW(M10)-5)*5,,5,1))/SUM(journal!O$6:O$10),\"a\"),\"\")","v":""},{"$f":"IF(O$4<>\"\",IF(Saisie!U15<>\"a\",O$4*SUM(OFFSET(journal!P$6,(ROW(N10)-5)*5,,5,1))/SUM(journal!P$6:P$10),\"a\"),\"\")","v":""},{"$f":"IF(P$4<>\"\",IF(Saisie!V15<>\"a\",P$4*SUM(OFFSET(journal!Q$6,(ROW(O10)-5)*5,,5,1))/SUM(journal!Q$6:Q$10),\"a\"),\"\")","v":""},{"$f":"IF(Q$4<>\"\",IF(Saisie!W15<>\"a\",Q$4*SUM(OFFSET(journal!R$6,(ROW(P10)-5)*5,,5,1))/SUM(journal!R$6:R$10),\"a\"),\"\")","v":""},{"$f":"IF(R$4<>\"\",IF(Saisie!X15<>\"a\",R$4*SUM(OFFSET(journal!S$6,(ROW(Q10)-5)*5,,5,1))/SUM(journal!S$6:S$10),\"a\"),\"\")","v":""},{"$f":"IF(S$4<>\"\",IF(Saisie!Y15<>\"a\",S$4*SUM(OFFSET(journal!T$6,(ROW(R10)-5)*5,,5,1))/SUM(journal!T$6:T$10),\"a\"),\"\")","v":""},{"$f":"IF(T$4<>\"\",IF(Saisie!Z15<>\"a\",T$4*SUM(OFFSET(journal!U$6,(ROW(S10)-5)*5,,5,1))/SUM(journal!U$6:U$10),\"a\"),\"\")","v":""},{"$f":"IF(U$4<>\"\",IF(Saisie!AA15<>\"a\",U$4*SUM(OFFSET(journal!V$6,(ROW(T10)-5)*5,,5,1))/SUM(journal!V$6:V$10),\"a\"),\"\")","v":""},{"$f":"IF(V$4<>\"\",IF(Saisie!AB15<>\"a\",V$4*SUM(OFFSET(journal!W$6,(ROW(U10)-5)*5,,5,1))/SUM(journal!W$6:W$10),\"a\"),\"\")","v":""},{"$f":"IF(W$4<>\"\",IF(Saisie!AC15<>\"a\",W$4*SUM(OFFSET(journal!X$6,(ROW(V10)-5)*5,,5,1))/SUM(journal!X$6:X$10),\"a\"),\"\")","v":""},{"$f":"IF(X$4<>\"\",IF(Saisie!AD15<>\"a\",X$4*SUM(OFFSET(journal!Y$6,(ROW(W10)-5)*5,,5,1))/SUM(journal!Y$6:Y$10),\"a\"),\"\")","v":""},{"$f":"IF(Y$4<>\"\",IF(Saisie!AE15<>\"a\",Y$4*SUM(OFFSET(journal!Z$6,(ROW(X10)-5)*5,,5,1))/SUM(journal!Z$6:Z$10),\"a\"),\"\")","v":""},{"$f":"IF(Z$4<>\"\",IF(Saisie!AF15<>\"a\",Z$4*SUM(OFFSET(journal!AA$6,(ROW(Y10)-5)*5,,5,1))/SUM(journal!AA$6:AA$10),\"a\"),\"\")","v":""},{"$f":"IF(AA$4<>\"\",IF(Saisie!AG15<>\"a\",AA$4*SUM(OFFSET(journal!AB$6,(ROW(Z10)-5)*5,,5,1))/SUM(journal!AB$6:AB$10),\"a\"),\"\")","v":""},{"$f":"IF(AB$4<>\"\",IF(Saisie!AH15<>\"a\",AB$4*SUM(OFFSET(journal!AC$6,(ROW(AA10)-5)*5,,5,1))/SUM(journal!AC$6:AC$10),\"a\"),\"\")","v":""},{"$f":"IF(AC$4<>\"\",IF(Saisie!AI15<>\"a\",AC$4*SUM(OFFSET(journal!AD$6,(ROW(AB10)-5)*5,,5,1))/SUM(journal!AD$6:AD$10),\"a\"),\"\")","v":""},{"$f":"IF(AD$4<>\"\",IF(Saisie!AJ15<>\"a\",AD$4*SUM(OFFSET(journal!AE$6,(ROW(AC10)-5)*5,,5,1))/SUM(journal!AE$6:AE$10),\"a\"),\"\")","v":""},{"$f":"IF(AE$4<>\"\",IF(Saisie!AK15<>\"a\",AE$4*SUM(OFFSET(journal!AF$6,(ROW(AD10)-5)*5,,5,1))/SUM(journal!AF$6:AF$10),\"a\"),\"\")","v":""},{"$f":"IF(AF$4<>\"\",IF(Saisie!AL15<>\"a\",AF$4*SUM(OFFSET(journal!AG$6,(ROW(AE10)-5)*5,,5,1))/SUM(journal!AG$6:AG$10),\"a\"),\"\")","v":""},{"$f":"IF(AG$4<>\"\",IF(Saisie!AM15<>\"a\",AG$4*SUM(OFFSET(journal!AH$6,(ROW(AF10)-5)*5,,5,1))/SUM(journal!AH$6:AH$10),\"a\"),\"\")","v":""},{"$f":"IF(AH$4<>\"\",IF(Saisie!AN15<>\"a\",AH$4*SUM(OFFSET(journal!AI$6,(ROW(AG10)-5)*5,,5,1))/SUM(journal!AI$6:AI$10),\"a\"),\"\")","v":""},{"$f":"IF(AI$4<>\"\",IF(Saisie!AO15<>\"a\",AI$4*SUM(OFFSET(journal!AJ$6,(ROW(AH10)-5)*5,,5,1))/SUM(journal!AJ$6:AJ$10),\"a\"),\"\")","v":""},{"$f":"IF(AJ$4<>\"\",IF(Saisie!AP15<>\"a\",AJ$4*SUM(OFFSET(journal!AK$6,(ROW(AI10)-5)*5,,5,1))/SUM(journal!AK$6:AK$10),\"a\"),\"\")","v":""},{"$f":"IF(AK$4<>\"\",IF(Saisie!AQ15<>\"a\",AK$4*SUM(OFFSET(journal!AL$6,(ROW(AJ10)-5)*5,,5,1))/SUM(journal!AL$6:AL$10),\"a\"),\"\")","v":""},{"$f":"IF(AL$4<>\"\",IF(Saisie!AR15<>\"a\",AL$4*SUM(OFFSET(journal!AM$6,(ROW(AK10)-5)*5,,5,1))/SUM(journal!AM$6:AM$10),\"a\"),\"\")","v":""},{"$f":"IF(AM$4<>\"\",IF(Saisie!AS15<>\"a\",AM$4*SUM(OFFSET(journal!AN$6,(ROW(AL10)-5)*5,,5,1))/SUM(journal!AN$6:AN$10),\"a\"),\"\")","v":""},{"$f":"IF(AN$4<>\"\",IF(Saisie!AT15<>\"a\",AN$4*SUM(OFFSET(journal!AO$6,(ROW(AM10)-5)*5,,5,1))/SUM(journal!AO$6:AO$10),\"a\"),\"\")","v":""},{"$f":"IF(AO$4<>\"\",IF(Saisie!AU15<>\"a\",AO$4*SUM(OFFSET(journal!AP$6,(ROW(AN10)-5)*5,,5,1))/SUM(journal!AP$6:AP$10),\"a\"),\"\")","v":""},{"$f":"IF(AP$4<>\"\",IF(Saisie!AV15<>\"a\",AP$4*SUM(OFFSET(journal!AQ$6,(ROW(AO10)-5)*5,,5,1))/SUM(journal!AQ$6:AQ$10),\"a\"),\"\")","v":""},{"$f":"IF(AQ$4<>\"\",IF(Saisie!AW15<>\"a\",AQ$4*SUM(OFFSET(journal!AR$6,(ROW(AP10)-5)*5,,5,1))/SUM(journal!AR$6:AR$10),\"a\"),\"\")","v":""}]
[{"$f":"IF(Saisie!A16=\"\",\"\",Saisie!A16)","v":""},null,null,null,null,null,{"$f":"IF(G$4<>\"\",IF(Saisie!M16<>\"a\",G$4*SUM(OFFSET(journal!H$6,(ROW(F11)-5)*5,,5,1))/SUM(journal!H$6:H$10),\"a\"),\"\")","v":""},{"$f":"IF(H$4<>\"\",IF(Saisie!N16<>\"a\",H$4*SUM(OFFSET(journal!I$6,(ROW(G11)-5)*5,,5,1))/SUM(journal!I$6:I$10),\"a\"),\"\")","v":""},{"$f":"IF(I$4<>\"\",IF(Saisie!O16<>\"a\",I$4*SUM(OFFSET(journal!J$6,(ROW(H11)-5)*5,,5,1))/SUM(journal!J$6:J$10),\"a\"),\"\")","v":""},{"$f":"IF(J$4<>\"\",IF(Saisie!P16<>\"a\",J$4*SUM(OFFSET(journal!K$6,(ROW(I11)-5)*5,,5,1))/SUM(journal!K$6:K$10),\"a\"),\"\")","v":""},{"$f":"IF(K$4<>\"\",IF(Saisie!Q16<>\"a\",K$4*SUM(OFFSET(journal!L$6,(ROW(J11)-5)*5,,5,1))/SUM(journal!L$6:L$10),\"a\"),\"\")","v":""},{"$f":"IF(L$4<>\"\",IF(Saisie!R16<>\"a\",L$4*SUM(OFFSET(journal!M$6,(ROW(K11)-5)*5,,5,1))/SUM(journal!M$6:M$10),\"a\"),\"\")","v":""},{"$f":"IF(M$4<>\"\",IF(Saisie!S16<>\"a\",M$4*SUM(OFFSET(journal!N$6,(ROW(L11)-5)*5,,5,1))/SUM(journal!N$6:N$10),\"a\"),\"\")","v":""},{"$f":"IF(N$4<>\"\",IF(Saisie!T16<>\"a\",N$4*SUM(OFFSET(journal!O$6,(ROW(M11)-5)*5,,5,1))/SUM(journal!O$6:O$10),\"a\"),\"\")","v":""},{"$f":"IF(O$4<>\"\",IF(Saisie!U16<>\"a\",O$4*SUM(OFFSET(journal!P$6,(ROW(N11)-5)*5,,5,1))/SUM(journal!P$6:P$10),\"a\"),\"\")","v":""},{"$f":"IF(P$4<>\"\",IF(Saisie!V16<>\"a\",P$4*SUM(OFFSET(journal!Q$6,(ROW(O11)-5)*5,,5,1))/SUM(journal!Q$6:Q$10),\"a\"),\"\")","v":""},{"$f":"IF(Q$4<>\"\",IF(Saisie!W16<>\"a\",Q$4*SUM(OFFSET(journal!R$6,(ROW(P11)-5)*5,,5,1))/SUM(journal!R$6:R$10),\"a\"),\"\")","v":""},{"$f":"IF(R$4<>\"\",IF(Saisie!X16<>\"a\",R$4*SUM(OFFSET(journal!S$6,(ROW(Q11)-5)*5,,5,1))/SUM(journal!S$6:S$10),\"a\"),\"\")","v":""},{"$f":"IF(S$4<>\"\",IF(Saisie!Y16<>\"a\",S$4*SUM(OFFSET(journal!T$6,(ROW(R11)-5)*5,,5,1))/SUM(journal!T$6:T$10),\"a\"),\"\")","v":""},{"$f":"IF(T$4<>\"\",IF(Saisie!Z16<>\"a\",T$4*SUM(OFFSET(journal!U$6,(ROW(S11)-5)*5,,5,1))/SUM(journal!U$6:U$10),\"a\"),\"\")","v":""},{"$f":"IF(U$4<>\"\",IF(Saisie!AA16<>\"a\",U$4*SUM(OFFSET(journal!V$6,(ROW(T11)-5)*5,,5,1))/SUM(journal!V$6:V$10),\"a\"),\"\")","v":""},{"$f":"IF(V$4<>\"\",IF(Saisie!AB16<>\"a\",V$4*SUM(OFFSET(journal!W$6,(ROW(U11)-5)*5,,5,1))/SUM(journal!W$6:W$10),\"a\"),\"\")","v":""},{"$f":"IF(W$4<>\"\",IF(Saisie!AC16<>\"a\",W$4*SUM(OFFSET(journal!X$6,(ROW(V11)-5)*5,,5,1))/SUM(journal!X$6:X$10),\"a\"),\"\")","v":""},{"$f":"IF(X$4<>\"\",IF(Saisie!AD16<>\"a\",X$4*SUM(OFFSET(journal!Y$6,(ROW(W11)-5)*5,,5,1))/SUM(journal!Y$6:Y$10),\"a\"),\"\")","v":""},{"$f":"IF(Y$4<>\"\",IF(Saisie!AE16<>\"a\",Y$4*SUM(OFFSET(journal!Z$6,(ROW(X11)-5)*5,,5,1))/SUM(journal!Z$6:Z$10),\"a\"),\"\")","v":""},{"$f":"IF(Z$4<>\"\",IF(Saisie!AF16<>\"a\",Z$4*SUM(OFFSET(journal!AA$6,(ROW(Y11)-5)*5,,5,1))/SUM(journal!AA$6:AA$10),\"a\"),\"\")","v":""},{"$f":"IF(AA$4<>\"\",IF(Saisie!AG16<>\"a\",AA$4*SUM(OFFSET(journal!AB$6,(ROW(Z11)-5)*5,,5,1))/SUM(journal!AB$6:AB$10),\"a\"),\"\")","v":""},{"$f":"IF(AB$4<>\"\",IF(Saisie!AH16<>\"a\",AB$4*SUM(OFFSET(journal!AC$6,(ROW(AA11)-5)*5,,5,1))/SUM(journal!AC$6:AC$10),\"a\"),\"\")","v":""},{"$f":"IF(AC$4<>\"\",IF(Saisie!AI16<>\"a\",AC$4*SUM(OFFSET(journal!AD$6,(ROW(AB11)-5)*5,,5,1))/SUM(journal!AD$6:AD$10),\"a\"),\"\")","v":""},{"$f":"IF(AD$4<>\"\",IF(Saisie!AJ16<>\"a\",AD$4*SUM(OFFSET(journal!AE$6,(ROW(AC11)-5)*5,,5,1))/SUM(journal!AE$6:AE$10),\"a\"),\"\")","v":""},{"$f":"IF(AE$4<>\"\",IF(Saisie!AK16<>\"a\",AE$4*SUM(OFFSET(journal!AF$6,(ROW(AD11)-5)*5,,5,1))/SUM(journal!AF$6:AF$10),\"a\"),\"\")","v":""},{"$f":"IF(AF$4<>\"\",IF(Saisie!AL16<>\"a\",AF$4*SUM(OFFSET(journal!AG$6,(ROW(AE11)-5)*5,,5,1))/SUM(journal!AG$6:AG$10),\"a\"),\"\")","v":""},{"$f":"IF(AG$4<>\"\",IF(Saisie!AM16<>\"a\",AG$4*SUM(OFFSET(journal!AH$6,(ROW(AF11)-5)*5,,5,1))/SUM(journal!AH$6:AH$10),\"a\"),\"\")","v":""},{"$f":"IF(AH$4<>\"\",IF(Saisie!AN16<>\"a\",AH$4*SUM(OFFSET(journal!AI$6,(ROW(AG11)-5)*5,,5,1))/SUM(journal!AI$6:AI$10),\"a\"),\"\")","v":""},{"$f":"IF(AI$4<>\"\",IF(Saisie!AO16<>\"a\",AI$4*SUM(OFFSET(journal!AJ$6,(ROW(AH11)-5)*5,,5,1))/SUM(journal!AJ$6:AJ$10),\"a\"),\"\")","v":""},{"$f":"IF(AJ$4<>\"\",IF(Saisie!AP16<>\"a\",AJ$4*SUM(OFFSET(journal!AK$6,(ROW(AI11)-5)*5,,5,1))/SUM(journal!AK$6:AK$10),\"a\"),\"\")","v":""},{"$f":"IF(AK$4<>\"\",IF(Saisie!AQ16<>\"a\",AK$4*SUM(OFFSET(journal!AL$6,(ROW(AJ11)-5)*5,,5,1))/SUM(journal!AL$6:AL$10),\"a\"),\"\")","v":""},{"$f":"IF(AL$4<>\"\",IF(Saisie!AR16<>\"a\",AL$4*SUM(OFFSET(journal!AM$6,(ROW(AK11)-5)*5,,5,1))/SUM(journal!AM$6:AM$10),\"a\"),\"\")","v":""},{"$f":"IF(AM$4<>\"\",IF(Saisie!AS16<>\"a\",AM$4*SUM(OFFSET(journal!AN$6,(ROW(AL11)-5)*5,,5,1))/SUM(journal!AN$6:AN$10),\"a\"),\"\")","v":""},{"$f":"IF(AN$4<>\"\",IF(Saisie!AT16<>\"a\",AN$4*SUM(OFFSET(journal!AO$6,(ROW(AM11)-5)*5,,5,1))/SUM(journal!AO$6:AO$10),\"a\"),\"\")","v":""},{"$f":"IF(AO$4<>\"\",IF(Saisie!AU16<>\"a\",AO$4*SUM(OFFSET(journal!AP$6,(ROW(AN11)-5)*5,,5,1))/SUM(journal!AP$6:AP$10),\"a\"),\"\")","v":""},{"$f":"IF(AP$4<>\"\",IF(Saisie!AV16<>\"a\",AP$4*SUM(OFFSET(journal!AQ$6,(ROW(AO11)-5)*5,,5,1))/SUM(journal!AQ$6:AQ$10),\"a\"),\"\")","v":""},{"$f":"IF(AQ$4<>\"\",IF(Saisie!AW16<>\"a\",AQ$4*SUM(OFFSET(journal!AR$6,(ROW(AP11)-5)*5,,5,1))/SUM(journal!AR$6:AR$10),\"a\"),\"\")","v":""}]
[{"$f":"IF(Saisie!A17=\"\",\"\",Saisie!A17)","v":""},null,null,null,null,null,{"$f":"IF(G$4<>\"\",IF(Saisie!M17<>\"a\",G$4*SUM(OFFSET(journal!H$6,(ROW(F12)-5)*5,,5,1))/SUM(journal!H$6:H$10),\"a\"),\"\")","v":""},{"$f":"IF(H$4<>\"\",IF(Saisie!N17<>\"a\",H$4*SUM(OFFSET(journal!I$6,(ROW(G12)-5)*5,,5,1))/SUM(journal!I$6:I$10),\"a\"),\"\")","v":""},{"$f":"IF(I$4<>\"\",IF(Saisie!O17<>\"a\",I$4*SUM(OFFSET(journal!J$6,(ROW(H12)-5)*5,,5,1))/SUM(journal!J$6:J$10),\"a\"),\"\")","v":""},{"$f":"IF(J$4<>\"\",IF(Saisie!P17<>\"a\",J$4*SUM(OFFSET(journal!K$6,(ROW(I12)-5)*5,,5,1))/SUM(journal!K$6:K$10),\"a\"),\"\")","v":""},{"$f":"IF(K$4<>\"\",IF(Saisie!Q17<>\"a\",K$4*SUM(OFFSET(journal!L$6,(ROW(J12)-5)*5,,5,1))/SUM(journal!L$6:L$10),\"a\"),\"\")","v":""},{"$f":"IF(L$4<>\"\",IF(Saisie!R17<>\"a\",L$4*SUM(OFFSET(journal!M$6,(ROW(K12)-5)*5,,5,1))/SUM(journal!M$6:M$10),\"a\"),\"\")","v":""},{"$f":"IF(M$4<>\"\",IF(Saisie!S17<>\"a\",M$4*SUM(OFFSET(journal!N$6,(ROW(L12)-5)*5,,5,1))/SUM(journal!N$6:N$10),\"a\"),\"\")","v":""},{"$f":"IF(N$4<>\"\",IF(Saisie!T17<>\"a\",N$4*SUM(OFFSET(journal!O$6,(ROW(M12)-5)*5,,5,1))/SUM(journal!O$6:O$10),\"a\"),\"\")","v":""},{"$f":"IF(O$4<>\"\",IF(Saisie!U17<>\"a\",O$4*SUM(OFFSET(journal!P$6,(ROW(N12)-5)*5,,5,1))/SUM(journal!P$6:P$10),\"a\"),\"\")","v":""},{"$f":"IF(P$4<>\"\",IF(Saisie!V17<>\"a\",P$4*SUM(OFFSET(journal!Q$6,(ROW(O12)-5)*5,,5,1))/SUM(journal!Q$6:Q$10),\"a\"),\"\")","v":""},{"$f":"IF(Q$4<>\"\",IF(Saisie!W17<>\"a\",Q$4*SUM(OFFSET(journal!R$6,(ROW(P12)-5)*5,,5,1))/SUM(journal!R$6:R$10),\"a\"),\"\")","v":""},{"$f":"IF(R$4<>\"\",IF(Saisie!X17<>\"a\",R$4*SUM(OFFSET(journal!S$6,(ROW(Q12)-5)*5,,5,1))/SUM(journal!S$6:S$10),\"a\"),\"\")","v":""},{"$f":"IF(S$4<>\"\",IF(Saisie!Y17<>\"a\",S$4*SUM(OFFSET(journal!T$6,(ROW(R12)-5)*5,,5,1))/SUM(journal!T$6:T$10),\"a\"),\"\")","v":""},{"$f":"IF(T$4<>\"\",IF(Saisie!Z17<>\"a\",T$4*SUM(OFFSET(journal!U$6,(ROW(S12)-5)*5,,5,1))/SUM(journal!U$6:U$10),\"a\"),\"\")","v":""},{"$f":"IF(U$4<>\"\",IF(Saisie!AA17<>\"a\",U$4*SUM(OFFSET(journal!V$6,(ROW(T12)-5)*5,,5,1))/SUM(journal!V$6:V$10),\"a\"),\"\")","v":""},{"$f":"IF(V$4<>\"\",IF(Saisie!AB17<>\"a\",V$4*SUM(OFFSET(journal!W$6,(ROW(U12)-5)*5,,5,1))/SUM(journal!W$6:W$10),\"a\"),\"\")","v":""},{"$f":"IF(W$4<>\"\",IF(Saisie!AC17<>\"a\",W$4*SUM(OFFSET(journal!X$6,(ROW(V12)-5)*5,,5,1))/SUM(journal!X$6:X$10),\"a\"),\"\")","v":""},{"$f":"IF(X$4<>\"\",IF(Saisie!AD17<>\"a\",X$4*SUM(OFFSET(journal!Y$6,(ROW(W12)-5)*5,,5,1))/SUM(journal!Y$6:Y$10),\"a\"),\"\")","v":""},{"$f":"IF(Y$4<>\"\",IF(Saisie!AE17<>\"a\",Y$4*SUM(OFFSET(journal!Z$6,(ROW(X12)-5)*5,,5,1))/SUM(journal!Z$6:Z$10),\"a\"),\"\")","v":""},{"$f":"IF(Z$4<>\"\",IF(Saisie!AF17<>\"a\",Z$4*SUM(OFFSET(journal!AA$6,(ROW(Y12)-5)*5,,5,1))/SUM(journal!AA$6:AA$10),\"a\"),\"\")","v":""},{"$f":"IF(AA$4<>\"\",IF(Saisie!AG17<>\"a\",AA$4*SUM(OFFSET(journal!AB$6,(ROW(Z12)-5)*5,,5,1))/SUM(journal!AB$6:AB$10),\"a\"),\"\")","v":""},{"$f":"IF(AB$4<>\"\",IF(Saisie!AH17<>\"a\",AB$4*SUM(OFFSET(journal!AC$6,(ROW(AA12)-5)*5,,5,1))/SUM(journal!AC$6:AC$10),\"a\"),\"\")","v":""},{"$f":"IF(AC$4<>\"\",IF(Saisie!AI17<>\"a\",AC$4*SUM(OFFSET(journal!AD$6,(ROW(AB12)-5)*5,,5,1))/SUM(journal!AD$6:AD$10),\"a\"),\"\")","v":""},{"$f":"IF(AD$4<>\"\",IF(Saisie!AJ17<>\"a\",AD$4*SUM(OFFSET(journal!AE$6,(ROW(AC12)-5)*5,,5,1))/SUM(journal!AE$6:AE$10),\"a\"),\"\")","v":""},{"$f":"IF(AE$4<>\"\",IF(Saisie!AK17<>\"a\",AE$4*SUM(OFFSET(journal!AF$6,(ROW(AD12)-5)*5,,5,1))/SUM(journal!AF$6:AF$10),\"a\"),\"\")","v":""},{"$f":"IF(AF$4<>\"\",IF(Saisie!AL17<>\"a\",AF$4*SUM(OFFSET(journal!AG$6,(ROW(AE12)-5)*5,,5,1))/SUM(journal!AG$6:AG$10),\"a\"),\"\")","v":""},{"$f":"IF(AG$4<>\"\",IF(Saisie!AM17<>\"a\",AG$4*SUM(OFFSET(journal!AH$6,(ROW(AF12)-5)*5,,5,1))/SUM(journal!AH$6:AH$10),\"a\"),\"\")","v":""},{"$f":"IF(AH$4<>\"\",IF(Saisie!AN17<>\"a\",AH$4*SUM(OFFSET(journal!AI$6,(ROW(AG12)-5)*5,,5,1))/SUM(journal!AI$6:AI$10),\"a\"),\"\")","v":""},{"$f":"IF(AI$4<>\"\",IF(Saisie!AO17<>\"a\",AI$4*SUM(OFFSET(journal!AJ$6,(ROW(AH12)-5)*5,,5,1))/SUM(journal!AJ$6:AJ$10),\"a\"),\"\")","v":""},{"$f":"IF(AJ$4<>\"\",IF(Saisie!AP17<>\"a\",AJ$4*SUM(OFFSET(journal!AK$6,(ROW(AI12)-5)*5,,5,1))/SUM(journal!AK$6:AK$10),\"a\"),\"\")","v":""},{"$f":"IF(AK$4<>\"\",IF(Saisie!AQ17<>\"a\",AK$4*SUM(OFFSET(journal!AL$6,(ROW(AJ12)-5)*5,,5,1))/SUM(journal!AL$6:AL$10),\"a\"),\"\")","v":""},{"$f":"IF(AL$4<>\"\",IF(Saisie!AR17<>\"a\",AL$4*SUM(OFFSET(journal!AM$6,(ROW(AK12)-5)*5,,5,1))/SUM(journal!AM$6:AM$10),\"a\"),\"\")","v":""},{"$f":"IF(AM$4<>\"\",IF(Saisie!AS17<>\"a\",AM$4*SUM(OFFSET(journal!AN$6,(ROW(AL12)-5)*5,,5,1))/SUM(journal!AN$6:AN$10),\"a\"),\"\")","v":""},{"$f":"IF(AN$4<>\"\",IF(Saisie!AT17<>\"a\",AN$4*SUM(OFFSET(journal!AO$6,(ROW(AM12)-5)*5,,5,1))/SUM(journal!AO$6:AO$10),\"a\"),\"\")","v":""},{"$f":"IF(AO$4<>\"\",IF(Saisie!AU17<>\"a\",AO$4*SUM(OFFSET(journal!AP$6,(ROW(AN12)-5)*5,,5,1))/SUM(journal!AP$6:AP$10),\"a\"),\"\")","v":""},{"$f":"IF(AP$4<>\"\",IF(Saisie!AV17<>\"a\",AP$4*SUM(OFFSET(journal!AQ$6,(ROW(AO12)-5)*5,,5,1))/SUM(journal!AQ$6:AQ$10),\"a\"),\"\")","v":""},{"$f":"IF(AQ$4<>\"\",IF(Saisie!AW17<>\"a\",AQ$4*SUM(OFFSET(journal!AR$6,(ROW(AP12)-5)*5,,5,1))/SUM(journal!AR$6:AR$10),\"a\"),\"\")","v":""}]
[{"$f":"IF(Saisie!A18=\"\",\"\",Saisie!A18)","v":""},null,null,null,null,null,{"$f":"IF(G$4<>\"\",IF(Saisie!M18<>\"a\",G$4*SUM(OFFSET(journal!H$6,(ROW(F13)-5)*5,,5,1))/SUM(journal!H$6:H$10),\"a\"),\"\")","v":""},{"$f":"IF(H$4<>\"\",IF(Saisie!N18<>\"a\",H$4*SUM(OFFSET(journal!I$6,(ROW(G13)-5)*5,,5,1))/SUM(journal!I$6:I$10),\"a\"),\"\")","v":""},{"$f":"IF(I$4<>\"\",IF(Saisie!O18<>\"a\",I$4*SUM(OFFSET(journal!J$6,(ROW(H13)-5)*5,,5,1))/SUM(journal!J$6:J$10),\"a\"),\"\")","v":""},{"$f":"IF(J$4<>\"\",IF(Saisie!P18<>\"a\",J$4*SUM(OFFSET(journal!K$6,(ROW(I13)-5)*5,,5,1))/SUM(journal!K$6:K$10),\"a\"),\"\")","v":""},{"$f":"IF(K$4<>\"\",IF(Saisie!Q18<>\"a\",K$4*SUM(OFFSET(journal!L$6,(ROW(J13)-5)*5,,5,1))/SUM(journal!L$6:L$10),\"a\"),\"\")","v":""},{"$f":"IF(L$4<>\"\",IF(Saisie!R18<>\"a\",L$4*SUM(OFFSET(journal!M$6,(ROW(K13)-5)*5,,5,1))/SUM(journal!M$6:M$10),\"a\"),\"\")","v":""},{"$f":"IF(M$4<>\"\",IF(Saisie!S18<>\"a\",M$4*SUM(OFFSET(journal!N$6,(ROW(L13)-5)*5,,5,1))/SUM(journal!N$6:N$10),\"a\"),\"\")","v":""},{"$f":"IF(N$4<>\"\",IF(Saisie!T18<>\"a\",N$4*SUM(OFFSET(journal!O$6,(ROW(M13)-5)*5,,5,1))/SUM(journal!O$6:O$10),\"a\"),\"\")","v":""},{"$f":"IF(O$4<>\"\",IF(Saisie!U18<>\"a\",O$4*SUM(OFFSET(journal!P$6,(ROW(N13)-5)*5,,5,1))/SUM(journal!P$6:P$10),\"a\"),\"\")","v":""},{"$f":"IF(P$4<>\"\",IF(Saisie!V18<>\"a\",P$4*SUM(OFFSET(journal!Q$6,(ROW(O13)-5)*5,,5,1))/SUM(journal!Q$6:Q$10),\"a\"),\"\")","v":""},{"$f":"IF(Q$4<>\"\",IF(Saisie!W18<>\"a\",Q$4*SUM(OFFSET(journal!R$6,(ROW(P13)-5)*5,,5,1))/SUM(journal!R$6:R$10),\"a\"),\"\")","v":""},{"$f":"IF(R$4<>\"\",IF(Saisie!X18<>\"a\",R$4*SUM(OFFSET(journal!S$6,(ROW(Q13)-5)*5,,5,1))/SUM(journal!S$6:S$10),\"a\"),\"\")","v":""},{"$f":"IF(S$4<>\"\",IF(Saisie!Y18<>\"a\",S$4*SUM(OFFSET(journal!T$6,(ROW(R13)-5)*5,,5,1))/SUM(journal!T$6:T$10),\"a\"),\"\")","v":""},{"$f":"IF(T$4<>\"\",IF(Saisie!Z18<>\"a\",T$4*SUM(OFFSET(journal!U$6,(ROW(S13)-5)*5,,5,1))/SUM(journal!U$6:U$10),\"a\"),\"\")","v":""},{"$f":"IF(U$4<>\"\",IF(Saisie!AA18<>\"a\",U$4*SUM(OFFSET(journal!V$6,(ROW(T13)-5)*5,,5,1))/SUM(journal!V$6:V$10),\"a\"),\"\")","v":""},{"$f":"IF(V$4<>\"\",IF(Saisie!AB18<>\"a\",V$4*SUM(OFFSET(journal!W$6,(ROW(U13)-5)*5,,5,1))/SUM(journal!W$6:W$10),\"a\"),\"\")","v":""},{"$f":"IF(W$4<>\"\",IF(Saisie!AC18<>\"a\",W$4*SUM(OFFSET(journal!X$6,(ROW(V13)-5)*5,,5,1))/SUM(journal!X$6:X$10),\"a\"),\"\")","v":""},{"$f":"IF(X$4<>\"\",IF(Saisie!AD18<>\"a\",X$4*SUM(OFFSET(journal!Y$6,(ROW(W13)-5)*5,,5,1))/SUM(journal!Y$6:Y$10),\"a\"),\"\")","v":""},{"$f":"IF(Y$4<>\"\",IF(Saisie!AE18<>\"a\",Y$4*SUM(OFFSET(journal!Z$6,(ROW(X13)-5)*5,,5,1))/SUM(journal!Z$6:Z$10),\"a\"),\"\")","v":""},{"$f":"IF(Z$4<>\"\",IF(Saisie!AF18<>\"a\",Z$4*SUM(OFFSET(journal!AA$6,(ROW(Y13)-5)*5,,5,1))/SUM(journal!AA$6:AA$10),\"a\"),\"\")","v":""},{"$f":"IF(AA$4<>\"\",IF(Saisie!AG18<>\"a\",AA$4*SUM(OFFSET(journal!AB$6,(ROW(Z13)-5)*5,,5,1))/SUM(journal!AB$6:AB$10),\"a\"),\"\")","v":""},{"$f":"IF(AB$4<>\"\",IF(Saisie!AH18<>\"a\",AB$4*SUM(OFFSET(journal!AC$6,(ROW(AA13)-5)*5,,5,1))/SUM(journal!AC$6:AC$10),\"a\"),\"\")","v":""},{"$f":"IF(AC$4<>\"\",IF(Saisie!AI18<>\"a\",AC$4*SUM(OFFSET(journal!AD$6,(ROW(AB13)-5)*5,,5,1))/SUM(journal!AD$6:AD$10),\"a\"),\"\")","v":""},{"$f":"IF(AD$4<>\"\",IF(Saisie!AJ18<>\"a\",AD$4*SUM(OFFSET(journal!AE$6,(ROW(AC13)-5)*5,,5,1))/SUM(journal!AE$6:AE$10),\"a\"),\"\")","v":""},{"$f":"IF(AE$4<>\"\",IF(Saisie!AK18<>\"a\",AE$4*SUM(OFFSET(journal!AF$6,(ROW(AD13)-5)*5,,5,1))/SUM(journal!AF$6:AF$10),\"a\"),\"\")","v":""},{"$f":"IF(AF$4<>\"\",IF(Saisie!AL18<>\"a\",AF$4*SUM(OFFSET(journal!AG$6,(ROW(AE13)-5)*5,,5,1))/SUM(journal!AG$6:AG$10),\"a\"),\"\")","v":""},{"$f":"IF(AG$4<>\"\",IF(Saisie!AM18<>\"a\",AG$4*SUM(OFFSET(journal!AH$6,(ROW(AF13)-5)*5,,5,1))/SUM(journal!AH$6:AH$10),\"a\"),\"\")","v":""},{"$f":"IF(AH$4<>\"\",IF(Saisie!AN18<>\"a\",AH$4*SUM(OFFSET(journal!AI$6,(ROW(AG13)-5)*5,,5,1))/SUM(journal!AI$6:AI$10),\"a\"),\"\")","v":""},{"$f":"IF(AI$4<>\"\",IF(Saisie!AO18<>\"a\",AI$4*SUM(OFFSET(journal!AJ$6,(ROW(AH13)-5)*5,,5,1))/SUM(journal!AJ$6:AJ$10),\"a\"),\"\")","v":""},{"$f":"IF(AJ$4<>\"\",IF(Saisie!AP18<>\"a\",AJ$4*SUM(OFFSET(journal!AK$6,(ROW(AI13)-5)*5,,5,1))/SUM(journal!AK$6:AK$10),\"a\"),\"\")","v":""},{"$f":"IF(AK$4<>\"\",IF(Saisie!AQ18<>\"a\",AK$4*SUM(OFFSET(journal!AL$6,(ROW(AJ13)-5)*5,,5,1))/SUM(journal!AL$6:AL$10),\"a\"),\"\")","v":""},{"$f":"IF(AL$4<>\"\",IF(Saisie!AR18<>\"a\",AL$4*SUM(OFFSET(journal!AM$6,(ROW(AK13)-5)*5,,5,1))/SUM(journal!AM$6:AM$10),\"a\"),\"\")","v":""},{"$f":"IF(AM$4<>\"\",IF(Saisie!AS18<>\"a\",AM$4*SUM(OFFSET(journal!AN$6,(ROW(AL13)-5)*5,,5,1))/SUM(journal!AN$6:AN$10),\"a\"),\"\")","v":""},{"$f":"IF(AN$4<>\"\",IF(Saisie!AT18<>\"a\",AN$4*SUM(OFFSET(journal!AO$6,(ROW(AM13)-5)*5,,5,1))/SUM(journal!AO$6:AO$10),\"a\"),\"\")","v":""},{"$f":"IF(AO$4<>\"\",IF(Saisie!AU18<>\"a\",AO$4*SUM(OFFSET(journal!AP$6,(ROW(AN13)-5)*5,,5,1))/SUM(journal!AP$6:AP$10),\"a\"),\"\")","v":""},{"$f":"IF(AP$4<>\"\",IF(Saisie!AV18<>\"a\",AP$4*SUM(OFFSET(journal!AQ$6,(ROW(AO13)-5)*5,,5,1))/SUM(journal!AQ$6:AQ$10),\"a\"),\"\")","v":""},{"$f":"IF(AQ$4<>\"\",IF(Saisie!AW18<>\"a\",AQ$4*SUM(OFFSET(journal!AR$6,(ROW(AP13)-5)*5,,5,1))/SUM(journal!AR$6:AR$10),\"a\"),\"\")","v":""}]
[{"$f":"IF(Saisie!A19=\"\",\"\",Saisie!A19)","v":""},null,null,null,null,null,{"$f":"IF(G$4<>\"\",IF(Saisie!M19<>\"a\",G$4*SUM(OFFSET(journal!H$6,(ROW(F14)-5)*5,,5,1))/SUM(journal!H$6:H$10),\"a\"),\"\")","v":""},{"$f":"IF(H$4<>\"\",IF(Saisie!N19<>\"a\",H$4*SUM(OFFSET(journal!I$6,(ROW(G14)-5)*5,,5,1))/SUM(journal!I$6:I$10),\"a\"),\"\")","v":""},{"$f":"IF(I$4<>\"\",IF(Saisie!O19<>\"a\",I$4*SUM(OFFSET(journal!J$6,(ROW(H14)-5)*5,,5,1))/SUM(journal!J$6:J$10),\"a\"),\"\")","v":""},{"$f":"IF(J$4<>\"\",IF(Saisie!P19<>\"a\",J$4*SUM(OFFSET(journal!K$6,(ROW(I14)-5)*5,,5,1))/SUM(journal!K$6:K$10),\"a\"),\"\")","v":""},{"$f":"IF(K$4<>\"\",IF(Saisie!Q19<>\"a\",K$4*SUM(OFFSET(journal!L$6,(ROW(J14)-5)*5,,5,1))/SUM(journal!L$6:L$10),\"a\"),\"\")","v":""},{"$f":"IF(L$4<>\"\",IF(Saisie!R19<>\"a\",L$4*SUM(OFFSET(journal!M$6,(ROW(K14)-5)*5,,5,1))/SUM(journal!M$6:M$10),\"a\"),\"\")","v":""},{"$f":"IF(M$4<>\"\",IF(Saisie!S19<>\"a\",M$4*SUM(OFFSET(journal!N$6,(ROW(L14)-5)*5,,5,1))/SUM(journal!N$6:N$10),\"a\"),\"\")","v":""},{"$f":"IF(N$4<>\"\",IF(Saisie!T19<>\"a\",N$4*SUM(OFFSET(journal!O$6,(ROW(M14)-5)*5,,5,1))/SUM(journal!O$6:O$10),\"a\"),\"\")","v":""},{"$f":"IF(O$4<>\"\",IF(Saisie!U19<>\"a\",O$4*SUM(OFFSET(journal!P$6,(ROW(N14)-5)*5,,5,1))/SUM(journal!P$6:P$10),\"a\"),\"\")","v":""},{"$f":"IF(P$4<>\"\",IF(Saisie!V19<>\"a\",P$4*SUM(OFFSET(journal!Q$6,(ROW(O14)-5)*5,,5,1))/SUM(journal!Q$6:Q$10),\"a\"),\"\")","v":""},{"$f":"IF(Q$4<>\"\",IF(Saisie!W19<>\"a\",Q$4*SUM(OFFSET(journal!R$6,(ROW(P14)-5)*5,,5,1))/SUM(journal!R$6:R$10),\"a\"),\"\")","v":""},{"$f":"IF(R$4<>\"\",IF(Saisie!X19<>\"a\",R$4*SUM(OFFSET(journal!S$6,(ROW(Q14)-5)*5,,5,1))/SUM(journal!S$6:S$10),\"a\"),\"\")","v":""},{"$f":"IF(S$4<>\"\",IF(Saisie!Y19<>\"a\",S$4*SUM(OFFSET(journal!T$6,(ROW(R14)-5)*5,,5,1))/SUM(journal!T$6:T$10),\"a\"),\"\")","v":""},{"$f":"IF(T$4<>\"\",IF(Saisie!Z19<>\"a\",T$4*SUM(OFFSET(journal!U$6,(ROW(S14)-5)*5,,5,1))/SUM(journal!U$6:U$10),\"a\"),\"\")","v":""},{"$f":"IF(U$4<>\"\",IF(Saisie!AA19<>\"a\",U$4*SUM(OFFSET(journal!V$6,(ROW(T14)-5)*5,,5,1))/SUM(journal!V$6:V$10),\"a\"),\"\")","v":""},{"$f":"IF(V$4<>\"\",IF(Saisie!AB19<>\"a\",V$4*SUM(OFFSET(journal!W$6,(ROW(U14)-5)*5,,5,1))/SUM(journal!W$6:W$10),\"a\"),\"\")","v":""},{"$f":"IF(W$4<>\"\",IF(Saisie!AC19<>\"a\",W$4*SUM(OFFSET(journal!X$6,(ROW(V14)-5)*5,,5,1))/SUM(journal!X$6:X$10),\"a\"),\"\")","v":""},{"$f":"IF(X$4<>\"\",IF(Saisie!AD19<>\"a\",X$4*SUM(OFFSET(journal!Y$6,(ROW(W14)-5)*5,,5,1))/SUM(journal!Y$6:Y$10),\"a\"),\"\")","v":""},{"$f":"IF(Y$4<>\"\",IF(Saisie!AE19<>\"a\",Y$4*SUM(OFFSET(journal!Z$6,(ROW(X14)-5)*5,,5,1))/SUM(journal!Z$6:Z$10),\"a\"),\"\")","v":""},{"$f":"IF(Z$4<>\"\",IF(Saisie!AF19<>\"a\",Z$4*SUM(OFFSET(journal!AA$6,(ROW(Y14)-5)*5,,5,1))/SUM(journal!AA$6:AA$10),\"a\"),\"\")","v":""},{"$f":"IF(AA$4<>\"\",IF(Saisie!AG19<>\"a\",AA$4*SUM(OFFSET(journal!AB$6,(ROW(Z14)-5)*5,,5,1))/SUM(journal!AB$6:AB$10),\"a\"),\"\")","v":""},{"$f":"IF(AB$4<>\"\",IF(Saisie!AH19<>\"a\",AB$4*SUM(OFFSET(journal!AC$6,(ROW(AA14)-5)*5,,5,1))/SUM(journal!AC$6:AC$10),\"a\"),\"\")","v":""},{"$f":"IF(AC$4<>\"\",IF(Saisie!AI19<>\"a\",AC$4*SUM(OFFSET(journal!AD$6,(ROW(AB14)-5)*5,,5,1))/SUM(journal!AD$6:AD$10),\"a\"),\"\")","v":""},{"$f":"IF(AD$4<>\"\",IF(Saisie!AJ19<>\"a\",AD$4*SUM(OFFSET(journal!AE$6,(ROW(AC14)-5)*5,,5,1))/SUM(journal!AE$6:AE$10),\"a\"),\"\")","v":""},{"$f":"IF(AE$4<>\"\",IF(Saisie!AK19<>\"a\",AE$4*SUM(OFFSET(journal!AF$6,(ROW(AD14)-5)*5,,5,1))/SUM(journal!AF$6:AF$10),\"a\"),\"\")","v":""},{"$f":"IF(AF$4<>\"\",IF(Saisie!AL19<>\"a\",AF$4*SUM(OFFSET(journal!AG$6,(ROW(AE14)-5)*5,,5,1))/SUM(journal!AG$6:AG$10),\"a\"),\"\")","v":""},{"$f":"IF(AG$4<>\"\",IF(Saisie!AM19<>\"a\",AG$4*SUM(OFFSET(journal!AH$6,(ROW(AF14)-5)*5,,5,1))/SUM(journal!AH$6:AH$10),\"a\"),\"\")","v":""},{"$f":"IF(AH$4<>\"\",IF(Saisie!AN19<>\"a\",AH$4*SUM(OFFSET(journal!AI$6,(ROW(AG14)-5)*5,,5,1))/SUM(journal!AI$6:AI$10),\"a\"),\"\")","v":""},{"$f":"IF(AI$4<>\"\",IF(Saisie!AO19<>\"a\",AI$4*SUM(OFFSET(journal!AJ$6,(ROW(AH14)-5)*5,,5,1))/SUM(journal!AJ$6:AJ$10),\"a\"),\"\")","v":""},{"$f":"IF(AJ$4<>\"\",IF(Saisie!AP19<>\"a\",AJ$4*SUM(OFFSET(journal!AK$6,(ROW(AI14)-5)*5,,5,1))/SUM(journal!AK$6:AK$10),\"a\"),\"\")","v":""},{"$f":"IF(AK$4<>\"\",IF(Saisie!AQ19<>\"a\",AK$4*SUM(OFFSET(journal!AL$6,(ROW(AJ14)-5)*5,,5,1))/SUM(journal!AL$6:AL$10),\"a\"),\"\")","v":""},{"$f":"IF(AL$4<>\"\",IF(Saisie!AR19<>\"a\",AL$4*SUM(OFFSET(journal!AM$6,(ROW(AK14)-5)*5,,5,1))/SUM(journal!AM$6:AM$10),\"a\"),\"\")","v":""},{"$f":"IF(AM$4<>\"\",IF(Saisie!AS19<>\"a\",AM$4*SUM(OFFSET(journal!AN$6,(ROW(AL14)-5)*5,,5,1))/SUM(journal!AN$6:AN$10),\"a\"),\"\")","v":""},{"$f":"IF(AN$4<>\"\",IF(Saisie!AT19<>\"a\",AN$4*SUM(OFFSET(journal!AO$6,(ROW(AM14)-5)*5,,5,1))/SUM(journal!AO$6:AO$10),\"a\"),\"\")","v":""},{"$f":"IF(AO$4<>\"\",IF(Saisie!AU19<>\"a\",AO$4*SUM(OFFSET(journal!AP$6,(ROW(AN14)-5)*5,,5,1))/SUM(journal!AP$6:AP$10),\"a\"),\"\")","v":""},{"$f":"IF(AP$4<>\"\",IF(Saisie!AV19<>\"a\",AP$4*SUM(OFFSET(journal!AQ$6,(ROW(AO14)-5)*5,,5,1))/SUM(journal!AQ$6:AQ$10),\"a\"),\"\")","v":""},{"$f":"IF(AQ$4<>\"\",IF(Saisie!AW19<>\"a\",AQ$4*SUM(OFFSET(journal!AR$6,(ROW(AP14)-5)*5,,5,1))/SUM(journal!AR$6:AR$10),\"a\"),\"\")","v":""}]
[{"$f":"IF(Saisie!A20=\"\",\"\",Saisie!A20)","v":""},null,null,null,null,null,{"$f":"IF(G$4<>\"\",IF(Saisie!M20<>\"a\",G$4*SUM(OFFSET(journal!H$6,(ROW(F15)-5)*5,,5,1))/SUM(journal!H$6:H$10),\"a\"),\"\")","v":""},{"$f":"IF(H$4<>\"\",IF(Saisie!N20<>\"a\",H$4*SUM(OFFSET(journal!I$6,(ROW(G15)-5)*5,,5,1))/SUM(journal!I$6:I$10),\"a\"),\"\")","v":""},{"$f":"IF(I$4<>\"\",IF(Saisie!O20<>\"a\",I$4*SUM(OFFSET(journal!J$6,(ROW(H15)-5)*5,,5,1))/SUM(journal!J$6:J$10),\"a\"),\"\")","v":""},{"$f":"IF(J$4<>\"\",IF(Saisie!P20<>\"a\",J$4*SUM(OFFSET(journal!K$6,(ROW(I15)-5)*5,,5,1))/SUM(journal!K$6:K$10),\"a\"),\"\")","v":""},{"$f":"IF(K$4<>\"\",IF(Saisie!Q20<>\"a\",K$4*SUM(OFFSET(journal!L$6,(ROW(J15)-5)*5,,5,1))/SUM(journal!L$6:L$10),\"a\"),\"\")","v":""},{"$f":"IF(L$4<>\"\",IF(Saisie!R20<>\"a\",L$4*SUM(OFFSET(journal!M$6,(ROW(K15)-5)*5,,5,1))/SUM(journal!M$6:M$10),\"a\"),\"\")","v":""},{"$f":"IF(M$4<>\"\",IF(Saisie!S20<>\"a\",M$4*SUM(OFFSET(journal!N$6,(ROW(L15)-5)*5,,5,1))/SUM(journal!N$6:N$10),\"a\"),\"\")","v":""},{"$f":"IF(N$4<>\"\",IF(Saisie!T20<>\"a\",N$4*SUM(OFFSET(journal!O$6,(ROW(M15)-5)*5,,5,1))/SUM(journal!O$6:O$10),\"a\"),\"\")","v":""},{"$f":"IF(O$4<>\"\",IF(Saisie!U20<>\"a\",O$4*SUM(OFFSET(journal!P$6,(ROW(N15)-5)*5,,5,1))/SUM(journal!P$6:P$10),\"a\"),\"\")","v":""},{"$f":"IF(P$4<>\"\",IF(Saisie!V20<>\"a\",P$4*SUM(OFFSET(journal!Q$6,(ROW(O15)-5)*5,,5,1))/SUM(journal!Q$6:Q$10),\"a\"),\"\")","v":""},{"$f":"IF(Q$4<>\"\",IF(Saisie!W20<>\"a\",Q$4*SUM(OFFSET(journal!R$6,(ROW(P15)-5)*5,,5,1))/SUM(journal!R$6:R$10),\"a\"),\"\")","v":""},{"$f":"IF(R$4<>\"\",IF(Saisie!X20<>\"a\",R$4*SUM(OFFSET(journal!S$6,(ROW(Q15)-5)*5,,5,1))/SUM(journal!S$6:S$10),\"a\"),\"\")","v":""},{"$f":"IF(S$4<>\"\",IF(Saisie!Y20<>\"a\",S$4*SUM(OFFSET(journal!T$6,(ROW(R15)-5)*5,,5,1))/SUM(journal!T$6:T$10),\"a\"),\"\")","v":""},{"$f":"IF(T$4<>\"\",IF(Saisie!Z20<>\"a\",T$4*SUM(OFFSET(journal!U$6,(ROW(S15)-5)*5,,5,1))/SUM(journal!U$6:U$10),\"a\"),\"\")","v":""},{"$f":"IF(U$4<>\"\",IF(Saisie!AA20<>\"a\",U$4*SUM(OFFSET(journal!V$6,(ROW(T15)-5)*5,,5,1))/SUM(journal!V$6:V$10),\"a\"),\"\")","v":""},{"$f":"IF(V$4<>\"\",IF(Saisie!AB20<>\"a\",V$4*SUM(OFFSET(journal!W$6,(ROW(U15)-5)*5,,5,1))/SUM(journal!W$6:W$10),\"a\"),\"\")","v":""},{"$f":"IF(W$4<>\"\",IF(Saisie!AC20<>\"a\",W$4*SUM(OFFSET(journal!X$6,(ROW(V15)-5)*5,,5,1))/SUM(journal!X$6:X$10),\"a\"),\"\")","v":""},{"$f":"IF(X$4<>\"\",IF(Saisie!AD20<>\"a\",X$4*SUM(OFFSET(journal!Y$6,(ROW(W15)-5)*5,,5,1))/SUM(journal!Y$6:Y$10),\"a\"),\"\")","v":""},{"$f":"IF(Y$4<>\"\",IF(Saisie!AE20<>\"a\",Y$4*SUM(OFFSET(journal!Z$6,(ROW(X15)-5)*5,,5,1))/SUM(journal!Z$6:Z$10),\"a\"),\"\")","v":""},{"$f":"IF(Z$4<>\"\",IF(Saisie!AF20<>\"a\",Z$4*SUM(OFFSET(journal!AA$6,(ROW(Y15)-5)*5,,5,1))/SUM(journal!AA$6:AA$10),\"a\"),\"\")","v":""},{"$f":"IF(AA$4<>\"\",IF(Saisie!AG20<>\"a\",AA$4*SUM(OFFSET(journal!AB$6,(ROW(Z15)-5)*5,,5,1))/SUM(journal!AB$6:AB$10),\"a\"),\"\")","v":""},{"$f":"IF(AB$4<>\"\",IF(Saisie!AH20<>\"a\",AB$4*SUM(OFFSET(journal!AC$6,(ROW(AA15)-5)*5,,5,1))/SUM(journal!AC$6:AC$10),\"a\"),\"\")","v":""},{"$f":"IF(AC$4<>\"\",IF(Saisie!AI20<>\"a\",AC$4*SUM(OFFSET(journal!AD$6,(ROW(AB15)-5)*5,,5,1))/SUM(journal!AD$6:AD$10),\"a\"),\"\")","v":""},{"$f":"IF(AD$4<>\"\",IF(Saisie!AJ20<>\"a\",AD$4*SUM(OFFSET(journal!AE$6,(ROW(AC15)-5)*5,,5,1))/SUM(journal!AE$6:AE$10),\"a\"),\"\")","v":""},{"$f":"IF(AE$4<>\"\",IF(Saisie!AK20<>\"a\",AE$4*SUM(OFFSET(journal!AF$6,(ROW(AD15)-5)*5,,5,1))/SUM(journal!AF$6:AF$10),\"a\"),\"\")","v":""},{"$f":"IF(AF$4<>\"\",IF(Saisie!AL20<>\"a\",AF$4*SUM(OFFSET(journal!AG$6,(ROW(AE15)-5)*5,,5,1))/SUM(journal!AG$6:AG$10),\"a\"),\"\")","v":""},{"$f":"IF(AG$4<>\"\",IF(Saisie!AM20<>\"a\",AG$4*SUM(OFFSET(journal!AH$6,(ROW(AF15)-5)*5,,5,1))/SUM(journal!AH$6:AH$10),\"a\"),\"\")","v":""},{"$f":"IF(AH$4<>\"\",IF(Saisie!AN20<>\"a\",AH$4*SUM(OFFSET(journal!AI$6,(ROW(AG15)-5)*5,,5,1))/SUM(journal!AI$6:AI$10),\"a\"),\"\")","v":""},{"$f":"IF(AI$4<>\"\",IF(Saisie!AO20<>\"a\",AI$4*SUM(OFFSET(journal!AJ$6,(ROW(AH15)-5)*5,,5,1))/SUM(journal!AJ$6:AJ$10),\"a\"),\"\")","v":""},{"$f":"IF(AJ$4<>\"\",IF(Saisie!AP20<>\"a\",AJ$4*SUM(OFFSET(journal!AK$6,(ROW(AI15)-5)*5,,5,1))/SUM(journal!AK$6:AK$10),\"a\"),\"\")","v":""},{"$f":"IF(AK$4<>\"\",IF(Saisie!AQ20<>\"a\",AK$4*SUM(OFFSET(journal!AL$6,(ROW(AJ15)-5)*5,,5,1))/SUM(journal!AL$6:AL$10),\"a\"),\"\")","v":""},{"$f":"IF(AL$4<>\"\",IF(Saisie!AR20<>\"a\",AL$4*SUM(OFFSET(journal!AM$6,(ROW(AK15)-5)*5,,5,1))/SUM(journal!AM$6:AM$10),\"a\"),\"\")","v":""},{"$f":"IF(AM$4<>\"\",IF(Saisie!AS20<>\"a\",AM$4*SUM(OFFSET(journal!AN$6,(ROW(AL15)-5)*5,,5,1))/SUM(journal!AN$6:AN$10),\"a\"),\"\")","v":""},{"$f":"IF(AN$4<>\"\",IF(Saisie!AT20<>\"a\",AN$4*SUM(OFFSET(journal!AO$6,(ROW(AM15)-5)*5,,5,1))/SUM(journal!AO$6:AO$10),\"a\"),\"\")","v":""},{"$f":"IF(AO$4<>\"\",IF(Saisie!AU20<>\"a\",AO$4*SUM(OFFSET(journal!AP$6,(ROW(AN15)-5)*5,,5,1))/SUM(journal!AP$6:AP$10),\"a\"),\"\")","v":""},{"$f":"IF(AP$4<>\"\",IF(Saisie!AV20<>\"a\",AP$4*SUM(OFFSET(journal!AQ$6,(ROW(AO15)-5)*5,,5,1))/SUM(journal!AQ$6:AQ$10),\"a\"),\"\")","v":""},{"$f":"IF(AQ$4<>\"\",IF(Saisie!AW20<>\"a\",AQ$4*SUM(OFFSET(journal!AR$6,(ROW(AP15)-5)*5,,5,1))/SUM(journal!AR$6:AR$10),\"a\"),\"\")","v":""}]
[{"$f":"IF(Saisie!A21=\"\",\"\",Saisie!A21)","v":""},null,null,null,null,null,{"$f":"IF(G$4<>\"\",IF(Saisie!M21<>\"a\",G$4*SUM(OFFSET(journal!H$6,(ROW(F16)-5)*5,,5,1))/SUM(journal!H$6:H$10),\"a\"),\"\")","v":""},{"$f":"IF(H$4<>\"\",IF(Saisie!N21<>\"a\",H$4*SUM(OFFSET(journal!I$6,(ROW(G16)-5)*5,,5,1))/SUM(journal!I$6:I$10),\"a\"),\"\")","v":""},{"$f":"IF(I$4<>\"\",IF(Saisie!O21<>\"a\",I$4*SUM(OFFSET(journal!J$6,(ROW(H16)-5)*5,,5,1))/SUM(journal!J$6:J$10),\"a\"),\"\")","v":""},{"$f":"IF(J$4<>\"\",IF(Saisie!P21<>\"a\",J$4*SUM(OFFSET(journal!K$6,(ROW(I16)-5)*5,,5,1))/SUM(journal!K$6:K$10),\"a\"),\"\")","v":""},{"$f":"IF(K$4<>\"\",IF(Saisie!Q21<>\"a\",K$4*SUM(OFFSET(journal!L$6,(ROW(J16)-5)*5,,5,1))/SUM(journal!L$6:L$10),\"a\"),\"\")","v":""},{"$f":"IF(L$4<>\"\",IF(Saisie!R21<>\"a\",L$4*SUM(OFFSET(journal!M$6,(ROW(K16)-5)*5,,5,1))/SUM(journal!M$6:M$10),\"a\"),\"\")","v":""},{"$f":"IF(M$4<>\"\",IF(Saisie!S21<>\"a\",M$4*SUM(OFFSET(journal!N$6,(ROW(L16)-5)*5,,5,1))/SUM(journal!N$6:N$10),\"a\"),\"\")","v":""},{"$f":"IF(N$4<>\"\",IF(Saisie!T21<>\"a\",N$4*SUM(OFFSET(journal!O$6,(ROW(M16)-5)*5,,5,1))/SUM(journal!O$6:O$10),\"a\"),\"\")","v":""},{"$f":"IF(O$4<>\"\",IF(Saisie!U21<>\"a\",O$4*SUM(OFFSET(journal!P$6,(ROW(N16)-5)*5,,5,1))/SUM(journal!P$6:P$10),\"a\"),\"\")","v":""},{"$f":"IF(P$4<>\"\",IF(Saisie!V21<>\"a\",P$4*SUM(OFFSET(journal!Q$6,(ROW(O16)-5)*5,,5,1))/SUM(journal!Q$6:Q$10),\"a\"),\"\")","v":""},{"$f":"IF(Q$4<>\"\",IF(Saisie!W21<>\"a\",Q$4*SUM(OFFSET(journal!R$6,(ROW(P16)-5)*5,,5,1))/SUM(journal!R$6:R$10),\"a\"),\"\")","v":""},{"$f":"IF(R$4<>\"\",IF(Saisie!X21<>\"a\",R$4*SUM(OFFSET(journal!S$6,(ROW(Q16)-5)*5,,5,1))/SUM(journal!S$6:S$10),\"a\"),\"\")","v":""},{"$f":"IF(S$4<>\"\",IF(Saisie!Y21<>\"a\",S$4*SUM(OFFSET(journal!T$6,(ROW(R16)-5)*5,,5,1))/SUM(journal!T$6:T$10),\"a\"),\"\")","v":""},{"$f":"IF(T$4<>\"\",IF(Saisie!Z21<>\"a\",T$4*SUM(OFFSET(journal!U$6,(ROW(S16)-5)*5,,5,1))/SUM(journal!U$6:U$10),\"a\"),\"\")","v":""},{"$f":"IF(U$4<>\"\",IF(Saisie!AA21<>\"a\",U$4*SUM(OFFSET(journal!V$6,(ROW(T16)-5)*5,,5,1))/SUM(journal!V$6:V$10),\"a\"),\"\")","v":""},{"$f":"IF(V$4<>\"\",IF(Saisie!AB21<>\"a\",V$4*SUM(OFFSET(journal!W$6,(ROW(U16)-5)*5,,5,1))/SUM(journal!W$6:W$10),\"a\"),\"\")","v":""},{"$f":"IF(W$4<>\"\",IF(Saisie!AC21<>\"a\",W$4*SUM(OFFSET(journal!X$6,(ROW(V16)-5)*5,,5,1))/SUM(journal!X$6:X$10),\"a\"),\"\")","v":""},{"$f":"IF(X$4<>\"\",IF(Saisie!AD21<>\"a\",X$4*SUM(OFFSET(journal!Y$6,(ROW(W16)-5)*5,,5,1))/SUM(journal!Y$6:Y$10),\"a\"),\"\")","v":""},{"$f":"IF(Y$4<>\"\",IF(Saisie!AE21<>\"a\",Y$4*SUM(OFFSET(journal!Z$6,(ROW(X16)-5)*5,,5,1))/SUM(journal!Z$6:Z$10),\"a\"),\"\")","v":""},{"$f":"IF(Z$4<>\"\",IF(Saisie!AF21<>\"a\",Z$4*SUM(OFFSET(journal!AA$6,(ROW(Y16)-5)*5,,5,1))/SUM(journal!AA$6:AA$10),\"a\"),\"\")","v":""},{"$f":"IF(AA$4<>\"\",IF(Saisie!AG21<>\"a\",AA$4*SUM(OFFSET(journal!AB$6,(ROW(Z16)-5)*5,,5,1))/SUM(journal!AB$6:AB$10),\"a\"),\"\")","v":""},{"$f":"IF(AB$4<>\"\",IF(Saisie!AH21<>\"a\",AB$4*SUM(OFFSET(journal!AC$6,(ROW(AA16)-5)*5,,5,1))/SUM(journal!AC$6:AC$10),\"a\"),\"\")","v":""},{"$f":"IF(AC$4<>\"\",IF(Saisie!AI21<>\"a\",AC$4*SUM(OFFSET(journal!AD$6,(ROW(AB16)-5)*5,,5,1))/SUM(journal!AD$6:AD$10),\"a\"),\"\")","v":""},{"$f":"IF(AD$4<>\"\",IF(Saisie!AJ21<>\"a\",AD$4*SUM(OFFSET(journal!AE$6,(ROW(AC16)-5)*5,,5,1))/SUM(journal!AE$6:AE$10),\"a\"),\"\")","v":""},{"$f":"IF(AE$4<>\"\",IF(Saisie!AK21<>\"a\",AE$4*SUM(OFFSET(journal!AF$6,(ROW(AD16)-5)*5,,5,1))/SUM(journal!AF$6:AF$10),\"a\"),\"\")","v":""},{"$f":"IF(AF$4<>\"\",IF(Saisie!AL21<>\"a\",AF$4*SUM(OFFSET(journal!AG$6,(ROW(AE16)-5)*5,,5,1))/SUM(journal!AG$6:AG$10),\"a\"),\"\")","v":""},{"$f":"IF(AG$4<>\"\",IF(Saisie!AM21<>\"a\",AG$4*SUM(OFFSET(journal!AH$6,(ROW(AF16)-5)*5,,5,1))/SUM(journal!AH$6:AH$10),\"a\"),\"\")","v":""},{"$f":"IF(AH$4<>\"\",IF(Saisie!AN21<>\"a\",AH$4*SUM(OFFSET(journal!AI$6,(ROW(AG16)-5)*5,,5,1))/SUM(journal!AI$6:AI$10),\"a\"),\"\")","v":""},{"$f":"IF(AI$4<>\"\",IF(Saisie!AO21<>\"a\",AI$4*SUM(OFFSET(journal!AJ$6,(ROW(AH16)-5)*5,,5,1))/SUM(journal!AJ$6:AJ$10),\"a\"),\"\")","v":""},{"$f":"IF(AJ$4<>\"\",IF(Saisie!AP21<>\"a\",AJ$4*SUM(OFFSET(journal!AK$6,(ROW(AI16)-5)*5,,5,1))/SUM(journal!AK$6:AK$10),\"a\"),\"\")","v":""},{"$f":"IF(AK$4<>\"\",IF(Saisie!AQ21<>\"a\",AK$4*SUM(OFFSET(journal!AL$6,(ROW(AJ16)-5)*5,,5,1))/SUM(journal!AL$6:AL$10),\"a\"),\"\")","v":""},{"$f":"IF(AL$4<>\"\",IF(Saisie!AR21<>\"a\",AL$4*SUM(OFFSET(journal!AM$6,(ROW(AK16)-5)*5,,5,1))/SUM(journal!AM$6:AM$10),\"a\"),\"\")","v":""},{"$f":"IF(AM$4<>\"\",IF(Saisie!AS21<>\"a\",AM$4*SUM(OFFSET(journal!AN$6,(ROW(AL16)-5)*5,,5,1))/SUM(journal!AN$6:AN$10),\"a\"),\"\")","v":""},{"$f":"IF(AN$4<>\"\",IF(Saisie!AT21<>\"a\",AN$4*SUM(OFFSET(journal!AO$6,(ROW(AM16)-5)*5,,5,1))/SUM(journal!AO$6:AO$10),\"a\"),\"\")","v":""},{"$f":"IF(AO$4<>\"\",IF(Saisie!AU21<>\"a\",AO$4*SUM(OFFSET(journal!AP$6,(ROW(AN16)-5)*5,,5,1))/SUM(journal!AP$6:AP$10),\"a\"),\"\")","v":""},{"$f":"IF(AP$4<>\"\",IF(Saisie!AV21<>\"a\",AP$4*SUM(OFFSET(journal!AQ$6,(ROW(AO16)-5)*5,,5,1))/SUM(journal!AQ$6:AQ$10),\"a\"),\"\")","v":""},{"$f":"IF(AQ$4<>\"\",IF(Saisie!AW21<>\"a\",AQ$4*SUM(OFFSET(journal!AR$6,(ROW(AP16)-5)*5,,5,1))/SUM(journal!AR$6:AR$10),\"a\"),\"\")","v":""}]
[{"$f":"IF(Saisie!A22=\"\",\"\",Saisie!A22)","v":""},null,null,null,null,null,{"$f":"IF(G$4<>\"\",IF(Saisie!M22<>\"a\",G$4*SUM(OFFSET(journal!H$6,(ROW(F17)-5)*5,,5,1))/SUM(journal!H$6:H$10),\"a\"),\"\")","v":""},{"$f":"IF(H$4<>\"\",IF(Saisie!N22<>\"a\",H$4*SUM(OFFSET(journal!I$6,(ROW(G17)-5)*5,,5,1))/SUM(journal!I$6:I$10),\"a\"),\"\")","v":""},{"$f":"IF(I$4<>\"\",IF(Saisie!O22<>\"a\",I$4*SUM(OFFSET(journal!J$6,(ROW(H17)-5)*5,,5,1))/SUM(journal!J$6:J$10),\"a\"),\"\")","v":""},{"$f":"IF(J$4<>\"\",IF(Saisie!P22<>\"a\",J$4*SUM(OFFSET(journal!K$6,(ROW(I17)-5)*5,,5,1))/SUM(journal!K$6:K$10),\"a\"),\"\")","v":""},{"$f":"IF(K$4<>\"\",IF(Saisie!Q22<>\"a\",K$4*SUM(OFFSET(journal!L$6,(ROW(J17)-5)*5,,5,1))/SUM(journal!L$6:L$10),\"a\"),\"\")","v":""},{"$f":"IF(L$4<>\"\",IF(Saisie!R22<>\"a\",L$4*SUM(OFFSET(journal!M$6,(ROW(K17)-5)*5,,5,1))/SUM(journal!M$6:M$10),\"a\"),\"\")","v":""},{"$f":"IF(M$4<>\"\",IF(Saisie!S22<>\"a\",M$4*SUM(OFFSET(journal!N$6,(ROW(L17)-5)*5,,5,1))/SUM(journal!N$6:N$10),\"a\"),\"\")","v":""},{"$f":"IF(N$4<>\"\",IF(Saisie!T22<>\"a\",N$4*SUM(OFFSET(journal!O$6,(ROW(M17)-5)*5,,5,1))/SUM(journal!O$6:O$10),\"a\"),\"\")","v":""},{"$f":"IF(O$4<>\"\",IF(Saisie!U22<>\"a\",O$4*SUM(OFFSET(journal!P$6,(ROW(N17)-5)*5,,5,1))/SUM(journal!P$6:P$10),\"a\"),\"\")","v":""},{"$f":"IF(P$4<>\"\",IF(Saisie!V22<>\"a\",P$4*SUM(OFFSET(journal!Q$6,(ROW(O17)-5)*5,,5,1))/SUM(journal!Q$6:Q$10),\"a\"),\"\")","v":""},{"$f":"IF(Q$4<>\"\",IF(Saisie!W22<>\"a\",Q$4*SUM(OFFSET(journal!R$6,(ROW(P17)-5)*5,,5,1))/SUM(journal!R$6:R$10),\"a\"),\"\")","v":""},{"$f":"IF(R$4<>\"\",IF(Saisie!X22<>\"a\",R$4*SUM(OFFSET(journal!S$6,(ROW(Q17)-5)*5,,5,1))/SUM(journal!S$6:S$10),\"a\"),\"\")","v":""},{"$f":"IF(S$4<>\"\",IF(Saisie!Y22<>\"a\",S$4*SUM(OFFSET(journal!T$6,(ROW(R17)-5)*5,,5,1))/SUM(journal!T$6:T$10),\"a\"),\"\")","v":""},{"$f":"IF(T$4<>\"\",IF(Saisie!Z22<>\"a\",T$4*SUM(OFFSET(journal!U$6,(ROW(S17)-5)*5,,5,1))/SUM(journal!U$6:U$10),\"a\"),\"\")","v":""},{"$f":"IF(U$4<>\"\",IF(Saisie!AA22<>\"a\",U$4*SUM(OFFSET(journal!V$6,(ROW(T17)-5)*5,,5,1))/SUM(journal!V$6:V$10),\"a\"),\"\")","v":""},{"$f":"IF(V$4<>\"\",IF(Saisie!AB22<>\"a\",V$4*SUM(OFFSET(journal!W$6,(ROW(U17)-5)*5,,5,1))/SUM(journal!W$6:W$10),\"a\"),\"\")","v":""},{"$f":"IF(W$4<>\"\",IF(Saisie!AC22<>\"a\",W$4*SUM(OFFSET(journal!X$6,(ROW(V17)-5)*5,,5,1))/SUM(journal!X$6:X$10),\"a\"),\"\")","v":""},{"$f":"IF(X$4<>\"\",IF(Saisie!AD22<>\"a\",X$4*SUM(OFFSET(journal!Y$6,(ROW(W17)-5)*5,,5,1))/SUM(journal!Y$6:Y$10),\"a\"),\"\")","v":""},{"$f":"IF(Y$4<>\"\",IF(Saisie!AE22<>\"a\",Y$4*SUM(OFFSET(journal!Z$6,(ROW(X17)-5)*5,,5,1))/SUM(journal!Z$6:Z$10),\"a\"),\"\")","v":""},{"$f":"IF(Z$4<>\"\",IF(Saisie!AF22<>\"a\",Z$4*SUM(OFFSET(journal!AA$6,(ROW(Y17)-5)*5,,5,1))/SUM(journal!AA$6:AA$10),\"a\"),\"\")","v":""},{"$f":"IF(AA$4<>\"\",IF(Saisie!AG22<>\"a\",AA$4*SUM(OFFSET(journal!AB$6,(ROW(Z17)-5)*5,,5,1))/SUM(journal!AB$6:AB$10),\"a\"),\"\")","v":""},{"$f":"IF(AB$4<>\"\",IF(Saisie!AH22<>\"a\",AB$4*SUM(OFFSET(journal!AC$6,(ROW(AA17)-5)*5,,5,1))/SUM(journal!AC$6:AC$10),\"a\"),\"\")","v":""},{"$f":"IF(AC$4<>\"\",IF(Saisie!AI22<>\"a\",AC$4*SUM(OFFSET(journal!AD$6,(ROW(AB17)-5)*5,,5,1))/SUM(journal!AD$6:AD$10),\"a\"),\"\")","v":""},{"$f":"IF(AD$4<>\"\",IF(Saisie!AJ22<>\"a\",AD$4*SUM(OFFSET(journal!AE$6,(ROW(AC17)-5)*5,,5,1))/SUM(journal!AE$6:AE$10),\"a\"),\"\")","v":""},{"$f":"IF(AE$4<>\"\",IF(Saisie!AK22<>\"a\",AE$4*SUM(OFFSET(journal!AF$6,(ROW(AD17)-5)*5,,5,1))/SUM(journal!AF$6:AF$10),\"a\"),\"\")","v":""},{"$f":"IF(AF$4<>\"\",IF(Saisie!AL22<>\"a\",AF$4*SUM(OFFSET(journal!AG$6,(ROW(AE17)-5)*5,,5,1))/SUM(journal!AG$6:AG$10),\"a\"),\"\")","v":""},{"$f":"IF(AG$4<>\"\",IF(Saisie!AM22<>\"a\",AG$4*SUM(OFFSET(journal!AH$6,(ROW(AF17)-5)*5,,5,1))/SUM(journal!AH$6:AH$10),\"a\"),\"\")","v":""},{"$f":"IF(AH$4<>\"\",IF(Saisie!AN22<>\"a\",AH$4*SUM(OFFSET(journal!AI$6,(ROW(AG17)-5)*5,,5,1))/SUM(journal!AI$6:AI$10),\"a\"),\"\")","v":""},{"$f":"IF(AI$4<>\"\",IF(Saisie!AO22<>\"a\",AI$4*SUM(OFFSET(journal!AJ$6,(ROW(AH17)-5)*5,,5,1))/SUM(journal!AJ$6:AJ$10),\"a\"),\"\")","v":""},{"$f":"IF(AJ$4<>\"\",IF(Saisie!AP22<>\"a\",AJ$4*SUM(OFFSET(journal!AK$6,(ROW(AI17)-5)*5,,5,1))/SUM(journal!AK$6:AK$10),\"a\"),\"\")","v":""},{"$f":"IF(AK$4<>\"\",IF(Saisie!AQ22<>\"a\",AK$4*SUM(OFFSET(journal!AL$6,(ROW(AJ17)-5)*5,,5,1))/SUM(journal!AL$6:AL$10),\"a\"),\"\")","v":""},{"$f":"IF(AL$4<>\"\",IF(Saisie!AR22<>\"a\",AL$4*SUM(OFFSET(journal!AM$6,(ROW(AK17)-5)*5,,5,1))/SUM(journal!AM$6:AM$10),\"a\"),\"\")","v":""},{"$f":"IF(AM$4<>\"\",IF(Saisie!AS22<>\"a\",AM$4*SUM(OFFSET(journal!AN$6,(ROW(AL17)-5)*5,,5,1))/SUM(journal!AN$6:AN$10),\"a\"),\"\")","v":""},{"$f":"IF(AN$4<>\"\",IF(Saisie!AT22<>\"a\",AN$4*SUM(OFFSET(journal!AO$6,(ROW(AM17)-5)*5,,5,1))/SUM(journal!AO$6:AO$10),\"a\"),\"\")","v":""},{"$f":"IF(AO$4<>\"\",IF(Saisie!AU22<>\"a\",AO$4*SUM(OFFSET(journal!AP$6,(ROW(AN17)-5)*5,,5,1))/SUM(journal!AP$6:AP$10),\"a\"),\"\")","v":""},{"$f":"IF(AP$4<>\"\",IF(Saisie!AV22<>\"a\",AP$4*SUM(OFFSET(journal!AQ$6,(ROW(AO17)-5)*5,,5,1))/SUM(journal!AQ$6:AQ$10),\"a\"),\"\")","v":""},{"$f":"IF(AQ$4<>\"\",IF(Saisie!AW22<>\"a\",AQ$4*SUM(OFFSET(journal!AR$6,(ROW(AP17)-5)*5,,5,1))/SUM(journal!AR$6:AR$10),\"a\"),\"\")","v":""}]
[{"$f":"IF(Saisie!A23=\"\",\"\",Saisie!A23)","v":""},null,null,null,null,null,{"$f":"IF(G$4<>\"\",IF(Saisie!M23<>\"a\",G$4*SUM(OFFSET(journal!H$6,(ROW(F18)-5)*5,,5,1))/SUM(journal!H$6:H$10),\"a\"),\"\")","v":""},{"$f":"IF(H$4<>\"\",IF(Saisie!N23<>\"a\",H$4*SUM(OFFSET(journal!I$6,(ROW(G18)-5)*5,,5,1))/SUM(journal!I$6:I$10),\"a\"),\"\")","v":""},{"$f":"IF(I$4<>\"\",IF(Saisie!O23<>\"a\",I$4*SUM(OFFSET(journal!J$6,(ROW(H18)-5)*5,,5,1))/SUM(journal!J$6:J$10),\"a\"),\"\")","v":""},{"$f":"IF(J$4<>\"\",IF(Saisie!P23<>\"a\",J$4*SUM(OFFSET(journal!K$6,(ROW(I18)-5)*5,,5,1))/SUM(journal!K$6:K$10),\"a\"),\"\")","v":""},{"$f":"IF(K$4<>\"\",IF(Saisie!Q23<>\"a\",K$4*SUM(OFFSET(journal!L$6,(ROW(J18)-5)*5,,5,1))/SUM(journal!L$6:L$10),\"a\"),\"\")","v":""},{"$f":"IF(L$4<>\"\",IF(Saisie!R23<>\"a\",L$4*SUM(OFFSET(journal!M$6,(ROW(K18)-5)*5,,5,1))/SUM(journal!M$6:M$10),\"a\"),\"\")","v":""},{"$f":"IF(M$4<>\"\",IF(Saisie!S23<>\"a\",M$4*SUM(OFFSET(journal!N$6,(ROW(L18)-5)*5,,5,1))/SUM(journal!N$6:N$10),\"a\"),\"\")","v":""},{"$f":"IF(N$4<>\"\",IF(Saisie!T23<>\"a\",N$4*SUM(OFFSET(journal!O$6,(ROW(M18)-5)*5,,5,1))/SUM(journal!O$6:O$10),\"a\"),\"\")","v":""},{"$f":"IF(O$4<>\"\",IF(Saisie!U23<>\"a\",O$4*SUM(OFFSET(journal!P$6,(ROW(N18)-5)*5,,5,1))/SUM(journal!P$6:P$10),\"a\"),\"\")","v":""},{"$f":"IF(P$4<>\"\",IF(Saisie!V23<>\"a\",P$4*SUM(OFFSET(journal!Q$6,(ROW(O18)-5)*5,,5,1))/SUM(journal!Q$6:Q$10),\"a\"),\"\")","v":""},{"$f":"IF(Q$4<>\"\",IF(Saisie!W23<>\"a\",Q$4*SUM(OFFSET(journal!R$6,(ROW(P18)-5)*5,,5,1))/SUM(journal!R$6:R$10),\"a\"),\"\")","v":""},{"$f":"IF(R$4<>\"\",IF(Saisie!X23<>\"a\",R$4*SUM(OFFSET(journal!S$6,(ROW(Q18)-5)*5,,5,1))/SUM(journal!S$6:S$10),\"a\"),\"\")","v":""},{"$f":"IF(S$4<>\"\",IF(Saisie!Y23<>\"a\",S$4*SUM(OFFSET(journal!T$6,(ROW(R18)-5)*5,,5,1))/SUM(journal!T$6:T$10),\"a\"),\"\")","v":""},{"$f":"IF(T$4<>\"\",IF(Saisie!Z23<>\"a\",T$4*SUM(OFFSET(journal!U$6,(ROW(S18)-5)*5,,5,1))/SUM(journal!U$6:U$10),\"a\"),\"\")","v":""},{"$f":"IF(U$4<>\"\",IF(Saisie!AA23<>\"a\",U$4*SUM(OFFSET(journal!V$6,(ROW(T18)-5)*5,,5,1))/SUM(journal!V$6:V$10),\"a\"),\"\")","v":""},{"$f":"IF(V$4<>\"\",IF(Saisie!AB23<>\"a\",V$4*SUM(OFFSET(journal!W$6,(ROW(U18)-5)*5,,5,1))/SUM(journal!W$6:W$10),\"a\"),\"\")","v":""},{"$f":"IF(W$4<>\"\",IF(Saisie!AC23<>\"a\",W$4*SUM(OFFSET(journal!X$6,(ROW(V18)-5)*5,,5,1))/SUM(journal!X$6:X$10),\"a\"),\"\")","v":""},{"$f":"IF(X$4<>\"\",IF(Saisie!AD23<>\"a\",X$4*SUM(OFFSET(journal!Y$6,(ROW(W18)-5)*5,,5,1))/SUM(journal!Y$6:Y$10),\"a\"),\"\")","v":""},{"$f":"IF(Y$4<>\"\",IF(Saisie!AE23<>\"a\",Y$4*SUM(OFFSET(journal!Z$6,(ROW(X18)-5)*5,,5,1))/SUM(journal!Z$6:Z$10),\"a\"),\"\")","v":""},{"$f":"IF(Z$4<>\"\",IF(Saisie!AF23<>\"a\",Z$4*SUM(OFFSET(journal!AA$6,(ROW(Y18)-5)*5,,5,1))/SUM(journal!AA$6:AA$10),\"a\"),\"\")","v":""},{"$f":"IF(AA$4<>\"\",IF(Saisie!AG23<>\"a\",AA$4*SUM(OFFSET(journal!AB$6,(ROW(Z18)-5)*5,,5,1))/SUM(journal!AB$6:AB$10),\"a\"),\"\")","v":""},{"$f":"IF(AB$4<>\"\",IF(Saisie!AH23<>\"a\",AB$4*SUM(OFFSET(journal!AC$6,(ROW(AA18)-5)*5,,5,1))/SUM(journal!AC$6:AC$10),\"a\"),\"\")","v":""},{"$f":"IF(AC$4<>\"\",IF(Saisie!AI23<>\"a\",AC$4*SUM(OFFSET(journal!AD$6,(ROW(AB18)-5)*5,,5,1))/SUM(journal!AD$6:AD$10),\"a\"),\"\")","v":""},{"$f":"IF(AD$4<>\"\",IF(Saisie!AJ23<>\"a\",AD$4*SUM(OFFSET(journal!AE$6,(ROW(AC18)-5)*5,,5,1))/SUM(journal!AE$6:AE$10),\"a\"),\"\")","v":""},{"$f":"IF(AE$4<>\"\",IF(Saisie!AK23<>\"a\",AE$4*SUM(OFFSET(journal!AF$6,(ROW(AD18)-5)*5,,5,1))/SUM(journal!AF$6:AF$10),\"a\"),\"\")","v":""},{"$f":"IF(AF$4<>\"\",IF(Saisie!AL23<>\"a\",AF$4*SUM(OFFSET(journal!AG$6,(ROW(AE18)-5)*5,,5,1))/SUM(journal!AG$6:AG$10),\"a\"),\"\")","v":""},{"$f":"IF(AG$4<>\"\",IF(Saisie!AM23<>\"a\",AG$4*SUM(OFFSET(journal!AH$6,(ROW(AF18)-5)*5,,5,1))/SUM(journal!AH$6:AH$10),\"a\"),\"\")","v":""},{"$f":"IF(AH$4<>\"\",IF(Saisie!AN23<>\"a\",AH$4*SUM(OFFSET(journal!AI$6,(ROW(AG18)-5)*5,,5,1))/SUM(journal!AI$6:AI$10),\"a\"),\"\")","v":""},{"$f":"IF(AI$4<>\"\",IF(Saisie!AO23<>\"a\",AI$4*SUM(OFFSET(journal!AJ$6,(ROW(AH18)-5)*5,,5,1))/SUM(journal!AJ$6:AJ$10),\"a\"),\"\")","v":""},{"$f":"IF(AJ$4<>\"\",IF(Saisie!AP23<>\"a\",AJ$4*SUM(OFFSET(journal!AK$6,(ROW(AI18)-5)*5,,5,1))/SUM(journal!AK$6:AK$10),\"a\"),\"\")","v":""},{"$f":"IF(AK$4<>\"\",IF(Saisie!AQ23<>\"a\",AK$4*SUM(OFFSET(journal!AL$6,(ROW(AJ18)-5)*5,,5,1))/SUM(journal!AL$6:AL$10),\"a\"),\"\")","v":""},{"$f":"IF(AL$4<>\"\",IF(Saisie!AR23<>\"a\",AL$4*SUM(OFFSET(journal!AM$6,(ROW(AK18)-5)*5,,5,1))/SUM(journal!AM$6:AM$10),\"a\"),\"\")","v":""},{"$f":"IF(AM$4<>\"\",IF(Saisie!AS23<>\"a\",AM$4*SUM(OFFSET(journal!AN$6,(ROW(AL18)-5)*5,,5,1))/SUM(journal!AN$6:AN$10),\"a\"),\"\")","v":""},{"$f":"IF(AN$4<>\"\",IF(Saisie!AT23<>\"a\",AN$4*SUM(OFFSET(journal!AO$6,(ROW(AM18)-5)*5,,5,1))/SUM(journal!AO$6:AO$10),\"a\"),\"\")","v":""},{"$f":"IF(AO$4<>\"\",IF(Saisie!AU23<>\"a\",AO$4*SUM(OFFSET(journal!AP$6,(ROW(AN18)-5)*5,,5,1))/SUM(journal!AP$6:AP$10),\"a\"),\"\")","v":""},{"$f":"IF(AP$4<>\"\",IF(Saisie!AV23<>\"a\",AP$4*SUM(OFFSET(journal!AQ$6,(ROW(AO18)-5)*5,,5,1))/SUM(journal!AQ$6:AQ$10),\"a\"),\"\")","v":""},{"$f":"IF(AQ$4<>\"\",IF(Saisie!AW23<>\"a\",AQ$4*SUM(OFFSET(journal!AR$6,(ROW(AP18)-5)*5,,5,1))/SUM(journal!AR$6:AR$10),\"a\"),\"\")","v":""}]
[{"$f":"IF(Saisie!A24=\"\",\"\",Saisie!A24)","v":""},null,null,null,null,null,{"$f":"IF(G$4<>\"\",IF(Saisie!M24<>\"a\",G$4*SUM(OFFSET(journal!H$6,(ROW(F19)-5)*5,,5,1))/SUM(journal!H$6:H$10),\"a\"),\"\")","v":""},{"$f":"IF(H$4<>\"\",IF(Saisie!N24<>\"a\",H$4*SUM(OFFSET(journal!I$6,(ROW(G19)-5)*5,,5,1))/SUM(journal!I$6:I$10),\"a\"),\"\")","v":""},{"$f":"IF(I$4<>\"\",IF(Saisie!O24<>\"a\",I$4*SUM(OFFSET(journal!J$6,(ROW(H19)-5)*5,,5,1))/SUM(journal!J$6:J$10),\"a\"),\"\")","v":""},{"$f":"IF(J$4<>\"\",IF(Saisie!P24<>\"a\",J$4*SUM(OFFSET(journal!K$6,(ROW(I19)-5)*5,,5,1))/SUM(journal!K$6:K$10),\"a\"),\"\")","v":""},{"$f":"IF(K$4<>\"\",IF(Saisie!Q24<>\"a\",K$4*SUM(OFFSET(journal!L$6,(ROW(J19)-5)*5,,5,1))/SUM(journal!L$6:L$10),\"a\"),\"\")","v":""},{"$f":"IF(L$4<>\"\",IF(Saisie!R24<>\"a\",L$4*SUM(OFFSET(journal!M$6,(ROW(K19)-5)*5,,5,1))/SUM(journal!M$6:M$10),\"a\"),\"\")","v":""},{"$f":"IF(M$4<>\"\",IF(Saisie!S24<>\"a\",M$4*SUM(OFFSET(journal!N$6,(ROW(L19)-5)*5,,5,1))/SUM(journal!N$6:N$10),\"a\"),\"\")","v":""},{"$f":"IF(N$4<>\"\",IF(Saisie!T24<>\"a\",N$4*SUM(OFFSET(journal!O$6,(ROW(M19)-5)*5,,5,1))/SUM(journal!O$6:O$10),\"a\"),\"\")","v":""},{"$f":"IF(O$4<>\"\",IF(Saisie!U24<>\"a\",O$4*SUM(OFFSET(journal!P$6,(ROW(N19)-5)*5,,5,1))/SUM(journal!P$6:P$10),\"a\"),\"\")","v":""},{"$f":"IF(P$4<>\"\",IF(Saisie!V24<>\"a\",P$4*SUM(OFFSET(journal!Q$6,(ROW(O19)-5)*5,,5,1))/SUM(journal!Q$6:Q$10),\"a\"),\"\")","v":""},{"$f":"IF(Q$4<>\"\",IF(Saisie!W24<>\"a\",Q$4*SUM(OFFSET(journal!R$6,(ROW(P19)-5)*5,,5,1))/SUM(journal!R$6:R$10),\"a\"),\"\")","v":""},{"$f":"IF(R$4<>\"\",IF(Saisie!X24<>\"a\",R$4*SUM(OFFSET(journal!S$6,(ROW(Q19)-5)*5,,5,1))/SUM(journal!S$6:S$10),\"a\"),\"\")","v":""},{"$f":"IF(S$4<>\"\",IF(Saisie!Y24<>\"a\",S$4*SUM(OFFSET(journal!T$6,(ROW(R19)-5)*5,,5,1))/SUM(journal!T$6:T$10),\"a\"),\"\")","v":""},{"$f":"IF(T$4<>\"\",IF(Saisie!Z24<>\"a\",T$4*SUM(OFFSET(journal!U$6,(ROW(S19)-5)*5,,5,1))/SUM(journal!U$6:U$10),\"a\"),\"\")","v":""},{"$f":"IF(U$4<>\"\",IF(Saisie!AA24<>\"a\",U$4*SUM(OFFSET(journal!V$6,(ROW(T19)-5)*5,,5,1))/SUM(journal!V$6:V$10),\"a\"),\"\")","v":""},{"$f":"IF(V$4<>\"\",IF(Saisie!AB24<>\"a\",V$4*SUM(OFFSET(journal!W$6,(ROW(U19)-5)*5,,5,1))/SUM(journal!W$6:W$10),\"a\"),\"\")","v":""},{"$f":"IF(W$4<>\"\",IF(Saisie!AC24<>\"a\",W$4*SUM(OFFSET(journal!X$6,(ROW(V19)-5)*5,,5,1))/SUM(journal!X$6:X$10),\"a\"),\"\")","v":""},{"$f":"IF(X$4<>\"\",IF(Saisie!AD24<>\"a\",X$4*SUM(OFFSET(journal!Y$6,(ROW(W19)-5)*5,,5,1))/SUM(journal!Y$6:Y$10),\"a\"),\"\")","v":""},{"$f":"IF(Y$4<>\"\",IF(Saisie!AE24<>\"a\",Y$4*SUM(OFFSET(journal!Z$6,(ROW(X19)-5)*5,,5,1))/SUM(journal!Z$6:Z$10),\"a\"),\"\")","v":""},{"$f":"IF(Z$4<>\"\",IF(Saisie!AF24<>\"a\",Z$4*SUM(OFFSET(journal!AA$6,(ROW(Y19)-5)*5,,5,1))/SUM(journal!AA$6:AA$10),\"a\"),\"\")","v":""},{"$f":"IF(AA$4<>\"\",IF(Saisie!AG24<>\"a\",AA$4*SUM(OFFSET(journal!AB$6,(ROW(Z19)-5)*5,,5,1))/SUM(journal!AB$6:AB$10),\"a\"),\"\")","v":""},{"$f":"IF(AB$4<>\"\",IF(Saisie!AH24<>\"a\",AB$4*SUM(OFFSET(journal!AC$6,(ROW(AA19)-5)*5,,5,1))/SUM(journal!AC$6:AC$10),\"a\"),\"\")","v":""},{"$f":"IF(AC$4<>\"\",IF(Saisie!AI24<>\"a\",AC$4*SUM(OFFSET(journal!AD$6,(ROW(AB19)-5)*5,,5,1))/SUM(journal!AD$6:AD$10),\"a\"),\"\")","v":""},{"$f":"IF(AD$4<>\"\",IF(Saisie!AJ24<>\"a\",AD$4*SUM(OFFSET(journal!AE$6,(ROW(AC19)-5)*5,,5,1))/SUM(journal!AE$6:AE$10),\"a\"),\"\")","v":""},{"$f":"IF(AE$4<>\"\",IF(Saisie!AK24<>\"a\",AE$4*SUM(OFFSET(journal!AF$6,(ROW(AD19)-5)*5,,5,1))/SUM(journal!AF$6:AF$10),\"a\"),\"\")","v":""},{"$f":"IF(AF$4<>\"\",IF(Saisie!AL24<>\"a\",AF$4*SUM(OFFSET(journal!AG$6,(ROW(AE19)-5)*5,,5,1))/SUM(journal!AG$6:AG$10),\"a\"),\"\")","v":""},{"$f":"IF(AG$4<>\"\",IF(Saisie!AM24<>\"a\",AG$4*SUM(OFFSET(journal!AH$6,(ROW(AF19)-5)*5,,5,1))/SUM(journal!AH$6:AH$10),\"a\"),\"\")","v":""},{"$f":"IF(AH$4<>\"\",IF(Saisie!AN24<>\"a\",AH$4*SUM(OFFSET(journal!AI$6,(ROW(AG19)-5)*5,,5,1))/SUM(journal!AI$6:AI$10),\"a\"),\"\")","v":""},{"$f":"IF(AI$4<>\"\",IF(Saisie!AO24<>\"a\",AI$4*SUM(OFFSET(journal!AJ$6,(ROW(AH19)-5)*5,,5,1))/SUM(journal!AJ$6:AJ$10),\"a\"),\"\")","v":""},{"$f":"IF(AJ$4<>\"\",IF(Saisie!AP24<>\"a\",AJ$4*SUM(OFFSET(journal!AK$6,(ROW(AI19)-5)*5,,5,1))/SUM(journal!AK$6:AK$10),\"a\"),\"\")","v":""},{"$f":"IF(AK$4<>\"\",IF(Saisie!AQ24<>\"a\",AK$4*SUM(OFFSET(journal!AL$6,(ROW(AJ19)-5)*5,,5,1))/SUM(journal!AL$6:AL$10),\"a\"),\"\")","v":""},{"$f":"IF(AL$4<>\"\",IF(Saisie!AR24<>\"a\",AL$4*SUM(OFFSET(journal!AM$6,(ROW(AK19)-5)*5,,5,1))/SUM(journal!AM$6:AM$10),\"a\"),\"\")","v":""},{"$f":"IF(AM$4<>\"\",IF(Saisie!AS24<>\"a\",AM$4*SUM(OFFSET(journal!AN$6,(ROW(AL19)-5)*5,,5,1))/SUM(journal!AN$6:AN$10),\"a\"),\"\")","v":""},{"$f":"IF(AN$4<>\"\",IF(Saisie!AT24<>\"a\",AN$4*SUM(OFFSET(journal!AO$6,(ROW(AM19)-5)*5,,5,1))/SUM(journal!AO$6:AO$10),\"a\"),\"\")","v":""},{"$f":"IF(AO$4<>\"\",IF(Saisie!AU24<>\"a\",AO$4*SUM(OFFSET(journal!AP$6,(ROW(AN19)-5)*5,,5,1))/SUM(journal!AP$6:AP$10),\"a\"),\"\")","v":""},{"$f":"IF(AP$4<>\"\",IF(Saisie!AV24<>\"a\",AP$4*SUM(OFFSET(journal!AQ$6,(ROW(AO19)-5)*5,,5,1))/SUM(journal!AQ$6:AQ$10),\"a\"),\"\")","v":""},{"$f":"IF(AQ$4<>\"\",IF(Saisie!AW24<>\"a\",AQ$4*SUM(OFFSET(journal!AR$6,(ROW(AP19)-5)*5,,5,1))/SUM(journal!AR$6:AR$10),\"a\"),\"\")","v":""}]
[{"$f":"IF(Saisie!A25=\"\",\"\",Saisie!A25)","v":""},null,null,null,null,null,{"$f":"IF(G$4<>\"\",IF(Saisie!M25<>\"a\",G$4*SUM(OFFSET(journal!H$6,(ROW(F20)-5)*5,,5,1))/SUM(journal!H$6:H$10),\"a\"),\"\")","v":""},{"$f":"IF(H$4<>\"\",IF(Saisie!N25<>\"a\",H$4*SUM(OFFSET(journal!I$6,(ROW(G20)-5)*5,,5,1))/SUM(journal!I$6:I$10),\"a\"),\"\")","v":""},{"$f":"IF(I$4<>\"\",IF(Saisie!O25<>\"a\",I$4*SUM(OFFSET(journal!J$6,(ROW(H20)-5)*5,,5,1))/SUM(journal!J$6:J$10),\"a\"),\"\")","v":""},{"$f":"IF(J$4<>\"\",IF(Saisie!P25<>\"a\",J$4*SUM(OFFSET(journal!K$6,(ROW(I20)-5)*5,,5,1))/SUM(journal!K$6:K$10),\"a\"),\"\")","v":""},{"$f":"IF(K$4<>\"\",IF(Saisie!Q25<>\"a\",K$4*SUM(OFFSET(journal!L$6,(ROW(J20)-5)*5,,5,1))/SUM(journal!L$6:L$10),\"a\"),\"\")","v":""},{"$f":"IF(L$4<>\"\",IF(Saisie!R25<>\"a\",L$4*SUM(OFFSET(journal!M$6,(ROW(K20)-5)*5,,5,1))/SUM(journal!M$6:M$10),\"a\"),\"\")","v":""},{"$f":"IF(M$4<>\"\",IF(Saisie!S25<>\"a\",M$4*SUM(OFFSET(journal!N$6,(ROW(L20)-5)*5,,5,1))/SUM(journal!N$6:N$10),\"a\"),\"\")","v":""},{"$f":"IF(N$4<>\"\",IF(Saisie!T25<>\"a\",N$4*SUM(OFFSET(journal!O$6,(ROW(M20)-5)*5,,5,1))/SUM(journal!O$6:O$10),\"a\"),\"\")","v":""},{"$f":"IF(O$4<>\"\",IF(Saisie!U25<>\"a\",O$4*SUM(OFFSET(journal!P$6,(ROW(N20)-5)*5,,5,1))/SUM(journal!P$6:P$10),\"a\"),\"\")","v":""},{"$f":"IF(P$4<>\"\",IF(Saisie!V25<>\"a\",P$4*SUM(OFFSET(journal!Q$6,(ROW(O20)-5)*5,,5,1))/SUM(journal!Q$6:Q$10),\"a\"),\"\")","v":""},{"$f":"IF(Q$4<>\"\",IF(Saisie!W25<>\"a\",Q$4*SUM(OFFSET(journal!R$6,(ROW(P20)-5)*5,,5,1))/SUM(journal!R$6:R$10),\"a\"),\"\")","v":""},{"$f":"IF(R$4<>\"\",IF(Saisie!X25<>\"a\",R$4*SUM(OFFSET(journal!S$6,(ROW(Q20)-5)*5,,5,1))/SUM(journal!S$6:S$10),\"a\"),\"\")","v":""},{"$f":"IF(S$4<>\"\",IF(Saisie!Y25<>\"a\",S$4*SUM(OFFSET(journal!T$6,(ROW(R20)-5)*5,,5,1))/SUM(journal!T$6:T$10),\"a\"),\"\")","v":""},{"$f":"IF(T$4<>\"\",IF(Saisie!Z25<>\"a\",T$4*SUM(OFFSET(journal!U$6,(ROW(S20)-5)*5,,5,1))/SUM(journal!U$6:U$10),\"a\"),\"\")","v":""},{"$f":"IF(U$4<>\"\",IF(Saisie!AA25<>\"a\",U$4*SUM(OFFSET(journal!V$6,(ROW(T20)-5)*5,,5,1))/SUM(journal!V$6:V$10),\"a\"),\"\")","v":""},{"$f":"IF(V$4<>\"\",IF(Saisie!AB25<>\"a\",V$4*SUM(OFFSET(journal!W$6,(ROW(U20)-5)*5,,5,1))/SUM(journal!W$6:W$10),\"a\"),\"\")","v":""},{"$f":"IF(W$4<>\"\",IF(Saisie!AC25<>\"a\",W$4*SUM(OFFSET(journal!X$6,(ROW(V20)-5)*5,,5,1))/SUM(journal!X$6:X$10),\"a\"),\"\")","v":""},{"$f":"IF(X$4<>\"\",IF(Saisie!AD25<>\"a\",X$4*SUM(OFFSET(journal!Y$6,(ROW(W20)-5)*5,,5,1))/SUM(journal!Y$6:Y$10),\"a\"),\"\")","v":""},{"$f":"IF(Y$4<>\"\",IF(Saisie!AE25<>\"a\",Y$4*SUM(OFFSET(journal!Z$6,(ROW(X20)-5)*5,,5,1))/SUM(journal!Z$6:Z$10),\"a\"),\"\")","v":""},{"$f":"IF(Z$4<>\"\",IF(Saisie!AF25<>\"a\",Z$4*SUM(OFFSET(journal!AA$6,(ROW(Y20)-5)*5,,5,1))/SUM(journal!AA$6:AA$10),\"a\"),\"\")","v":""},{"$f":"IF(AA$4<>\"\",IF(Saisie!AG25<>\"a\",AA$4*SUM(OFFSET(journal!AB$6,(ROW(Z20)-5)*5,,5,1))/SUM(journal!AB$6:AB$10),\"a\"),\"\")","v":""},{"$f":"IF(AB$4<>\"\",IF(Saisie!AH25<>\"a\",AB$4*SUM(OFFSET(journal!AC$6,(ROW(AA20)-5)*5,,5,1))/SUM(journal!AC$6:AC$10),\"a\"),\"\")","v":""},{"$f":"IF(AC$4<>\"\",IF(Saisie!AI25<>\"a\",AC$4*SUM(OFFSET(journal!AD$6,(ROW(AB20)-5)*5,,5,1))/SUM(journal!AD$6:AD$10),\"a\"),\"\")","v":""},{"$f":"IF(AD$4<>\"\",IF(Saisie!AJ25<>\"a\",AD$4*SUM(OFFSET(journal!AE$6,(ROW(AC20)-5)*5,,5,1))/SUM(journal!AE$6:AE$10),\"a\"),\"\")","v":""},{"$f":"IF(AE$4<>\"\",IF(Saisie!AK25<>\"a\",AE$4*SUM(OFFSET(journal!AF$6,(ROW(AD20)-5)*5,,5,1))/SUM(journal!AF$6:AF$10),\"a\"),\"\")","v":""},{"$f":"IF(AF$4<>\"\",IF(Saisie!AL25<>\"a\",AF$4*SUM(OFFSET(journal!AG$6,(ROW(AE20)-5)*5,,5,1))/SUM(journal!AG$6:AG$10),\"a\"),\"\")","v":""},{"$f":"IF(AG$4<>\"\",IF(Saisie!AM25<>\"a\",AG$4*SUM(OFFSET(journal!AH$6,(ROW(AF20)-5)*5,,5,1))/SUM(journal!AH$6:AH$10),\"a\"),\"\")","v":""},{"$f":"IF(AH$4<>\"\",IF(Saisie!AN25<>\"a\",AH$4*SUM(OFFSET(journal!AI$6,(ROW(AG20)-5)*5,,5,1))/SUM(journal!AI$6:AI$10),\"a\"),\"\")","v":""},{"$f":"IF(AI$4<>\"\",IF(Saisie!AO25<>\"a\",AI$4*SUM(OFFSET(journal!AJ$6,(ROW(AH20)-5)*5,,5,1))/SUM(journal!AJ$6:AJ$10),\"a\"),\"\")","v":""},{"$f":"IF(AJ$4<>\"\",IF(Saisie!AP25<>\"a\",AJ$4*SUM(OFFSET(journal!AK$6,(ROW(AI20)-5)*5,,5,1))/SUM(journal!AK$6:AK$10),\"a\"),\"\")","v":""},{"$f":"IF(AK$4<>\"\",IF(Saisie!AQ25<>\"a\",AK$4*SUM(OFFSET(journal!AL$6,(ROW(AJ20)-5)*5,,5,1))/SUM(journal!AL$6:AL$10),\"a\"),\"\")","v":""},{"$f":"IF(AL$4<>\"\",IF(Saisie!AR25<>\"a\",AL$4*SUM(OFFSET(journal!AM$6,(ROW(AK20)-5)*5,,5,1))/SUM(journal!AM$6:AM$10),\"a\"),\"\")","v":""},{"$f":"IF(AM$4<>\"\",IF(Saisie!AS25<>\"a\",AM$4*SUM(OFFSET(journal!AN$6,(ROW(AL20)-5)*5,,5,1))/SUM(journal!AN$6:AN$10),\"a\"),\"\")","v":""},{"$f":"IF(AN$4<>\"\",IF(Saisie!AT25<>\"a\",AN$4*SUM(OFFSET(journal!AO$6,(ROW(AM20)-5)*5,,5,1))/SUM(journal!AO$6:AO$10),\"a\"),\"\")","v":""},{"$f":"IF(AO$4<>\"\",IF(Saisie!AU25<>\"a\",AO$4*SUM(OFFSET(journal!AP$6,(ROW(AN20)-5)*5,,5,1))/SUM(journal!AP$6:AP$10),\"a\"),\"\")","v":""},{"$f":"IF(AP$4<>\"\",IF(Saisie!AV25<>\"a\",AP$4*SUM(OFFSET(journal!AQ$6,(ROW(AO20)-5)*5,,5,1))/SUM(journal!AQ$6:AQ$10),\"a\"),\"\")","v":""},{"$f":"IF(AQ$4<>\"\",IF(Saisie!AW25<>\"a\",AQ$4*SUM(OFFSET(journal!AR$6,(ROW(AP20)-5)*5,,5,1))/SUM(journal!AR$6:AR$10),\"a\"),\"\")","v":""}]
[{"$f":"IF(Saisie!A26=\"\",\"\",Saisie!A26)","v":""},null,null,null,null,null,{"$f":"IF(G$4<>\"\",IF(Saisie!M26<>\"a\",G$4*SUM(OFFSET(journal!H$6,(ROW(F21)-5)*5,,5,1))/SUM(journal!H$6:H$10),\"a\"),\"\")","v":""},{"$f":"IF(H$4<>\"\",IF(Saisie!N26<>\"a\",H$4*SUM(OFFSET(journal!I$6,(ROW(G21)-5)*5,,5,1))/SUM(journal!I$6:I$10),\"a\"),\"\")","v":""},{"$f":"IF(I$4<>\"\",IF(Saisie!O26<>\"a\",I$4*SUM(OFFSET(journal!J$6,(ROW(H21)-5)*5,,5,1))/SUM(journal!J$6:J$10),\"a\"),\"\")","v":""},{"$f":"IF(J$4<>\"\",IF(Saisie!P26<>\"a\",J$4*SUM(OFFSET(journal!K$6,(ROW(I21)-5)*5,,5,1))/SUM(journal!K$6:K$10),\"a\"),\"\")","v":""},{"$f":"IF(K$4<>\"\",IF(Saisie!Q26<>\"a\",K$4*SUM(OFFSET(journal!L$6,(ROW(J21)-5)*5,,5,1))/SUM(journal!L$6:L$10),\"a\"),\"\")","v":""},{"$f":"IF(L$4<>\"\",IF(Saisie!R26<>\"a\",L$4*SUM(OFFSET(journal!M$6,(ROW(K21)-5)*5,,5,1))/SUM(journal!M$6:M$10),\"a\"),\"\")","v":""},{"$f":"IF(M$4<>\"\",IF(Saisie!S26<>\"a\",M$4*SUM(OFFSET(journal!N$6,(ROW(L21)-5)*5,,5,1))/SUM(journal!N$6:N$10),\"a\"),\"\")","v":""},{"$f":"IF(N$4<>\"\",IF(Saisie!T26<>\"a\",N$4*SUM(OFFSET(journal!O$6,(ROW(M21)-5)*5,,5,1))/SUM(journal!O$6:O$10),\"a\"),\"\")","v":""},{"$f":"IF(O$4<>\"\",IF(Saisie!U26<>\"a\",O$4*SUM(OFFSET(journal!P$6,(ROW(N21)-5)*5,,5,1))/SUM(journal!P$6:P$10),\"a\"),\"\")","v":""},{"$f":"IF(P$4<>\"\",IF(Saisie!V26<>\"a\",P$4*SUM(OFFSET(journal!Q$6,(ROW(O21)-5)*5,,5,1))/SUM(journal!Q$6:Q$10),\"a\"),\"\")","v":""},{"$f":"IF(Q$4<>\"\",IF(Saisie!W26<>\"a\",Q$4*SUM(OFFSET(journal!R$6,(ROW(P21)-5)*5,,5,1))/SUM(journal!R$6:R$10),\"a\"),\"\")","v":""},{"$f":"IF(R$4<>\"\",IF(Saisie!X26<>\"a\",R$4*SUM(OFFSET(journal!S$6,(ROW(Q21)-5)*5,,5,1))/SUM(journal!S$6:S$10),\"a\"),\"\")","v":""},{"$f":"IF(S$4<>\"\",IF(Saisie!Y26<>\"a\",S$4*SUM(OFFSET(journal!T$6,(ROW(R21)-5)*5,,5,1))/SUM(journal!T$6:T$10),\"a\"),\"\")","v":""},{"$f":"IF(T$4<>\"\",IF(Saisie!Z26<>\"a\",T$4*SUM(OFFSET(journal!U$6,(ROW(S21)-5)*5,,5,1))/SUM(journal!U$6:U$10),\"a\"),\"\")","v":""},{"$f":"IF(U$4<>\"\",IF(Saisie!AA26<>\"a\",U$4*SUM(OFFSET(journal!V$6,(ROW(T21)-5)*5,,5,1))/SUM(journal!V$6:V$10),\"a\"),\"\")","v":""},{"$f":"IF(V$4<>\"\",IF(Saisie!AB26<>\"a\",V$4*SUM(OFFSET(journal!W$6,(ROW(U21)-5)*5,,5,1))/SUM(journal!W$6:W$10),\"a\"),\"\")","v":""},{"$f":"IF(W$4<>\"\",IF(Saisie!AC26<>\"a\",W$4*SUM(OFFSET(journal!X$6,(ROW(V21)-5)*5,,5,1))/SUM(journal!X$6:X$10),\"a\"),\"\")","v":""},{"$f":"IF(X$4<>\"\",IF(Saisie!AD26<>\"a\",X$4*SUM(OFFSET(journal!Y$6,(ROW(W21)-5)*5,,5,1))/SUM(journal!Y$6:Y$10),\"a\"),\"\")","v":""},{"$f":"IF(Y$4<>\"\",IF(Saisie!AE26<>\"a\",Y$4*SUM(OFFSET(journal!Z$6,(ROW(X21)-5)*5,,5,1))/SUM(journal!Z$6:Z$10),\"a\"),\"\")","v":""},{"$f":"IF(Z$4<>\"\",IF(Saisie!AF26<>\"a\",Z$4*SUM(OFFSET(journal!AA$6,(ROW(Y21)-5)*5,,5,1))/SUM(journal!AA$6:AA$10),\"a\"),\"\")","v":""},{"$f":"IF(AA$4<>\"\",IF(Saisie!AG26<>\"a\",AA$4*SUM(OFFSET(journal!AB$6,(ROW(Z21)-5)*5,,5,1))/SUM(journal!AB$6:AB$10),\"a\"),\"\")","v":""},{"$f":"IF(AB$4<>\"\",IF(Saisie!AH26<>\"a\",AB$4*SUM(OFFSET(journal!AC$6,(ROW(AA21)-5)*5,,5,1))/SUM(journal!AC$6:AC$10),\"a\"),\"\")","v":""},{"$f":"IF(AC$4<>\"\",IF(Saisie!AI26<>\"a\",AC$4*SUM(OFFSET(journal!AD$6,(ROW(AB21)-5)*5,,5,1))/SUM(journal!AD$6:AD$10),\"a\"),\"\")","v":""},{"$f":"IF(AD$4<>\"\",IF(Saisie!AJ26<>\"a\",AD$4*SUM(OFFSET(journal!AE$6,(ROW(AC21)-5)*5,,5,1))/SUM(journal!AE$6:AE$10),\"a\"),\"\")","v":""},{"$f":"IF(AE$4<>\"\",IF(Saisie!AK26<>\"a\",AE$4*SUM(OFFSET(journal!AF$6,(ROW(AD21)-5)*5,,5,1))/SUM(journal!AF$6:AF$10),\"a\"),\"\")","v":""},{"$f":"IF(AF$4<>\"\",IF(Saisie!AL26<>\"a\",AF$4*SUM(OFFSET(journal!AG$6,(ROW(AE21)-5)*5,,5,1))/SUM(journal!AG$6:AG$10),\"a\"),\"\")","v":""},{"$f":"IF(AG$4<>\"\",IF(Saisie!AM26<>\"a\",AG$4*SUM(OFFSET(journal!AH$6,(ROW(AF21)-5)*5,,5,1))/SUM(journal!AH$6:AH$10),\"a\"),\"\")","v":""},{"$f":"IF(AH$4<>\"\",IF(Saisie!AN26<>\"a\",AH$4*SUM(OFFSET(journal!AI$6,(ROW(AG21)-5)*5,,5,1))/SUM(journal!AI$6:AI$10),\"a\"),\"\")","v":""},{"$f":"IF(AI$4<>\"\",IF(Saisie!AO26<>\"a\",AI$4*SUM(OFFSET(journal!AJ$6,(ROW(AH21)-5)*5,,5,1))/SUM(journal!AJ$6:AJ$10),\"a\"),\"\")","v":""},{"$f":"IF(AJ$4<>\"\",IF(Saisie!AP26<>\"a\",AJ$4*SUM(OFFSET(journal!AK$6,(ROW(AI21)-5)*5,,5,1))/SUM(journal!AK$6:AK$10),\"a\"),\"\")","v":""},{"$f":"IF(AK$4<>\"\",IF(Saisie!AQ26<>\"a\",AK$4*SUM(OFFSET(journal!AL$6,(ROW(AJ21)-5)*5,,5,1))/SUM(journal!AL$6:AL$10),\"a\"),\"\")","v":""},{"$f":"IF(AL$4<>\"\",IF(Saisie!AR26<>\"a\",AL$4*SUM(OFFSET(journal!AM$6,(ROW(AK21)-5)*5,,5,1))/SUM(journal!AM$6:AM$10),\"a\"),\"\")","v":""},{"$f":"IF(AM$4<>\"\",IF(Saisie!AS26<>\"a\",AM$4*SUM(OFFSET(journal!AN$6,(ROW(AL21)-5)*5,,5,1))/SUM(journal!AN$6:AN$10),\"a\"),\"\")","v":""},{"$f":"IF(AN$4<>\"\",IF(Saisie!AT26<>\"a\",AN$4*SUM(OFFSET(journal!AO$6,(ROW(AM21)-5)*5,,5,1))/SUM(journal!AO$6:AO$10),\"a\"),\"\")","v":""},{"$f":"IF(AO$4<>\"\",IF(Saisie!AU26<>\"a\",AO$4*SUM(OFFSET(journal!AP$6,(ROW(AN21)-5)*5,,5,1))/SUM(journal!AP$6:AP$10),\"a\"),\"\")","v":""},{"$f":"IF(AP$4<>\"\",IF(Saisie!AV26<>\"a\",AP$4*SUM(OFFSET(journal!AQ$6,(ROW(AO21)-5)*5,,5,1))/SUM(journal!AQ$6:AQ$10),\"a\"),\"\")","v":""},{"$f":"IF(AQ$4<>\"\",IF(Saisie!AW26<>\"a\",AQ$4*SUM(OFFSET(journal!AR$6,(ROW(AP21)-5)*5,,5,1))/SUM(journal!AR$6:AR$10),\"a\"),\"\")","v":""}]
[{"$f":"IF(Saisie!A27=\"\",\"\",Saisie!A27)","v":""},null,null,null,null,null,{"$f":"IF(G$4<>\"\",IF(Saisie!M27<>\"a\",G$4*SUM(OFFSET(journal!H$6,(ROW(F22)-5)*5,,5,1))/SUM(journal!H$6:H$10),\"a\"),\"\")","v":""},{"$f":"IF(H$4<>\"\",IF(Saisie!N27<>\"a\",H$4*SUM(OFFSET(journal!I$6,(ROW(G22)-5)*5,,5,1))/SUM(journal!I$6:I$10),\"a\"),\"\")","v":""},{"$f":"IF(I$4<>\"\",IF(Saisie!O27<>\"a\",I$4*SUM(OFFSET(journal!J$6,(ROW(H22)-5)*5,,5,1))/SUM(journal!J$6:J$10),\"a\"),\"\")","v":""},{"$f":"IF(J$4<>\"\",IF(Saisie!P27<>\"a\",J$4*SUM(OFFSET(journal!K$6,(ROW(I22)-5)*5,,5,1))/SUM(journal!K$6:K$10),\"a\"),\"\")","v":""},{"$f":"IF(K$4<>\"\",IF(Saisie!Q27<>\"a\",K$4*SUM(OFFSET(journal!L$6,(ROW(J22)-5)*5,,5,1))/SUM(journal!L$6:L$10),\"a\"),\"\")","v":""},{"$f":"IF(L$4<>\"\",IF(Saisie!R27<>\"a\",L$4*SUM(OFFSET(journal!M$6,(ROW(K22)-5)*5,,5,1))/SUM(journal!M$6:M$10),\"a\"),\"\")","v":""},{"$f":"IF(M$4<>\"\",IF(Saisie!S27<>\"a\",M$4*SUM(OFFSET(journal!N$6,(ROW(L22)-5)*5,,5,1))/SUM(journal!N$6:N$10),\"a\"),\"\")","v":""},{"$f":"IF(N$4<>\"\",IF(Saisie!T27<>\"a\",N$4*SUM(OFFSET(journal!O$6,(ROW(M22)-5)*5,,5,1))/SUM(journal!O$6:O$10),\"a\"),\"\")","v":""},{"$f":"IF(O$4<>\"\",IF(Saisie!U27<>\"a\",O$4*SUM(OFFSET(journal!P$6,(ROW(N22)-5)*5,,5,1))/SUM(journal!P$6:P$10),\"a\"),\"\")","v":""},{"$f":"IF(P$4<>\"\",IF(Saisie!V27<>\"a\",P$4*SUM(OFFSET(journal!Q$6,(ROW(O22)-5)*5,,5,1))/SUM(journal!Q$6:Q$10),\"a\"),\"\")","v":""},{"$f":"IF(Q$4<>\"\",IF(Saisie!W27<>\"a\",Q$4*SUM(OFFSET(journal!R$6,(ROW(P22)-5)*5,,5,1))/SUM(journal!R$6:R$10),\"a\"),\"\")","v":""},{"$f":"IF(R$4<>\"\",IF(Saisie!X27<>\"a\",R$4*SUM(OFFSET(journal!S$6,(ROW(Q22)-5)*5,,5,1))/SUM(journal!S$6:S$10),\"a\"),\"\")","v":""},{"$f":"IF(S$4<>\"\",IF(Saisie!Y27<>\"a\",S$4*SUM(OFFSET(journal!T$6,(ROW(R22)-5)*5,,5,1))/SUM(journal!T$6:T$10),\"a\"),\"\")","v":""},{"$f":"IF(T$4<>\"\",IF(Saisie!Z27<>\"a\",T$4*SUM(OFFSET(journal!U$6,(ROW(S22)-5)*5,,5,1))/SUM(journal!U$6:U$10),\"a\"),\"\")","v":""},{"$f":"IF(U$4<>\"\",IF(Saisie!AA27<>\"a\",U$4*SUM(OFFSET(journal!V$6,(ROW(T22)-5)*5,,5,1))/SUM(journal!V$6:V$10),\"a\"),\"\")","v":""},{"$f":"IF(V$4<>\"\",IF(Saisie!AB27<>\"a\",V$4*SUM(OFFSET(journal!W$6,(ROW(U22)-5)*5,,5,1))/SUM(journal!W$6:W$10),\"a\"),\"\")","v":""},{"$f":"IF(W$4<>\"\",IF(Saisie!AC27<>\"a\",W$4*SUM(OFFSET(journal!X$6,(ROW(V22)-5)*5,,5,1))/SUM(journal!X$6:X$10),\"a\"),\"\")","v":""},{"$f":"IF(X$4<>\"\",IF(Saisie!AD27<>\"a\",X$4*SUM(OFFSET(journal!Y$6,(ROW(W22)-5)*5,,5,1))/SUM(journal!Y$6:Y$10),\"a\"),\"\")","v":""},{"$f":"IF(Y$4<>\"\",IF(Saisie!AE27<>\"a\",Y$4*SUM(OFFSET(journal!Z$6,(ROW(X22)-5)*5,,5,1))/SUM(journal!Z$6:Z$10),\"a\"),\"\")","v":""},{"$f":"IF(Z$4<>\"\",IF(Saisie!AF27<>\"a\",Z$4*SUM(OFFSET(journal!AA$6,(ROW(Y22)-5)*5,,5,1))/SUM(journal!AA$6:AA$10),\"a\"),\"\")","v":""},{"$f":"IF(AA$4<>\"\",IF(Saisie!AG27<>\"a\",AA$4*SUM(OFFSET(journal!AB$6,(ROW(Z22)-5)*5,,5,1))/SUM(journal!AB$6:AB$10),\"a\"),\"\")","v":""},{"$f":"IF(AB$4<>\"\",IF(Saisie!AH27<>\"a\",AB$4*SUM(OFFSET(journal!AC$6,(ROW(AA22)-5)*5,,5,1))/SUM(journal!AC$6:AC$10),\"a\"),\"\")","v":""},{"$f":"IF(AC$4<>\"\",IF(Saisie!AI27<>\"a\",AC$4*SUM(OFFSET(journal!AD$6,(ROW(AB22)-5)*5,,5,1))/SUM(journal!AD$6:AD$10),\"a\"),\"\")","v":""},{"$f":"IF(AD$4<>\"\",IF(Saisie!AJ27<>\"a\",AD$4*SUM(OFFSET(journal!AE$6,(ROW(AC22)-5)*5,,5,1))/SUM(journal!AE$6:AE$10),\"a\"),\"\")","v":""},{"$f":"IF(AE$4<>\"\",IF(Saisie!AK27<>\"a\",AE$4*SUM(OFFSET(journal!AF$6,(ROW(AD22)-5)*5,,5,1))/SUM(journal!AF$6:AF$10),\"a\"),\"\")","v":""},{"$f":"IF(AF$4<>\"\",IF(Saisie!AL27<>\"a\",AF$4*SUM(OFFSET(journal!AG$6,(ROW(AE22)-5)*5,,5,1))/SUM(journal!AG$6:AG$10),\"a\"),\"\")","v":""},{"$f":"IF(AG$4<>\"\",IF(Saisie!AM27<>\"a\",AG$4*SUM(OFFSET(journal!AH$6,(ROW(AF22)-5)*5,,5,1))/SUM(journal!AH$6:AH$10),\"a\"),\"\")","v":""},{"$f":"IF(AH$4<>\"\",IF(Saisie!AN27<>\"a\",AH$4*SUM(OFFSET(journal!AI$6,(ROW(AG22)-5)*5,,5,1))/SUM(journal!AI$6:AI$10),\"a\"),\"\")","v":""},{"$f":"IF(AI$4<>\"\",IF(Saisie!AO27<>\"a\",AI$4*SUM(OFFSET(journal!AJ$6,(ROW(AH22)-5)*5,,5,1))/SUM(journal!AJ$6:AJ$10),\"a\"),\"\")","v":""},{"$f":"IF(AJ$4<>\"\",IF(Saisie!AP27<>\"a\",AJ$4*SUM(OFFSET(journal!AK$6,(ROW(AI22)-5)*5,,5,1))/SUM(journal!AK$6:AK$10),\"a\"),\"\")","v":""},{"$f":"IF(AK$4<>\"\",IF(Saisie!AQ27<>\"a\",AK$4*SUM(OFFSET(journal!AL$6,(ROW(AJ22)-5)*5,,5,1))/SUM(journal!AL$6:AL$10),\"a\"),\"\")","v":""},{"$f":"IF(AL$4<>\"\",IF(Saisie!AR27<>\"a\",AL$4*SUM(OFFSET(journal!AM$6,(ROW(AK22)-5)*5,,5,1))/SUM(journal!AM$6:AM$10),\"a\"),\"\")","v":""},{"$f":"IF(AM$4<>\"\",IF(Saisie!AS27<>\"a\",AM$4*SUM(OFFSET(journal!AN$6,(ROW(AL22)-5)*5,,5,1))/SUM(journal!AN$6:AN$10),\"a\"),\"\")","v":""},{"$f":"IF(AN$4<>\"\",IF(Saisie!AT27<>\"a\",AN$4*SUM(OFFSET(journal!AO$6,(ROW(AM22)-5)*5,,5,1))/SUM(journal!AO$6:AO$10),\"a\"),\"\")","v":""},{"$f":"IF(AO$4<>\"\",IF(Saisie!AU27<>\"a\",AO$4*SUM(OFFSET(journal!AP$6,(ROW(AN22)-5)*5,,5,1))/SUM(journal!AP$6:AP$10),\"a\"),\"\")","v":""},{"$f":"IF(AP$4<>\"\",IF(Saisie!AV27<>\"a\",AP$4*SUM(OFFSET(journal!AQ$6,(ROW(AO22)-5)*5,,5,1))/SUM(journal!AQ$6:AQ$10),\"a\"),\"\")","v":""},{"$f":"IF(AQ$4<>\"\",IF(Saisie!AW27<>\"a\",AQ$4*SUM(OFFSET(journal!AR$6,(ROW(AP22)-5)*5,,5,1))/SUM(journal!AR$6:AR$10),\"a\"),\"\")","v":""}]
[{"$f":"IF(Saisie!A28=\"\",\"\",Saisie!A28)","v":""},null,null,null,null,null,{"$f":"IF(G$4<>\"\",IF(Saisie!M28<>\"a\",G$4*SUM(OFFSET(journal!H$6,(ROW(F23)-5)*5,,5,1))/SUM(journal!H$6:H$10),\"a\"),\"\")","v":""},{"$f":"IF(H$4<>\"\",IF(Saisie!N28<>\"a\",H$4*SUM(OFFSET(journal!I$6,(ROW(G23)-5)*5,,5,1))/SUM(journal!I$6:I$10),\"a\"),\"\")","v":""},{"$f":"IF(I$4<>\"\",IF(Saisie!O28<>\"a\",I$4*SUM(OFFSET(journal!J$6,(ROW(H23)-5)*5,,5,1))/SUM(journal!J$6:J$10),\"a\"),\"\")","v":""},{"$f":"IF(J$4<>\"\",IF(Saisie!P28<>\"a\",J$4*SUM(OFFSET(journal!K$6,(ROW(I23)-5)*5,,5,1))/SUM(journal!K$6:K$10),\"a\"),\"\")","v":""},{"$f":"IF(K$4<>\"\",IF(Saisie!Q28<>\"a\",K$4*SUM(OFFSET(journal!L$6,(ROW(J23)-5)*5,,5,1))/SUM(journal!L$6:L$10),\"a\"),\"\")","v":""},{"$f":"IF(L$4<>\"\",IF(Saisie!R28<>\"a\",L$4*SUM(OFFSET(journal!M$6,(ROW(K23)-5)*5,,5,1))/SUM(journal!M$6:M$10),\"a\"),\"\")","v":""},{"$f":"IF(M$4<>\"\",IF(Saisie!S28<>\"a\",M$4*SUM(OFFSET(journal!N$6,(ROW(L23)-5)*5,,5,1))/SUM(journal!N$6:N$10),\"a\"),\"\")","v":""},{"$f":"IF(N$4<>\"\",IF(Saisie!T28<>\"a\",N$4*SUM(OFFSET(journal!O$6,(ROW(M23)-5)*5,,5,1))/SUM(journal!O$6:O$10),\"a\"),\"\")","v":""},{"$f":"IF(O$4<>\"\",IF(Saisie!U28<>\"a\",O$4*SUM(OFFSET(journal!P$6,(ROW(N23)-5)*5,,5,1))/SUM(journal!P$6:P$10),\"a\"),\"\")","v":""},{"$f":"IF(P$4<>\"\",IF(Saisie!V28<>\"a\",P$4*SUM(OFFSET(journal!Q$6,(ROW(O23)-5)*5,,5,1))/SUM(journal!Q$6:Q$10),\"a\"),\"\")","v":""},{"$f":"IF(Q$4<>\"\",IF(Saisie!W28<>\"a\",Q$4*SUM(OFFSET(journal!R$6,(ROW(P23)-5)*5,,5,1))/SUM(journal!R$6:R$10),\"a\"),\"\")","v":""},{"$f":"IF(R$4<>\"\",IF(Saisie!X28<>\"a\",R$4*SUM(OFFSET(journal!S$6,(ROW(Q23)-5)*5,,5,1))/SUM(journal!S$6:S$10),\"a\"),\"\")","v":""},{"$f":"IF(S$4<>\"\",IF(Saisie!Y28<>\"a\",S$4*SUM(OFFSET(journal!T$6,(ROW(R23)-5)*5,,5,1))/SUM(journal!T$6:T$10),\"a\"),\"\")","v":""},{"$f":"IF(T$4<>\"\",IF(Saisie!Z28<>\"a\",T$4*SUM(OFFSET(journal!U$6,(ROW(S23)-5)*5,,5,1))/SUM(journal!U$6:U$10),\"a\"),\"\")","v":""},{"$f":"IF(U$4<>\"\",IF(Saisie!AA28<>\"a\",U$4*SUM(OFFSET(journal!V$6,(ROW(T23)-5)*5,,5,1))/SUM(journal!V$6:V$10),\"a\"),\"\")","v":""},{"$f":"IF(V$4<>\"\",IF(Saisie!AB28<>\"a\",V$4*SUM(OFFSET(journal!W$6,(ROW(U23)-5)*5,,5,1))/SUM(journal!W$6:W$10),\"a\"),\"\")","v":""},{"$f":"IF(W$4<>\"\",IF(Saisie!AC28<>\"a\",W$4*SUM(OFFSET(journal!X$6,(ROW(V23)-5)*5,,5,1))/SUM(journal!X$6:X$10),\"a\"),\"\")","v":""},{"$f":"IF(X$4<>\"\",IF(Saisie!AD28<>\"a\",X$4*SUM(OFFSET(journal!Y$6,(ROW(W23)-5)*5,,5,1))/SUM(journal!Y$6:Y$10),\"a\"),\"\")","v":""},{"$f":"IF(Y$4<>\"\",IF(Saisie!AE28<>\"a\",Y$4*SUM(OFFSET(journal!Z$6,(ROW(X23)-5)*5,,5,1))/SUM(journal!Z$6:Z$10),\"a\"),\"\")","v":""},{"$f":"IF(Z$4<>\"\",IF(Saisie!AF28<>\"a\",Z$4*SUM(OFFSET(journal!AA$6,(ROW(Y23)-5)*5,,5,1))/SUM(journal!AA$6:AA$10),\"a\"),\"\")","v":""},{"$f":"IF(AA$4<>\"\",IF(Saisie!AG28<>\"a\",AA$4*SUM(OFFSET(journal!AB$6,(ROW(Z23)-5)*5,,5,1))/SUM(journal!AB$6:AB$10),\"a\"),\"\")","v":""},{"$f":"IF(AB$4<>\"\",IF(Saisie!AH28<>\"a\",AB$4*SUM(OFFSET(journal!AC$6,(ROW(AA23)-5)*5,,5,1))/SUM(journal!AC$6:AC$10),\"a\"),\"\")","v":""},{"$f":"IF(AC$4<>\"\",IF(Saisie!AI28<>\"a\",AC$4*SUM(OFFSET(journal!AD$6,(ROW(AB23)-5)*5,,5,1))/SUM(journal!AD$6:AD$10),\"a\"),\"\")","v":""},{"$f":"IF(AD$4<>\"\",IF(Saisie!AJ28<>\"a\",AD$4*SUM(OFFSET(journal!AE$6,(ROW(AC23)-5)*5,,5,1))/SUM(journal!AE$6:AE$10),\"a\"),\"\")","v":""},{"$f":"IF(AE$4<>\"\",IF(Saisie!AK28<>\"a\",AE$4*SUM(OFFSET(journal!AF$6,(ROW(AD23)-5)*5,,5,1))/SUM(journal!AF$6:AF$10),\"a\"),\"\")","v":""},{"$f":"IF(AF$4<>\"\",IF(Saisie!AL28<>\"a\",AF$4*SUM(OFFSET(journal!AG$6,(ROW(AE23)-5)*5,,5,1))/SUM(journal!AG$6:AG$10),\"a\"),\"\")","v":""},{"$f":"IF(AG$4<>\"\",IF(Saisie!AM28<>\"a\",AG$4*SUM(OFFSET(journal!AH$6,(ROW(AF23)-5)*5,,5,1))/SUM(journal!AH$6:AH$10),\"a\"),\"\")","v":""},{"$f":"IF(AH$4<>\"\",IF(Saisie!AN28<>\"a\",AH$4*SUM(OFFSET(journal!AI$6,(ROW(AG23)-5)*5,,5,1))/SUM(journal!AI$6:AI$10),\"a\"),\"\")","v":""},{"$f":"IF(AI$4<>\"\",IF(Saisie!AO28<>\"a\",AI$4*SUM(OFFSET(journal!AJ$6,(ROW(AH23)-5)*5,,5,1))/SUM(journal!AJ$6:AJ$10),\"a\"),\"\")","v":""},{"$f":"IF(AJ$4<>\"\",IF(Saisie!AP28<>\"a\",AJ$4*SUM(OFFSET(journal!AK$6,(ROW(AI23)-5)*5,,5,1))/SUM(journal!AK$6:AK$10),\"a\"),\"\")","v":""},{"$f":"IF(AK$4<>\"\",IF(Saisie!AQ28<>\"a\",AK$4*SUM(OFFSET(journal!AL$6,(ROW(AJ23)-5)*5,,5,1))/SUM(journal!AL$6:AL$10),\"a\"),\"\")","v":""},{"$f":"IF(AL$4<>\"\",IF(Saisie!AR28<>\"a\",AL$4*SUM(OFFSET(journal!AM$6,(ROW(AK23)-5)*5,,5,1))/SUM(journal!AM$6:AM$10),\"a\"),\"\")","v":""},{"$f":"IF(AM$4<>\"\",IF(Saisie!AS28<>\"a\",AM$4*SUM(OFFSET(journal!AN$6,(ROW(AL23)-5)*5,,5,1))/SUM(journal!AN$6:AN$10),\"a\"),\"\")","v":""},{"$f":"IF(AN$4<>\"\",IF(Saisie!AT28<>\"a\",AN$4*SUM(OFFSET(journal!AO$6,(ROW(AM23)-5)*5,,5,1))/SUM(journal!AO$6:AO$10),\"a\"),\"\")","v":""},{"$f":"IF(AO$4<>\"\",IF(Saisie!AU28<>\"a\",AO$4*SUM(OFFSET(journal!AP$6,(ROW(AN23)-5)*5,,5,1))/SUM(journal!AP$6:AP$10),\"a\"),\"\")","v":""},{"$f":"IF(AP$4<>\"\",IF(Saisie!AV28<>\"a\",AP$4*SUM(OFFSET(journal!AQ$6,(ROW(AO23)-5)*5,,5,1))/SUM(journal!AQ$6:AQ$10),\"a\"),\"\")","v":""},{"$f":"IF(AQ$4<>\"\",IF(Saisie!AW28<>\"a\",AQ$4*SUM(OFFSET(journal!AR$6,(ROW(AP23)-5)*5,,5,1))/SUM(journal!AR$6:AR$10),\"a\"),\"\")","v":""}]
[{"$f":"IF(Saisie!A29=\"\",\"\",Saisie!A29)","v":""},null,null,null,null,null,{"$f":"IF(G$4<>\"\",IF(Saisie!M29<>\"a\",G$4*SUM(OFFSET(journal!H$6,(ROW(F24)-5)*5,,5,1))/SUM(journal!H$6:H$10),\"a\"),\"\")","v":""},{"$f":"IF(H$4<>\"\",IF(Saisie!N29<>\"a\",H$4*SUM(OFFSET(journal!I$6,(ROW(G24)-5)*5,,5,1))/SUM(journal!I$6:I$10),\"a\"),\"\")","v":""},{"$f":"IF(I$4<>\"\",IF(Saisie!O29<>\"a\",I$4*SUM(OFFSET(journal!J$6,(ROW(H24)-5)*5,,5,1))/SUM(journal!J$6:J$10),\"a\"),\"\")","v":""},{"$f":"IF(J$4<>\"\",IF(Saisie!P29<>\"a\",J$4*SUM(OFFSET(journal!K$6,(ROW(I24)-5)*5,,5,1))/SUM(journal!K$6:K$10),\"a\"),\"\")","v":""},{"$f":"IF(K$4<>\"\",IF(Saisie!Q29<>\"a\",K$4*SUM(OFFSET(journal!L$6,(ROW(J24)-5)*5,,5,1))/SUM(journal!L$6:L$10),\"a\"),\"\")","v":""},{"$f":"IF(L$4<>\"\",IF(Saisie!R29<>\"a\",L$4*SUM(OFFSET(journal!M$6,(ROW(K24)-5)*5,,5,1))/SUM(journal!M$6:M$10),\"a\"),\"\")","v":""},{"$f":"IF(M$4<>\"\",IF(Saisie!S29<>\"a\",M$4*SUM(OFFSET(journal!N$6,(ROW(L24)-5)*5,,5,1))/SUM(journal!N$6:N$10),\"a\"),\"\")","v":""},{"$f":"IF(N$4<>\"\",IF(Saisie!T29<>\"a\",N$4*SUM(OFFSET(journal!O$6,(ROW(M24)-5)*5,,5,1))/SUM(journal!O$6:O$10),\"a\"),\"\")","v":""},{"$f":"IF(O$4<>\"\",IF(Saisie!U29<>\"a\",O$4*SUM(OFFSET(journal!P$6,(ROW(N24)-5)*5,,5,1))/SUM(journal!P$6:P$10),\"a\"),\"\")","v":""},{"$f":"IF(P$4<>\"\",IF(Saisie!V29<>\"a\",P$4*SUM(OFFSET(journal!Q$6,(ROW(O24)-5)*5,,5,1))/SUM(journal!Q$6:Q$10),\"a\"),\"\")","v":""},{"$f":"IF(Q$4<>\"\",IF(Saisie!W29<>\"a\",Q$4*SUM(OFFSET(journal!R$6,(ROW(P24)-5)*5,,5,1))/SUM(journal!R$6:R$10),\"a\"),\"\")","v":""},{"$f":"IF(R$4<>\"\",IF(Saisie!X29<>\"a\",R$4*SUM(OFFSET(journal!S$6,(ROW(Q24)-5)*5,,5,1))/SUM(journal!S$6:S$10),\"a\"),\"\")","v":""},{"$f":"IF(S$4<>\"\",IF(Saisie!Y29<>\"a\",S$4*SUM(OFFSET(journal!T$6,(ROW(R24)-5)*5,,5,1))/SUM(journal!T$6:T$10),\"a\"),\"\")","v":""},{"$f":"IF(T$4<>\"\",IF(Saisie!Z29<>\"a\",T$4*SUM(OFFSET(journal!U$6,(ROW(S24)-5)*5,,5,1))/SUM(journal!U$6:U$10),\"a\"),\"\")","v":""},{"$f":"IF(U$4<>\"\",IF(Saisie!AA29<>\"a\",U$4*SUM(OFFSET(journal!V$6,(ROW(T24)-5)*5,,5,1))/SUM(journal!V$6:V$10),\"a\"),\"\")","v":""},{"$f":"IF(V$4<>\"\",IF(Saisie!AB29<>\"a\",V$4*SUM(OFFSET(journal!W$6,(ROW(U24)-5)*5,,5,1))/SUM(journal!W$6:W$10),\"a\"),\"\")","v":""},{"$f":"IF(W$4<>\"\",IF(Saisie!AC29<>\"a\",W$4*SUM(OFFSET(journal!X$6,(ROW(V24)-5)*5,,5,1))/SUM(journal!X$6:X$10),\"a\"),\"\")","v":""},{"$f":"IF(X$4<>\"\",IF(Saisie!AD29<>\"a\",X$4*SUM(OFFSET(journal!Y$6,(ROW(W24)-5)*5,,5,1))/SUM(journal!Y$6:Y$10),\"a\"),\"\")","v":""},{"$f":"IF(Y$4<>\"\",IF(Saisie!AE29<>\"a\",Y$4*SUM(OFFSET(journal!Z$6,(ROW(X24)-5)*5,,5,1))/SUM(journal!Z$6:Z$10),\"a\"),\"\")","v":""},{"$f":"IF(Z$4<>\"\",IF(Saisie!AF29<>\"a\",Z$4*SUM(OFFSET(journal!AA$6,(ROW(Y24)-5)*5,,5,1))/SUM(journal!AA$6:AA$10),\"a\"),\"\")","v":""},{"$f":"IF(AA$4<>\"\",IF(Saisie!AG29<>\"a\",AA$4*SUM(OFFSET(journal!AB$6,(ROW(Z24)-5)*5,,5,1))/SUM(journal!AB$6:AB$10),\"a\"),\"\")","v":""},{"$f":"IF(AB$4<>\"\",IF(Saisie!AH29<>\"a\",AB$4*SUM(OFFSET(journal!AC$6,(ROW(AA24)-5)*5,,5,1))/SUM(journal!AC$6:AC$10),\"a\"),\"\")","v":""},{"$f":"IF(AC$4<>\"\",IF(Saisie!AI29<>\"a\",AC$4*SUM(OFFSET(journal!AD$6,(ROW(AB24)-5)*5,,5,1))/SUM(journal!AD$6:AD$10),\"a\"),\"\")","v":""},{"$f":"IF(AD$4<>\"\",IF(Saisie!AJ29<>\"a\",AD$4*SUM(OFFSET(journal!AE$6,(ROW(AC24)-5)*5,,5,1))/SUM(journal!AE$6:AE$10),\"a\"),\"\")","v":""},{"$f":"IF(AE$4<>\"\",IF(Saisie!AK29<>\"a\",AE$4*SUM(OFFSET(journal!AF$6,(ROW(AD24)-5)*5,,5,1))/SUM(journal!AF$6:AF$10),\"a\"),\"\")","v":""},{"$f":"IF(AF$4<>\"\",IF(Saisie!AL29<>\"a\",AF$4*SUM(OFFSET(journal!AG$6,(ROW(AE24)-5)*5,,5,1))/SUM(journal!AG$6:AG$10),\"a\"),\"\")","v":""},{"$f":"IF(AG$4<>\"\",IF(Saisie!AM29<>\"a\",AG$4*SUM(OFFSET(journal!AH$6,(ROW(AF24)-5)*5,,5,1))/SUM(journal!AH$6:AH$10),\"a\"),\"\")","v":""},{"$f":"IF(AH$4<>\"\",IF(Saisie!AN29<>\"a\",AH$4*SUM(OFFSET(journal!AI$6,(ROW(AG24)-5)*5,,5,1))/SUM(journal!AI$6:AI$10),\"a\"),\"\")","v":""},{"$f":"IF(AI$4<>\"\",IF(Saisie!AO29<>\"a\",AI$4*SUM(OFFSET(journal!AJ$6,(ROW(AH24)-5)*5,,5,1))/SUM(journal!AJ$6:AJ$10),\"a\"),\"\")","v":""},{"$f":"IF(AJ$4<>\"\",IF(Saisie!AP29<>\"a\",AJ$4*SUM(OFFSET(journal!AK$6,(ROW(AI24)-5)*5,,5,1))/SUM(journal!AK$6:AK$10),\"a\"),\"\")","v":""},{"$f":"IF(AK$4<>\"\",IF(Saisie!AQ29<>\"a\",AK$4*SUM(OFFSET(journal!AL$6,(ROW(AJ24)-5)*5,,5,1))/SUM(journal!AL$6:AL$10),\"a\"),\"\")","v":""},{"$f":"IF(AL$4<>\"\",IF(Saisie!AR29<>\"a\",AL$4*SUM(OFFSET(journal!AM$6,(ROW(AK24)-5)*5,,5,1))/SUM(journal!AM$6:AM$10),\"a\"),\"\")","v":""},{"$f":"IF(AM$4<>\"\",IF(Saisie!AS29<>\"a\",AM$4*SUM(OFFSET(journal!AN$6,(ROW(AL24)-5)*5,,5,1))/SUM(journal!AN$6:AN$10),\"a\"),\"\")","v":""},{"$f":"IF(AN$4<>\"\",IF(Saisie!AT29<>\"a\",AN$4*SUM(OFFSET(journal!AO$6,(ROW(AM24)-5)*5,,5,1))/SUM(journal!AO$6:AO$10),\"a\"),\"\")","v":""},{"$f":"IF(AO$4<>\"\",IF(Saisie!AU29<>\"a\",AO$4*SUM(OFFSET(journal!AP$6,(ROW(AN24)-5)*5,,5,1))/SUM(journal!AP$6:AP$10),\"a\"),\"\")","v":""},{"$f":"IF(AP$4<>\"\",IF(Saisie!AV29<>\"a\",AP$4*SUM(OFFSET(journal!AQ$6,(ROW(AO24)-5)*5,,5,1))/SUM(journal!AQ$6:AQ$10),\"a\"),\"\")","v":""},{"$f":"IF(AQ$4<>\"\",IF(Saisie!AW29<>\"a\",AQ$4*SUM(OFFSET(journal!AR$6,(ROW(AP24)-5)*5,,5,1))/SUM(journal!AR$6:AR$10),\"a\"),\"\")","v":""}]
[{"$f":"IF(Saisie!A30=\"\",\"\",Saisie!A30)","v":""},null,null,null,null,null,{"$f":"IF(G$4<>\"\",IF(Saisie!M30<>\"a\",G$4*SUM(OFFSET(journal!H$6,(ROW(F25)-5)*5,,5,1))/SUM(journal!H$6:H$10),\"a\"),\"\")","v":""},{"$f":"IF(H$4<>\"\",IF(Saisie!N30<>\"a\",H$4*SUM(OFFSET(journal!I$6,(ROW(G25)-5)*5,,5,1))/SUM(journal!I$6:I$10),\"a\"),\"\")","v":""},{"$f":"IF(I$4<>\"\",IF(Saisie!O30<>\"a\",I$4*SUM(OFFSET(journal!J$6,(ROW(H25)-5)*5,,5,1))/SUM(journal!J$6:J$10),\"a\"),\"\")","v":""},{"$f":"IF(J$4<>\"\",IF(Saisie!P30<>\"a\",J$4*SUM(OFFSET(journal!K$6,(ROW(I25)-5)*5,,5,1))/SUM(journal!K$6:K$10),\"a\"),\"\")","v":""},{"$f":"IF(K$4<>\"\",IF(Saisie!Q30<>\"a\",K$4*SUM(OFFSET(journal!L$6,(ROW(J25)-5)*5,,5,1))/SUM(journal!L$6:L$10),\"a\"),\"\")","v":""},{"$f":"IF(L$4<>\"\",IF(Saisie!R30<>\"a\",L$4*SUM(OFFSET(journal!M$6,(ROW(K25)-5)*5,,5,1))/SUM(journal!M$6:M$10),\"a\"),\"\")","v":""},{"$f":"IF(M$4<>\"\",IF(Saisie!S30<>\"a\",M$4*SUM(OFFSET(journal!N$6,(ROW(L25)-5)*5,,5,1))/SUM(journal!N$6:N$10),\"a\"),\"\")","v":""},{"$f":"IF(N$4<>\"\",IF(Saisie!T30<>\"a\",N$4*SUM(OFFSET(journal!O$6,(ROW(M25)-5)*5,,5,1))/SUM(journal!O$6:O$10),\"a\"),\"\")","v":""},{"$f":"IF(O$4<>\"\",IF(Saisie!U30<>\"a\",O$4*SUM(OFFSET(journal!P$6,(ROW(N25)-5)*5,,5,1))/SUM(journal!P$6:P$10),\"a\"),\"\")","v":""},{"$f":"IF(P$4<>\"\",IF(Saisie!V30<>\"a\",P$4*SUM(OFFSET(journal!Q$6,(ROW(O25)-5)*5,,5,1))/SUM(journal!Q$6:Q$10),\"a\"),\"\")","v":""},{"$f":"IF(Q$4<>\"\",IF(Saisie!W30<>\"a\",Q$4*SUM(OFFSET(journal!R$6,(ROW(P25)-5)*5,,5,1))/SUM(journal!R$6:R$10),\"a\"),\"\")","v":""},{"$f":"IF(R$4<>\"\",IF(Saisie!X30<>\"a\",R$4*SUM(OFFSET(journal!S$6,(ROW(Q25)-5)*5,,5,1))/SUM(journal!S$6:S$10),\"a\"),\"\")","v":""},{"$f":"IF(S$4<>\"\",IF(Saisie!Y30<>\"a\",S$4*SUM(OFFSET(journal!T$6,(ROW(R25)-5)*5,,5,1))/SUM(journal!T$6:T$10),\"a\"),\"\")","v":""},{"$f":"IF(T$4<>\"\",IF(Saisie!Z30<>\"a\",T$4*SUM(OFFSET(journal!U$6,(ROW(S25)-5)*5,,5,1))/SUM(journal!U$6:U$10),\"a\"),\"\")","v":""},{"$f":"IF(U$4<>\"\",IF(Saisie!AA30<>\"a\",U$4*SUM(OFFSET(journal!V$6,(ROW(T25)-5)*5,,5,1))/SUM(journal!V$6:V$10),\"a\"),\"\")","v":""},{"$f":"IF(V$4<>\"\",IF(Saisie!AB30<>\"a\",V$4*SUM(OFFSET(journal!W$6,(ROW(U25)-5)*5,,5,1))/SUM(journal!W$6:W$10),\"a\"),\"\")","v":""},{"$f":"IF(W$4<>\"\",IF(Saisie!AC30<>\"a\",W$4*SUM(OFFSET(journal!X$6,(ROW(V25)-5)*5,,5,1))/SUM(journal!X$6:X$10),\"a\"),\"\")","v":""},{"$f":"IF(X$4<>\"\",IF(Saisie!AD30<>\"a\",X$4*SUM(OFFSET(journal!Y$6,(ROW(W25)-5)*5,,5,1))/SUM(journal!Y$6:Y$10),\"a\"),\"\")","v":""},{"$f":"IF(Y$4<>\"\",IF(Saisie!AE30<>\"a\",Y$4*SUM(OFFSET(journal!Z$6,(ROW(X25)-5)*5,,5,1))/SUM(journal!Z$6:Z$10),\"a\"),\"\")","v":""},{"$f":"IF(Z$4<>\"\",IF(Saisie!AF30<>\"a\",Z$4*SUM(OFFSET(journal!AA$6,(ROW(Y25)-5)*5,,5,1))/SUM(journal!AA$6:AA$10),\"a\"),\"\")","v":""},{"$f":"IF(AA$4<>\"\",IF(Saisie!AG30<>\"a\",AA$4*SUM(OFFSET(journal!AB$6,(ROW(Z25)-5)*5,,5,1))/SUM(journal!AB$6:AB$10),\"a\"),\"\")","v":""},{"$f":"IF(AB$4<>\"\",IF(Saisie!AH30<>\"a\",AB$4*SUM(OFFSET(journal!AC$6,(ROW(AA25)-5)*5,,5,1))/SUM(journal!AC$6:AC$10),\"a\"),\"\")","v":""},{"$f":"IF(AC$4<>\"\",IF(Saisie!AI30<>\"a\",AC$4*SUM(OFFSET(journal!AD$6,(ROW(AB25)-5)*5,,5,1))/SUM(journal!AD$6:AD$10),\"a\"),\"\")","v":""},{"$f":"IF(AD$4<>\"\",IF(Saisie!AJ30<>\"a\",AD$4*SUM(OFFSET(journal!AE$6,(ROW(AC25)-5)*5,,5,1))/SUM(journal!AE$6:AE$10),\"a\"),\"\")","v":""},{"$f":"IF(AE$4<>\"\",IF(Saisie!AK30<>\"a\",AE$4*SUM(OFFSET(journal!AF$6,(ROW(AD25)-5)*5,,5,1))/SUM(journal!AF$6:AF$10),\"a\"),\"\")","v":""},{"$f":"IF(AF$4<>\"\",IF(Saisie!AL30<>\"a\",AF$4*SUM(OFFSET(journal!AG$6,(ROW(AE25)-5)*5,,5,1))/SUM(journal!AG$6:AG$10),\"a\"),\"\")","v":""},{"$f":"IF(AG$4<>\"\",IF(Saisie!AM30<>\"a\",AG$4*SUM(OFFSET(journal!AH$6,(ROW(AF25)-5)*5,,5,1))/SUM(journal!AH$6:AH$10),\"a\"),\"\")","v":""},{"$f":"IF(AH$4<>\"\",IF(Saisie!AN30<>\"a\",AH$4*SUM(OFFSET(journal!AI$6,(ROW(AG25)-5)*5,,5,1))/SUM(journal!AI$6:AI$10),\"a\"),\"\")","v":""},{"$f":"IF(AI$4<>\"\",IF(Saisie!AO30<>\"a\",AI$4*SUM(OFFSET(journal!AJ$6,(ROW(AH25)-5)*5,,5,1))/SUM(journal!AJ$6:AJ$10),\"a\"),\"\")","v":""},{"$f":"IF(AJ$4<>\"\",IF(Saisie!AP30<>\"a\",AJ$4*SUM(OFFSET(journal!AK$6,(ROW(AI25)-5)*5,,5,1))/SUM(journal!AK$6:AK$10),\"a\"),\"\")","v":""},{"$f":"IF(AK$4<>\"\",IF(Saisie!AQ30<>\"a\",AK$4*SUM(OFFSET(journal!AL$6,(ROW(AJ25)-5)*5,,5,1))/SUM(journal!AL$6:AL$10),\"a\"),\"\")","v":""},{"$f":"IF(AL$4<>\"\",IF(Saisie!AR30<>\"a\",AL$4*SUM(OFFSET(journal!AM$6,(ROW(AK25)-5)*5,,5,1))/SUM(journal!AM$6:AM$10),\"a\"),\"\")","v":""},{"$f":"IF(AM$4<>\"\",IF(Saisie!AS30<>\"a\",AM$4*SUM(OFFSET(journal!AN$6,(ROW(AL25)-5)*5,,5,1))/SUM(journal!AN$6:AN$10),\"a\"),\"\")","v":""},{"$f":"IF(AN$4<>\"\",IF(Saisie!AT30<>\"a\",AN$4*SUM(OFFSET(journal!AO$6,(ROW(AM25)-5)*5,,5,1))/SUM(journal!AO$6:AO$10),\"a\"),\"\")","v":""},{"$f":"IF(AO$4<>\"\",IF(Saisie!AU30<>\"a\",AO$4*SUM(OFFSET(journal!AP$6,(ROW(AN25)-5)*5,,5,1))/SUM(journal!AP$6:AP$10),\"a\"),\"\")","v":""},{"$f":"IF(AP$4<>\"\",IF(Saisie!AV30<>\"a\",AP$4*SUM(OFFSET(journal!AQ$6,(ROW(AO25)-5)*5,,5,1))/SUM(journal!AQ$6:AQ$10),\"a\"),\"\")","v":""},{"$f":"IF(AQ$4<>\"\",IF(Saisie!AW30<>\"a\",AQ$4*SUM(OFFSET(journal!AR$6,(ROW(AP25)-5)*5,,5,1))/SUM(journal!AR$6:AR$10),\"a\"),\"\")","v":""}]
[{"$f":"IF(Saisie!A31=\"\",\"\",Saisie!A31)","v":""},null,null,null,null,null,{"$f":"IF(G$4<>\"\",IF(Saisie!M31<>\"a\",G$4*SUM(OFFSET(journal!H$6,(ROW(F26)-5)*5,,5,1))/SUM(journal!H$6:H$10),\"a\"),\"\")","v":""},{"$f":"IF(H$4<>\"\",IF(Saisie!N31<>\"a\",H$4*SUM(OFFSET(journal!I$6,(ROW(G26)-5)*5,,5,1))/SUM(journal!I$6:I$10),\"a\"),\"\")","v":""},{"$f":"IF(I$4<>\"\",IF(Saisie!O31<>\"a\",I$4*SUM(OFFSET(journal!J$6,(ROW(H26)-5)*5,,5,1))/SUM(journal!J$6:J$10),\"a\"),\"\")","v":""},{"$f":"IF(J$4<>\"\",IF(Saisie!P31<>\"a\",J$4*SUM(OFFSET(journal!K$6,(ROW(I26)-5)*5,,5,1))/SUM(journal!K$6:K$10),\"a\"),\"\")","v":""},{"$f":"IF(K$4<>\"\",IF(Saisie!Q31<>\"a\",K$4*SUM(OFFSET(journal!L$6,(ROW(J26)-5)*5,,5,1))/SUM(journal!L$6:L$10),\"a\"),\"\")","v":""},{"$f":"IF(L$4<>\"\",IF(Saisie!R31<>\"a\",L$4*SUM(OFFSET(journal!M$6,(ROW(K26)-5)*5,,5,1))/SUM(journal!M$6:M$10),\"a\"),\"\")","v":""},{"$f":"IF(M$4<>\"\",IF(Saisie!S31<>\"a\",M$4*SUM(OFFSET(journal!N$6,(ROW(L26)-5)*5,,5,1))/SUM(journal!N$6:N$10),\"a\"),\"\")","v":""},{"$f":"IF(N$4<>\"\",IF(Saisie!T31<>\"a\",N$4*SUM(OFFSET(journal!O$6,(ROW(M26)-5)*5,,5,1))/SUM(journal!O$6:O$10),\"a\"),\"\")","v":""},{"$f":"IF(O$4<>\"\",IF(Saisie!U31<>\"a\",O$4*SUM(OFFSET(journal!P$6,(ROW(N26)-5)*5,,5,1))/SUM(journal!P$6:P$10),\"a\"),\"\")","v":""},{"$f":"IF(P$4<>\"\",IF(Saisie!V31<>\"a\",P$4*SUM(OFFSET(journal!Q$6,(ROW(O26)-5)*5,,5,1))/SUM(journal!Q$6:Q$10),\"a\"),\"\")","v":""},{"$f":"IF(Q$4<>\"\",IF(Saisie!W31<>\"a\",Q$4*SUM(OFFSET(journal!R$6,(ROW(P26)-5)*5,,5,1))/SUM(journal!R$6:R$10),\"a\"),\"\")","v":""},{"$f":"IF(R$4<>\"\",IF(Saisie!X31<>\"a\",R$4*SUM(OFFSET(journal!S$6,(ROW(Q26)-5)*5,,5,1))/SUM(journal!S$6:S$10),\"a\"),\"\")","v":""},{"$f":"IF(S$4<>\"\",IF(Saisie!Y31<>\"a\",S$4*SUM(OFFSET(journal!T$6,(ROW(R26)-5)*5,,5,1))/SUM(journal!T$6:T$10),\"a\"),\"\")","v":""},{"$f":"IF(T$4<>\"\",IF(Saisie!Z31<>\"a\",T$4*SUM(OFFSET(journal!U$6,(ROW(S26)-5)*5,,5,1))/SUM(journal!U$6:U$10),\"a\"),\"\")","v":""},{"$f":"IF(U$4<>\"\",IF(Saisie!AA31<>\"a\",U$4*SUM(OFFSET(journal!V$6,(ROW(T26)-5)*5,,5,1))/SUM(journal!V$6:V$10),\"a\"),\"\")","v":""},{"$f":"IF(V$4<>\"\",IF(Saisie!AB31<>\"a\",V$4*SUM(OFFSET(journal!W$6,(ROW(U26)-5)*5,,5,1))/SUM(journal!W$6:W$10),\"a\"),\"\")","v":""},{"$f":"IF(W$4<>\"\",IF(Saisie!AC31<>\"a\",W$4*SUM(OFFSET(journal!X$6,(ROW(V26)-5)*5,,5,1))/SUM(journal!X$6:X$10),\"a\"),\"\")","v":""},{"$f":"IF(X$4<>\"\",IF(Saisie!AD31<>\"a\",X$4*SUM(OFFSET(journal!Y$6,(ROW(W26)-5)*5,,5,1))/SUM(journal!Y$6:Y$10),\"a\"),\"\")","v":""},{"$f":"IF(Y$4<>\"\",IF(Saisie!AE31<>\"a\",Y$4*SUM(OFFSET(journal!Z$6,(ROW(X26)-5)*5,,5,1))/SUM(journal!Z$6:Z$10),\"a\"),\"\")","v":""},{"$f":"IF(Z$4<>\"\",IF(Saisie!AF31<>\"a\",Z$4*SUM(OFFSET(journal!AA$6,(ROW(Y26)-5)*5,,5,1))/SUM(journal!AA$6:AA$10),\"a\"),\"\")","v":""},{"$f":"IF(AA$4<>\"\",IF(Saisie!AG31<>\"a\",AA$4*SUM(OFFSET(journal!AB$6,(ROW(Z26)-5)*5,,5,1))/SUM(journal!AB$6:AB$10),\"a\"),\"\")","v":""},{"$f":"IF(AB$4<>\"\",IF(Saisie!AH31<>\"a\",AB$4*SUM(OFFSET(journal!AC$6,(ROW(AA26)-5)*5,,5,1))/SUM(journal!AC$6:AC$10),\"a\"),\"\")","v":""},{"$f":"IF(AC$4<>\"\",IF(Saisie!AI31<>\"a\",AC$4*SUM(OFFSET(journal!AD$6,(ROW(AB26)-5)*5,,5,1))/SUM(journal!AD$6:AD$10),\"a\"),\"\")","v":""},{"$f":"IF(AD$4<>\"\",IF(Saisie!AJ31<>\"a\",AD$4*SUM(OFFSET(journal!AE$6,(ROW(AC26)-5)*5,,5,1))/SUM(journal!AE$6:AE$10),\"a\"),\"\")","v":""},{"$f":"IF(AE$4<>\"\",IF(Saisie!AK31<>\"a\",AE$4*SUM(OFFSET(journal!AF$6,(ROW(AD26)-5)*5,,5,1))/SUM(journal!AF$6:AF$10),\"a\"),\"\")","v":""},{"$f":"IF(AF$4<>\"\",IF(Saisie!AL31<>\"a\",AF$4*SUM(OFFSET(journal!AG$6,(ROW(AE26)-5)*5,,5,1))/SUM(journal!AG$6:AG$10),\"a\"),\"\")","v":""},{"$f":"IF(AG$4<>\"\",IF(Saisie!AM31<>\"a\",AG$4*SUM(OFFSET(journal!AH$6,(ROW(AF26)-5)*5,,5,1))/SUM(journal!AH$6:AH$10),\"a\"),\"\")","v":""},{"$f":"IF(AH$4<>\"\",IF(Saisie!AN31<>\"a\",AH$4*SUM(OFFSET(journal!AI$6,(ROW(AG26)-5)*5,,5,1))/SUM(journal!AI$6:AI$10),\"a\"),\"\")","v":""},{"$f":"IF(AI$4<>\"\",IF(Saisie!AO31<>\"a\",AI$4*SUM(OFFSET(journal!AJ$6,(ROW(AH26)-5)*5,,5,1))/SUM(journal!AJ$6:AJ$10),\"a\"),\"\")","v":""},{"$f":"IF(AJ$4<>\"\",IF(Saisie!AP31<>\"a\",AJ$4*SUM(OFFSET(journal!AK$6,(ROW(AI26)-5)*5,,5,1))/SUM(journal!AK$6:AK$10),\"a\"),\"\")","v":""},{"$f":"IF(AK$4<>\"\",IF(Saisie!AQ31<>\"a\",AK$4*SUM(OFFSET(journal!AL$6,(ROW(AJ26)-5)*5,,5,1))/SUM(journal!AL$6:AL$10),\"a\"),\"\")","v":""},{"$f":"IF(AL$4<>\"\",IF(Saisie!AR31<>\"a\",AL$4*SUM(OFFSET(journal!AM$6,(ROW(AK26)-5)*5,,5,1))/SUM(journal!AM$6:AM$10),\"a\"),\"\")","v":""},{"$f":"IF(AM$4<>\"\",IF(Saisie!AS31<>\"a\",AM$4*SUM(OFFSET(journal!AN$6,(ROW(AL26)-5)*5,,5,1))/SUM(journal!AN$6:AN$10),\"a\"),\"\")","v":""},{"$f":"IF(AN$4<>\"\",IF(Saisie!AT31<>\"a\",AN$4*SUM(OFFSET(journal!AO$6,(ROW(AM26)-5)*5,,5,1))/SUM(journal!AO$6:AO$10),\"a\"),\"\")","v":""},{"$f":"IF(AO$4<>\"\",IF(Saisie!AU31<>\"a\",AO$4*SUM(OFFSET(journal!AP$6,(ROW(AN26)-5)*5,,5,1))/SUM(journal!AP$6:AP$10),\"a\"),\"\")","v":""},{"$f":"IF(AP$4<>\"\",IF(Saisie!AV31<>\"a\",AP$4*SUM(OFFSET(journal!AQ$6,(ROW(AO26)-5)*5,,5,1))/SUM(journal!AQ$6:AQ$10),\"a\"),\"\")","v":""},{"$f":"IF(AQ$4<>\"\",IF(Saisie!AW31<>\"a\",AQ$4*SUM(OFFSET(journal!AR$6,(ROW(AP26)-5)*5,,5,1))/SUM(journal!AR$6:AR$10),\"a\"),\"\")","v":""}]
[{"$f":"IF(Saisie!A32=\"\",\"\",Saisie!A32)","v":""},null,null,null,null,null,{"$f":"IF(G$4<>\"\",IF(Saisie!M32<>\"a\",G$4*SUM(OFFSET(journal!H$6,(ROW(F27)-5)*5,,5,1))/SUM(journal!H$6:H$10),\"a\"),\"\")","v":""},{"$f":"IF(H$4<>\"\",IF(Saisie!N32<>\"a\",H$4*SUM(OFFSET(journal!I$6,(ROW(G27)-5)*5,,5,1))/SUM(journal!I$6:I$10),\"a\"),\"\")","v":""},{"$f":"IF(I$4<>\"\",IF(Saisie!O32<>\"a\",I$4*SUM(OFFSET(journal!J$6,(ROW(H27)-5)*5,,5,1))/SUM(journal!J$6:J$10),\"a\"),\"\")","v":""},{"$f":"IF(J$4<>\"\",IF(Saisie!P32<>\"a\",J$4*SUM(OFFSET(journal!K$6,(ROW(I27)-5)*5,,5,1))/SUM(journal!K$6:K$10),\"a\"),\"\")","v":""},{"$f":"IF(K$4<>\"\",IF(Saisie!Q32<>\"a\",K$4*SUM(OFFSET(journal!L$6,(ROW(J27)-5)*5,,5,1))/SUM(journal!L$6:L$10),\"a\"),\"\")","v":""},{"$f":"IF(L$4<>\"\",IF(Saisie!R32<>\"a\",L$4*SUM(OFFSET(journal!M$6,(ROW(K27)-5)*5,,5,1))/SUM(journal!M$6:M$10),\"a\"),\"\")","v":""},{"$f":"IF(M$4<>\"\",IF(Saisie!S32<>\"a\",M$4*SUM(OFFSET(journal!N$6,(ROW(L27)-5)*5,,5,1))/SUM(journal!N$6:N$10),\"a\"),\"\")","v":""},{"$f":"IF(N$4<>\"\",IF(Saisie!T32<>\"a\",N$4*SUM(OFFSET(journal!O$6,(ROW(M27)-5)*5,,5,1))/SUM(journal!O$6:O$10),\"a\"),\"\")","v":""},{"$f":"IF(O$4<>\"\",IF(Saisie!U32<>\"a\",O$4*SUM(OFFSET(journal!P$6,(ROW(N27)-5)*5,,5,1))/SUM(journal!P$6:P$10),\"a\"),\"\")","v":""},{"$f":"IF(P$4<>\"\",IF(Saisie!V32<>\"a\",P$4*SUM(OFFSET(journal!Q$6,(ROW(O27)-5)*5,,5,1))/SUM(journal!Q$6:Q$10),\"a\"),\"\")","v":""},{"$f":"IF(Q$4<>\"\",IF(Saisie!W32<>\"a\",Q$4*SUM(OFFSET(journal!R$6,(ROW(P27)-5)*5,,5,1))/SUM(journal!R$6:R$10),\"a\"),\"\")","v":""},{"$f":"IF(R$4<>\"\",IF(Saisie!X32<>\"a\",R$4*SUM(OFFSET(journal!S$6,(ROW(Q27)-5)*5,,5,1))/SUM(journal!S$6:S$10),\"a\"),\"\")","v":""},{"$f":"IF(S$4<>\"\",IF(Saisie!Y32<>\"a\",S$4*SUM(OFFSET(journal!T$6,(ROW(R27)-5)*5,,5,1))/SUM(journal!T$6:T$10),\"a\"),\"\")","v":""},{"$f":"IF(T$4<>\"\",IF(Saisie!Z32<>\"a\",T$4*SUM(OFFSET(journal!U$6,(ROW(S27)-5)*5,,5,1))/SUM(journal!U$6:U$10),\"a\"),\"\")","v":""},{"$f":"IF(U$4<>\"\",IF(Saisie!AA32<>\"a\",U$4*SUM(OFFSET(journal!V$6,(ROW(T27)-5)*5,,5,1))/SUM(journal!V$6:V$10),\"a\"),\"\")","v":""},{"$f":"IF(V$4<>\"\",IF(Saisie!AB32<>\"a\",V$4*SUM(OFFSET(journal!W$6,(ROW(U27)-5)*5,,5,1))/SUM(journal!W$6:W$10),\"a\"),\"\")","v":""},{"$f":"IF(W$4<>\"\",IF(Saisie!AC32<>\"a\",W$4*SUM(OFFSET(journal!X$6,(ROW(V27)-5)*5,,5,1))/SUM(journal!X$6:X$10),\"a\"),\"\")","v":""},{"$f":"IF(X$4<>\"\",IF(Saisie!AD32<>\"a\",X$4*SUM(OFFSET(journal!Y$6,(ROW(W27)-5)*5,,5,1))/SUM(journal!Y$6:Y$10),\"a\"),\"\")","v":""},{"$f":"IF(Y$4<>\"\",IF(Saisie!AE32<>\"a\",Y$4*SUM(OFFSET(journal!Z$6,(ROW(X27)-5)*5,,5,1))/SUM(journal!Z$6:Z$10),\"a\"),\"\")","v":""},{"$f":"IF(Z$4<>\"\",IF(Saisie!AF32<>\"a\",Z$4*SUM(OFFSET(journal!AA$6,(ROW(Y27)-5)*5,,5,1))/SUM(journal!AA$6:AA$10),\"a\"),\"\")","v":""},{"$f":"IF(AA$4<>\"\",IF(Saisie!AG32<>\"a\",AA$4*SUM(OFFSET(journal!AB$6,(ROW(Z27)-5)*5,,5,1))/SUM(journal!AB$6:AB$10),\"a\"),\"\")","v":""},{"$f":"IF(AB$4<>\"\",IF(Saisie!AH32<>\"a\",AB$4*SUM(OFFSET(journal!AC$6,(ROW(AA27)-5)*5,,5,1))/SUM(journal!AC$6:AC$10),\"a\"),\"\")","v":""},{"$f":"IF(AC$4<>\"\",IF(Saisie!AI32<>\"a\",AC$4*SUM(OFFSET(journal!AD$6,(ROW(AB27)-5)*5,,5,1))/SUM(journal!AD$6:AD$10),\"a\"),\"\")","v":""},{"$f":"IF(AD$4<>\"\",IF(Saisie!AJ32<>\"a\",AD$4*SUM(OFFSET(journal!AE$6,(ROW(AC27)-5)*5,,5,1))/SUM(journal!AE$6:AE$10),\"a\"),\"\")","v":""},{"$f":"IF(AE$4<>\"\",IF(Saisie!AK32<>\"a\",AE$4*SUM(OFFSET(journal!AF$6,(ROW(AD27)-5)*5,,5,1))/SUM(journal!AF$6:AF$10),\"a\"),\"\")","v":""},{"$f":"IF(AF$4<>\"\",IF(Saisie!AL32<>\"a\",AF$4*SUM(OFFSET(journal!AG$6,(ROW(AE27)-5)*5,,5,1))/SUM(journal!AG$6:AG$10),\"a\"),\"\")","v":""},{"$f":"IF(AG$4<>\"\",IF(Saisie!AM32<>\"a\",AG$4*SUM(OFFSET(journal!AH$6,(ROW(AF27)-5)*5,,5,1))/SUM(journal!AH$6:AH$10),\"a\"),\"\")","v":""},{"$f":"IF(AH$4<>\"\",IF(Saisie!AN32<>\"a\",AH$4*SUM(OFFSET(journal!AI$6,(ROW(AG27)-5)*5,,5,1))/SUM(journal!AI$6:AI$10),\"a\"),\"\")","v":""},{"$f":"IF(AI$4<>\"\",IF(Saisie!AO32<>\"a\",AI$4*SUM(OFFSET(journal!AJ$6,(ROW(AH27)-5)*5,,5,1))/SUM(journal!AJ$6:AJ$10),\"a\"),\"\")","v":""},{"$f":"IF(AJ$4<>\"\",IF(Saisie!AP32<>\"a\",AJ$4*SUM(OFFSET(journal!AK$6,(ROW(AI27)-5)*5,,5,1))/SUM(journal!AK$6:AK$10),\"a\"),\"\")","v":""},{"$f":"IF(AK$4<>\"\",IF(Saisie!AQ32<>\"a\",AK$4*SUM(OFFSET(journal!AL$6,(ROW(AJ27)-5)*5,,5,1))/SUM(journal!AL$6:AL$10),\"a\"),\"\")","v":""},{"$f":"IF(AL$4<>\"\",IF(Saisie!AR32<>\"a\",AL$4*SUM(OFFSET(journal!AM$6,(ROW(AK27)-5)*5,,5,1))/SUM(journal!AM$6:AM$10),\"a\"),\"\")","v":""},{"$f":"IF(AM$4<>\"\",IF(Saisie!AS32<>\"a\",AM$4*SUM(OFFSET(journal!AN$6,(ROW(AL27)-5)*5,,5,1))/SUM(journal!AN$6:AN$10),\"a\"),\"\")","v":""},{"$f":"IF(AN$4<>\"\",IF(Saisie!AT32<>\"a\",AN$4*SUM(OFFSET(journal!AO$6,(ROW(AM27)-5)*5,,5,1))/SUM(journal!AO$6:AO$10),\"a\"),\"\")","v":""},{"$f":"IF(AO$4<>\"\",IF(Saisie!AU32<>\"a\",AO$4*SUM(OFFSET(journal!AP$6,(ROW(AN27)-5)*5,,5,1))/SUM(journal!AP$6:AP$10),\"a\"),\"\")","v":""},{"$f":"IF(AP$4<>\"\",IF(Saisie!AV32<>\"a\",AP$4*SUM(OFFSET(journal!AQ$6,(ROW(AO27)-5)*5,,5,1))/SUM(journal!AQ$6:AQ$10),\"a\"),\"\")","v":""},{"$f":"IF(AQ$4<>\"\",IF(Saisie!AW32<>\"a\",AQ$4*SUM(OFFSET(journal!AR$6,(ROW(AP27)-5)*5,,5,1))/SUM(journal!AR$6:AR$10),\"a\"),\"\")","v":""}]
[{"$f":"IF(Saisie!A33=\"\",\"\",Saisie!A33)","v":""},null,null,null,null,null,{"$f":"IF(G$4<>\"\",IF(Saisie!M33<>\"a\",G$4*SUM(OFFSET(journal!H$6,(ROW(F28)-5)*5,,5,1))/SUM(journal!H$6:H$10),\"a\"),\"\")","v":""},{"$f":"IF(H$4<>\"\",IF(Saisie!N33<>\"a\",H$4*SUM(OFFSET(journal!I$6,(ROW(G28)-5)*5,,5,1))/SUM(journal!I$6:I$10),\"a\"),\"\")","v":""},{"$f":"IF(I$4<>\"\",IF(Saisie!O33<>\"a\",I$4*SUM(OFFSET(journal!J$6,(ROW(H28)-5)*5,,5,1))/SUM(journal!J$6:J$10),\"a\"),\"\")","v":""},{"$f":"IF(J$4<>\"\",IF(Saisie!P33<>\"a\",J$4*SUM(OFFSET(journal!K$6,(ROW(I28)-5)*5,,5,1))/SUM(journal!K$6:K$10),\"a\"),\"\")","v":""},{"$f":"IF(K$4<>\"\",IF(Saisie!Q33<>\"a\",K$4*SUM(OFFSET(journal!L$6,(ROW(J28)-5)*5,,5,1))/SUM(journal!L$6:L$10),\"a\"),\"\")","v":""},{"$f":"IF(L$4<>\"\",IF(Saisie!R33<>\"a\",L$4*SUM(OFFSET(journal!M$6,(ROW(K28)-5)*5,,5,1))/SUM(journal!M$6:M$10),\"a\"),\"\")","v":""},{"$f":"IF(M$4<>\"\",IF(Saisie!S33<>\"a\",M$4*SUM(OFFSET(journal!N$6,(ROW(L28)-5)*5,,5,1))/SUM(journal!N$6:N$10),\"a\"),\"\")","v":""},{"$f":"IF(N$4<>\"\",IF(Saisie!T33<>\"a\",N$4*SUM(OFFSET(journal!O$6,(ROW(M28)-5)*5,,5,1))/SUM(journal!O$6:O$10),\"a\"),\"\")","v":""},{"$f":"IF(O$4<>\"\",IF(Saisie!U33<>\"a\",O$4*SUM(OFFSET(journal!P$6,(ROW(N28)-5)*5,,5,1))/SUM(journal!P$6:P$10),\"a\"),\"\")","v":""},{"$f":"IF(P$4<>\"\",IF(Saisie!V33<>\"a\",P$4*SUM(OFFSET(journal!Q$6,(ROW(O28)-5)*5,,5,1))/SUM(journal!Q$6:Q$10),\"a\"),\"\")","v":""},{"$f":"IF(Q$4<>\"\",IF(Saisie!W33<>\"a\",Q$4*SUM(OFFSET(journal!R$6,(ROW(P28)-5)*5,,5,1))/SUM(journal!R$6:R$10),\"a\"),\"\")","v":""},{"$f":"IF(R$4<>\"\",IF(Saisie!X33<>\"a\",R$4*SUM(OFFSET(journal!S$6,(ROW(Q28)-5)*5,,5,1))/SUM(journal!S$6:S$10),\"a\"),\"\")","v":""},{"$f":"IF(S$4<>\"\",IF(Saisie!Y33<>\"a\",S$4*SUM(OFFSET(journal!T$6,(ROW(R28)-5)*5,,5,1))/SUM(journal!T$6:T$10),\"a\"),\"\")","v":""},{"$f":"IF(T$4<>\"\",IF(Saisie!Z33<>\"a\",T$4*SUM(OFFSET(journal!U$6,(ROW(S28)-5)*5,,5,1))/SUM(journal!U$6:U$10),\"a\"),\"\")","v":""},{"$f":"IF(U$4<>\"\",IF(Saisie!AA33<>\"a\",U$4*SUM(OFFSET(journal!V$6,(ROW(T28)-5)*5,,5,1))/SUM(journal!V$6:V$10),\"a\"),\"\")","v":""},{"$f":"IF(V$4<>\"\",IF(Saisie!AB33<>\"a\",V$4*SUM(OFFSET(journal!W$6,(ROW(U28)-5)*5,,5,1))/SUM(journal!W$6:W$10),\"a\"),\"\")","v":""},{"$f":"IF(W$4<>\"\",IF(Saisie!AC33<>\"a\",W$4*SUM(OFFSET(journal!X$6,(ROW(V28)-5)*5,,5,1))/SUM(journal!X$6:X$10),\"a\"),\"\")","v":""},{"$f":"IF(X$4<>\"\",IF(Saisie!AD33<>\"a\",X$4*SUM(OFFSET(journal!Y$6,(ROW(W28)-5)*5,,5,1))/SUM(journal!Y$6:Y$10),\"a\"),\"\")","v":""},{"$f":"IF(Y$4<>\"\",IF(Saisie!AE33<>\"a\",Y$4*SUM(OFFSET(journal!Z$6,(ROW(X28)-5)*5,,5,1))/SUM(journal!Z$6:Z$10),\"a\"),\"\")","v":""},{"$f":"IF(Z$4<>\"\",IF(Saisie!AF33<>\"a\",Z$4*SUM(OFFSET(journal!AA$6,(ROW(Y28)-5)*5,,5,1))/SUM(journal!AA$6:AA$10),\"a\"),\"\")","v":""},{"$f":"IF(AA$4<>\"\",IF(Saisie!AG33<>\"a\",AA$4*SUM(OFFSET(journal!AB$6,(ROW(Z28)-5)*5,,5,1))/SUM(journal!AB$6:AB$10),\"a\"),\"\")","v":""},{"$f":"IF(AB$4<>\"\",IF(Saisie!AH33<>\"a\",AB$4*SUM(OFFSET(journal!AC$6,(ROW(AA28)-5)*5,,5,1))/SUM(journal!AC$6:AC$10),\"a\"),\"\")","v":""},{"$f":"IF(AC$4<>\"\",IF(Saisie!AI33<>\"a\",AC$4*SUM(OFFSET(journal!AD$6,(ROW(AB28)-5)*5,,5,1))/SUM(journal!AD$6:AD$10),\"a\"),\"\")","v":""},{"$f":"IF(AD$4<>\"\",IF(Saisie!AJ33<>\"a\",AD$4*SUM(OFFSET(journal!AE$6,(ROW(AC28)-5)*5,,5,1))/SUM(journal!AE$6:AE$10),\"a\"),\"\")","v":""},{"$f":"IF(AE$4<>\"\",IF(Saisie!AK33<>\"a\",AE$4*SUM(OFFSET(journal!AF$6,(ROW(AD28)-5)*5,,5,1))/SUM(journal!AF$6:AF$10),\"a\"),\"\")","v":""},{"$f":"IF(AF$4<>\"\",IF(Saisie!AL33<>\"a\",AF$4*SUM(OFFSET(journal!AG$6,(ROW(AE28)-5)*5,,5,1))/SUM(journal!AG$6:AG$10),\"a\"),\"\")","v":""},{"$f":"IF(AG$4<>\"\",IF(Saisie!AM33<>\"a\",AG$4*SUM(OFFSET(journal!AH$6,(ROW(AF28)-5)*5,,5,1))/SUM(journal!AH$6:AH$10),\"a\"),\"\")","v":""},{"$f":"IF(AH$4<>\"\",IF(Saisie!AN33<>\"a\",AH$4*SUM(OFFSET(journal!AI$6,(ROW(AG28)-5)*5,,5,1))/SUM(journal!AI$6:AI$10),\"a\"),\"\")","v":""},{"$f":"IF(AI$4<>\"\",IF(Saisie!AO33<>\"a\",AI$4*SUM(OFFSET(journal!AJ$6,(ROW(AH28)-5)*5,,5,1))/SUM(journal!AJ$6:AJ$10),\"a\"),\"\")","v":""},{"$f":"IF(AJ$4<>\"\",IF(Saisie!AP33<>\"a\",AJ$4*SUM(OFFSET(journal!AK$6,(ROW(AI28)-5)*5,,5,1))/SUM(journal!AK$6:AK$10),\"a\"),\"\")","v":""},{"$f":"IF(AK$4<>\"\",IF(Saisie!AQ33<>\"a\",AK$4*SUM(OFFSET(journal!AL$6,(ROW(AJ28)-5)*5,,5,1))/SUM(journal!AL$6:AL$10),\"a\"),\"\")","v":""},{"$f":"IF(AL$4<>\"\",IF(Saisie!AR33<>\"a\",AL$4*SUM(OFFSET(journal!AM$6,(ROW(AK28)-5)*5,,5,1))/SUM(journal!AM$6:AM$10),\"a\"),\"\")","v":""},{"$f":"IF(AM$4<>\"\",IF(Saisie!AS33<>\"a\",AM$4*SUM(OFFSET(journal!AN$6,(ROW(AL28)-5)*5,,5,1))/SUM(journal!AN$6:AN$10),\"a\"),\"\")","v":""},{"$f":"IF(AN$4<>\"\",IF(Saisie!AT33<>\"a\",AN$4*SUM(OFFSET(journal!AO$6,(ROW(AM28)-5)*5,,5,1))/SUM(journal!AO$6:AO$10),\"a\"),\"\")","v":""},{"$f":"IF(AO$4<>\"\",IF(Saisie!AU33<>\"a\",AO$4*SUM(OFFSET(journal!AP$6,(ROW(AN28)-5)*5,,5,1))/SUM(journal!AP$6:AP$10),\"a\"),\"\")","v":""},{"$f":"IF(AP$4<>\"\",IF(Saisie!AV33<>\"a\",AP$4*SUM(OFFSET(journal!AQ$6,(ROW(AO28)-5)*5,,5,1))/SUM(journal!AQ$6:AQ$10),\"a\"),\"\")","v":""},{"$f":"IF(AQ$4<>\"\",IF(Saisie!AW33<>\"a\",AQ$4*SUM(OFFSET(journal!AR$6,(ROW(AP28)-5)*5,,5,1))/SUM(journal!AR$6:AR$10),\"a\"),\"\")","v":""}]
[{"$f":"IF(Saisie!A34=\"\",\"\",Saisie!A34)","v":""},null,null,null,null,null,{"$f":"IF(G$4<>\"\",IF(Saisie!M34<>\"a\",G$4*SUM(OFFSET(journal!H$6,(ROW(F29)-5)*5,,5,1))/SUM(journal!H$6:H$10),\"a\"),\"\")","v":""},{"$f":"IF(H$4<>\"\",IF(Saisie!N34<>\"a\",H$4*SUM(OFFSET(journal!I$6,(ROW(G29)-5)*5,,5,1))/SUM(journal!I$6:I$10),\"a\"),\"\")","v":""},{"$f":"IF(I$4<>\"\",IF(Saisie!O34<>\"a\",I$4*SUM(OFFSET(journal!J$6,(ROW(H29)-5)*5,,5,1))/SUM(journal!J$6:J$10),\"a\"),\"\")","v":""},{"$f":"IF(J$4<>\"\",IF(Saisie!P34<>\"a\",J$4*SUM(OFFSET(journal!K$6,(ROW(I29)-5)*5,,5,1))/SUM(journal!K$6:K$10),\"a\"),\"\")","v":""},{"$f":"IF(K$4<>\"\",IF(Saisie!Q34<>\"a\",K$4*SUM(OFFSET(journal!L$6,(ROW(J29)-5)*5,,5,1))/SUM(journal!L$6:L$10),\"a\"),\"\")","v":""},{"$f":"IF(L$4<>\"\",IF(Saisie!R34<>\"a\",L$4*SUM(OFFSET(journal!M$6,(ROW(K29)-5)*5,,5,1))/SUM(journal!M$6:M$10),\"a\"),\"\")","v":""},{"$f":"IF(M$4<>\"\",IF(Saisie!S34<>\"a\",M$4*SUM(OFFSET(journal!N$6,(ROW(L29)-5)*5,,5,1))/SUM(journal!N$6:N$10),\"a\"),\"\")","v":""},{"$f":"IF(N$4<>\"\",IF(Saisie!T34<>\"a\",N$4*SUM(OFFSET(journal!O$6,(ROW(M29)-5)*5,,5,1))/SUM(journal!O$6:O$10),\"a\"),\"\")","v":""},{"$f":"IF(O$4<>\"\",IF(Saisie!U34<>\"a\",O$4*SUM(OFFSET(journal!P$6,(ROW(N29)-5)*5,,5,1))/SUM(journal!P$6:P$10),\"a\"),\"\")","v":""},{"$f":"IF(P$4<>\"\",IF(Saisie!V34<>\"a\",P$4*SUM(OFFSET(journal!Q$6,(ROW(O29)-5)*5,,5,1))/SUM(journal!Q$6:Q$10),\"a\"),\"\")","v":""},{"$f":"IF(Q$4<>\"\",IF(Saisie!W34<>\"a\",Q$4*SUM(OFFSET(journal!R$6,(ROW(P29)-5)*5,,5,1))/SUM(journal!R$6:R$10),\"a\"),\"\")","v":""},{"$f":"IF(R$4<>\"\",IF(Saisie!X34<>\"a\",R$4*SUM(OFFSET(journal!S$6,(ROW(Q29)-5)*5,,5,1))/SUM(journal!S$6:S$10),\"a\"),\"\")","v":""},{"$f":"IF(S$4<>\"\",IF(Saisie!Y34<>\"a\",S$4*SUM(OFFSET(journal!T$6,(ROW(R29)-5)*5,,5,1))/SUM(journal!T$6:T$10),\"a\"),\"\")","v":""},{"$f":"IF(T$4<>\"\",IF(Saisie!Z34<>\"a\",T$4*SUM(OFFSET(journal!U$6,(ROW(S29)-5)*5,,5,1))/SUM(journal!U$6:U$10),\"a\"),\"\")","v":""},{"$f":"IF(U$4<>\"\",IF(Saisie!AA34<>\"a\",U$4*SUM(OFFSET(journal!V$6,(ROW(T29)-5)*5,,5,1))/SUM(journal!V$6:V$10),\"a\"),\"\")","v":""},{"$f":"IF(V$4<>\"\",IF(Saisie!AB34<>\"a\",V$4*SUM(OFFSET(journal!W$6,(ROW(U29)-5)*5,,5,1))/SUM(journal!W$6:W$10),\"a\"),\"\")","v":""},{"$f":"IF(W$4<>\"\",IF(Saisie!AC34<>\"a\",W$4*SUM(OFFSET(journal!X$6,(ROW(V29)-5)*5,,5,1))/SUM(journal!X$6:X$10),\"a\"),\"\")","v":""},{"$f":"IF(X$4<>\"\",IF(Saisie!AD34<>\"a\",X$4*SUM(OFFSET(journal!Y$6,(ROW(W29)-5)*5,,5,1))/SUM(journal!Y$6:Y$10),\"a\"),\"\")","v":""},{"$f":"IF(Y$4<>\"\",IF(Saisie!AE34<>\"a\",Y$4*SUM(OFFSET(journal!Z$6,(ROW(X29)-5)*5,,5,1))/SUM(journal!Z$6:Z$10),\"a\"),\"\")","v":""},{"$f":"IF(Z$4<>\"\",IF(Saisie!AF34<>\"a\",Z$4*SUM(OFFSET(journal!AA$6,(ROW(Y29)-5)*5,,5,1))/SUM(journal!AA$6:AA$10),\"a\"),\"\")","v":""},{"$f":"IF(AA$4<>\"\",IF(Saisie!AG34<>\"a\",AA$4*SUM(OFFSET(journal!AB$6,(ROW(Z29)-5)*5,,5,1))/SUM(journal!AB$6:AB$10),\"a\"),\"\")","v":""},{"$f":"IF(AB$4<>\"\",IF(Saisie!AH34<>\"a\",AB$4*SUM(OFFSET(journal!AC$6,(ROW(AA29)-5)*5,,5,1))/SUM(journal!AC$6:AC$10),\"a\"),\"\")","v":""},{"$f":"IF(AC$4<>\"\",IF(Saisie!AI34<>\"a\",AC$4*SUM(OFFSET(journal!AD$6,(ROW(AB29)-5)*5,,5,1))/SUM(journal!AD$6:AD$10),\"a\"),\"\")","v":""},{"$f":"IF(AD$4<>\"\",IF(Saisie!AJ34<>\"a\",AD$4*SUM(OFFSET(journal!AE$6,(ROW(AC29)-5)*5,,5,1))/SUM(journal!AE$6:AE$10),\"a\"),\"\")","v":""},{"$f":"IF(AE$4<>\"\",IF(Saisie!AK34<>\"a\",AE$4*SUM(OFFSET(journal!AF$6,(ROW(AD29)-5)*5,,5,1))/SUM(journal!AF$6:AF$10),\"a\"),\"\")","v":""},{"$f":"IF(AF$4<>\"\",IF(Saisie!AL34<>\"a\",AF$4*SUM(OFFSET(journal!AG$6,(ROW(AE29)-5)*5,,5,1))/SUM(journal!AG$6:AG$10),\"a\"),\"\")","v":""},{"$f":"IF(AG$4<>\"\",IF(Saisie!AM34<>\"a\",AG$4*SUM(OFFSET(journal!AH$6,(ROW(AF29)-5)*5,,5,1))/SUM(journal!AH$6:AH$10),\"a\"),\"\")","v":""},{"$f":"IF(AH$4<>\"\",IF(Saisie!AN34<>\"a\",AH$4*SUM(OFFSET(journal!AI$6,(ROW(AG29)-5)*5,,5,1))/SUM(journal!AI$6:AI$10),\"a\"),\"\")","v":""},{"$f":"IF(AI$4<>\"\",IF(Saisie!AO34<>\"a\",AI$4*SUM(OFFSET(journal!AJ$6,(ROW(AH29)-5)*5,,5,1))/SUM(journal!AJ$6:AJ$10),\"a\"),\"\")","v":""},{"$f":"IF(AJ$4<>\"\",IF(Saisie!AP34<>\"a\",AJ$4*SUM(OFFSET(journal!AK$6,(ROW(AI29)-5)*5,,5,1))/SUM(journal!AK$6:AK$10),\"a\"),\"\")","v":""},{"$f":"IF(AK$4<>\"\",IF(Saisie!AQ34<>\"a\",AK$4*SUM(OFFSET(journal!AL$6,(ROW(AJ29)-5)*5,,5,1))/SUM(journal!AL$6:AL$10),\"a\"),\"\")","v":""},{"$f":"IF(AL$4<>\"\",IF(Saisie!AR34<>\"a\",AL$4*SUM(OFFSET(journal!AM$6,(ROW(AK29)-5)*5,,5,1))/SUM(journal!AM$6:AM$10),\"a\"),\"\")","v":""},{"$f":"IF(AM$4<>\"\",IF(Saisie!AS34<>\"a\",AM$4*SUM(OFFSET(journal!AN$6,(ROW(AL29)-5)*5,,5,1))/SUM(journal!AN$6:AN$10),\"a\"),\"\")","v":""},{"$f":"IF(AN$4<>\"\",IF(Saisie!AT34<>\"a\",AN$4*SUM(OFFSET(journal!AO$6,(ROW(AM29)-5)*5,,5,1))/SUM(journal!AO$6:AO$10),\"a\"),\"\")","v":""},{"$f":"IF(AO$4<>\"\",IF(Saisie!AU34<>\"a\",AO$4*SUM(OFFSET(journal!AP$6,(ROW(AN29)-5)*5,,5,1))/SUM(journal!AP$6:AP$10),\"a\"),\"\")","v":""},{"$f":"IF(AP$4<>\"\",IF(Saisie!AV34<>\"a\",AP$4*SUM(OFFSET(journal!AQ$6,(ROW(AO29)-5)*5,,5,1))/SUM(journal!AQ$6:AQ$10),\"a\"),\"\")","v":""},{"$f":"IF(AQ$4<>\"\",IF(Saisie!AW34<>\"a\",AQ$4*SUM(OFFSET(journal!AR$6,(ROW(AP29)-5)*5,,5,1))/SUM(journal!AR$6:AR$10),\"a\"),\"\")","v":""}]
[{"$f":"IF(Saisie!A35=\"\",\"\",Saisie!A35)","v":""},null,null,null,null,null,{"$f":"IF(G$4<>\"\",IF(Saisie!M35<>\"a\",G$4*SUM(OFFSET(journal!H$6,(ROW(F30)-5)*5,,5,1))/SUM(journal!H$6:H$10),\"a\"),\"\")","v":""},{"$f":"IF(H$4<>\"\",IF(Saisie!N35<>\"a\",H$4*SUM(OFFSET(journal!I$6,(ROW(G30)-5)*5,,5,1))/SUM(journal!I$6:I$10),\"a\"),\"\")","v":""},{"$f":"IF(I$4<>\"\",IF(Saisie!O35<>\"a\",I$4*SUM(OFFSET(journal!J$6,(ROW(H30)-5)*5,,5,1))/SUM(journal!J$6:J$10),\"a\"),\"\")","v":""},{"$f":"IF(J$4<>\"\",IF(Saisie!P35<>\"a\",J$4*SUM(OFFSET(journal!K$6,(ROW(I30)-5)*5,,5,1))/SUM(journal!K$6:K$10),\"a\"),\"\")","v":""},{"$f":"IF(K$4<>\"\",IF(Saisie!Q35<>\"a\",K$4*SUM(OFFSET(journal!L$6,(ROW(J30)-5)*5,,5,1))/SUM(journal!L$6:L$10),\"a\"),\"\")","v":""},{"$f":"IF(L$4<>\"\",IF(Saisie!R35<>\"a\",L$4*SUM(OFFSET(journal!M$6,(ROW(K30)-5)*5,,5,1))/SUM(journal!M$6:M$10),\"a\"),\"\")","v":""},{"$f":"IF(M$4<>\"\",IF(Saisie!S35<>\"a\",M$4*SUM(OFFSET(journal!N$6,(ROW(L30)-5)*5,,5,1))/SUM(journal!N$6:N$10),\"a\"),\"\")","v":""},{"$f":"IF(N$4<>\"\",IF(Saisie!T35<>\"a\",N$4*SUM(OFFSET(journal!O$6,(ROW(M30)-5)*5,,5,1))/SUM(journal!O$6:O$10),\"a\"),\"\")","v":""},{"$f":"IF(O$4<>\"\",IF(Saisie!U35<>\"a\",O$4*SUM(OFFSET(journal!P$6,(ROW(N30)-5)*5,,5,1))/SUM(journal!P$6:P$10),\"a\"),\"\")","v":""},{"$f":"IF(P$4<>\"\",IF(Saisie!V35<>\"a\",P$4*SUM(OFFSET(journal!Q$6,(ROW(O30)-5)*5,,5,1))/SUM(journal!Q$6:Q$10),\"a\"),\"\")","v":""},{"$f":"IF(Q$4<>\"\",IF(Saisie!W35<>\"a\",Q$4*SUM(OFFSET(journal!R$6,(ROW(P30)-5)*5,,5,1))/SUM(journal!R$6:R$10),\"a\"),\"\")","v":""},{"$f":"IF(R$4<>\"\",IF(Saisie!X35<>\"a\",R$4*SUM(OFFSET(journal!S$6,(ROW(Q30)-5)*5,,5,1))/SUM(journal!S$6:S$10),\"a\"),\"\")","v":""},{"$f":"IF(S$4<>\"\",IF(Saisie!Y35<>\"a\",S$4*SUM(OFFSET(journal!T$6,(ROW(R30)-5)*5,,5,1))/SUM(journal!T$6:T$10),\"a\"),\"\")","v":""},{"$f":"IF(T$4<>\"\",IF(Saisie!Z35<>\"a\",T$4*SUM(OFFSET(journal!U$6,(ROW(S30)-5)*5,,5,1))/SUM(journal!U$6:U$10),\"a\"),\"\")","v":""},{"$f":"IF(U$4<>\"\",IF(Saisie!AA35<>\"a\",U$4*SUM(OFFSET(journal!V$6,(ROW(T30)-5)*5,,5,1))/SUM(journal!V$6:V$10),\"a\"),\"\")","v":""},{"$f":"IF(V$4<>\"\",IF(Saisie!AB35<>\"a\",V$4*SUM(OFFSET(journal!W$6,(ROW(U30)-5)*5,,5,1))/SUM(journal!W$6:W$10),\"a\"),\"\")","v":""},{"$f":"IF(W$4<>\"\",IF(Saisie!AC35<>\"a\",W$4*SUM(OFFSET(journal!X$6,(ROW(V30)-5)*5,,5,1))/SUM(journal!X$6:X$10),\"a\"),\"\")","v":""},{"$f":"IF(X$4<>\"\",IF(Saisie!AD35<>\"a\",X$4*SUM(OFFSET(journal!Y$6,(ROW(W30)-5)*5,,5,1))/SUM(journal!Y$6:Y$10),\"a\"),\"\")","v":""},{"$f":"IF(Y$4<>\"\",IF(Saisie!AE35<>\"a\",Y$4*SUM(OFFSET(journal!Z$6,(ROW(X30)-5)*5,,5,1))/SUM(journal!Z$6:Z$10),\"a\"),\"\")","v":""},{"$f":"IF(Z$4<>\"\",IF(Saisie!AF35<>\"a\",Z$4*SUM(OFFSET(journal!AA$6,(ROW(Y30)-5)*5,,5,1))/SUM(journal!AA$6:AA$10),\"a\"),\"\")","v":""},{"$f":"IF(AA$4<>\"\",IF(Saisie!AG35<>\"a\",AA$4*SUM(OFFSET(journal!AB$6,(ROW(Z30)-5)*5,,5,1))/SUM(journal!AB$6:AB$10),\"a\"),\"\")","v":""},{"$f":"IF(AB$4<>\"\",IF(Saisie!AH35<>\"a\",AB$4*SUM(OFFSET(journal!AC$6,(ROW(AA30)-5)*5,,5,1))/SUM(journal!AC$6:AC$10),\"a\"),\"\")","v":""},{"$f":"IF(AC$4<>\"\",IF(Saisie!AI35<>\"a\",AC$4*SUM(OFFSET(journal!AD$6,(ROW(AB30)-5)*5,,5,1))/SUM(journal!AD$6:AD$10),\"a\"),\"\")","v":""},{"$f":"IF(AD$4<>\"\",IF(Saisie!AJ35<>\"a\",AD$4*SUM(OFFSET(journal!AE$6,(ROW(AC30)-5)*5,,5,1))/SUM(journal!AE$6:AE$10),\"a\"),\"\")","v":""},{"$f":"IF(AE$4<>\"\",IF(Saisie!AK35<>\"a\",AE$4*SUM(OFFSET(journal!AF$6,(ROW(AD30)-5)*5,,5,1))/SUM(journal!AF$6:AF$10),\"a\"),\"\")","v":""},{"$f":"IF(AF$4<>\"\",IF(Saisie!AL35<>\"a\",AF$4*SUM(OFFSET(journal!AG$6,(ROW(AE30)-5)*5,,5,1))/SUM(journal!AG$6:AG$10),\"a\"),\"\")","v":""},{"$f":"IF(AG$4<>\"\",IF(Saisie!AM35<>\"a\",AG$4*SUM(OFFSET(journal!AH$6,(ROW(AF30)-5)*5,,5,1))/SUM(journal!AH$6:AH$10),\"a\"),\"\")","v":""},{"$f":"IF(AH$4<>\"\",IF(Saisie!AN35<>\"a\",AH$4*SUM(OFFSET(journal!AI$6,(ROW(AG30)-5)*5,,5,1))/SUM(journal!AI$6:AI$10),\"a\"),\"\")","v":""},{"$f":"IF(AI$4<>\"\",IF(Saisie!AO35<>\"a\",AI$4*SUM(OFFSET(journal!AJ$6,(ROW(AH30)-5)*5,,5,1))/SUM(journal!AJ$6:AJ$10),\"a\"),\"\")","v":""},{"$f":"IF(AJ$4<>\"\",IF(Saisie!AP35<>\"a\",AJ$4*SUM(OFFSET(journal!AK$6,(ROW(AI30)-5)*5,,5,1))/SUM(journal!AK$6:AK$10),\"a\"),\"\")","v":""},{"$f":"IF(AK$4<>\"\",IF(Saisie!AQ35<>\"a\",AK$4*SUM(OFFSET(journal!AL$6,(ROW(AJ30)-5)*5,,5,1))/SUM(journal!AL$6:AL$10),\"a\"),\"\")","v":""},{"$f":"IF(AL$4<>\"\",IF(Saisie!AR35<>\"a\",AL$4*SUM(OFFSET(journal!AM$6,(ROW(AK30)-5)*5,,5,1))/SUM(journal!AM$6:AM$10),\"a\"),\"\")","v":""},{"$f":"IF(AM$4<>\"\",IF(Saisie!AS35<>\"a\",AM$4*SUM(OFFSET(journal!AN$6,(ROW(AL30)-5)*5,,5,1))/SUM(journal!AN$6:AN$10),\"a\"),\"\")","v":""},{"$f":"IF(AN$4<>\"\",IF(Saisie!AT35<>\"a\",AN$4*SUM(OFFSET(journal!AO$6,(ROW(AM30)-5)*5,,5,1))/SUM(journal!AO$6:AO$10),\"a\"),\"\")","v":""},{"$f":"IF(AO$4<>\"\",IF(Saisie!AU35<>\"a\",AO$4*SUM(OFFSET(journal!AP$6,(ROW(AN30)-5)*5,,5,1))/SUM(journal!AP$6:AP$10),\"a\"),\"\")","v":""},{"$f":"IF(AP$4<>\"\",IF(Saisie!AV35<>\"a\",AP$4*SUM(OFFSET(journal!AQ$6,(ROW(AO30)-5)*5,,5,1))/SUM(journal!AQ$6:AQ$10),\"a\"),\"\")","v":""},{"$f":"IF(AQ$4<>\"\",IF(Saisie!AW35<>\"a\",AQ$4*SUM(OFFSET(journal!AR$6,(ROW(AP30)-5)*5,,5,1))/SUM(journal!AR$6:AR$10),\"a\"),\"\")","v":""}]
[{"$f":"IF(Saisie!A36=\"\",\"\",Saisie!A36)","v":""},null,null,null,null,null,{"$f":"IF(G$4<>\"\",IF(Saisie!M36<>\"a\",G$4*SUM(OFFSET(journal!H$6,(ROW(F31)-5)*5,,5,1))/SUM(journal!H$6:H$10),\"a\"),\"\")","v":""},{"$f":"IF(H$4<>\"\",IF(Saisie!N36<>\"a\",H$4*SUM(OFFSET(journal!I$6,(ROW(G31)-5)*5,,5,1))/SUM(journal!I$6:I$10),\"a\"),\"\")","v":""},{"$f":"IF(I$4<>\"\",IF(Saisie!O36<>\"a\",I$4*SUM(OFFSET(journal!J$6,(ROW(H31)-5)*5,,5,1))/SUM(journal!J$6:J$10),\"a\"),\"\")","v":""},{"$f":"IF(J$4<>\"\",IF(Saisie!P36<>\"a\",J$4*SUM(OFFSET(journal!K$6,(ROW(I31)-5)*5,,5,1))/SUM(journal!K$6:K$10),\"a\"),\"\")","v":""},{"$f":"IF(K$4<>\"\",IF(Saisie!Q36<>\"a\",K$4*SUM(OFFSET(journal!L$6,(ROW(J31)-5)*5,,5,1))/SUM(journal!L$6:L$10),\"a\"),\"\")","v":""},{"$f":"IF(L$4<>\"\",IF(Saisie!R36<>\"a\",L$4*SUM(OFFSET(journal!M$6,(ROW(K31)-5)*5,,5,1))/SUM(journal!M$6:M$10),\"a\"),\"\")","v":""},{"$f":"IF(M$4<>\"\",IF(Saisie!S36<>\"a\",M$4*SUM(OFFSET(journal!N$6,(ROW(L31)-5)*5,,5,1))/SUM(journal!N$6:N$10),\"a\"),\"\")","v":""},{"$f":"IF(N$4<>\"\",IF(Saisie!T36<>\"a\",N$4*SUM(OFFSET(journal!O$6,(ROW(M31)-5)*5,,5,1))/SUM(journal!O$6:O$10),\"a\"),\"\")","v":""},{"$f":"IF(O$4<>\"\",IF(Saisie!U36<>\"a\",O$4*SUM(OFFSET(journal!P$6,(ROW(N31)-5)*5,,5,1))/SUM(journal!P$6:P$10),\"a\"),\"\")","v":""},{"$f":"IF(P$4<>\"\",IF(Saisie!V36<>\"a\",P$4*SUM(OFFSET(journal!Q$6,(ROW(O31)-5)*5,,5,1))/SUM(journal!Q$6:Q$10),\"a\"),\"\")","v":""},{"$f":"IF(Q$4<>\"\",IF(Saisie!W36<>\"a\",Q$4*SUM(OFFSET(journal!R$6,(ROW(P31)-5)*5,,5,1))/SUM(journal!R$6:R$10),\"a\"),\"\")","v":""},{"$f":"IF(R$4<>\"\",IF(Saisie!X36<>\"a\",R$4*SUM(OFFSET(journal!S$6,(ROW(Q31)-5)*5,,5,1))/SUM(journal!S$6:S$10),\"a\"),\"\")","v":""},{"$f":"IF(S$4<>\"\",IF(Saisie!Y36<>\"a\",S$4*SUM(OFFSET(journal!T$6,(ROW(R31)-5)*5,,5,1))/SUM(journal!T$6:T$10),\"a\"),\"\")","v":""},{"$f":"IF(T$4<>\"\",IF(Saisie!Z36<>\"a\",T$4*SUM(OFFSET(journal!U$6,(ROW(S31)-5)*5,,5,1))/SUM(journal!U$6:U$10),\"a\"),\"\")","v":""},{"$f":"IF(U$4<>\"\",IF(Saisie!AA36<>\"a\",U$4*SUM(OFFSET(journal!V$6,(ROW(T31)-5)*5,,5,1))/SUM(journal!V$6:V$10),\"a\"),\"\")","v":""},{"$f":"IF(V$4<>\"\",IF(Saisie!AB36<>\"a\",V$4*SUM(OFFSET(journal!W$6,(ROW(U31)-5)*5,,5,1))/SUM(journal!W$6:W$10),\"a\"),\"\")","v":""},{"$f":"IF(W$4<>\"\",IF(Saisie!AC36<>\"a\",W$4*SUM(OFFSET(journal!X$6,(ROW(V31)-5)*5,,5,1))/SUM(journal!X$6:X$10),\"a\"),\"\")","v":""},{"$f":"IF(X$4<>\"\",IF(Saisie!AD36<>\"a\",X$4*SUM(OFFSET(journal!Y$6,(ROW(W31)-5)*5,,5,1))/SUM(journal!Y$6:Y$10),\"a\"),\"\")","v":""},{"$f":"IF(Y$4<>\"\",IF(Saisie!AE36<>\"a\",Y$4*SUM(OFFSET(journal!Z$6,(ROW(X31)-5)*5,,5,1))/SUM(journal!Z$6:Z$10),\"a\"),\"\")","v":""},{"$f":"IF(Z$4<>\"\",IF(Saisie!AF36<>\"a\",Z$4*SUM(OFFSET(journal!AA$6,(ROW(Y31)-5)*5,,5,1))/SUM(journal!AA$6:AA$10),\"a\"),\"\")","v":""},{"$f":"IF(AA$4<>\"\",IF(Saisie!AG36<>\"a\",AA$4*SUM(OFFSET(journal!AB$6,(ROW(Z31)-5)*5,,5,1))/SUM(journal!AB$6:AB$10),\"a\"),\"\")","v":""},{"$f":"IF(AB$4<>\"\",IF(Saisie!AH36<>\"a\",AB$4*SUM(OFFSET(journal!AC$6,(ROW(AA31)-5)*5,,5,1))/SUM(journal!AC$6:AC$10),\"a\"),\"\")","v":""},{"$f":"IF(AC$4<>\"\",IF(Saisie!AI36<>\"a\",AC$4*SUM(OFFSET(journal!AD$6,(ROW(AB31)-5)*5,,5,1))/SUM(journal!AD$6:AD$10),\"a\"),\"\")","v":""},{"$f":"IF(AD$4<>\"\",IF(Saisie!AJ36<>\"a\",AD$4*SUM(OFFSET(journal!AE$6,(ROW(AC31)-5)*5,,5,1))/SUM(journal!AE$6:AE$10),\"a\"),\"\")","v":""},{"$f":"IF(AE$4<>\"\",IF(Saisie!AK36<>\"a\",AE$4*SUM(OFFSET(journal!AF$6,(ROW(AD31)-5)*5,,5,1))/SUM(journal!AF$6:AF$10),\"a\"),\"\")","v":""},{"$f":"IF(AF$4<>\"\",IF(Saisie!AL36<>\"a\",AF$4*SUM(OFFSET(journal!AG$6,(ROW(AE31)-5)*5,,5,1))/SUM(journal!AG$6:AG$10),\"a\"),\"\")","v":""},{"$f":"IF(AG$4<>\"\",IF(Saisie!AM36<>\"a\",AG$4*SUM(OFFSET(journal!AH$6,(ROW(AF31)-5)*5,,5,1))/SUM(journal!AH$6:AH$10),\"a\"),\"\")","v":""},{"$f":"IF(AH$4<>\"\",IF(Saisie!AN36<>\"a\",AH$4*SUM(OFFSET(journal!AI$6,(ROW(AG31)-5)*5,,5,1))/SUM(journal!AI$6:AI$10),\"a\"),\"\")","v":""},{"$f":"IF(AI$4<>\"\",IF(Saisie!AO36<>\"a\",AI$4*SUM(OFFSET(journal!AJ$6,(ROW(AH31)-5)*5,,5,1))/SUM(journal!AJ$6:AJ$10),\"a\"),\"\")","v":""},{"$f":"IF(AJ$4<>\"\",IF(Saisie!AP36<>\"a\",AJ$4*SUM(OFFSET(journal!AK$6,(ROW(AI31)-5)*5,,5,1))/SUM(journal!AK$6:AK$10),\"a\"),\"\")","v":""},{"$f":"IF(AK$4<>\"\",IF(Saisie!AQ36<>\"a\",AK$4*SUM(OFFSET(journal!AL$6,(ROW(AJ31)-5)*5,,5,1))/SUM(journal!AL$6:AL$10),\"a\"),\"\")","v":""},{"$f":"IF(AL$4<>\"\",IF(Saisie!AR36<>\"a\",AL$4*SUM(OFFSET(journal!AM$6,(ROW(AK31)-5)*5,,5,1))/SUM(journal!AM$6:AM$10),\"a\"),\"\")","v":""},{"$f":"IF(AM$4<>\"\",IF(Saisie!AS36<>\"a\",AM$4*SUM(OFFSET(journal!AN$6,(ROW(AL31)-5)*5,,5,1))/SUM(journal!AN$6:AN$10),\"a\"),\"\")","v":""},{"$f":"IF(AN$4<>\"\",IF(Saisie!AT36<>\"a\",AN$4*SUM(OFFSET(journal!AO$6,(ROW(AM31)-5)*5,,5,1))/SUM(journal!AO$6:AO$10),\"a\"),\"\")","v":""},{"$f":"IF(AO$4<>\"\",IF(Saisie!AU36<>\"a\",AO$4*SUM(OFFSET(journal!AP$6,(ROW(AN31)-5)*5,,5,1))/SUM(journal!AP$6:AP$10),\"a\"),\"\")","v":""},{"$f":"IF(AP$4<>\"\",IF(Saisie!AV36<>\"a\",AP$4*SUM(OFFSET(journal!AQ$6,(ROW(AO31)-5)*5,,5,1))/SUM(journal!AQ$6:AQ$10),\"a\"),\"\")","v":""},{"$f":"IF(AQ$4<>\"\",IF(Saisie!AW36<>\"a\",AQ$4*SUM(OFFSET(journal!AR$6,(ROW(AP31)-5)*5,,5,1))/SUM(journal!AR$6:AR$10),\"a\"),\"\")","v":""}]
[{"$f":"IF(Saisie!A37=\"\",\"\",Saisie!A37)","v":""},null,null,null,null,null,{"$f":"IF(G$4<>\"\",IF(Saisie!M37<>\"a\",G$4*SUM(OFFSET(journal!H$6,(ROW(F32)-5)*5,,5,1))/SUM(journal!H$6:H$10),\"a\"),\"\")","v":""},{"$f":"IF(H$4<>\"\",IF(Saisie!N37<>\"a\",H$4*SUM(OFFSET(journal!I$6,(ROW(G32)-5)*5,,5,1))/SUM(journal!I$6:I$10),\"a\"),\"\")","v":""},{"$f":"IF(I$4<>\"\",IF(Saisie!O37<>\"a\",I$4*SUM(OFFSET(journal!J$6,(ROW(H32)-5)*5,,5,1))/SUM(journal!J$6:J$10),\"a\"),\"\")","v":""},{"$f":"IF(J$4<>\"\",IF(Saisie!P37<>\"a\",J$4*SUM(OFFSET(journal!K$6,(ROW(I32)-5)*5,,5,1))/SUM(journal!K$6:K$10),\"a\"),\"\")","v":""},{"$f":"IF(K$4<>\"\",IF(Saisie!Q37<>\"a\",K$4*SUM(OFFSET(journal!L$6,(ROW(J32)-5)*5,,5,1))/SUM(journal!L$6:L$10),\"a\"),\"\")","v":""},{"$f":"IF(L$4<>\"\",IF(Saisie!R37<>\"a\",L$4*SUM(OFFSET(journal!M$6,(ROW(K32)-5)*5,,5,1))/SUM(journal!M$6:M$10),\"a\"),\"\")","v":""},{"$f":"IF(M$4<>\"\",IF(Saisie!S37<>\"a\",M$4*SUM(OFFSET(journal!N$6,(ROW(L32)-5)*5,,5,1))/SUM(journal!N$6:N$10),\"a\"),\"\")","v":""},{"$f":"IF(N$4<>\"\",IF(Saisie!T37<>\"a\",N$4*SUM(OFFSET(journal!O$6,(ROW(M32)-5)*5,,5,1))/SUM(journal!O$6:O$10),\"a\"),\"\")","v":""},{"$f":"IF(O$4<>\"\",IF(Saisie!U37<>\"a\",O$4*SUM(OFFSET(journal!P$6,(ROW(N32)-5)*5,,5,1))/SUM(journal!P$6:P$10),\"a\"),\"\")","v":""},{"$f":"IF(P$4<>\"\",IF(Saisie!V37<>\"a\",P$4*SUM(OFFSET(journal!Q$6,(ROW(O32)-5)*5,,5,1))/SUM(journal!Q$6:Q$10),\"a\"),\"\")","v":""},{"$f":"IF(Q$4<>\"\",IF(Saisie!W37<>\"a\",Q$4*SUM(OFFSET(journal!R$6,(ROW(P32)-5)*5,,5,1))/SUM(journal!R$6:R$10),\"a\"),\"\")","v":""},{"$f":"IF(R$4<>\"\",IF(Saisie!X37<>\"a\",R$4*SUM(OFFSET(journal!S$6,(ROW(Q32)-5)*5,,5,1))/SUM(journal!S$6:S$10),\"a\"),\"\")","v":""},{"$f":"IF(S$4<>\"\",IF(Saisie!Y37<>\"a\",S$4*SUM(OFFSET(journal!T$6,(ROW(R32)-5)*5,,5,1))/SUM(journal!T$6:T$10),\"a\"),\"\")","v":""},{"$f":"IF(T$4<>\"\",IF(Saisie!Z37<>\"a\",T$4*SUM(OFFSET(journal!U$6,(ROW(S32)-5)*5,,5,1))/SUM(journal!U$6:U$10),\"a\"),\"\")","v":""},{"$f":"IF(U$4<>\"\",IF(Saisie!AA37<>\"a\",U$4*SUM(OFFSET(journal!V$6,(ROW(T32)-5)*5,,5,1))/SUM(journal!V$6:V$10),\"a\"),\"\")","v":""},{"$f":"IF(V$4<>\"\",IF(Saisie!AB37<>\"a\",V$4*SUM(OFFSET(journal!W$6,(ROW(U32)-5)*5,,5,1))/SUM(journal!W$6:W$10),\"a\"),\"\")","v":""},{"$f":"IF(W$4<>\"\",IF(Saisie!AC37<>\"a\",W$4*SUM(OFFSET(journal!X$6,(ROW(V32)-5)*5,,5,1))/SUM(journal!X$6:X$10),\"a\"),\"\")","v":""},{"$f":"IF(X$4<>\"\",IF(Saisie!AD37<>\"a\",X$4*SUM(OFFSET(journal!Y$6,(ROW(W32)-5)*5,,5,1))/SUM(journal!Y$6:Y$10),\"a\"),\"\")","v":""},{"$f":"IF(Y$4<>\"\",IF(Saisie!AE37<>\"a\",Y$4*SUM(OFFSET(journal!Z$6,(ROW(X32)-5)*5,,5,1))/SUM(journal!Z$6:Z$10),\"a\"),\"\")","v":""},{"$f":"IF(Z$4<>\"\",IF(Saisie!AF37<>\"a\",Z$4*SUM(OFFSET(journal!AA$6,(ROW(Y32)-5)*5,,5,1))/SUM(journal!AA$6:AA$10),\"a\"),\"\")","v":""},{"$f":"IF(AA$4<>\"\",IF(Saisie!AG37<>\"a\",AA$4*SUM(OFFSET(journal!AB$6,(ROW(Z32)-5)*5,,5,1))/SUM(journal!AB$6:AB$10),\"a\"),\"\")","v":""},{"$f":"IF(AB$4<>\"\",IF(Saisie!AH37<>\"a\",AB$4*SUM(OFFSET(journal!AC$6,(ROW(AA32)-5)*5,,5,1))/SUM(journal!AC$6:AC$10),\"a\"),\"\")","v":""},{"$f":"IF(AC$4<>\"\",IF(Saisie!AI37<>\"a\",AC$4*SUM(OFFSET(journal!AD$6,(ROW(AB32)-5)*5,,5,1))/SUM(journal!AD$6:AD$10),\"a\"),\"\")","v":""},{"$f":"IF(AD$4<>\"\",IF(Saisie!AJ37<>\"a\",AD$4*SUM(OFFSET(journal!AE$6,(ROW(AC32)-5)*5,,5,1))/SUM(journal!AE$6:AE$10),\"a\"),\"\")","v":""},{"$f":"IF(AE$4<>\"\",IF(Saisie!AK37<>\"a\",AE$4*SUM(OFFSET(journal!AF$6,(ROW(AD32)-5)*5,,5,1))/SUM(journal!AF$6:AF$10),\"a\"),\"\")","v":""},{"$f":"IF(AF$4<>\"\",IF(Saisie!AL37<>\"a\",AF$4*SUM(OFFSET(journal!AG$6,(ROW(AE32)-5)*5,,5,1))/SUM(journal!AG$6:AG$10),\"a\"),\"\")","v":""},{"$f":"IF(AG$4<>\"\",IF(Saisie!AM37<>\"a\",AG$4*SUM(OFFSET(journal!AH$6,(ROW(AF32)-5)*5,,5,1))/SUM(journal!AH$6:AH$10),\"a\"),\"\")","v":""},{"$f":"IF(AH$4<>\"\",IF(Saisie!AN37<>\"a\",AH$4*SUM(OFFSET(journal!AI$6,(ROW(AG32)-5)*5,,5,1))/SUM(journal!AI$6:AI$10),\"a\"),\"\")","v":""},{"$f":"IF(AI$4<>\"\",IF(Saisie!AO37<>\"a\",AI$4*SUM(OFFSET(journal!AJ$6,(ROW(AH32)-5)*5,,5,1))/SUM(journal!AJ$6:AJ$10),\"a\"),\"\")","v":""},{"$f":"IF(AJ$4<>\"\",IF(Saisie!AP37<>\"a\",AJ$4*SUM(OFFSET(journal!AK$6,(ROW(AI32)-5)*5,,5,1))/SUM(journal!AK$6:AK$10),\"a\"),\"\")","v":""},{"$f":"IF(AK$4<>\"\",IF(Saisie!AQ37<>\"a\",AK$4*SUM(OFFSET(journal!AL$6,(ROW(AJ32)-5)*5,,5,1))/SUM(journal!AL$6:AL$10),\"a\"),\"\")","v":""},{"$f":"IF(AL$4<>\"\",IF(Saisie!AR37<>\"a\",AL$4*SUM(OFFSET(journal!AM$6,(ROW(AK32)-5)*5,,5,1))/SUM(journal!AM$6:AM$10),\"a\"),\"\")","v":""},{"$f":"IF(AM$4<>\"\",IF(Saisie!AS37<>\"a\",AM$4*SUM(OFFSET(journal!AN$6,(ROW(AL32)-5)*5,,5,1))/SUM(journal!AN$6:AN$10),\"a\"),\"\")","v":""},{"$f":"IF(AN$4<>\"\",IF(Saisie!AT37<>\"a\",AN$4*SUM(OFFSET(journal!AO$6,(ROW(AM32)-5)*5,,5,1))/SUM(journal!AO$6:AO$10),\"a\"),\"\")","v":""},{"$f":"IF(AO$4<>\"\",IF(Saisie!AU37<>\"a\",AO$4*SUM(OFFSET(journal!AP$6,(ROW(AN32)-5)*5,,5,1))/SUM(journal!AP$6:AP$10),\"a\"),\"\")","v":""},{"$f":"IF(AP$4<>\"\",IF(Saisie!AV37<>\"a\",AP$4*SUM(OFFSET(journal!AQ$6,(ROW(AO32)-5)*5,,5,1))/SUM(journal!AQ$6:AQ$10),\"a\"),\"\")","v":""},{"$f":"IF(AQ$4<>\"\",IF(Saisie!AW37<>\"a\",AQ$4*SUM(OFFSET(journal!AR$6,(ROW(AP32)-5)*5,,5,1))/SUM(journal!AR$6:AR$10),\"a\"),\"\")","v":""}]
[{"$f":"IF(Saisie!A38=\"\",\"\",Saisie!A38)","v":""},null,null,null,null,null,{"$f":"IF(G$4<>\"\",IF(Saisie!M38<>\"a\",G$4*SUM(OFFSET(journal!H$6,(ROW(F33)-5)*5,,5,1))/SUM(journal!H$6:H$10),\"a\"),\"\")","v":""},{"$f":"IF(H$4<>\"\",IF(Saisie!N38<>\"a\",H$4*SUM(OFFSET(journal!I$6,(ROW(G33)-5)*5,,5,1))/SUM(journal!I$6:I$10),\"a\"),\"\")","v":""},{"$f":"IF(I$4<>\"\",IF(Saisie!O38<>\"a\",I$4*SUM(OFFSET(journal!J$6,(ROW(H33)-5)*5,,5,1))/SUM(journal!J$6:J$10),\"a\"),\"\")","v":""},{"$f":"IF(J$4<>\"\",IF(Saisie!P38<>\"a\",J$4*SUM(OFFSET(journal!K$6,(ROW(I33)-5)*5,,5,1))/SUM(journal!K$6:K$10),\"a\"),\"\")","v":""},{"$f":"IF(K$4<>\"\",IF(Saisie!Q38<>\"a\",K$4*SUM(OFFSET(journal!L$6,(ROW(J33)-5)*5,,5,1))/SUM(journal!L$6:L$10),\"a\"),\"\")","v":""},{"$f":"IF(L$4<>\"\",IF(Saisie!R38<>\"a\",L$4*SUM(OFFSET(journal!M$6,(ROW(K33)-5)*5,,5,1))/SUM(journal!M$6:M$10),\"a\"),\"\")","v":""},{"$f":"IF(M$4<>\"\",IF(Saisie!S38<>\"a\",M$4*SUM(OFFSET(journal!N$6,(ROW(L33)-5)*5,,5,1))/SUM(journal!N$6:N$10),\"a\"),\"\")","v":""},{"$f":"IF(N$4<>\"\",IF(Saisie!T38<>\"a\",N$4*SUM(OFFSET(journal!O$6,(ROW(M33)-5)*5,,5,1))/SUM(journal!O$6:O$10),\"a\"),\"\")","v":""},{"$f":"IF(O$4<>\"\",IF(Saisie!U38<>\"a\",O$4*SUM(OFFSET(journal!P$6,(ROW(N33)-5)*5,,5,1))/SUM(journal!P$6:P$10),\"a\"),\"\")","v":""},{"$f":"IF(P$4<>\"\",IF(Saisie!V38<>\"a\",P$4*SUM(OFFSET(journal!Q$6,(ROW(O33)-5)*5,,5,1))/SUM(journal!Q$6:Q$10),\"a\"),\"\")","v":""},{"$f":"IF(Q$4<>\"\",IF(Saisie!W38<>\"a\",Q$4*SUM(OFFSET(journal!R$6,(ROW(P33)-5)*5,,5,1))/SUM(journal!R$6:R$10),\"a\"),\"\")","v":""},{"$f":"IF(R$4<>\"\",IF(Saisie!X38<>\"a\",R$4*SUM(OFFSET(journal!S$6,(ROW(Q33)-5)*5,,5,1))/SUM(journal!S$6:S$10),\"a\"),\"\")","v":""},{"$f":"IF(S$4<>\"\",IF(Saisie!Y38<>\"a\",S$4*SUM(OFFSET(journal!T$6,(ROW(R33)-5)*5,,5,1))/SUM(journal!T$6:T$10),\"a\"),\"\")","v":""},{"$f":"IF(T$4<>\"\",IF(Saisie!Z38<>\"a\",T$4*SUM(OFFSET(journal!U$6,(ROW(S33)-5)*5,,5,1))/SUM(journal!U$6:U$10),\"a\"),\"\")","v":""},{"$f":"IF(U$4<>\"\",IF(Saisie!AA38<>\"a\",U$4*SUM(OFFSET(journal!V$6,(ROW(T33)-5)*5,,5,1))/SUM(journal!V$6:V$10),\"a\"),\"\")","v":""},{"$f":"IF(V$4<>\"\",IF(Saisie!AB38<>\"a\",V$4*SUM(OFFSET(journal!W$6,(ROW(U33)-5)*5,,5,1))/SUM(journal!W$6:W$10),\"a\"),\"\")","v":""},{"$f":"IF(W$4<>\"\",IF(Saisie!AC38<>\"a\",W$4*SUM(OFFSET(journal!X$6,(ROW(V33)-5)*5,,5,1))/SUM(journal!X$6:X$10),\"a\"),\"\")","v":""},{"$f":"IF(X$4<>\"\",IF(Saisie!AD38<>\"a\",X$4*SUM(OFFSET(journal!Y$6,(ROW(W33)-5)*5,,5,1))/SUM(journal!Y$6:Y$10),\"a\"),\"\")","v":""},{"$f":"IF(Y$4<>\"\",IF(Saisie!AE38<>\"a\",Y$4*SUM(OFFSET(journal!Z$6,(ROW(X33)-5)*5,,5,1))/SUM(journal!Z$6:Z$10),\"a\"),\"\")","v":""},{"$f":"IF(Z$4<>\"\",IF(Saisie!AF38<>\"a\",Z$4*SUM(OFFSET(journal!AA$6,(ROW(Y33)-5)*5,,5,1))/SUM(journal!AA$6:AA$10),\"a\"),\"\")","v":""},{"$f":"IF(AA$4<>\"\",IF(Saisie!AG38<>\"a\",AA$4*SUM(OFFSET(journal!AB$6,(ROW(Z33)-5)*5,,5,1))/SUM(journal!AB$6:AB$10),\"a\"),\"\")","v":""},{"$f":"IF(AB$4<>\"\",IF(Saisie!AH38<>\"a\",AB$4*SUM(OFFSET(journal!AC$6,(ROW(AA33)-5)*5,,5,1))/SUM(journal!AC$6:AC$10),\"a\"),\"\")","v":""},{"$f":"IF(AC$4<>\"\",IF(Saisie!AI38<>\"a\",AC$4*SUM(OFFSET(journal!AD$6,(ROW(AB33)-5)*5,,5,1))/SUM(journal!AD$6:AD$10),\"a\"),\"\")","v":""},{"$f":"IF(AD$4<>\"\",IF(Saisie!AJ38<>\"a\",AD$4*SUM(OFFSET(journal!AE$6,(ROW(AC33)-5)*5,,5,1))/SUM(journal!AE$6:AE$10),\"a\"),\"\")","v":""},{"$f":"IF(AE$4<>\"\",IF(Saisie!AK38<>\"a\",AE$4*SUM(OFFSET(journal!AF$6,(ROW(AD33)-5)*5,,5,1))/SUM(journal!AF$6:AF$10),\"a\"),\"\")","v":""},{"$f":"IF(AF$4<>\"\",IF(Saisie!AL38<>\"a\",AF$4*SUM(OFFSET(journal!AG$6,(ROW(AE33)-5)*5,,5,1))/SUM(journal!AG$6:AG$10),\"a\"),\"\")","v":""},{"$f":"IF(AG$4<>\"\",IF(Saisie!AM38<>\"a\",AG$4*SUM(OFFSET(journal!AH$6,(ROW(AF33)-5)*5,,5,1))/SUM(journal!AH$6:AH$10),\"a\"),\"\")","v":""},{"$f":"IF(AH$4<>\"\",IF(Saisie!AN38<>\"a\",AH$4*SUM(OFFSET(journal!AI$6,(ROW(AG33)-5)*5,,5,1))/SUM(journal!AI$6:AI$10),\"a\"),\"\")","v":""},{"$f":"IF(AI$4<>\"\",IF(Saisie!AO38<>\"a\",AI$4*SUM(OFFSET(journal!AJ$6,(ROW(AH33)-5)*5,,5,1))/SUM(journal!AJ$6:AJ$10),\"a\"),\"\")","v":""},{"$f":"IF(AJ$4<>\"\",IF(Saisie!AP38<>\"a\",AJ$4*SUM(OFFSET(journal!AK$6,(ROW(AI33)-5)*5,,5,1))/SUM(journal!AK$6:AK$10),\"a\"),\"\")","v":""},{"$f":"IF(AK$4<>\"\",IF(Saisie!AQ38<>\"a\",AK$4*SUM(OFFSET(journal!AL$6,(ROW(AJ33)-5)*5,,5,1))/SUM(journal!AL$6:AL$10),\"a\"),\"\")","v":""},{"$f":"IF(AL$4<>\"\",IF(Saisie!AR38<>\"a\",AL$4*SUM(OFFSET(journal!AM$6,(ROW(AK33)-5)*5,,5,1))/SUM(journal!AM$6:AM$10),\"a\"),\"\")","v":""},{"$f":"IF(AM$4<>\"\",IF(Saisie!AS38<>\"a\",AM$4*SUM(OFFSET(journal!AN$6,(ROW(AL33)-5)*5,,5,1))/SUM(journal!AN$6:AN$10),\"a\"),\"\")","v":""},{"$f":"IF(AN$4<>\"\",IF(Saisie!AT38<>\"a\",AN$4*SUM(OFFSET(journal!AO$6,(ROW(AM33)-5)*5,,5,1))/SUM(journal!AO$6:AO$10),\"a\"),\"\")","v":""},{"$f":"IF(AO$4<>\"\",IF(Saisie!AU38<>\"a\",AO$4*SUM(OFFSET(journal!AP$6,(ROW(AN33)-5)*5,,5,1))/SUM(journal!AP$6:AP$10),\"a\"),\"\")","v":""},{"$f":"IF(AP$4<>\"\",IF(Saisie!AV38<>\"a\",AP$4*SUM(OFFSET(journal!AQ$6,(ROW(AO33)-5)*5,,5,1))/SUM(journal!AQ$6:AQ$10),\"a\"),\"\")","v":""},{"$f":"IF(AQ$4<>\"\",IF(Saisie!AW38<>\"a\",AQ$4*SUM(OFFSET(journal!AR$6,(ROW(AP33)-5)*5,,5,1))/SUM(journal!AR$6:AR$10),\"a\"),\"\")","v":""}]
[{"$f":"IF(Saisie!A39=\"\",\"\",Saisie!A39)","v":""},null,null,null,null,null,{"$f":"IF(G$4<>\"\",IF(Saisie!M39<>\"a\",G$4*SUM(OFFSET(journal!H$6,(ROW(F34)-5)*5,,5,1))/SUM(journal!H$6:H$10),\"a\"),\"\")","v":""},{"$f":"IF(H$4<>\"\",IF(Saisie!N39<>\"a\",H$4*SUM(OFFSET(journal!I$6,(ROW(G34)-5)*5,,5,1))/SUM(journal!I$6:I$10),\"a\"),\"\")","v":""},{"$f":"IF(I$4<>\"\",IF(Saisie!O39<>\"a\",I$4*SUM(OFFSET(journal!J$6,(ROW(H34)-5)*5,,5,1))/SUM(journal!J$6:J$10),\"a\"),\"\")","v":""},{"$f":"IF(J$4<>\"\",IF(Saisie!P39<>\"a\",J$4*SUM(OFFSET(journal!K$6,(ROW(I34)-5)*5,,5,1))/SUM(journal!K$6:K$10),\"a\"),\"\")","v":""},{"$f":"IF(K$4<>\"\",IF(Saisie!Q39<>\"a\",K$4*SUM(OFFSET(journal!L$6,(ROW(J34)-5)*5,,5,1))/SUM(journal!L$6:L$10),\"a\"),\"\")","v":""},{"$f":"IF(L$4<>\"\",IF(Saisie!R39<>\"a\",L$4*SUM(OFFSET(journal!M$6,(ROW(K34)-5)*5,,5,1))/SUM(journal!M$6:M$10),\"a\"),\"\")","v":""},{"$f":"IF(M$4<>\"\",IF(Saisie!S39<>\"a\",M$4*SUM(OFFSET(journal!N$6,(ROW(L34)-5)*5,,5,1))/SUM(journal!N$6:N$10),\"a\"),\"\")","v":""},{"$f":"IF(N$4<>\"\",IF(Saisie!T39<>\"a\",N$4*SUM(OFFSET(journal!O$6,(ROW(M34)-5)*5,,5,1))/SUM(journal!O$6:O$10),\"a\"),\"\")","v":""},{"$f":"IF(O$4<>\"\",IF(Saisie!U39<>\"a\",O$4*SUM(OFFSET(journal!P$6,(ROW(N34)-5)*5,,5,1))/SUM(journal!P$6:P$10),\"a\"),\"\")","v":""},{"$f":"IF(P$4<>\"\",IF(Saisie!V39<>\"a\",P$4*SUM(OFFSET(journal!Q$6,(ROW(O34)-5)*5,,5,1))/SUM(journal!Q$6:Q$10),\"a\"),\"\")","v":""},{"$f":"IF(Q$4<>\"\",IF(Saisie!W39<>\"a\",Q$4*SUM(OFFSET(journal!R$6,(ROW(P34)-5)*5,,5,1))/SUM(journal!R$6:R$10),\"a\"),\"\")","v":""},{"$f":"IF(R$4<>\"\",IF(Saisie!X39<>\"a\",R$4*SUM(OFFSET(journal!S$6,(ROW(Q34)-5)*5,,5,1))/SUM(journal!S$6:S$10),\"a\"),\"\")","v":""},{"$f":"IF(S$4<>\"\",IF(Saisie!Y39<>\"a\",S$4*SUM(OFFSET(journal!T$6,(ROW(R34)-5)*5,,5,1))/SUM(journal!T$6:T$10),\"a\"),\"\")","v":""},{"$f":"IF(T$4<>\"\",IF(Saisie!Z39<>\"a\",T$4*SUM(OFFSET(journal!U$6,(ROW(S34)-5)*5,,5,1))/SUM(journal!U$6:U$10),\"a\"),\"\")","v":""},{"$f":"IF(U$4<>\"\",IF(Saisie!AA39<>\"a\",U$4*SUM(OFFSET(journal!V$6,(ROW(T34)-5)*5,,5,1))/SUM(journal!V$6:V$10),\"a\"),\"\")","v":""},{"$f":"IF(V$4<>\"\",IF(Saisie!AB39<>\"a\",V$4*SUM(OFFSET(journal!W$6,(ROW(U34)-5)*5,,5,1))/SUM(journal!W$6:W$10),\"a\"),\"\")","v":""},{"$f":"IF(W$4<>\"\",IF(Saisie!AC39<>\"a\",W$4*SUM(OFFSET(journal!X$6,(ROW(V34)-5)*5,,5,1))/SUM(journal!X$6:X$10),\"a\"),\"\")","v":""},{"$f":"IF(X$4<>\"\",IF(Saisie!AD39<>\"a\",X$4*SUM(OFFSET(journal!Y$6,(ROW(W34)-5)*5,,5,1))/SUM(journal!Y$6:Y$10),\"a\"),\"\")","v":""},{"$f":"IF(Y$4<>\"\",IF(Saisie!AE39<>\"a\",Y$4*SUM(OFFSET(journal!Z$6,(ROW(X34)-5)*5,,5,1))/SUM(journal!Z$6:Z$10),\"a\"),\"\")","v":""},{"$f":"IF(Z$4<>\"\",IF(Saisie!AF39<>\"a\",Z$4*SUM(OFFSET(journal!AA$6,(ROW(Y34)-5)*5,,5,1))/SUM(journal!AA$6:AA$10),\"a\"),\"\")","v":""},{"$f":"IF(AA$4<>\"\",IF(Saisie!AG39<>\"a\",AA$4*SUM(OFFSET(journal!AB$6,(ROW(Z34)-5)*5,,5,1))/SUM(journal!AB$6:AB$10),\"a\"),\"\")","v":""},{"$f":"IF(AB$4<>\"\",IF(Saisie!AH39<>\"a\",AB$4*SUM(OFFSET(journal!AC$6,(ROW(AA34)-5)*5,,5,1))/SUM(journal!AC$6:AC$10),\"a\"),\"\")","v":""},{"$f":"IF(AC$4<>\"\",IF(Saisie!AI39<>\"a\",AC$4*SUM(OFFSET(journal!AD$6,(ROW(AB34)-5)*5,,5,1))/SUM(journal!AD$6:AD$10),\"a\"),\"\")","v":""},{"$f":"IF(AD$4<>\"\",IF(Saisie!AJ39<>\"a\",AD$4*SUM(OFFSET(journal!AE$6,(ROW(AC34)-5)*5,,5,1))/SUM(journal!AE$6:AE$10),\"a\"),\"\")","v":""},{"$f":"IF(AE$4<>\"\",IF(Saisie!AK39<>\"a\",AE$4*SUM(OFFSET(journal!AF$6,(ROW(AD34)-5)*5,,5,1))/SUM(journal!AF$6:AF$10),\"a\"),\"\")","v":""},{"$f":"IF(AF$4<>\"\",IF(Saisie!AL39<>\"a\",AF$4*SUM(OFFSET(journal!AG$6,(ROW(AE34)-5)*5,,5,1))/SUM(journal!AG$6:AG$10),\"a\"),\"\")","v":""},{"$f":"IF(AG$4<>\"\",IF(Saisie!AM39<>\"a\",AG$4*SUM(OFFSET(journal!AH$6,(ROW(AF34)-5)*5,,5,1))/SUM(journal!AH$6:AH$10),\"a\"),\"\")","v":""},{"$f":"IF(AH$4<>\"\",IF(Saisie!AN39<>\"a\",AH$4*SUM(OFFSET(journal!AI$6,(ROW(AG34)-5)*5,,5,1))/SUM(journal!AI$6:AI$10),\"a\"),\"\")","v":""},{"$f":"IF(AI$4<>\"\",IF(Saisie!AO39<>\"a\",AI$4*SUM(OFFSET(journal!AJ$6,(ROW(AH34)-5)*5,,5,1))/SUM(journal!AJ$6:AJ$10),\"a\"),\"\")","v":""},{"$f":"IF(AJ$4<>\"\",IF(Saisie!AP39<>\"a\",AJ$4*SUM(OFFSET(journal!AK$6,(ROW(AI34)-5)*5,,5,1))/SUM(journal!AK$6:AK$10),\"a\"),\"\")","v":""},{"$f":"IF(AK$4<>\"\",IF(Saisie!AQ39<>\"a\",AK$4*SUM(OFFSET(journal!AL$6,(ROW(AJ34)-5)*5,,5,1))/SUM(journal!AL$6:AL$10),\"a\"),\"\")","v":""},{"$f":"IF(AL$4<>\"\",IF(Saisie!AR39<>\"a\",AL$4*SUM(OFFSET(journal!AM$6,(ROW(AK34)-5)*5,,5,1))/SUM(journal!AM$6:AM$10),\"a\"),\"\")","v":""},{"$f":"IF(AM$4<>\"\",IF(Saisie!AS39<>\"a\",AM$4*SUM(OFFSET(journal!AN$6,(ROW(AL34)-5)*5,,5,1))/SUM(journal!AN$6:AN$10),\"a\"),\"\")","v":""},{"$f":"IF(AN$4<>\"\",IF(Saisie!AT39<>\"a\",AN$4*SUM(OFFSET(journal!AO$6,(ROW(AM34)-5)*5,,5,1))/SUM(journal!AO$6:AO$10),\"a\"),\"\")","v":""},{"$f":"IF(AO$4<>\"\",IF(Saisie!AU39<>\"a\",AO$4*SUM(OFFSET(journal!AP$6,(ROW(AN34)-5)*5,,5,1))/SUM(journal!AP$6:AP$10),\"a\"),\"\")","v":""},{"$f":"IF(AP$4<>\"\",IF(Saisie!AV39<>\"a\",AP$4*SUM(OFFSET(journal!AQ$6,(ROW(AO34)-5)*5,,5,1))/SUM(journal!AQ$6:AQ$10),\"a\"),\"\")","v":""},{"$f":"IF(AQ$4<>\"\",IF(Saisie!AW39<>\"a\",AQ$4*SUM(OFFSET(journal!AR$6,(ROW(AP34)-5)*5,,5,1))/SUM(journal!AR$6:AR$10),\"a\"),\"\")","v":""}]
[{"$f":"IF(Saisie!A40=\"\",\"\",Saisie!A40)","v":""},null,null,null,null,null,{"$f":"IF(G$4<>\"\",IF(Saisie!M40<>\"a\",G$4*SUM(OFFSET(journal!H$6,(ROW(F35)-5)*5,,5,1))/SUM(journal!H$6:H$10),\"a\"),\"\")","v":""},{"$f":"IF(H$4<>\"\",IF(Saisie!N40<>\"a\",H$4*SUM(OFFSET(journal!I$6,(ROW(G35)-5)*5,,5,1))/SUM(journal!I$6:I$10),\"a\"),\"\")","v":""},{"$f":"IF(I$4<>\"\",IF(Saisie!O40<>\"a\",I$4*SUM(OFFSET(journal!J$6,(ROW(H35)-5)*5,,5,1))/SUM(journal!J$6:J$10),\"a\"),\"\")","v":""},{"$f":"IF(J$4<>\"\",IF(Saisie!P40<>\"a\",J$4*SUM(OFFSET(journal!K$6,(ROW(I35)-5)*5,,5,1))/SUM(journal!K$6:K$10),\"a\"),\"\")","v":""},{"$f":"IF(K$4<>\"\",IF(Saisie!Q40<>\"a\",K$4*SUM(OFFSET(journal!L$6,(ROW(J35)-5)*5,,5,1))/SUM(journal!L$6:L$10),\"a\"),\"\")","v":""},{"$f":"IF(L$4<>\"\",IF(Saisie!R40<>\"a\",L$4*SUM(OFFSET(journal!M$6,(ROW(K35)-5)*5,,5,1))/SUM(journal!M$6:M$10),\"a\"),\"\")","v":""},{"$f":"IF(M$4<>\"\",IF(Saisie!S40<>\"a\",M$4*SUM(OFFSET(journal!N$6,(ROW(L35)-5)*5,,5,1))/SUM(journal!N$6:N$10),\"a\"),\"\")","v":""},{"$f":"IF(N$4<>\"\",IF(Saisie!T40<>\"a\",N$4*SUM(OFFSET(journal!O$6,(ROW(M35)-5)*5,,5,1))/SUM(journal!O$6:O$10),\"a\"),\"\")","v":""},{"$f":"IF(O$4<>\"\",IF(Saisie!U40<>\"a\",O$4*SUM(OFFSET(journal!P$6,(ROW(N35)-5)*5,,5,1))/SUM(journal!P$6:P$10),\"a\"),\"\")","v":""},{"$f":"IF(P$4<>\"\",IF(Saisie!V40<>\"a\",P$4*SUM(OFFSET(journal!Q$6,(ROW(O35)-5)*5,,5,1))/SUM(journal!Q$6:Q$10),\"a\"),\"\")","v":""},{"$f":"IF(Q$4<>\"\",IF(Saisie!W40<>\"a\",Q$4*SUM(OFFSET(journal!R$6,(ROW(P35)-5)*5,,5,1))/SUM(journal!R$6:R$10),\"a\"),\"\")","v":""},{"$f":"IF(R$4<>\"\",IF(Saisie!X40<>\"a\",R$4*SUM(OFFSET(journal!S$6,(ROW(Q35)-5)*5,,5,1))/SUM(journal!S$6:S$10),\"a\"),\"\")","v":""},{"$f":"IF(S$4<>\"\",IF(Saisie!Y40<>\"a\",S$4*SUM(OFFSET(journal!T$6,(ROW(R35)-5)*5,,5,1))/SUM(journal!T$6:T$10),\"a\"),\"\")","v":""},{"$f":"IF(T$4<>\"\",IF(Saisie!Z40<>\"a\",T$4*SUM(OFFSET(journal!U$6,(ROW(S35)-5)*5,,5,1))/SUM(journal!U$6:U$10),\"a\"),\"\")","v":""},{"$f":"IF(U$4<>\"\",IF(Saisie!AA40<>\"a\",U$4*SUM(OFFSET(journal!V$6,(ROW(T35)-5)*5,,5,1))/SUM(journal!V$6:V$10),\"a\"),\"\")","v":""},{"$f":"IF(V$4<>\"\",IF(Saisie!AB40<>\"a\",V$4*SUM(OFFSET(journal!W$6,(ROW(U35)-5)*5,,5,1))/SUM(journal!W$6:W$10),\"a\"),\"\")","v":""},{"$f":"IF(W$4<>\"\",IF(Saisie!AC40<>\"a\",W$4*SUM(OFFSET(journal!X$6,(ROW(V35)-5)*5,,5,1))/SUM(journal!X$6:X$10),\"a\"),\"\")","v":""},{"$f":"IF(X$4<>\"\",IF(Saisie!AD40<>\"a\",X$4*SUM(OFFSET(journal!Y$6,(ROW(W35)-5)*5,,5,1))/SUM(journal!Y$6:Y$10),\"a\"),\"\")","v":""},{"$f":"IF(Y$4<>\"\",IF(Saisie!AE40<>\"a\",Y$4*SUM(OFFSET(journal!Z$6,(ROW(X35)-5)*5,,5,1))/SUM(journal!Z$6:Z$10),\"a\"),\"\")","v":""},{"$f":"IF(Z$4<>\"\",IF(Saisie!AF40<>\"a\",Z$4*SUM(OFFSET(journal!AA$6,(ROW(Y35)-5)*5,,5,1))/SUM(journal!AA$6:AA$10),\"a\"),\"\")","v":""},{"$f":"IF(AA$4<>\"\",IF(Saisie!AG40<>\"a\",AA$4*SUM(OFFSET(journal!AB$6,(ROW(Z35)-5)*5,,5,1))/SUM(journal!AB$6:AB$10),\"a\"),\"\")","v":""},{"$f":"IF(AB$4<>\"\",IF(Saisie!AH40<>\"a\",AB$4*SUM(OFFSET(journal!AC$6,(ROW(AA35)-5)*5,,5,1))/SUM(journal!AC$6:AC$10),\"a\"),\"\")","v":""},{"$f":"IF(AC$4<>\"\",IF(Saisie!AI40<>\"a\",AC$4*SUM(OFFSET(journal!AD$6,(ROW(AB35)-5)*5,,5,1))/SUM(journal!AD$6:AD$10),\"a\"),\"\")","v":""},{"$f":"IF(AD$4<>\"\",IF(Saisie!AJ40<>\"a\",AD$4*SUM(OFFSET(journal!AE$6,(ROW(AC35)-5)*5,,5,1))/SUM(journal!AE$6:AE$10),\"a\"),\"\")","v":""},{"$f":"IF(AE$4<>\"\",IF(Saisie!AK40<>\"a\",AE$4*SUM(OFFSET(journal!AF$6,(ROW(AD35)-5)*5,,5,1))/SUM(journal!AF$6:AF$10),\"a\"),\"\")","v":""},{"$f":"IF(AF$4<>\"\",IF(Saisie!AL40<>\"a\",AF$4*SUM(OFFSET(journal!AG$6,(ROW(AE35)-5)*5,,5,1))/SUM(journal!AG$6:AG$10),\"a\"),\"\")","v":""},{"$f":"IF(AG$4<>\"\",IF(Saisie!AM40<>\"a\",AG$4*SUM(OFFSET(journal!AH$6,(ROW(AF35)-5)*5,,5,1))/SUM(journal!AH$6:AH$10),\"a\"),\"\")","v":""},{"$f":"IF(AH$4<>\"\",IF(Saisie!AN40<>\"a\",AH$4*SUM(OFFSET(journal!AI$6,(ROW(AG35)-5)*5,,5,1))/SUM(journal!AI$6:AI$10),\"a\"),\"\")","v":""},{"$f":"IF(AI$4<>\"\",IF(Saisie!AO40<>\"a\",AI$4*SUM(OFFSET(journal!AJ$6,(ROW(AH35)-5)*5,,5,1))/SUM(journal!AJ$6:AJ$10),\"a\"),\"\")","v":""},{"$f":"IF(AJ$4<>\"\",IF(Saisie!AP40<>\"a\",AJ$4*SUM(OFFSET(journal!AK$6,(ROW(AI35)-5)*5,,5,1))/SUM(journal!AK$6:AK$10),\"a\"),\"\")","v":""},{"$f":"IF(AK$4<>\"\",IF(Saisie!AQ40<>\"a\",AK$4*SUM(OFFSET(journal!AL$6,(ROW(AJ35)-5)*5,,5,1))/SUM(journal!AL$6:AL$10),\"a\"),\"\")","v":""},{"$f":"IF(AL$4<>\"\",IF(Saisie!AR40<>\"a\",AL$4*SUM(OFFSET(journal!AM$6,(ROW(AK35)-5)*5,,5,1))/SUM(journal!AM$6:AM$10),\"a\"),\"\")","v":""},{"$f":"IF(AM$4<>\"\",IF(Saisie!AS40<>\"a\",AM$4*SUM(OFFSET(journal!AN$6,(ROW(AL35)-5)*5,,5,1))/SUM(journal!AN$6:AN$10),\"a\"),\"\")","v":""},{"$f":"IF(AN$4<>\"\",IF(Saisie!AT40<>\"a\",AN$4*SUM(OFFSET(journal!AO$6,(ROW(AM35)-5)*5,,5,1))/SUM(journal!AO$6:AO$10),\"a\"),\"\")","v":""},{"$f":"IF(AO$4<>\"\",IF(Saisie!AU40<>\"a\",AO$4*SUM(OFFSET(journal!AP$6,(ROW(AN35)-5)*5,,5,1))/SUM(journal!AP$6:AP$10),\"a\"),\"\")","v":""},{"$f":"IF(AP$4<>\"\",IF(Saisie!AV40<>\"a\",AP$4*SUM(OFFSET(journal!AQ$6,(ROW(AO35)-5)*5,,5,1))/SUM(journal!AQ$6:AQ$10),\"a\"),\"\")","v":""},{"$f":"IF(AQ$4<>\"\",IF(Saisie!AW40<>\"a\",AQ$4*SUM(OFFSET(journal!AR$6,(ROW(AP35)-5)*5,,5,1))/SUM(journal!AR$6:AR$10),\"a\"),\"\")","v":""}]
["Moyenne",{"$f":"IF(COUNTIF(B6:B35,\"\")=30,\"\",AVERAGE(B6:B35))","v":""},"","","","","","","","","","","","","","","","","","","","","","","","","","","","","","","","","","","","","","","","","",{"$f":"IF(COUNTIF(AR6:AR35,\"\")=30,\"\",AVERAGE(AR6:AR35))","v":""}]
[]
[]
[]
[{"$f":"IF(A1=\"\",\"\",A1)","v":""},{"$f":"IF(B1=\"\",\"\",B1)","v":"Statistiques"},"                 ","                 ","                 ","                 ","                 ","                 ","                 ","                 ","                 ","                 ","                 ","                 ","                 ","                 ",{"$f":"IF(Q1=\"\",\"\",Q1)","v":"                 "},"                 ","                 ","                 ","                 ","                 ","                 ","                 ","                 ","                 ","                 ","                 ","                 ","                 ","                 ","                 ","                 ","                 ","                 ","                 ","                 ","                 ","                 ","                 ","                 ","                 ","                 "]
["notes sur 20",{"$f":"IF(B2=\"\",\"\",B2)","v":""},"","","","","","","","","","","","","","","","","","","","","","","","","","","","","","","","","","","","","","","","",""]
["","","","","","","","","","","","","","","","","","","","","","","","","","","","","","","","","","","","","","","","","","",""]
["","","","","","","","","","","","","","","","","","","","","","","","","","","","","","","","","","","","","","","","","","",""]
["NOM Prénom","","","","","","","","","","","","","","","","","","","","","","","","","","","","","","","","","","","","","","","","","",""]
[{"$f":"IF(A6=\"\",\"\",A6)","v":""},{"$f":"IF(B6=\"a\",\"a\",IF(B6=\"nn\",\"nn\",IF(B6=\"\",\"\",B6/B$43*20)))","v":""},"","","",{"$f":"IF(F6=\"a\",\"a\",IF(F6=\"nn\",\"nn\",IF(F6=\"\",\"\",F6/F$43*20)))","v":""},{"$f":"IF(G6=\"a\",\"a\",IF(G6=\"nn\",\"nn\",IF(G6=\"\",\"\",G6/G$43*20)))","v":""},"","","","","","","","","","","","","","","","","","","","","","","","","","","","","","","","","","","",""]
[{"$f":"IF(A7=\"\",\"\",A7)","v":""},"","","","",{"$f":"IF(F7=\"a\",\"a\",IF(F7=\"nn\",\"nn\",IF(F7=\"\",\"\",F7/F$43*20)))","v":""},"","","","",{"$f":"IF(K7=\"a\",\"a\",IF(K7=\"nn\",\"nn\",IF(K7=\"\",\"\",K7/K$43*20)))","v":""},"","","","","","","","","","","","","","","","","","","","","","","","","","","","","","","",""]
["","","","","","","","","","",{"$f":"IF(K8=\"a\",\"a\",IF(K8=\"nn\",\"nn\",IF(K8=\"\",\"\",K8/K$43*20)))","v":""},"","","","","","","","","","","","","","","","","","","","","","","","","","","","","","","",""]
["","","","","","","","","","",{"$f":"IF(K9=\"a\",\"a\",IF(K9=\"nn\",\"nn\",IF(K9=\"\",\"\",K9/K$43*20)))","v":""},"","","","","","","","","","","","","","","","","","","","","","","","","","","","","","","",""]
["","","","","","","","","","",{"$f":"IF(K10=\"a\",\"a\",IF(K10=\"nn\",\"nn\",IF(K10=\"\",\"\",K10/K$43*20)))","v":""},"","","","","","","","","","","","","","","","","","","","","","","","","","","","","","","",""]
["","","","","","","","","","",{"$f":"IF(K11=\"a\",\"a\",IF(K11=\"nn\",\"nn\",IF(K11=\"\",\"\",K11/K$43*20)))","v":""},"","","","","","","","","","","","","","","","","","","","","","","","","","","","","","","",""]
["","","","","","","","","","",{"$f":"IF(K12=\"a\",\"a\",IF(K12=\"nn\",\"nn\",IF(K12=\"\",\"\",K12/K$43*20)))","v":""},"","","","","","","","","","","","","","","","","","","","","","","","","","","","","","","",""]
["","","","","","","","","","",{"$f":"IF(K13=\"a\",\"a\",IF(K13=\"nn\",\"nn\",IF(K13=\"\",\"\",K13/K$43*20)))","v":""},"","","","","","","","","","","","","","","","","","","","","","","","","","","","","","","",""]
["","","","","","","","","","",{"$f":"IF(K14=\"a\",\"a\",IF(K14=\"nn\",\"nn\",IF(K14=\"\",\"\",K14/K$43*20)))","v":""},"","","","","","","","","","","","","","","","","","","","","","","","","","","","","","","",""]
["","","","","","","","","","",{"$f":"IF(K15=\"a\",\"a\",IF(K15=\"nn\",\"nn\",IF(K15=\"\",\"\",K15/K$43*20)))","v":""},"","","","","","","","","","","","","","","","","","","","","","","","","","","","","","","",""]
["","","","","","","","","","",{"$f":"IF(K16=\"a\",\"a\",IF(K16=\"nn\",\"nn\",IF(K16=\"\",\"\",K16/K$43*20)))","v":""},"","","","","","","","","","","","","","","","","","","","","","","","","","","","","","","",""]
["","","","","","","","","","",{"$f":"IF(K17=\"a\",\"a\",IF(K17=\"nn\",\"nn\",IF(K17=\"\",\"\",K17/K$43*20)))","v":""},"","","","","","","","","","","","","","","","","","","","","","","","","","","","","","","",""]
["","","","","","","","","","",{"$f":"IF(K18=\"a\",\"a\",IF(K18=\"nn\",\"nn\",IF(K18=\"\",\"\",K18/K$43*20)))","v":""},"","","","","","","","","","","","","","","","","","","","","","","","","","","","","","","",""]
["","","","","","","","","","",{"$f":"IF(K19=\"a\",\"a\",IF(K19=\"nn\",\"nn\",IF(K19=\"\",\"\",K19/K$43*20)))","v":""},"","","","","","","","","","","","","","","","","","","","","","","","","","","","","","","",""]
["","","","","","","","","","",{"$f":"IF(K20=\"a\",\"a\",IF(K20=\"nn\",\"nn\",IF(K20=\"\",\"\",K20/K$43*20)))","v":""},"","","","","","","","","","","","","","","","","","","","","","","","","","","","","","","",""]
["","","","","","","","","","",{"$f":"IF(K21=\"a\",\"a\",IF(K21=\"nn\",\"nn\",IF(K21=\"\",\"\",K21/K$43*20)))","v":""},"","","","","","","","","","","","","","","","","","","","","","","","","","","","","","","",""]
["",{"$f":"IF(B22=\"a\",\"a\",IF(B22=\"nn\",\"nn\",IF(B22=\"\",\"\",B22/B$43*20)))","v":""},"","","","","","","","",{"$f":"IF(K22=\"a\",\"a\",IF(K22=\"nn\",\"nn\",IF(K22=\"\",\"\",K22/K$43*20)))","v":""},"","","","","","","","","","","","","","","","","","","","","","","","","","","","","","","",""]
["","","","","","","","","","",{"$f":"IF(K23=\"a\",\"a\",IF(K23=\"nn\",\"nn\",IF(K23=\"\",\"\",K23/K$43*20)))","v":""},"","","","","","","","","","","","","","","","","","","","","","","","","","","","","","","",""]
["","","","","","","","","","",{"$f":"IF(K24=\"a\",\"a\",IF(K24=\"nn\",\"nn\",IF(K24=\"\",\"\",K24/K$43*20)))","v":""},"","","","","","","","","","","","","","","","","","","","","","","","","","","","","","","",""]
["","","","","","","","","","",{"$f":"IF(K25=\"a\",\"a\",IF(K25=\"nn\",\"nn\",IF(K25=\"\",\"\",K25/K$43*20)))","v":""},"","","","","","","","","","","","","","","","","","","","","","","","","","","","","","","",""]
["","","","","","","","","","",{"$f":"IF(K26=\"a\",\"a\",IF(K26=\"nn\",\"nn\",IF(K26=\"\",\"\",K26/K$43*20)))","v":""},"","","","","","","","","","","","","","","","","","","","","","","","","","","","","","","",""]
["","","","","","","","","","",{"$f":"IF(K27=\"a\",\"a\",IF(K27=\"nn\",\"nn\",IF(K27=\"\",\"\",K27/K$43*20)))","v":""},"","","","","","","","","","","","","","","","","","","","","","","","","","","","","","","",""]
["","","","","","","","","","",{"$f":"IF(K28=\"a\",\"a\",IF(K28=\"nn\",\"nn\",IF(K28=\"\",\"\",K28/K$43*20)))","v":""},"","","","","","","","","","","","","","","","","","","","","","","","","","","","","","","",""]
["","","","","","","","","","",{"$f":"IF(K29=\"a\",\"a\",IF(K29=\"nn\",\"nn\",IF(K29=\"\",\"\",K29/K$43*20)))","v":""},"","","","","","","","","","","","","","","","","","","","","","","","","","","","","","","",""]
["","","","","","","","","","",{"$f":"IF(K30=\"a\",\"a\",IF(K30=\"nn\",\"nn\",IF(K30=\"\",\"\",K30/K$43*20)))","v":""},"","","","","","","","","","","","","","","","","","","","","","","","","","","","","","","",""]
["","","","","","","","","","",{"$f":"IF(K31=\"a\",\"a\",IF(K31=\"nn\",\"nn\",IF(K31=\"\",\"\",K31/K$43*20)))","v":""},"","","","","","","","","","","","","","","","","","","","","","","","","","","","","","","",""]
["","","","","","","","","","",{"$f":"IF(K32=\"a\",\"a\",IF(K32=\"nn\",\"nn\",IF(K32=\"\",\"\",K32/K$43*20)))","v":""},"","","","","","","","","","","","","","","","","","","","","","","","","","","","","","","",""]
["","","","","","","","","","",{"$f":"IF(K33=\"a\",\"a\",IF(K33=\"nn\",\"nn\",IF(K33=\"\",\"\",K33/K$43*20)))","v":""},"","","","","","","","","","","","","","","","","","","","","","","","","","","","","","","",""]
["","","","","","","","","","",{"$f":"IF(K34=\"a\",\"a\",IF(K34=\"nn\",\"nn\",IF(K34=\"\",\"\",K34/K$43*20)))","v":""},"","","","","","","","","","","","","","","","","","","","","","","","","","","","","","","",""]
["","","","","","","","","","",{"$f":"IF(K35=\"a\",\"a\",IF(K35=\"nn\",\"nn\",IF(K35=\"\",\"\",K35/K$43*20)))","v":""},"","","","","","","","","","","","","","","","","","","","","","","","","","","","","","","",""]
["Moyenne",{"$f":"IF(COUNTIF(B45:B74,\"\")=30,\"\",AVERAGE(B45:B74))","v":""},"","","","","","","","","","","","","","","","","","","","","","","","","","","","","","","","","","","","","","","","",{"$f":"IF(COUNTIF(AQ45:AQ74,\"\")=30,\"\",AVERAGE(AQ45:AQ74))","v":""}]

{"sheet":"Evolution","index":3,"n_rows":165,"n_cols":48,"rows_kept":165,"cut":false,"hidden":false,"merged":[[30,0,34,0],[5,0,9,0],[10,0,14,0],[15,0,19,0],[20,0,24,0],[25,0,29,0],[90,0,94,0],[35,0,39,0],[40,0,44,0],[45,0,49,0],[50,0,54,0],[55,0,59,0],[60,0,64,0],[65,0,69,0],[70,0,74,0],[75,0,79,0],[80,0,84,0],[85,0,89,0],[150,0,154,0],[95,0,99,0],[100,0,104,0],[105,0,109,0],[110,0,114,0],[115,0,119,0],[120,0,124,0],[125,0,129,0],[130,0,134,0],[135,0,139,0],[140,0,144,0],[145,0,149,0],[155,0,159,0],[160,0,164,0],[165,0,169,0],[170,0,174,0],[175,0,179,0]]}
["Evolution",null,{"$f":"IF(journal!C1=\"\",\"\",journal!C1)","v":"Statistiques"},{"$f":"IF(journal!D1=\"\",\"\",journal!D1)","v":"                 "},{"$f":"IF(journal!E1=\"\",\"\",journal!E1)","v":"                 "},{"$f":"IF(journal!F1=\"\",\"\",journal!F1)","v":"                 "},{"$f":"IF(journal!G1=\"\",\"\",journal!G1)","v":"                 "},{"$f":"IF(journal!H1=\"\",\"\",journal!H1)","v":"                 "},{"$f":"IF(journal!I1=\"\",\"\",journal!I1)","v":"                 "},{"$f":"IF(journal!J1=\"\",\"\",journal!J1)","v":"                 "},{"$f":"IF(journal!K1=\"\",\"\",journal!K1)","v":"                 "},{"$f":"IF(journal!L1=\"\",\"\",journal!L1)","v":"                 "},{"$f":"IF(journal!M1=\"\",\"\",journal!M1)","v":"                 "},{"$f":"IF(journal!N1=\"\",\"\",journal!N1)","v":"                 "},{"$f":"IF(journal!O1=\"\",\"\",journal!O1)","v":"                 "},{"$f":"IF(journal!P1=\"\",\"\",journal!P1)","v":"                 "},{"$f":"IF(journal!Q1=\"\",\"\",journal!Q1)","v":"                 "},{"$f":"IF(journal!R1=\"\",\"\",journal!R1)","v":"                 "},{"$f":"IF(journal!S1=\"\",\"\",journal!S1)","v":"                 "},{"$f":"IF(journal!T1=\"\",\"\",journal!T1)","v":"                 "},{"$f":"IF(journal!U1=\"\",\"\",journal!U1)","v":"                 "},{"$f":"IF(journal!V1=\"\",\"\",journal!V1)","v":"                 "},{"$f":"IF(journal!W1=\"\",\"\",journal!W1)","v":"                 "},{"$f":"IF(journal!X1=\"\",\"\",journal!X1)","v":"                 "},{"$f":"IF(journal!Y1=\"\",\"\",journal!Y1)","v":"                 "},{"$f":"IF(journal!Z1=\"\",\"\",journal!Z1)","v":"                 "},{"$f":"IF(journal!AA1=\"\",\"\",journal!AA1)","v":"                 "},{"$f":"IF(journal!AB1=\"\",\"\",journal!AB1)","v":"                 "},{"$f":"IF(journal!AC1=\"\",\"\",journal!AC1)","v":"                 "},{"$f":"IF(journal!AD1=\"\",\"\",journal!AD1)","v":"                 "},{"$f":"IF(journal!AE1=\"\",\"\",journal!AE1)","v":"                 "},{"$f":"IF(journal!AF1=\"\",\"\",journal!AF1)","v":"                 "},{"$f":"IF(journal!AG1=\"\",\"\",journal!AG1)","v":"                 "},{"$f":"IF(journal!AH1=\"\",\"\",journal!AH1)","v":"                 "},{"$f":"IF(journal!AI1=\"\",\"\",journal!AI1)","v":"                 "},{"$f":"IF(journal!AJ1=\"\",\"\",journal!AJ1)","v":"                 "},{"$f":"IF(journal!AK1=\"\",\"\",journal!AK1)","v":"                 "},{"$f":"IF(journal!AL1=\"\",\"\",journal!AL1)","v":"                 "},{"$f":"IF(journal!AM1=\"\",\"\",journal!AM1)","v":"                 "},{"$f":"IF(journal!AN1=\"\",\"\",journal!AN1)","v":"                 "},{"$f":"IF(journal!AO1=\"\",\"\",journal!AO1)","v":"                 "},{"$f":"IF(journal!AP1=\"\",\"\",journal!AP1)","v":"                 "},{"$f":"IF(journal!AQ1=\"\",\"\",journal!AQ1)","v":"                 "},{"$f":"IF(journal!AR1=\"\",\"\",journal!AR1)","v":"                 "}]
["Type",null,{"$f":"IF(journal!C2=\"\",\"\",journal!C2)","v":""},{"$f":"IF(journal!D2=\"\",\"\",journal!D2)","v":""},{"$f":"IF(journal!E2=\"\",\"\",journal!E2)","v":""},{"$f":"IF(journal!F2=\"\",\"\",journal!F2)","v":""},{"$f":"IF(journal!G2=\"\",\"\",journal!G2)","v":""},{"$f":"IF(journal!H2=\"\",\"\",journal!H2)","v":""},{"$f":"IF(journal!I2=\"\",\"\",journal!I2)","v":""},{"$f":"IF(journal!J2=\"\",\"\",journal!J2)","v":""},{"$f":"IF(journal!K2=\"\",\"\",journal!K2)","v":""},{"$f":"IF(journal!L2=\"\",\"\",journal!L2)","v":""},{"$f":"IF(journal!M2=\"\",\"\",journal!M2)","v":""},{"$f":"IF(journal!N2=\"\",\"\",journal!N2)","v":""},{"$f":"IF(journal!O2=\"\",\"\",journal!O2)","v":""},{"$f":"IF(journal!P2=\"\",\"\",journal!P2)","v":""},{"$f":"IF(journal!Q2=\"\",\"\",journal!Q2)","v":""},{"$f":"IF(journal!R2=\"\",\"\",journal!R2)","v":""},{"$f":"IF(journal!S2=\"\",\"\",journal!S2)","v":""},{"$f":"IF(journal!T2=\"\",\"\",journal!T2)","v":""},{"$f":"IF(journal!U2=\"\",\"\",journal!U2)","v":""},{"$f":"IF(journal!V2=\"\",\"\",journal!V2)","v":""},{"$f":"IF(journal!W2=\"\",\"\",journal!W2)","v":""},{"$f":"IF(journal!X2=\"\",\"\",journal!X2)","v":""},{"$f":"IF(journal!Y2=\"\",\"\",journal!Y2)","v":""},{"$f":"IF(journal!Z2=\"\",\"\",journal!Z2)","v":""},{"$f":"IF(journal!AA2=\"\",\"\",journal!AA2)","v":""},{"$f":"IF(journal!AB2=\"\",\"\",journal!AB2)","v":""},{"$f":"IF(journal!AC2=\"\",\"\",journal!AC2)","v":""},{"$f":"IF(journal!AD2=\"\",\"\",journal!AD2)","v":""},{"$f":"IF(journal!AE2=\"\",\"\",journal!AE2)","v":""},{"$f":"IF(journal!AF2=\"\",\"\",journal!AF2)","v":""},{"$f":"IF(journal!AG2=\"\",\"\",journal!AG2)","v":""},{"$f":"IF(journal!AH2=\"\",\"\",journal!AH2)","v":""},{"$f":"IF(journal!AI2=\"\",\"\",journal!AI2)","v":""},{"$f":"IF(journal!AJ2=\"\",\"\",journal!AJ2)","v":""},{"$f":"IF(journal!AK2=\"\",\"\",journal!AK2)","v":""},{"$f":"IF(journal!AL2=\"\",\"\",journal!AL2)","v":""},{"$f":"IF(journal!AM2=\"\",\"\",journal!AM2)","v":""},{"$f":"IF(journal!AN2=\"\",\"\",journal!AN2)","v":""},{"$f":"IF(journal!AO2=\"\",\"\",journal!AO2)","v":""},{"$f":"IF(journal!AP2=\"\",\"\",journal!AP2)","v":""},{"$f":"IF(journal!AQ2=\"\",\"\",journal!AQ2)","v":""},{"$f":"IF(journal!AR2=\"\",\"\",journal!AR2)","v":""}]
["Trimestre",null,{"$f":"IF(journal!C3=\"\",\"\",journal!C3)","v":""},{"$f":"IF(journal!D3=\"\",\"\",journal!D3)","v":""},{"$f":"IF(journal!E3=\"\",\"\",journal!E3)","v":""},{"$f":"IF(journal!F3=\"\",\"\",journal!F3)","v":""},{"$f":"IF(journal!G3=\"\",\"\",journal!G3)","v":""},{"$f":"IF(journal!H3=\"\",\"\",journal!H3)","v":""},{"$f":"IF(journal!I3=\"\",\"\",journal!I3)","v":""},{"$f":"IF(journal!J3=\"\",\"\",journal!J3)","v":""},{"$f":"IF(journal!K3=\"\",\"\",journal!K3)","v":""},{"$f":"IF(journal!L3=\"\",\"\",journal!L3)","v":""},{"$f":"IF(journal!M3=\"\",\"\",journal!M3)","v":""},{"$f":"IF(journal!N3=\"\",\"\",journal!N3)","v":""},{"$f":"IF(journal!O3=\"\",\"\",journal!O3)","v":""},{"$f":"IF(journal!P3=\"\",\"\",journal!P3)","v":""},{"$f":"IF(journal!Q3=\"\",\"\",journal!Q3)","v":""},{"$f":"IF(journal!R3=\"\",\"\",journal!R3)","v":""},{"$f":"IF(journal!S3=\"\",\"\",journal!S3)","v":""},{"$f":"IF(journal!T3=\"\",\"\",journal!T3)","v":""},{"$f":"IF(journal!U3=\"\",\"\",journal!U3)","v":""},{"$f":"IF(journal!V3=\"\",\"\",journal!V3)","v":""},{"$f":"IF(journal!W3=\"\",\"\",journal!W3)","v":""},{"$f":"IF(journal!X3=\"\",\"\",journal!X3)","v":""},{"$f":"IF(journal!Y3=\"\",\"\",journal!Y3)","v":""},{"$f":"IF(journal!Z3=\"\",\"\",journal!Z3)","v":""},{"$f":"IF(journal!AA3=\"\",\"\",journal!AA3)","v":""},{"$f":"IF(journal!AB3=\"\",\"\",journal!AB3)","v":""},{"$f":"IF(journal!AC3=\"\",\"\",journal!AC3)","v":""},{"$f":"IF(journal!AD3=\"\",\"\",journal!AD3)","v":""},{"$f":"IF(journal!AE3=\"\",\"\",journal!AE3)","v":""},{"$f":"IF(journal!AF3=\"\",\"\",journal!AF3)","v":""},{"$f":"IF(journal!AG3=\"\",\"\",journal!AG3)","v":""},{"$f":"IF(journal!AH3=\"\",\"\",journal!AH3)","v":""},{"$f":"IF(journal!AI3=\"\",\"\",journal!AI3)","v":""},{"$f":"IF(journal!AJ3=\"\",\"\",journal!AJ3)","v":""},{"$f":"IF(journal!AK3=\"\",\"\",journal!AK3)","v":""},{"$f":"IF(journal!AL3=\"\",\"\",journal!AL3)","v":""},{"$f":"IF(journal!AM3=\"\",\"\",journal!AM3)","v":""},{"$f":"IF(journal!AN3=\"\",\"\",journal!AN3)","v":""},{"$f":"IF(journal!AO3=\"\",\"\",journal!AO3)","v":""},{"$f":"IF(journal!AP3=\"\",\"\",journal!AP3)","v":""},{"$f":"IF(journal!AQ3=\"\",\"\",journal!AQ3)","v":""},{"$f":"IF(journal!AR3=\"\",\"\",journal!AR3)","v":""}]
["Note sur ",null,{"$f":"IF(journal!C4=\"\",\"\",journal!C4)","v":""},{"$f":"IF(journal!D4=\"\",\"\",journal!D4)","v":""},{"$f":"IF(journal!E4=\"\",\"\",journal!E4)","v":""},{"$f":"IF(journal!F4=\"\",\"\",journal!F4)","v":""},{"$f":"IF(journal!G4=\"\",\"\",journal!G4)","v":""},{"$f":"IF(journal!H4=\"\",\"\",journal!H4)","v":""},{"$f":"IF(journal!I4=\"\",\"\",journal!I4)","v":""},{"$f":"IF(journal!J4=\"\",\"\",journal!J4)","v":""},{"$f":"IF(journal!K4=\"\",\"\",journal!K4)","v":""},{"$f":"IF(journal!L4=\"\",\"\",journal!L4)","v":""},{"$f":"IF(journal!M4=\"\",\"\",journal!M4)","v":""},{"$f":"IF(journal!N4=\"\",\"\",journal!N4)","v":""},{"$f":"IF(journal!O4=\"\",\"\",journal!O4)","v":""},{"$f":"IF(journal!P4=\"\",\"\",journal!P4)","v":""},{"$f":"IF(journal!Q4=\"\",\"\",journal!Q4)","v":""},{"$f":"IF(journal!R4=\"\",\"\",journal!R4)","v":""},{"$f":"IF(journal!S4=\"\",\"\",journal!S4)","v":""},{"$f":"IF(journal!T4=\"\",\"\",journal!T4)","v":""},{"$f":"IF(journal!U4=\"\",\"\",journal!U4)","v":""},{"$f":"IF(journal!V4=\"\",\"\",journal!V4)","v":""},{"$f":"IF(journal!W4=\"\",\"\",journal!W4)","v":""},{"$f":"IF(journal!X4=\"\",\"\",journal!X4)","v":""},{"$f":"IF(journal!Y4=\"\",\"\",journal!Y4)","v":""},{"$f":"IF(journal!Z4=\"\",\"\",journal!Z4)","v":""},{"$f":"IF(journal!AA4=\"\",\"\",journal!AA4)","v":""},{"$f":"IF(journal!AB4=\"\",\"\",journal!AB4)","v":""},{"$f":"IF(journal!AC4=\"\",\"\",journal!AC4)","v":""},{"$f":"IF(journal!AD4=\"\",\"\",journal!AD4)","v":""},{"$f":"IF(journal!AE4=\"\",\"\",journal!AE4)","v":""},{"$f":"IF(journal!AF4=\"\",\"\",journal!AF4)","v":""},{"$f":"IF(journal!AG4=\"\",\"\",journal!AG4)","v":""},{"$f":"IF(journal!AH4=\"\",\"\",journal!AH4)","v":""},{"$f":"IF(journal!AI4=\"\",\"\",journal!AI4)","v":""},{"$f":"IF(journal!AJ4=\"\",\"\",journal!AJ4)","v":""},{"$f":"IF(journal!AK4=\"\",\"\",journal!AK4)","v":""},{"$f":"IF(journal!AL4=\"\",\"\",journal!AL4)","v":""},{"$f":"IF(journal!AM4=\"\",\"\",journal!AM4)","v":""},{"$f":"IF(journal!AN4=\"\",\"\",journal!AN4)","v":""},{"$f":"IF(journal!AO4=\"\",\"\",journal!AO4)","v":""},{"$f":"IF(journal!AP4=\"\",\"\",journal!AP4)","v":""},{"$f":"IF(journal!AQ4=\"\",\"\",journal!AQ4)","v":""},{"$f":"IF(journal!AR4=\"\",\"\",journal!AR4)","v":""}]
[null,"n°Eval",{"$f":"IF(journal!C5=\"\",\"\",journal!C5)","v":""},{"$f":"IF(journal!D5=\"\",\"\",journal!D5)","v":""},{"$f":"IF(journal!E5=\"\",\"\",journal!E5)","v":""},{"$f":"IF(journal!F5=\"\",\"\",journal!F5)","v":""},{"$f":"IF(journal!G5=\"\",\"\",journal!G5)","v":""},{"$f":"IF(journal!H5=\"\",\"\",journal!H5)","v":""},{"$f":"IF(journal!I5=\"\",\"\",journal!I5)","v":""},{"$f":"IF(journal!J5=\"\",\"\",journal!J5)","v":""},{"$f":"IF(journal!K5=\"\",\"\",journal!K5)","v":""},{"$f":"IF(journal!L5=\"\",\"\",journal!L5)","v":""},{"$f":"IF(journal!M5=\"\",\"\",journal!M5)","v":""},{"$f":"IF(journal!N5=\"\",\"\",journal!N5)","v":""},{"$f":"IF(journal!O5=\"\",\"\",journal!O5)","v":""},{"$f":"IF(journal!P5=\"\",\"\",journal!P5)","v":""},{"$f":"IF(journal!Q5=\"\",\"\",journal!Q5)","v":""},{"$f":"IF(journal!R5=\"\",\"\",journal!R5)","v":""},{"$f":"IF(journal!S5=\"\",\"\",journal!S5)","v":""},{"$f":"IF(journal!T5=\"\",\"\",journal!T5)","v":""},{"$f":"IF(journal!U5=\"\",\"\",journal!U5)","v":""},{"$f":"IF(journal!V5=\"\",\"\",journal!V5)","v":""},{"$f":"IF(journal!W5=\"\",\"\",journal!W5)","v":""},{"$f":"IF(journal!X5=\"\",\"\",journal!X5)","v":""},{"$f":"IF(journal!Y5=\"\",\"\",journal!Y5)","v":""},{"$f":"IF(journal!Z5=\"\",\"\",journal!Z5)","v":""},{"$f":"IF(journal!AA5=\"\",\"\",journal!AA5)","v":""},{"$f":"IF(journal!AB5=\"\",\"\",journal!AB5)","v":""},{"$f":"IF(journal!AC5=\"\",\"\",journal!AC5)","v":""},{"$f":"IF(journal!AD5=\"\",\"\",journal!AD5)","v":""},{"$f":"IF(journal!AE5=\"\",\"\",journal!AE5)","v":""},{"$f":"IF(journal!AF5=\"\",\"\",journal!AF5)","v":""},{"$f":"IF(journal!AG5=\"\",\"\",journal!AG5)","v":""},{"$f":"IF(journal!AH5=\"\",\"\",journal!AH5)","v":""},{"$f":"IF(journal!AI5=\"\",\"\",journal!AI5)","v":""},{"$f":"IF(journal!AJ5=\"\",\"\",journal!AJ5)","v":""},{"$f":"IF(journal!AK5=\"\",\"\",journal!AK5)","v":""},{"$f":"IF(journal!AL5=\"\",\"\",journal!AL5)","v":""},{"$f":"IF(journal!AM5=\"\",\"\",journal!AM5)","v":""},{"$f":"IF(journal!AN5=\"\",\"\",journal!AN5)","v":""},{"$f":"IF(journal!AO5=\"\",\"\",journal!AO5)","v":""},{"$f":"IF(journal!AP5=\"\",\"\",journal!AP5)","v":""},{"$f":"IF(journal!AQ5=\"\",\"\",journal!AQ5)","v":""},{"$f":"IF(journal!AR5=\"\",\"\",journal!AR5)","v":""},"Moyenne Année","Moyenne T1","Moyenne T2","Moyenne T3"]
["Total","S",{"$f":"IF(journal!C6=\"\",\"\",journal!C6/journal!C$6)","v":""},{"$f":"IF(journal!D6=\"\",\"\",journal!D6/journal!D$6)","v":""},{"$f":"IF(journal!E6=\"\",\"\",journal!E6/journal!E$6)","v":""},{"$f":"IF(journal!F6=\"\",\"\",journal!F6/journal!F$6)","v":""},{"$f":"IF(journal!G6=\"\",\"\",journal!G6/journal!G$6)","v":""},{"$f":"IF(journal!H6=\"\",\"\",journal!H6/journal!H$6)","v":""},{"$f":"IF(journal!I6=\"\",\"\",journal!I6/journal!I$6)","v":""},{"$f":"IF(journal!J6=\"\",\"\",journal!J6/journal!J$6)","v":""},{"$f":"IF(journal!K6=\"\",\"\",journal!K6/journal!K$6)","v":""},{"$f":"IF(journal!L6=\"\",\"\",journal!L6/journal!L$6)","v":""},{"$f":"IF(journal!M6=\"\",\"\",journal!M6/journal!M$6)","v":""},{"$f":"IF(journal!N6=\"\",\"\",journal!N6/journal!N$6)","v":""},{"$f":"IF(journal!O6=\"\",\"\",journal!O6/journal!O$6)","v":""},{"$f":"IF(journal!P6=\"\",\"\",journal!P6/journal!P$6)","v":""},{"$f":"IF(journal!Q6=\"\",\"\",journal!Q6/journal!Q$6)","v":""},{"$f":"IF(journal!R6=\"\",\"\",journal!R6/journal!R$6)","v":""},{"$f":"IF(journal!S6=\"\",\"\",journal!S6/journal!S$6)","v":""},{"$f":"IF(journal!T6=\"\",\"\",journal!T6/journal!T$6)","v":""},{"$f":"IF(journal!U6=\"\",\"\",journal!U6/journal!U$6)","v":""},{"$f":"IF(journal!V6=\"\",\"\",journal!V6/journal!V$6)","v":""},{"$f":"IF(journal!W6=\"\",\"\",journal!W6/journal!W$6)","v":""},{"$f":"IF(journal!X6=\"\",\"\",journal!X6/journal!X$6)","v":""},{"$f":"IF(journal!Y6=\"\",\"\",journal!Y6/journal!Y$6)","v":""},{"$f":"IF(journal!Z6=\"\",\"\",journal!Z6/journal!Z$6)","v":""},{"$f":"IF(journal!AA6=\"\",\"\",journal!AA6/journal!AA$6)","v":""},{"$f":"IF(journal!AB6=\"\",\"\",journal!AB6/journal!AB$6)","v":""},{"$f":"IF(journal!AC6=\"\",\"\",journal!AC6/journal!AC$6)","v":""},{"$f":"IF(journal!AD6=\"\",\"\",journal!AD6/journal!AD$6)","v":""},{"$f":"IF(journal!AE6=\"\",\"\",journal!AE6/journal!AE$6)","v":""},{"$f":"IF(journal!AF6=\"\",\"\",journal!AF6/journal!AF$6)","v":""},{"$f":"IF(journal!AG6=\"\",\"\",journal!AG6/journal!AG$6)","v":""},{"$f":"IF(journal!AH6=\"\",\"\",journal!AH6/journal!AH$6)","v":""},{"$f":"IF(journal!AI6=\"\",\"\",journal!AI6/journal!AI$6)","v":""},{"$f":"IF(journal!AJ6=\"\",\"\",journal!AJ6/journal!AJ$6)","v":""},{"$f":"IF(journal!AK6=\"\",\"\",journal!AK6/journal!AK$6)","v":""},{"$f":"IF(journal!AL6=\"\",\"\",journal!AL6/journal!AL$6)","v":""},{"$f":"IF(journal!AM6=\"\",\"\",journal!AM6/journal!AM$6)","v":""},{"$f":"IF(journal!AN6=\"\",\"\",journal!AN6/journal!AN$6)","v":""},{"$f":"IF(journal!AO6=\"\",\"\",journal!AO6/journal!AO$6)","v":""},{"$f":"IF(journal!AP6=\"\",\"\",journal!AP6/journal!AP$6)","v":""},{"$f":"IF(journal!AQ6=\"\",\"\",journal!AQ6/journal!AQ$6)","v":""},{"$f":"IF(journal!AR6=\"\",\"\",journal!AR6/journal!AR$6)","v":""},{"$f":"IF(ISERROR(AVERAGE(C6:AR6)),\"\",AVERAGE(C6:AR6))","v":""},{"$f":"IF(ISERROR(AVERAGEIF($C$3:$AR$3,\"T1\",C6:AR6))=TRUE,\"\",AVERAGEIF($C$3:$AR$3,\"T1\",C6:AR6))","v":""},{"$f":"IF(ISERROR(AVERAGEIF($C$3:$AR$3,\"T2\",C6:AR6))=TRUE,\"\",AVERAGEIF($C$3:$AR$3,\"T2\",C6:AR6))","v":""},{"$f":"IF(ISERROR(AVERAGEIF($C$3:$AR$3,\"T3\",C6:AR6))=TRUE,\"\",AVERAGEIF($C$3:$AR$3,\"T3\",C6:AR6))","v":""}]
[null,"A",{"$f":"IF(journal!C7=\"\",\"\",journal!C7/journal!C$7)","v":""},{"$f":"IF(journal!D7=\"\",\"\",journal!D7/journal!D$7)","v":""},{"$f":"IF(journal!E7=\"\",\"\",journal!E7/journal!E$7)","v":""},{"$f":"IF(journal!F7=\"\",\"\",journal!F7/journal!F$7)","v":""},{"$f":"IF(journal!G7=\"\",\"\",journal!G7/journal!G$7)","v":""},{"$f":"IF(journal!H7=\"\",\"\",journal!H7/journal!H$7)","v":""},{"$f":"IF(journal!I7=\"\",\"\",journal!I7/journal!I$7)","v":""},{"$f":"IF(journal!J7=\"\",\"\",journal!J7/journal!J$7)","v":""},{"$f":"IF(journal!K7=\"\",\"\",journal!K7/journal!K$7)","v":""},{"$f":"IF(journal!L7=\"\",\"\",journal!L7/journal!L$7)","v":""},{"$f":"IF(journal!M7=\"\",\"\",journal!M7/journal!M$7)","v":""},{"$f":"IF(journal!N7=\"\",\"\",journal!N7/journal!N$7)","v":""},{"$f":"IF(journal!O7=\"\",\"\",journal!O7/journal!O$7)","v":""},{"$f":"IF(journal!P7=\"\",\"\",journal!P7/journal!P$7)","v":""},{"$f":"IF(journal!Q7=\"\",\"\",journal!Q7/journal!Q$7)","v":""},{"$f":"IF(journal!R7=\"\",\"\",journal!R7/journal!R$7)","v":""},{"$f":"IF(journal!S7=\"\",\"\",journal!S7/journal!S$7)","v":""},{"$f":"IF(journal!T7=\"\",\"\",journal!T7/journal!T$7)","v":""},{"$f":"IF(journal!U7=\"\",\"\",journal!U7/journal!U$7)","v":""},{"$f":"IF(journal!V7=\"\",\"\",journal!V7/journal!V$7)","v":""},{"$f":"IF(journal!W7=\"\",\"\",journal!W7/journal!W$7)","v":""},{"$f":"IF(journal!X7=\"\",\"\",journal!X7/journal!X$7)","v":""},{"$f":"IF(journal!Y7=\"\",\"\",journal!Y7/journal!Y$7)","v":""},{"$f":"IF(journal!Z7=\"\",\"\",journal!Z7/journal!Z$7)","v":""},{"$f":"IF(journal!AA7=\"\",\"\",journal!AA7/journal!AA$7)","v":""},{"$f":"IF(journal!AB7=\"\",\"\",journal!AB7/journal!AB$7)","v":""},{"$f":"IF(journal!AC7=\"\",\"\",journal!AC7/journal!AC$7)","v":""},{"$f":"IF(journal!AD7=\"\",\"\",journal!AD7/journal!AD$7)","v":""},{"$f":"IF(journal!AE7=\"\",\"\",journal!AE7/journal!AE$7)","v":""},{"$f":"IF(journal!AF7=\"\",\"\",journal!AF7/journal!AF$7)","v":""},{"$f":"IF(journal!AG7=\"\",\"\",journal!AG7/journal!AG$7)","v":""},{"$f":"IF(journal!AH7=\"\",\"\",journal!AH7/journal!AH$7)","v":""},{"$f":"IF(journal!AI7=\"\",\"\",journal!AI7/journal!AI$7)","v":""},{"$f":"IF(journal!AJ7=\"\",\"\",journal!AJ7/journal!AJ$7)","v":""},{"$f":"IF(journal!AK7=\"\",\"\",journal!AK7/journal!AK$7)","v":""},{"$f":"IF(journal!AL7=\"\",\"\",journal!AL7/journal!AL$7)","v":""},{"$f":"IF(journal!AM7=\"\",\"\",journal!AM7/journal!AM$7)","v":""},{"$f":"IF(journal!AN7=\"\",\"\",journal!AN7/journal!AN$7)","v":""},{"$f":"IF(journal!AO7=\"\",\"\",journal!AO7/journal!AO$7)","v":""},{"$f":"IF(journal!AP7=\"\",\"\",journal!AP7/journal!AP$7)","v":""},{"$f":"IF(journal!AQ7=\"\",\"\",journal!AQ7/journal!AQ$7)","v":""},{"$f":"IF(journal!AR7=\"\",\"\",journal!AR7/journal!AR$7)","v":""},"",{"$f":"IF(ISERROR(AVERAGEIF($C$3:$AR$3,\"T1\",C7:AR7))=TRUE,\"\",AVERAGEIF($C$3:$AR$3,\"T1\",C7:AR7))","v":""},{"$f":"IF(ISERROR(AVERAGEIF($C$3:$AR$3,\"T2\",C7:AR7))=TRUE,\"\",AVERAGEIF($C$3:$AR$3,\"T2\",C7:AR7))","v":""},{"$f":"IF(ISERROR(AVERAGEIF($C$3:$AR$3,\"T3\",C7:AR7))=TRUE,\"\",AVERAGEIF($C$3:$AR$3,\"T3\",C7:AR7))","v":""}]
[null,"R",{"$f":"IF(journal!C8=\"\",\"\",journal!C8/journal!C$8)","v":""},{"$f":"IF(journal!D8=\"\",\"\",journal!D8/journal!D$8)","v":""},{"$f":"IF(journal!E8=\"\",\"\",journal!E8/journal!E$8)","v":""},{"$f":"IF(journal!F8=\"\",\"\",journal!F8/journal!F$8)","v":""},{"$f":"IF(journal!G8=\"\",\"\",journal!G8/journal!G$8)","v":""},{"$f":"IF(journal!H8=\"\",\"\",journal!H8/journal!H$8)","v":""},{"$f":"IF(journal!I8=\"\",\"\",journal!I8/journal!I$8)","v":""},{"$f":"IF(journal!J8=\"\",\"\",journal!J8/journal!J$8)","v":""},{"$f":"IF(journal!K8=\"\",\"\",journal!K8/journal!K$8)","v":""},{"$f":"IF(journal!L8=\"\",\"\",journal!L8/journal!L$8)","v":""},{"$f":"IF(journal!M8=\"\",\"\",journal!M8/journal!M$8)","v":""},{"$f":"IF(journal!N8=\"\",\"\",journal!N8/journal!N$8)","v":""},{"$f":"IF(journal!O8=\"\",\"\",journal!O8/journal!O$8)","v":""},{"$f":"IF(journal!P8=\"\",\"\",journal!P8/journal!P$8)","v":""},{"$f":"IF(journal!Q8=\"\",\"\",journal!Q8/journal!Q$8)","v":""},{"$f":"IF(journal!R8=\"\",\"\",journal!R8/journal!R$8)","v":""},{"$f":"IF(journal!S8=\"\",\"\",journal!S8/journal!S$8)","v":""},{"$f":"IF(journal!T8=\"\",\"\",journal!T8/journal!T$8)","v":""},{"$f":"IF(journal!U8=\"\",\"\",journal!U8/journal!U$8)","v":""},{"$f":"IF(journal!V8=\"\",\"\",journal!V8/journal!V$8)","v":""},{"$f":"IF(journal!W8=\"\",\"\",journal!W8/journal!W$8)","v":""},{"$f":"IF(journal!X8=\"\",\"\",journal!X8/journal!X$8)","v":""},{"$f":"IF(journal!Y8=\"\",\"\",journal!Y8/journal!Y$8)","v":""},{"$f":"IF(journal!Z8=\"\",\"\",journal!Z8/journal!Z$8)","v":""},{"$f":"IF(journal!AA8=\"\",\"\",journal!AA8/journal!AA$8)","v":""},{"$f":"IF(journal!AB8=\"\",\"\",journal!AB8/journal!AB$8)","v":""},{"$f":"IF(journal!AC8=\"\",\"\",journal!AC8/journal!AC$8)","v":""},{"$f":"IF(journal!AD8=\"\",\"\",journal!AD8/journal!AD$8)","v":""},{"$f":"IF(journal!AE8=\"\",\"\",journal!AE8/journal!AE$8)","v":""},{"$f":"IF(journal!AF8=\"\",\"\",journal!AF8/journal!AF$8)","v":""},{"$f":"IF(journal!AG8=\"\",\"\",journal!AG8/journal!AG$8)","v":""},{"$f":"IF(journal!AH8=\"\",\"\",journal!AH8/journal!AH$8)","v":""},{"$f":"IF(journal!AI8=\"\",\"\",journal!AI8/journal!AI$8)","v":""},{"$f":"IF(journal!AJ8=\"\",\"\",journal!AJ8/journal!AJ$8)","v":""},{"$f":"IF(journal!AK8=\"\",\"\",journal!AK8/journal!AK$8)","v":""},{"$f":"IF(journal!AL8=\"\",\"\",journal!AL8/journal!AL$8)","v":""},{"$f":"IF(journal!AM8=\"\",\"\",journal!AM8/journal!AM$8)","v":""},{"$f":"IF(journal!AN8=\"\",\"\",journal!AN8/journal!AN$8)","v":""},{"$f":"IF(journal!AO8=\"\",\"\",journal!AO8/journal!AO$8)","v":""},{"$f":"IF(journal!AP8=\"\",\"\",journal!AP8/journal!AP$8)","v":""},{"$f":"IF(journal!AQ8=\"\",\"\",journal!AQ8/journal!AQ$8)","v":""},{"$f":"IF(journal!AR8=\"\",\"\",journal!AR8/journal!AR$8)","v":""},"","","",""]
[null,"V",{"$f":"IF(journal!C9=\"\",\"\",journal!C9/journal!C$9)","v":""},{"$f":"IF(journal!D9=\"\",\"\",journal!D9/journal!D$9)","v":""},{"$f":"IF(journal!E9=\"\",\"\",journal!E9/journal!E$9)","v":""},{"$f":"IF(journal!F9=\"\",\"\",journal!F9/journal!F$9)","v":""},{"$f":"IF(journal!G9=\"\",\"\",journal!G9/journal!G$9)","v":""},{"$f":"IF(journal!H9=\"\",\"\",journal!H9/journal!H$9)","v":""},{"$f":"IF(journal!I9=\"\",\"\",journal!I9/journal!I$9)","v":""},{"$f":"IF(journal!J9=\"\",\"\",journal!J9/journal!J$9)","v":""},{"$f":"IF(journal!K9=\"\",\"\",journal!K9/journal!K$9)","v":""},{"$f":"IF(journal!L9=\"\",\"\",journal!L9/journal!L$9)","v":""},{"$f":"IF(journal!M9=\"\",\"\",journal!M9/journal!M$9)","v":""},{"$f":"IF(journal!N9=\"\",\"\",journal!N9/journal!N$9)","v":""},{"$f":"IF(journal!O9=\"\",\"\",journal!O9/journal!O$9)","v":""},{"$f":"IF(journal!P9=\"\",\"\",journal!P9/journal!P$9)","v":""},{"$f":"IF(journal!Q9=\"\",\"\",journal!Q9/journal!Q$9)","v":""},{"$f":"IF(journal!R9=\"\",\"\",journal!R9/journal!R$9)","v":""},{"$f":"IF(journal!S9=\"\",\"\",journal!S9/journal!S$9)","v":""},{"$f":"IF(journal!T9=\"\",\"\",journal!T9/journal!T$9)","v":""},{"$f":"IF(journal!U9=\"\",\"\",journal!U9/journal!U$9)","v":""},{"$f":"IF(journal!V9=\"\",\"\",journal!V9/journal!V$9)","v":""},{"$f":"IF(journal!W9=\"\",\"\",journal!W9/journal!W$9)","v":""},{"$f":"IF(journal!X9=\"\",\"\",journal!X9/journal!X$9)","v":""},{"$f":"IF(journal!Y9=\"\",\"\",journal!Y9/journal!Y$9)","v":""},{"$f":"IF(journal!Z9=\"\",\"\",journal!Z9/journal!Z$9)","v":""},{"$f":"IF(journal!AA9=\"\",\"\",journal!AA9/journal!AA$9)","v":""},{"$f":"IF(journal!AB9=\"\",\"\",journal!AB9/journal!AB$9)","v":""},{"$f":"IF(journal!AC9=\"\",\"\",journal!AC9/journal!AC$9)","v":""},{"$f":"IF(journal!AD9=\"\",\"\",journal!AD9/journal!AD$9)","v":""},{"$f":"IF(journal!AE9=\"\",\"\",journal!AE9/journal!AE$9)","v":""},{"$f":"IF(journal!AF9=\"\",\"\",journal!AF9/journal!AF$9)","v":""},{"$f":"IF(journal!AG9=\"\",\"\",journal!AG9/journal!AG$9)","v":""},{"$f":"IF(journal!AH9=\"\",\"\",journal!AH9/journal!AH$9)","v":""},{"$f":"IF(journal!AI9=\"\",\"\",journal!AI9/journal!AI$9)","v":""},{"$f":"IF(journal!AJ9=\"\",\"\",journal!AJ9/journal!AJ$9)","v":""},{"$f":"IF(journal!AK9=\"\",\"\",journal!AK9/journal!AK$9)","v":""},{"$f":"IF(journal!AL9=\"\",\"\",journal!AL9/journal!AL$9)","v":""},{"$f":"IF(journal!AM9=\"\",\"\",journal!AM9/journal!AM$9)","v":""},{"$f":"IF(journal!AN9=\"\",\"\",journal!AN9/journal!AN$9)","v":""},{"$f":"IF(journal!AO9=\"\",\"\",journal!AO9/journal!AO$9)","v":""},{"$f":"IF(journal!AP9=\"\",\"\",journal!AP9/journal!AP$9)","v":""},{"$f":"IF(journal!AQ9=\"\",\"\",journal!AQ9/journal!AQ$9)","v":""},{"$f":"IF(journal!AR9=\"\",\"\",journal!AR9/journal!AR$9)","v":""},"","","",""]
[null,"C",{"$f":"IF(journal!C10=\"\",\"\",journal!C10/journal!C$10)","v":""},{"$f":"IF(journal!D10=\"\",\"\",journal!D10/journal!D$10)","v":""},{"$f":"IF(journal!E10=\"\",\"\",journal!E10/journal!E$10)","v":""},{"$f":"IF(journal!F10=\"\",\"\",journal!F10/journal!F$10)","v":""},{"$f":"IF(journal!G10=\"\",\"\",journal!G10/journal!G$10)","v":""},{"$f":"IF(journal!H10=\"\",\"\",journal!H10/journal!H$10)","v":""},{"$f":"IF(journal!I10=\"\",\"\",journal!I10/journal!I$10)","v":""},{"$f":"IF(journal!J10=\"\",\"\",journal!J10/journal!J$10)","v":""},{"$f":"IF(journal!K10=\"\",\"\",journal!K10/journal!K$10)","v":""},{"$f":"IF(journal!L10=\"\",\"\",journal!L10/journal!L$10)","v":""},{"$f":"IF(journal!M10=\"\",\"\",journal!M10/journal!M$10)","v":""},{"$f":"IF(journal!N10=\"\",\"\",journal!N10/journal!N$10)","v":""},{"$f":"IF(journal!O10=\"\",\"\",journal!O10/journal!O$10)","v":""},{"$f":"IF(journal!P10=\"\",\"\",journal!P10/journal!P$10)","v":""},{"$f":"IF(journal!Q10=\"\",\"\",journal!Q10/journal!Q$10)","v":""},{"$f":"IF(journal!R10=\"\",\"\",journal!R10/journal!R$10)","v":""},{"$f":"IF(journal!S10=\"\",\"\",journal!S10/journal!S$10)","v":""},{"$f":"IF(journal!T10=\"\",\"\",journal!T10/journal!T$10)","v":""},{"$f":"IF(journal!U10=\"\",\"\",journal!U10/journal!U$10)","v":""},{"$f":"IF(journal!V10=\"\",\"\",journal!V10/journal!V$10)","v":""},{"$f":"IF(journal!W10=\"\",\"\",journal!W10/journal!W$10)","v":""},{"$f":"IF(journal!X10=\"\",\"\",journal!X10/journal!X$10)","v":""},{"$f":"IF(journal!Y10=\"\",\"\",journal!Y10/journal!Y$10)","v":""},{"$f":"IF(journal!Z10=\"\",\"\",journal!Z10/journal!Z$10)","v":""},{"$f":"IF(journal!AA10=\"\",\"\",journal!AA10/journal!AA$10)","v":""},{"$f":"IF(journal!AB10=\"\",\"\",journal!AB10/journal!AB$10)","v":""},{"$f":"IF(journal!AC10=\"\",\"\",journal!AC10/journal!AC$10)","v":""},{"$f":"IF(journal!AD10=\"\",\"\",journal!AD10/journal!AD$10)","v":""},{"$f":"IF(journal!AE10=\"\",\"\",journal!AE10/journal!AE$10)","v":""},{"$f":"IF(journal!AF10=\"\",\"\",journal!AF10/journal!AF$10)","v":""},{"$f":"IF(journal!AG10=\"\",\"\",journal!AG10/journal!AG$10)","v":""},{"$f":"IF(journal!AH10=\"\",\"\",journal!AH10/journal!AH$10)","v":""},{"$f":"IF(journal!AI10=\"\",\"\",journal!AI10/journal!AI$10)","v":""},{"$f":"IF(journal!AJ10=\"\",\"\",journal!AJ10/journal!AJ$10)","v":""},{"$f":"IF(journal!AK10=\"\",\"\",journal!AK10/journal!AK$10)","v":""},{"$f":"IF(journal!AL10=\"\",\"\",journal!AL10/journal!AL$10)","v":""},{"$f":"IF(journal!AM10=\"\",\"\",journal!AM10/journal!AM$10)","v":""},{"$f":"IF(journal!AN10=\"\",\"\",journal!AN10/journal!AN$10)","v":""},{"$f":"IF(journal!AO10=\"\",\"\",journal!AO10/journal!AO$10)","v":""},{"$f":"IF(journal!AP10=\"\",\"\",journal!AP10/journal!AP$10)","v":""},{"$f":"IF(journal!AQ10=\"\",\"\",journal!AQ10/journal!AQ$10)","v":""},{"$f":"IF(journal!AR10=\"\",\"\",journal!AR10/journal!AR$10)","v":""},"","","",""]
[{"$f":"Saisie!A11","v":0},"S",{"$f":"IF(journal!C11=\"\",\"\",IF(journal!C11=\"a\",\"a\",journal!C11/journal!C$6))","v":""},{"$f":"IF(journal!D11=\"\",\"\",IF(journal!D11=\"a\",\"a\",journal!D11/journal!D$6))","v":""},{"$f":"IF(journal!E11=\"\",\"\",IF(journal!E11=\"a\",\"a\",journal!E11/journal!E$6))","v":""},{"$f":"IF(journal!F11=\"\",\"\",IF(journal!F11=\"a\",\"a\",journal!F11/journal!F$6))","v":""},{"$f":"IF(journal!G11=\"\",\"\",IF(journal!G11=\"a\",\"a\",journal!G11/journal!G$6))","v":""},{"$f":"IF(journal!H11=\"\",\"\",IF(journal!H11=\"a\",\"a\",journal!H11/journal!H$6))","v":""},{"$f":"IF(journal!I11=\"\",\"\",IF(journal!I11=\"a\",\"a\",journal!I11/journal!I$6))","v":""},{"$f":"IF(journal!J11=\"\",\"\",IF(journal!J11=\"a\",\"a\",journal!J11/journal!J$6))","v":""},{"$f":"IF(journal!K11=\"\",\"\",IF(journal!K11=\"a\",\"a\",journal!K11/journal!K$6))","v":""},{"$f":"IF(journal!L11=\"\",\"\",IF(journal!L11=\"a\",\"a\",journal!L11/journal!L$6))","v":""},{"$f":"IF(journal!M11=\"\",\"\",IF(journal!M11=\"a\",\"a\",journal!M11/journal!M$6))","v":""},{"$f":"IF(journal!N11=\"\",\"\",IF(journal!N11=\"a\",\"a\",journal!N11/journal!N$6))","v":""},{"$f":"IF(journal!O11=\"\",\"\",IF(journal!O11=\"a\",\"a\",journal!O11/journal!O$6))","v":""},{"$f":"IF(journal!P11=\"\",\"\",IF(journal!P11=\"a\",\"a\",journal!P11/journal!P$6))","v":""},{"$f":"IF(journal!Q11=\"\",\"\",IF(journal!Q11=\"a\",\"a\",journal!Q11/journal!Q$6))","v":""},{"$f":"IF(journal!R11=\"\",\"\",IF(journal!R11=\"a\",\"a\",journal!R11/journal!R$6))","v":""},{"$f":"IF(journal!S11=\"\",\"\",IF(journal!S11=\"a\",\"a\",journal!S11/journal!S$6))","v":""},{"$f":"IF(journal!T11=\"\",\"\",IF(journal!T11=\"a\",\"a\",journal!T11/journal!T$6))","v":""},{"$f":"IF(journal!U11=\"\",\"\",IF(journal!U11=\"a\",\"a\",journal!U11/journal!U$6))","v":""},{"$f":"IF(journal!V11=\"\",\"\",IF(journal!V11=\"a\",\"a\",journal!V11/journal!V$6))","v":""},{"$f":"IF(journal!W11=\"\",\"\",IF(journal!W11=\"a\",\"a\",journal!W11/journal!W$6))","v":""},{"$f":"IF(journal!X11=\"\",\"\",IF(journal!X11=\"a\",\"a\",journal!X11/journal!X$6))","v":""},{"$f":"IF(journal!Y11=\"\",\"\",IF(journal!Y11=\"a\",\"a\",journal!Y11/journal!Y$6))","v":""},{"$f":"IF(journal!Z11=\"\",\"\",IF(journal!Z11=\"a\",\"a\",journal!Z11/journal!Z$6))","v":""},{"$f":"IF(journal!AA11=\"\",\"\",IF(journal!AA11=\"a\",\"a\",journal!AA11/journal!AA$6))","v":""},{"$f":"IF(journal!AB11=\"\",\"\",IF(journal!AB11=\"a\",\"a\",journal!AB11/journal!AB$6))","v":""},{"$f":"IF(journal!AC11=\"\",\"\",IF(journal!AC11=\"a\",\"a\",journal!AC11/journal!AC$6))","v":""},{"$f":"IF(journal!AD11=\"\",\"\",IF(journal!AD11=\"a\",\"a\",journal!AD11/journal!AD$6))","v":""},{"$f":"IF(journal!AE11=\"\",\"\",IF(journal!AE11=\"a\",\"a\",journal!AE11/journal!AE$6))","v":""},{"$f":"IF(journal!AF11=\"\",\"\",IF(journal!AF11=\"a\",\"a\",journal!AF11/journal!AF$6))","v":""},{"$f":"IF(journal!AG11=\"\",\"\",IF(journal!AG11=\"a\",\"a\",journal!AG11/journal!AG$6))","v":""},{"$f":"IF(journal!AH11=\"\",\"\",IF(journal!AH11=\"a\",\"a\",journal!AH11/journal!AH$6))","v":""},{"$f":"IF(journal!AI11=\"\",\"\",IF(journal!AI11=\"a\",\"a\",journal!AI11/journal!AI$6))","v":""},{"$f":"IF(journal!AJ11=\"\",\"\",IF(journal!AJ11=\"a\",\"a\",journal!AJ11/journal!AJ$6))","v":""},{"$f":"IF(journal!AK11=\"\",\"\",IF(journal!AK11=\"a\",\"a\",journal!AK11/journal!AK$6))","v":""},{"$f":"IF(journal!AL11=\"\",\"\",IF(journal!AL11=\"a\",\"a\",journal!AL11/journal!AL$6))","v":""},{"$f":"IF(journal!AM11=\"\",\"\",IF(journal!AM11=\"a\",\"a\",journal!AM11/journal!AM$6))","v":""},{"$f":"IF(journal!AN11=\"\",\"\",IF(journal!AN11=\"a\",\"a\",journal!AN11/journal!AN$6))","v":""},{"$f":"IF(journal!AO11=\"\",\"\",IF(journal!AO11=\"a\",\"a\",journal!AO11/journal!AO$6))","v":""},{"$f":"IF(journal!AP11=\"\",\"\",IF(journal!AP11=\"a\",\"a\",journal!AP11/journal!AP$6))","v":""},{"$f":"IF(journal!AQ11=\"\",\"\",IF(journal!AQ11=\"a\",\"a\",journal!AQ11/journal!AQ$6))","v":""},{"$f":"IF(journal!AR11=\"\",\"\",IF(journal!AR11=\"a\",\"a\",journal!AR11/journal!AR$6))","v":""},"","","",""]
[null,"A",{"$f":"IF(journal!C12=\"\",\"\",IF(journal!C12=\"a\",\"a\",journal!C12/journal!C$7))","v":""},{"$f":"IF(journal!D12=\"\",\"\",IF(journal!D12=\"a\",\"a\",journal!D12/journal!D$7))","v":""},{"$f":"IF(journal!E12=\"\",\"\",IF(journal!E12=\"a\",\"a\",journal!E12/journal!E$7))","v":""},{"$f":"IF(journal!F12=\"\",\"\",IF(journal!F12=\"a\",\"a\",journal!F12/journal!F$7))","v":""},{"$f":"IF(journal!G12=\"\",\"\",IF(journal!G12=\"a\",\"a\",journal!G12/journal!G$7))","v":""},{"$f":"IF(journal!H12=\"\",\"\",IF(journal!H12=\"a\",\"a\",journal!H12/journal!H$7))","v":""},{"$f":"IF(journal!I12=\"\",\"\",IF(journal!I12=\"a\",\"a\",journal!I12/journal!I$7))","v":""},{"$f":"IF(journal!J12=\"\",\"\",IF(journal!J12=\"a\",\"a\",journal!J12/journal!J$7))","v":""},{"$f":"IF(journal!K12=\"\",\"\",IF(journal!K12=\"a\",\"a\",journal!K12/journal!K$7))","v":""},{"$f":"IF(journal!L12=\"\",\"\",IF(journal!L12=\"a\",\"a\",journal!L12/journal!L$7))","v":""},{"$f":"IF(journal!M12=\"\",\"\",IF(journal!M12=\"a\",\"a\",journal!M12/journal!M$7))","v":""},{"$f":"IF(journal!N12=\"\",\"\",IF(journal!N12=\"a\",\"a\",journal!N12/journal!N$7))","v":""},{"$f":"IF(journal!O12=\"\",\"\",IF(journal!O12=\"a\",\"a\",journal!O12/journal!O$7))","v":""},{"$f":"IF(journal!P12=\"\",\"\",IF(journal!P12=\"a\",\"a\",journal!P12/journal!P$7))","v":""},{"$f":"IF(journal!Q12=\"\",\"\",IF(journal!Q12=\"a\",\"a\",journal!Q12/journal!Q$7))","v":""},{"$f":"IF(journal!R12=\"\",\"\",IF(journal!R12=\"a\",\"a\",journal!R12/journal!R$7))","v":""},{"$f":"IF(journal!S12=\"\",\"\",IF(journal!S12=\"a\",\"a\",journal!S12/journal!S$7))","v":""},{"$f":"IF(journal!T12=\"\",\"\",IF(journal!T12=\"a\",\"a\",journal!T12/journal!T$7))","v":""},{"$f":"IF(journal!U12=\"\",\"\",IF(journal!U12=\"a\",\"a\",journal!U12/journal!U$7))","v":""},{"$f":"IF(journal!V12=\"\",\"\",IF(journal!V12=\"a\",\"a\",journal!V12/journal!V$7))","v":""},{"$f":"IF(journal!W12=\"\",\"\",IF(journal!W12=\"a\",\"a\",journal!W12/journal!W$7))","v":""},{"$f":"IF(journal!X12=\"\",\"\",IF(journal!X12=\"a\",\"a\",journal!X12/journal!X$7))","v":""},{"$f":"IF(journal!Y12=\"\",\"\",IF(journal!Y12=\"a\",\"a\",journal!Y12/journal!Y$7))","v":""},{"$f":"IF(journal!Z12=\"\",\"\",IF(journal!Z12=\"a\",\"a\",journal!Z12/journal!Z$7))","v":""},{"$f":"IF(journal!AA12=\"\",\"\",IF(journal!AA12=\"a\",\"a\",journal!AA12/journal!AA$7))","v":""},{"$f":"IF(journal!AB12=\"\",\"\",IF(journal!AB12=\"a\",\"a\",journal!AB12/journal!AB$7))","v":""},{"$f":"IF(journal!AC12=\"\",\"\",IF(journal!AC12=\"a\",\"a\",journal!AC12/journal!AC$7))","v":""},{"$f":"IF(journal!AD12=\"\",\"\",IF(journal!AD12=\"a\",\"a\",journal!AD12/journal!AD$7))","v":""},{"$f":"IF(journal!AE12=\"\",\"\",IF(journal!AE12=\"a\",\"a\",journal!AE12/journal!AE$7))","v":""},{"$f":"IF(journal!AF12=\"\",\"\",IF(journal!AF12=\"a\",\"a\",journal!AF12/journal!AF$7))","v":""},{"$f":"IF(journal!AG12=\"\",\"\",IF(journal!AG12=\"a\",\"a\",journal!AG12/journal!AG$7))","v":""},{"$f":"IF(journal!AH12=\"\",\"\",IF(journal!AH12=\"a\",\"a\",journal!AH12/journal!AH$7))","v":""},{"$f":"IF(journal!AI12=\"\",\"\",IF(journal!AI12=\"a\",\"a\",journal!AI12/journal!AI$7))","v":""},{"$f":"IF(journal!AJ12=\"\",\"\",IF(journal!AJ12=\"a\",\"a\",journal!AJ12/journal!AJ$7))","v":""},{"$f":"IF(journal!AK12=\"\",\"\",IF(journal!AK12=\"a\",\"a\",journal!AK12/journal!AK$7))","v":""},{"$f":"IF(journal!AL12=\"\",\"\",IF(journal!AL12=\"a\",\"a\",journal!AL12/journal!AL$7))","v":""},{"$f":"IF(journal!AM12=\"\",\"\",IF(journal!AM12=\"a\",\"a\",journal!AM12/journal!AM$7))","v":""},{"$f":"IF(journal!AN12=\"\",\"\",IF(journal!AN12=\"a\",\"a\",journal!AN12/journal!AN$7))","v":""},{"$f":"IF(journal!AO12=\"\",\"\",IF(journal!AO12=\"a\",\"a\",journal!AO12/journal!AO$7))","v":""},{"$f":"IF(journal!AP12=\"\",\"\",IF(journal!AP12=\"a\",\"a\",journal!AP12/journal!AP$7))","v":""},{"$f":"IF(journal!AQ12=\"\",\"\",IF(journal!AQ12=\"a\",\"a\",journal!AQ12/journal!AQ$7))","v":""},{"$f":"IF(journal!AR12=\"\",\"\",IF(journal!AR12=\"a\",\"a\",journal!AR12/journal!AR$7))","v":""},"","","",""]
[null,"R",{"$f":"IF(journal!C13=\"\",\"\",IF(journal!C13=\"a\",\"a\",journal!C13/journal!C$8))","v":""},{"$f":"IF(journal!D13=\"\",\"\",IF(journal!D13=\"a\",\"a\",journal!D13/journal!D$8))","v":""},{"$f":"IF(journal!E13=\"\",\"\",IF(journal!E13=\"a\",\"a\",journal!E13/journal!E$8))","v":""},{"$f":"IF(journal!F13=\"\",\"\",IF(journal!F13=\"a\",\"a\",journal!F13/journal!F$8))","v":""},{"$f":"IF(journal!G13=\"\",\"\",IF(journal!G13=\"a\",\"a\",journal!G13/journal!G$8))","v":""},{"$f":"IF(journal!H13=\"\",\"\",IF(journal!H13=\"a\",\"a\",journal!H13/journal!H$8))","v":""},{"$f":"IF(journal!I13=\"\",\"\",IF(journal!I13=\"a\",\"a\",journal!I13/journal!I$8))","v":""},{"$f":"IF(journal!J13=\"\",\"\",IF(journal!J13=\"a\",\"a\",journal!J13/journal!J$8))","v":""},{"$f":"IF(journal!K13=\"\",\"\",IF(journal!K13=\"a\",\"a\",journal!K13/journal!K$8))","v":""},{"$f":"IF(journal!L13=\"\",\"\",IF(journal!L13=\"a\",\"a\",journal!L13/journal!L$8))","v":""},{"$f":"IF(journal!M13=\"\",\"\",IF(journal!M13=\"a\",\"a\",journal!M13/journal!M$8))","v":""},{"$f":"IF(journal!N13=\"\",\"\",IF(journal!N13=\"a\",\"a\",journal!N13/journal!N$8))","v":""},{"$f":"IF(journal!O13=\"\",\"\",IF(journal!O13=\"a\",\"a\",journal!O13/journal!O$8))","v":""},{"$f":"IF(journal!P13=\"\",\"\",IF(journal!P13=\"a\",\"a\",journal!P13/journal!P$8))","v":""},{"$f":"IF(journal!Q13=\"\",\"\",IF(journal!Q13=\"a\",\"a\",journal!Q13/journal!Q$8))","v":""},{"$f":"IF(journal!R13=\"\",\"\",IF(journal!R13=\"a\",\"a\",journal!R13/journal!R$8))","v":""},{"$f":"IF(journal!S13=\"\",\"\",IF(journal!S13=\"a\",\"a\",journal!S13/journal!S$8))","v":""},{"$f":"IF(journal!T13=\"\",\"\",IF(journal!T13=\"a\",\"a\",journal!T13/journal!T$8))","v":""},{"$f":"IF(journal!U13=\"\",\"\",IF(journal!U13=\"a\",\"a\",journal!U13/journal!U$8))","v":""},{"$f":"IF(journal!V13=\"\",\"\",IF(journal!V13=\"a\",\"a\",journal!V13/journal!V$8))","v":""},{"$f":"IF(journal!W13=\"\",\"\",IF(journal!W13=\"a\",\"a\",journal!W13/journal!W$8))","v":""},{"$f":"IF(journal!X13=\"\",\"\",IF(journal!X13=\"a\",\"a\",journal!X13/journal!X$8))","v":""},{"$f":"IF(journal!Y13=\"\",\"\",IF(journal!Y13=\"a\",\"a\",journal!Y13/journal!Y$8))","v":""},{"$f":"IF(journal!Z13=\"\",\"\",IF(journal!Z13=\"a\",\"a\",journal!Z13/journal!Z$8))","v":""},{"$f":"IF(journal!AA13=\"\",\"\",IF(journal!AA13=\"a\",\"a\",journal!AA13/journal!AA$8))","v":""},{"$f":"IF(journal!AB13=\"\",\"\",IF(journal!AB13=\"a\",\"a\",journal!AB13/journal!AB$8))","v":""},{"$f":"IF(journal!AC13=\"\",\"\",IF(journal!AC13=\"a\",\"a\",journal!AC13/journal!AC$8))","v":""},{"$f":"IF(journal!AD13=\"\",\"\",IF(journal!AD13=\"a\",\"a\",journal!AD13/journal!AD$8))","v":""},{"$f":"IF(journal!AE13=\"\",\"\",IF(journal!AE13=\"a\",\"a\",journal!AE13/journal!AE$8))","v":""},{"$f":"IF(journal!AF13=\"\",\"\",IF(journal!AF13=\"a\",\"a\",journal!AF13/journal!AF$8))","v":""},{"$f":"IF(journal!AG13=\"\",\"\",IF(journal!AG13=\"a\",\"a\",journal!AG13/journal!AG$8))","v":""},{"$f":"IF(journal!AH13=\"\",\"\",IF(journal!AH13=\"a\",\"a\",journal!AH13/journal!AH$8))","v":""},{"$f":"IF(journal!AI13=\"\",\"\",IF(journal!AI13=\"a\",\"a\",journal!AI13/journal!AI$8))","v":""},{"$f":"IF(journal!AJ13=\"\",\"\",IF(journal!AJ13=\"a\",\"a\",journal!AJ13/journal!AJ$8))","v":""},{"$f":"IF(journal!AK13=\"\",\"\",IF(journal!AK13=\"a\",\"a\",journal!AK13/journal!AK$8))","v":""},{"$f":"IF(journal!AL13=\"\",\"\",IF(journal!AL13=\"a\",\"a\",journal!AL13/journal!AL$8))","v":""},{"$f":"IF(journal!AM13=\"\",\"\",IF(journal!AM13=\"a\",\"a\",journal!AM13/journal!AM$8))","v":""},{"$f":"IF(journal!AN13=\"\",\"\",IF(journal!AN13=\"a\",\"a\",journal!AN13/journal!AN$8))","v":""},{"$f":"IF(journal!AO13=\"\",\"\",IF(journal!AO13=\"a\",\"a\",journal!AO13/journal!AO$8))","v":""},{"$f":"IF(journal!AP13=\"\",\"\",IF(journal!AP13=\"a\",\"a\",journal!AP13/journal!AP$8))","v":""},{"$f":"IF(journal!AQ13=\"\",\"\",IF(journal!AQ13=\"a\",\"a\",journal!AQ13/journal!AQ$8))","v":""},{"$f":"IF(journal!AR13=\"\",\"\",IF(journal!AR13=\"a\",\"a\",journal!AR13/journal!AR$8))","v":""},"","","",""]
[null,"V",{"$f":"IF(journal!C14=\"\",\"\",IF(journal!C14=\"a\",\"a\",journal!C14/journal!C$9))","v":""},{"$f":"IF(journal!D14=\"\",\"\",IF(journal!D14=\"a\",\"a\",journal!D14/journal!D$9))","v":""},{"$f":"IF(journal!E14=\"\",\"\",IF(journal!E14=\"a\",\"a\",journal!E14/journal!E$9))","v":""},{"$f":"IF(journal!F14=\"\",\"\",IF(journal!F14=\"a\",\"a\",journal!F14/journal!F$9))","v":""},{"$f":"IF(journal!G14=\"\",\"\",IF(journal!G14=\"a\",\"a\",journal!G14/journal!G$9))","v":""},{"$f":"IF(journal!H14=\"\",\"\",IF(journal!H14=\"a\",\"a\",journal!H14/journal!H$9))","v":""},{"$f":"IF(journal!I14=\"\",\"\",IF(journal!I14=\"a\",\"a\",journal!I14/journal!I$9))","v":""},{"$f":"IF(journal!J14=\"\",\"\",IF(journal!J14=\"a\",\"a\",journal!J14/journal!J$9))","v":""},{"$f":"IF(journal!K14=\"\",\"\",IF(journal!K14=\"a\",\"a\",journal!K14/journal!K$9))","v":""},{"$f":"IF(journal!L14=\"\",\"\",IF(journal!L14=\"a\",\"a\",journal!L14/journal!L$9))","v":""},{"$f":"IF(journal!M14=\"\",\"\",IF(journal!M14=\"a\",\"a\",journal!M14/journal!M$9))","v":""},{"$f":"IF(journal!N14=\"\",\"\",IF(journal!N14=\"a\",\"a\",journal!N14/journal!N$9))","v":""},{"$f":"IF(journal!O14=\"\",\"\",IF(journal!O14=\"a\",\"a\",journal!O14/journal!O$9))","v":""},{"$f":"IF(journal!P14=\"\",\"\",IF(journal!P14=\"a\",\"a\",journal!P14/journal!P$9))","v":""},{"$f":"IF(journal!Q14=\"\",\"\",IF(journal!Q14=\"a\",\"a\",journal!Q14/journal!Q$9))","v":""},{"$f":"IF(journal!R14=\"\",\"\",IF(journal!R14=\"a\",\"a\",journal!R14/journal!R$9))","v":""},{"$f":"IF(journal!S14=\"\",\"\",IF(journal!S14=\"a\",\"a\",journal!S14/journal!S$9))","v":""},{"$f":"IF(journal!T14=\"\",\"\",IF(journal!T14=\"a\",\"a\",journal!T14/journal!T$9))","v":""},{"$f":"IF(journal!U14=\"\",\"\",IF(journal!U14=\"a\",\"a\",journal!U14/journal!U$9))","v":""},{"$f":"IF(journal!V14=\"\",\"\",IF(journal!V14=\"a\",\"a\",journal!V14/journal!V$9))","v":""},{"$f":"IF(journal!W14=\"\",\"\",IF(journal!W14=\"a\",\"a\",journal!W14/journal!W$9))","v":""},{"$f":"IF(journal!X14=\"\",\"\",IF(journal!X14=\"a\",\"a\",journal!X14/journal!X$9))","v":""},{"$f":"IF(journal!Y14=\"\",\"\",IF(journal!Y14=\"a\",\"a\",journal!Y14/journal!Y$9))","v":""},{"$f":"IF(journal!Z14=\"\",\"\",IF(journal!Z14=\"a\",\"a\",journal!Z14/journal!Z$9))","v":""},{"$f":"IF(journal!AA14=\"\",\"\",IF(journal!AA14=\"a\",\"a\",journal!AA14/journal!AA$9))","v":""},{"$f":"IF(journal!AB14=\"\",\"\",IF(journal!AB14=\"a\",\"a\",journal!AB14/journal!AB$9))","v":""},{"$f":"IF(journal!AC14=\"\",\"\",IF(journal!AC14=\"a\",\"a\",journal!AC14/journal!AC$9))","v":""},{"$f":"IF(journal!AD14=\"\",\"\",IF(journal!AD14=\"a\",\"a\",journal!AD14/journal!AD$9))","v":""},{"$f":"IF(journal!AE14=\"\",\"\",IF(journal!AE14=\"a\",\"a\",journal!AE14/journal!AE$9))","v":""},{"$f":"IF(journal!AF14=\"\",\"\",IF(journal!AF14=\"a\",\"a\",journal!AF14/journal!AF$9))","v":""},{"$f":"IF(journal!AG14=\"\",\"\",IF(journal!AG14=\"a\",\"a\",journal!AG14/journal!AG$9))","v":""},{"$f":"IF(journal!AH14=\"\",\"\",IF(journal!AH14=\"a\",\"a\",journal!AH14/journal!AH$9))","v":""},{"$f":"IF(journal!AI14=\"\",\"\",IF(journal!AI14=\"a\",\"a\",journal!AI14/journal!AI$9))","v":""},{"$f":"IF(journal!AJ14=\"\",\"\",IF(journal!AJ14=\"a\",\"a\",journal!AJ14/journal!AJ$9))","v":""},{"$f":"IF(journal!AK14=\"\",\"\",IF(journal!AK14=\"a\",\"a\",journal!AK14/journal!AK$9))","v":""},{"$f":"IF(journal!AL14=\"\",\"\",IF(journal!AL14=\"a\",\"a\",journal!AL14/journal!AL$9))","v":""},{"$f":"IF(journal!AM14=\"\",\"\",IF(journal!AM14=\"a\",\"a\",journal!AM14/journal!AM$9))","v":""},{"$f":"IF(journal!AN14=\"\",\"\",IF(journal!AN14=\"a\",\"a\",journal!AN14/journal!AN$9))","v":""},{"$f":"IF(journal!AO14=\"\",\"\",IF(journal!AO14=\"a\",\"a\",journal!AO14/journal!AO$9))","v":""},{"$f":"IF(journal!AP14=\"\",\"\",IF(journal!AP14=\"a\",\"a\",journal!AP14/journal!AP$9))","v":""},{"$f":"IF(journal!AQ14=\"\",\"\",IF(journal!AQ14=\"a\",\"a\",journal!AQ14/journal!AQ$9))","v":""},{"$f":"IF(journal!AR14=\"\",\"\",IF(journal!AR14=\"a\",\"a\",journal!AR14/journal!AR$9))","v":""},"","","",""]
[null,"C",{"$f":"IF(journal!C15=\"\",\"\",IF(journal!C15=\"a\",\"a\",journal!C15/journal!C$10))","v":""},{"$f":"IF(journal!D15=\"\",\"\",IF(journal!D15=\"a\",\"a\",journal!D15/journal!D$10))","v":""},{"$f":"IF(journal!E15=\"\",\"\",IF(journal!E15=\"a\",\"a\",journal!E15/journal!E$10))","v":""},{"$f":"IF(journal!F15=\"\",\"\",IF(journal!F15=\"a\",\"a\",journal!F15/journal!F$10))","v":""},{"$f":"IF(journal!G15=\"\",\"\",IF(journal!G15=\"a\",\"a\",journal!G15/journal!G$10))","v":""},{"$f":"IF(journal!H15=\"\",\"\",IF(journal!H15=\"a\",\"a\",journal!H15/journal!H$10))","v":""},{"$f":"IF(journal!I15=\"\",\"\",IF(journal!I15=\"a\",\"a\",journal!I15/journal!I$10))","v":""},{"$f":"IF(journal!J15=\"\",\"\",IF(journal!J15=\"a\",\"a\",journal!J15/journal!J$10))","v":""},{"$f":"IF(journal!K15=\"\",\"\",IF(journal!K15=\"a\",\"a\",journal!K15/journal!K$10))","v":""},{"$f":"IF(journal!L15=\"\",\"\",IF(journal!L15=\"a\",\"a\",journal!L15/journal!L$10))","v":""},{"$f":"IF(journal!M15=\"\",\"\",IF(journal!M15=\"a\",\"a\",journal!M15/journal!M$10))","v":""},{"$f":"IF(journal!N15=\"\",\"\",IF(journal!N15=\"a\",\"a\",journal!N15/journal!N$10))","v":""},{"$f":"IF(journal!O15=\"\",\"\",IF(journal!O15=\"a\",\"a\",journal!O15/journal!O$10))","v":""},{"$f":"IF(journal!P15=\"\",\"\",IF(journal!P15=\"a\",\"a\",journal!P15/journal!P$10))","v":""},{"$f":"IF(journal!Q15=\"\",\"\",IF(journal!Q15=\"a\",\"a\",journal!Q15/journal!Q$10))","v":""},{"$f":"IF(journal!R15=\"\",\"\",IF(journal!R15=\"a\",\"a\",journal!R15/journal!R$10))","v":""},{"$f":"IF(journal!S15=\"\",\"\",IF(journal!S15=\"a\",\"a\",journal!S15/journal!S$10))","v":""},{"$f":"IF(journal!T15=\"\",\"\",IF(journal!T15=\"a\",\"a\",journal!T15/journal!T$10))","v":""},{"$f":"IF(journal!U15=\"\",\"\",IF(journal!U15=\"a\",\"a\",journal!U15/journal!U$10))","v":""},{"$f":"IF(journal!V15=\"\",\"\",IF(journal!V15=\"a\",\"a\",journal!V15/journal!V$10))","v":""},{"$f":"IF(journal!W15=\"\",\"\",IF(journal!W15=\"a\",\"a\",journal!W15/journal!W$10))","v":""},{"$f":"IF(journal!X15=\"\",\"\",IF(journal!X15=\"a\",\"a\",journal!X15/journal!X$10))","v":""},{"$f":"IF(journal!Y15=\"\",\"\",IF(journal!Y15=\"a\",\"a\",journal!Y15/journal!Y$10))","v":""},{"$f":"IF(journal!Z15=\"\",\"\",IF(journal!Z15=\"a\",\"a\",journal!Z15/journal!Z$10))","v":""},{"$f":"IF(journal!AA15=\"\",\"\",IF(journal!AA15=\"a\",\"a\",journal!AA15/journal!AA$10))","v":""},{"$f":"IF(journal!AB15=\"\",\"\",IF(journal!AB15=\"a\",\"a\",journal!AB15/journal!AB$10))","v":""},{"$f":"IF(journal!AC15=\"\",\"\",IF(journal!AC15=\"a\",\"a\",journal!AC15/journal!AC$10))","v":""},{"$f":"IF(journal!AD15=\"\",\"\",IF(journal!AD15=\"a\",\"a\",journal!AD15/journal!AD$10))","v":""},{"$f":"IF(journal!AE15=\"\",\"\",IF(journal!AE15=\"a\",\"a\",journal!AE15/journal!AE$10))","v":""},{"$f":"IF(journal!AF15=\"\",\"\",IF(journal!AF15=\"a\",\"a\",journal!AF15/journal!AF$10))","v":""},{"$f":"IF(journal!AG15=\"\",\"\",IF(journal!AG15=\"a\",\"a\",journal!AG15/journal!AG$10))","v":""},{"$f":"IF(journal!AH15=\"\",\"\",IF(journal!AH15=\"a\",\"a\",journal!AH15/journal!AH$10))","v":""},{"$f":"IF(journal!AI15=\"\",\"\",IF(journal!AI15=\"a\",\"a\",journal!AI15/journal!AI$10))","v":""},{"$f":"IF(journal!AJ15=\"\",\"\",IF(journal!AJ15=\"a\",\"a\",journal!AJ15/journal!AJ$10))","v":""},{"$f":"IF(journal!AK15=\"\",\"\",IF(journal!AK15=\"a\",\"a\",journal!AK15/journal!AK$10))","v":""},{"$f":"IF(journal!AL15=\"\",\"\",IF(journal!AL15=\"a\",\"a\",journal!AL15/journal!AL$10))","v":""},{"$f":"IF(journal!AM15=\"\",\"\",IF(journal!AM15=\"a\",\"a\",journal!AM15/journal!AM$10))","v":""},{"$f":"IF(journal!AN15=\"\",\"\",IF(journal!AN15=\"a\",\"a\",journal!AN15/journal!AN$10))","v":""},{"$f":"IF(journal!AO15=\"\",\"\",IF(journal!AO15=\"a\",\"a\",journal!AO15/journal!AO$10))","v":""},{"$f":"IF(journal!AP15=\"\",\"\",IF(journal!AP15=\"a\",\"a\",journal!AP15/journal!AP$10))","v":""},{"$f":"IF(journal!AQ15=\"\",\"\",IF(journal!AQ15=\"a\",\"a\",journal!AQ15/journal!AQ$10))","v":""},{"$f":"IF(journal!AR15=\"\",\"\",IF(journal!AR15=\"a\",\"a\",journal!AR15/journal!AR$10))","v":""},"","","",""]
[{"$f":"Saisie!A12","v":0},"S",{"$f":"IF(journal!C16=\"\",\"\",IF(journal!C16=\"a\",\"a\",journal!C16/journal!C$6))","v":""},{"$f":"IF(journal!D16=\"\",\"\",IF(journal!D16=\"a\",\"a\",journal!D16/journal!D$6))","v":""},{"$f":"IF(journal!E16=\"\",\"\",IF(journal!E16=\"a\",\"a\",journal!E16/journal!E$6))","v":""},{"$f":"IF(journal!F16=\"\",\"\",IF(journal!F16=\"a\",\"a\",journal!F16/journal!F$6))","v":""},{"$f":"IF(journal!G16=\"\",\"\",IF(journal!G16=\"a\",\"a\",journal!G16/journal!G$6))","v":""},{"$f":"IF(journal!H16=\"\",\"\",IF(journal!H16=\"a\",\"a\",journal!H16/journal!H$6))","v":""},{"$f":"IF(journal!I16=\"\",\"\",IF(journal!I16=\"a\",\"a\",journal!I16/journal!I$6))","v":""},{"$f":"IF(journal!J16=\"\",\"\",IF(journal!J16=\"a\",\"a\",journal!J16/journal!J$6))","v":""},{"$f":"IF(journal!K16=\"\",\"\",IF(journal!K16=\"a\",\"a\",journal!K16/journal!K$6))","v":""},{"$f":"IF(journal!L16=\"\",\"\",IF(journal!L16=\"a\",\"a\",journal!L16/journal!L$6))","v":""},{"$f":"IF(journal!M16=\"\",\"\",IF(journal!M16=\"a\",\"a\",journal!M16/journal!M$6))","v":""},{"$f":"IF(journal!N16=\"\",\"\",IF(journal!N16=\"a\",\"a\",journal!N16/journal!N$6))","v":""},{"$f":"IF(journal!O16=\"\",\"\",IF(journal!O16=\"a\",\"a\",journal!O16/journal!O$6))","v":""},{"$f":"IF(journal!P16=\"\",\"\",IF(journal!P16=\"a\",\"a\",journal!P16/journal!P$6))","v":""},{"$f":"IF(journal!Q16=\"\",\"\",IF(journal!Q16=\"a\",\"a\",journal!Q16/journal!Q$6))","v":""},{"$f":"IF(journal!R16=\"\",\"\",IF(journal!R16=\"a\",\"a\",journal!R16/journal!R$6))","v":""},{"$f":"IF(journal!S16=\"\",\"\",IF(journal!S16=\"a\",\"a\",journal!S16/journal!S$6))","v":""},{"$f":"IF(journal!T16=\"\",\"\",IF(journal!T16=\"a\",\"a\",journal!T16/journal!T$6))","v":""},{"$f":"IF(journal!U16=\"\",\"\",IF(journal!U16=\"a\",\"a\",journal!U16/journal!U$6))","v":""},{"$f":"IF(journal!V16=\"\",\"\",IF(journal!V16=\"a\",\"a\",journal!V16/journal!V$6))","v":""},{"$f":"IF(journal!W16=\"\",\"\",IF(journal!W16=\"a\",\"a\",journal!W16/journal!W$6))","v":""},{"$f":"IF(journal!X16=\"\",\"\",IF(journal!X16=\"a\",\"a\",journal!X16/journal!X$6))","v":""},{"$f":"IF(journal!Y16=\"\",\"\",IF(journal!Y16=\"a\",\"a\",journal!Y16/journal!Y$6))","v":""},{"$f":"IF(journal!Z16=\"\",\"\",IF(journal!Z16=\"a\",\"a\",journal!Z16/journal!Z$6))","v":""},{"$f":"IF(journal!AA16=\"\",\"\",IF(journal!AA16=\"a\",\"a\",journal!AA16/journal!AA$6))","v":""},{"$f":"IF(journal!AB16=\"\",\"\",IF(journal!AB16=\"a\",\"a\",journal!AB16/journal!AB$6))","v":""},{"$f":"IF(journal!AC16=\"\",\"\",IF(journal!AC16=\"a\",\"a\",journal!AC16/journal!AC$6))","v":""},{"$f":"IF(journal!AD16=\"\",\"\",IF(journal!AD16=\"a\",\"a\",journal!AD16/journal!AD$6))","v":""},{"$f":"IF(journal!AE16=\"\",\"\",IF(journal!AE16=\"a\",\"a\",journal!AE16/journal!AE$6))","v":""},{"$f":"IF(journal!AF16=\"\",\"\",IF(journal!AF16=\"a\",\"a\",journal!AF16/journal!AF$6))","v":""},{"$f":"IF(journal!AG16=\"\",\"\",IF(journal!AG16=\"a\",\"a\",journal!AG16/journal!AG$6))","v":""},{"$f":"IF(journal!AH16=\"\",\"\",IF(journal!AH16=\"a\",\"a\",journal!AH16/journal!AH$6))","v":""},{"$f":"IF(journal!AI16=\"\",\"\",IF(journal!AI16=\"a\",\"a\",journal!AI16/journal!AI$6))","v":""},{"$f":"IF(journal!AJ16=\"\",\"\",IF(journal!AJ16=\"a\",\"a\",journal!AJ16/journal!AJ$6))","v":""},{"$f":"IF(journal!AK16=\"\",\"\",IF(journal!AK16=\"a\",\"a\",journal!AK16/journal!AK$6))","v":""},{"$f":"IF(journal!AL16=\"\",\"\",IF(journal!AL16=\"a\",\"a\",journal!AL16/journal!AL$6))","v":""},{"$f":"IF(journal!AM16=\"\",\"\",IF(journal!AM16=\"a\",\"a\",journal!AM16/journal!AM$6))","v":""},{"$f":"IF(journal!AN16=\"\",\"\",IF(journal!AN16=\"a\",\"a\",journal!AN16/journal!AN$6))","v":""},{"$f":"IF(journal!AO16=\"\",\"\",IF(journal!AO16=\"a\",\"a\",journal!AO16/journal!AO$6))","v":""},{"$f":"IF(journal!AP16=\"\",\"\",IF(journal!AP16=\"a\",\"a\",journal!AP16/journal!AP$6))","v":""},{"$f":"IF(journal!AQ16=\"\",\"\",IF(journal!AQ16=\"a\",\"a\",journal!AQ16/journal!AQ$6))","v":""},{"$f":"IF(journal!AR16=\"\",\"\",IF(journal!AR16=\"a\",\"a\",journal!AR16/journal!AR$6))","v":""},"","","",""]
[null,"A",{"$f":"IF(journal!C17=\"\",\"\",IF(journal!C17=\"a\",\"a\",journal!C17/journal!C$7))","v":""},{"$f":"IF(journal!D17=\"\",\"\",IF(journal!D17=\"a\",\"a\",journal!D17/journal!D$7))","v":""},{"$f":"IF(journal!E17=\"\",\"\",IF(journal!E17=\"a\",\"a\",journal!E17/journal!E$7))","v":""},{"$f":"IF(journal!F17=\"\",\"\",IF(journal!F17=\"a\",\"a\",journal!F17/journal!F$7))","v":""},{"$f":"IF(journal!G17=\"\",\"\",IF(journal!G17=\"a\",\"a\",journal!G17/journal!G$7))","v":""},{"$f":"IF(journal!H17=\"\",\"\",IF(journal!H17=\"a\",\"a\",journal!H17/journal!H$7))","v":""},{"$f":"IF(journal!I17=\"\",\"\",IF(journal!I17=\"a\",\"a\",journal!I17/journal!I$7))","v":""},{"$f":"IF(journal!J17=\"\",\"\",IF(journal!J17=\"a\",\"a\",journal!J17/journal!J$7))","v":""},{"$f":"IF(journal!K17=\"\",\"\",IF(journal!K17=\"a\",\"a\",journal!K17/journal!K$7))","v":""},{"$f":"IF(journal!L17=\"\",\"\",IF(journal!L17=\"a\",\"a\",journal!L17/journal!L$7))","v":""},{"$f":"IF(journal!M17=\"\",\"\",IF(journal!M17=\"a\",\"a\",journal!M17/journal!M$7))","v":""},{"$f":"IF(journal!N17=\"\",\"\",IF(journal!N17=\"a\",\"a\",journal!N17/journal!N$7))","v":""},{"$f":"IF(journal!O17=\"\",\"\",IF(journal!O17=\"a\",\"a\",journal!O17/journal!O$7))","v":""},{"$f":"IF(journal!P17=\"\",\"\",IF(journal!P17=\"a\",\"a\",journal!P17/journal!P$7))","v":""},{"$f":"IF(journal!Q17=\"\",\"\",IF(journal!Q17=\"a\",\"a\",journal!Q17/journal!Q$7))","v":""},{"$f":"IF(journal!R17=\"\",\"\",IF(journal!R17=\"a\",\"a\",journal!R17/journal!R$7))","v":""},{"$f":"IF(journal!S17=\"\",\"\",IF(journal!S17=\"a\",\"a\",journal!S17/journal!S$7))","v":""},{"$f":"IF(journal!T17=\"\",\"\",IF(journal!T17=\"a\",\"a\",journal!T17/journal!T$7))","v":""},{"$f":"IF(journal!U17=\"\",\"\",IF(journal!U17=\"a\",\"a\",journal!U17/journal!U$7))","v":""},{"$f":"IF(journal!V17=\"\",\"\",IF(journal!V17=\"a\",\"a\",journal!V17/journal!V$7))","v":""},{"$f":"IF(journal!W17=\"\",\"\",IF(journal!W17=\"a\",\"a\",journal!W17/journal!W$7))","v":""},{"$f":"IF(journal!X17=\"\",\"\",IF(journal!X17=\"a\",\"a\",journal!X17/journal!X$7))","v":""},{"$f":"IF(journal!Y17=\"\",\"\",IF(journal!Y17=\"a\",\"a\",journal!Y17/journal!Y$7))","v":""},{"$f":"IF(journal!Z17=\"\",\"\",IF(journal!Z17=\"a\",\"a\",journal!Z17/journal!Z$7))","v":""},{"$f":"IF(journal!AA17=\"\",\"\",IF(journal!AA17=\"a\",\"a\",journal!AA17/journal!AA$7))","v":""},{"$f":"IF(journal!AB17=\"\",\"\",IF(journal!AB17=\"a\",\"a\",journal!AB17/journal!AB$7))","v":""},{"$f":"IF(journal!AC17=\"\",\"\",IF(journal!AC17=\"a\",\"a\",journal!AC17/journal!AC$7))","v":""},{"$f":"IF(journal!AD17=\"\",\"\",IF(journal!AD17=\"a\",\"a\",journal!AD17/journal!AD$7))","v":""},{"$f":"IF(journal!AE17=\"\",\"\",IF(journal!AE17=\"a\",\"a\",journal!AE17/journal!AE$7))","v":""},{"$f":"IF(journal!AF17=\"\",\"\",IF(journal!AF17=\"a\",\"a\",journal!AF17/journal!AF$7))","v":""},{"$f":"IF(journal!AG17=\"\",\"\",IF(journal!AG17=\"a\",\"a\",journal!AG17/journal!AG$7))","v":""},{"$f":"IF(journal!AH17=\"\",\"\",IF(journal!AH17=\"a\",\"a\",journal!AH17/journal!AH$7))","v":""},{"$f":"IF(journal!AI17=\"\",\"\",IF(journal!AI17=\"a\",\"a\",journal!AI17/journal!AI$7))","v":""},{"$f":"IF(journal!AJ17=\"\",\"\",IF(journal!AJ17=\"a\",\"a\",journal!AJ17/journal!AJ$7))","v":""},{"$f":"IF(journal!AK17=\"\",\"\",IF(journal!AK17=\"a\",\"a\",journal!AK17/journal!AK$7))","v":""},{"$f":"IF(journal!AL17=\"\",\"\",IF(journal!AL17=\"a\",\"a\",journal!AL17/journal!AL$7))","v":""},{"$f":"IF(journal!AM17=\"\",\"\",IF(journal!AM17=\"a\",\"a\",journal!AM17/journal!AM$7))","v":""},{"$f":"IF(journal!AN17=\"\",\"\",IF(journal!AN17=\"a\",\"a\",journal!AN17/journal!AN$7))","v":""},{"$f":"IF(journal!AO17=\"\",\"\",IF(journal!AO17=\"a\",\"a\",journal!AO17/journal!AO$7))","v":""},{"$f":"IF(journal!AP17=\"\",\"\",IF(journal!AP17=\"a\",\"a\",journal!AP17/journal!AP$7))","v":""},{"$f":"IF(journal!AQ17=\"\",\"\",IF(journal!AQ17=\"a\",\"a\",journal!AQ17/journal!AQ$7))","v":""},{"$f":"IF(journal!AR17=\"\",\"\",IF(journal!AR17=\"a\",\"a\",journal!AR17/journal!AR$7))","v":""},"",{"$f":"IF(ISERROR(AVERAGEIF($C$3:$AR$3,\"T1\",C17:AR17))=TRUE,\"\",AVERAGEIF($C$3:$AR$3,\"T1\",C17:AR17))","v":""},{"$f":"IF(ISERROR(AVERAGEIF($C$3:$AR$3,\"T2\",C17:AR17))=TRUE,\"\",AVERAGEIF($C$3:$AR$3,\"T2\",C17:AR17))","v":""},{"$f":"IF(ISERROR(AVERAGEIF($C$3:$AR$3,\"T3\",C17:AR17))=TRUE,\"\",AVERAGEIF($C$3:$AR$3,\"T3\",C17:AR17))","v":""}]
[null,"R",{"$f":"IF(journal!C18=\"\",\"\",IF(journal!C18=\"a\",\"a\",journal!C18/journal!C$8))","v":""},{"$f":"IF(journal!D18=\"\",\"\",IF(journal!D18=\"a\",\"a\",journal!D18/journal!D$8))","v":""},{"$f":"IF(journal!E18=\"\",\"\",IF(journal!E18=\"a\",\"a\",journal!E18/journal!E$8))","v":""},{"$f":"IF(journal!F18=\"\",\"\",IF(journal!F18=\"a\",\"a\",journal!F18/journal!F$8))","v":""},{"$f":"IF(journal!G18=\"\",\"\",IF(journal!G18=\"a\",\"a\",journal!G18/journal!G$8))","v":""},{"$f":"IF(journal!H18=\"\",\"\",IF(journal!H18=\"a\",\"a\",journal!H18/journal!H$8))","v":""},{"$f":"IF(journal!I18=\"\",\"\",IF(journal!I18=\"a\",\"a\",journal!I18/journal!I$8))","v":""},{"$f":"IF(journal!J18=\"\",\"\",IF(journal!J18=\"a\",\"a\",journal!J18/journal!J$8))","v":""},{"$f":"IF(journal!K18=\"\",\"\",IF(journal!K18=\"a\",\"a\",journal!K18/journal!K$8))","v":""},{"$f":"IF(journal!L18=\"\",\"\",IF(journal!L18=\"a\",\"a\",journal!L18/journal!L$8))","v":""},{"$f":"IF(journal!M18=\"\",\"\",IF(journal!M18=\"a\",\"a\",journal!M18/journal!M$8))","v":""},{"$f":"IF(journal!N18=\"\",\"\",IF(journal!N18=\"a\",\"a\",journal!N18/journal!N$8))","v":""},{"$f":"IF(journal!O18=\"\",\"\",IF(journal!O18=\"a\",\"a\",journal!O18/journal!O$8))","v":""},{"$f":"IF(journal!P18=\"\",\"\",IF(journal!P18=\"a\",\"a\",journal!P18/journal!P$8))","v":""},{"$f":"IF(journal!Q18=\"\",\"\",IF(journal!Q18=\"a\",\"a\",journal!Q18/journal!Q$8))","v":""},{"$f":"IF(journal!R18=\"\",\"\",IF(journal!R18=\"a\",\"a\",journal!R18/journal!R$8))","v":""},{"$f":"IF(journal!S18=\"\",\"\",IF(journal!S18=\"a\",\"a\",journal!S18/journal!S$8))","v":""},{"$f":"IF(journal!T18=\"\",\"\",IF(journal!T18=\"a\",\"a\",journal!T18/journal!T$8))","v":""},{"$f":"IF(journal!U18=\"\",\"\",IF(journal!U18=\"a\",\"a\",journal!U18/journal!U$8))","v":""},{"$f":"IF(journal!V18=\"\",\"\",IF(journal!V18=\"a\",\"a\",journal!V18/journal!V$8))","v":""},{"$f":"IF(journal!W18=\"\",\"\",IF(journal!W18=\"a\",\"a\",journal!W18/journal!W$8))","v":""},{"$f":"IF(journal!X18=\"\",\"\",IF(journal!X18=\"a\",\"a\",journal!X18/journal!X$8))","v":""},{"$f":"IF(journal!Y18=\"\",\"\",IF(journal!Y18=\"a\",\"a\",journal!Y18/journal!Y$8))","v":""},{"$f":"IF(journal!Z18=\"\",\"\",IF(journal!Z18=\"a\",\"a\",journal!Z18/journal!Z$8))","v":""},{"$f":"IF(journal!AA18=\"\",\"\",IF(journal!AA18=\"a\",\"a\",journal!AA18/journal!AA$8))","v":""},{"$f":"IF(journal!AB18=\"\",\"\",IF(journal!AB18=\"a\",\"a\",journal!AB18/journal!AB$8))","v":""},{"$f":"IF(journal!AC18=\"\",\"\",IF(journal!AC18=\"a\",\"a\",journal!AC18/journal!AC$8))","v":""},{"$f":"IF(journal!AD18=\"\",\"\",IF(journal!AD18=\"a\",\"a\",journal!AD18/journal!AD$8))","v":""},{"$f":"IF(journal!AE18=\"\",\"\",IF(journal!AE18=\"a\",\"a\",journal!AE18/journal!AE$8))","v":""},{"$f":"IF(journal!AF18=\"\",\"\",IF(journal!AF18=\"a\",\"a\",journal!AF18/journal!AF$8))","v":""},{"$f":"IF(journal!AG18=\"\",\"\",IF(journal!AG18=\"a\",\"a\",journal!AG18/journal!AG$8))","v":""},{"$f":"IF(journal!AH18=\"\",\"\",IF(journal!AH18=\"a\",\"a\",journal!AH18/journal!AH$8))","v":""},{"$f":"IF(journal!AI18=\"\",\"\",IF(journal!AI18=\"a\",\"a\",journal!AI18/journal!AI$8))","v":""},{"$f":"IF(journal!AJ18=\"\",\"\",IF(journal!AJ18=\"a\",\"a\",journal!AJ18/journal!AJ$8))","v":""},{"$f":"IF(journal!AK18=\"\",\"\",IF(journal!AK18=\"a\",\"a\",journal!AK18/journal!AK$8))","v":""},{"$f":"IF(journal!AL18=\"\",\"\",IF(journal!AL18=\"a\",\"a\",journal!AL18/journal!AL$8))","v":""},{"$f":"IF(journal!AM18=\"\",\"\",IF(journal!AM18=\"a\",\"a\",journal!AM18/journal!AM$8))","v":""},{"$f":"IF(journal!AN18=\"\",\"\",IF(journal!AN18=\"a\",\"a\",journal!AN18/journal!AN$8))","v":""},{"$f":"IF(journal!AO18=\"\",\"\",IF(journal!AO18=\"a\",\"a\",journal!AO18/journal!AO$8))","v":""},{"$f":"IF(journal!AP18=\"\",\"\",IF(journal!AP18=\"a\",\"a\",journal!AP18/journal!AP$8))","v":""},{"$f":"IF(journal!AQ18=\"\",\"\",IF(journal!AQ18=\"a\",\"a\",journal!AQ18/journal!AQ$8))","v":""},{"$f":"IF(journal!AR18=\"\",\"\",IF(journal!AR18=\"a\",\"a\",journal!AR18/journal!AR$8))","v":""},"","","",""]
[null,"V",{"$f":"IF(journal!C19=\"\",\"\",IF(journal!C19=\"a\",\"a\",journal!C19/journal!C$9))","v":""},{"$f":"IF(journal!D19=\"\",\"\",IF(journal!D19=\"a\",\"a\",journal!D19/journal!D$9))","v":""},{"$f":"IF(journal!E19=\"\",\"\",IF(journal!E19=\"a\",\"a\",journal!E19/journal!E$9))","v":""},{"$f":"IF(journal!F19=\"\",\"\",IF(journal!F19=\"a\",\"a\",journal!F19/journal!F$9))","v":""},{"$f":"IF(journal!G19=\"\",\"\",IF(journal!G19=\"a\",\"a\",journal!G19/journal!G$9))","v":""},{"$f":"IF(journal!H19=\"\",\"\",IF(journal!H19=\"a\",\"a\",journal!H19/journal!H$9))","v":""},{"$f":"IF(journal!I19=\"\",\"\",IF(journal!I19=\"a\",\"a\",journal!I19/journal!I$9))","v":""},{"$f":"IF(journal!J19=\"\",\"\",IF(journal!J19=\"a\",\"a\",journal!J19/journal!J$9))","v":""},{"$f":"IF(journal!K19=\"\",\"\",IF(journal!K19=\"a\",\"a\",journal!K19/journal!K$9))","v":""},{"$f":"IF(journal!L19=\"\",\"\",IF(journal!L19=\"a\",\"a\",journal!L19/journal!L$9))","v":""},{"$f":"IF(journal!M19=\"\",\"\",IF(journal!M19=\"a\",\"a\",journal!M19/journal!M$9))","v":""},{"$f":"IF(journal!N19=\"\",\"\",IF(journal!N19=\"a\",\"a\",journal!N19/journal!N$9))","v":""},{"$f":"IF(journal!O19=\"\",\"\",IF(journal!O19=\"a\",\"a\",journal!O19/journal!O$9))","v":""},{"$f":"IF(journal!P19=\"\",\"\",IF(journal!P19=\"a\",\"a\",journal!P19/journal!P$9))","v":""},{"$f":"IF(journal!Q19=\"\",\"\",IF(journal!Q19=\"a\",\"a\",journal!Q19/journal!Q$9))","v":""},{"$f":"IF(journal!R19=\"\",\"\",IF(journal!R19=\"a\",\"a\",journal!R19/journal!R$9))","v":""},{"$f":"IF(journal!S19=\"\",\"\",IF(journal!S19=\"a\",\"a\",journal!S19/journal!S$9))","v":""},{"$f":"IF(journal!T19=\"\",\"\",IF(journal!T19=\"a\",\"a\",journal!T19/journal!T$9))","v":""},{"$f":"IF(journal!U19=\"\",\"\",IF(journal!U19=\"a\",\"a\",journal!U19/journal!U$9))","v":""},{"$f":"IF(journal!V19=\"\",\"\",IF(journal!V19=\"a\",\"a\",journal!V19/journal!V$9))","v":""},{"$f":"IF(journal!W19=\"\",\"\",IF(journal!W19=\"a\",\"a\",journal!W19/journal!W$9))","v":""},{"$f":"IF(journal!X19=\"\",\"\",IF(journal!X19=\"a\",\"a\",journal!X19/journal!X$9))","v":""},{"$f":"IF(journal!Y19=\"\",\"\",IF(journal!Y19=\"a\",\"a\",journal!Y19/journal!Y$9))","v":""},{"$f":"IF(journal!Z19=\"\",\"\",IF(journal!Z19=\"a\",\"a\",journal!Z19/journal!Z$9))","v":""},{"$f":"IF(journal!AA19=\"\",\"\",IF(journal!AA19=\"a\",\"a\",journal!AA19/journal!AA$9))","v":""},{"$f":"IF(journal!AB19=\"\",\"\",IF(journal!AB19=\"a\",\"a\",journal!AB19/journal!AB$9))","v":""},{"$f":"IF(journal!AC19=\"\",\"\",IF(journal!AC19=\"a\",\"a\",journal!AC19/journal!AC$9))","v":""},{"$f":"IF(journal!AD19=\"\",\"\",IF(journal!AD19=\"a\",\"a\",journal!AD19/journal!AD$9))","v":""},{"$f":"IF(journal!AE19=\"\",\"\",IF(journal!AE19=\"a\",\"a\",journal!AE19/journal!AE$9))","v":""},{"$f":"IF(journal!AF19=\"\",\"\",IF(journal!AF19=\"a\",\"a\",journal!AF19/journal!AF$9))","v":""},{"$f":"IF(journal!AG19=\"\",\"\",IF(journal!AG19=\"a\",\"a\",journal!AG19/journal!AG$9))","v":""},{"$f":"IF(journal!AH19=\"\",\"\",IF(journal!AH19=\"a\",\"a\",journal!AH19/journal!AH$9))","v":""},{"$f":"IF(journal!AI19=\"\",\"\",IF(journal!AI19=\"a\",\"a\",journal!AI19/journal!AI$9))","v":""},{"$f":"IF(journal!AJ19=\"\",\"\",IF(journal!AJ19=\"a\",\"a\",journal!AJ19/journal!AJ$9))","v":""},{"$f":"IF(journal!AK19=\"\",\"\",IF(journal!AK19=\"a\",\"a\",journal!AK19/journal!AK$9))","v":""},{"$f":"IF(journal!AL19=\"\",\"\",IF(journal!AL19=\"a\",\"a\",journal!AL19/journal!AL$9))","v":""},{"$f":"IF(journal!AM19=\"\",\"\",IF(journal!AM19=\"a\",\"a\",journal!AM19/journal!AM$9))","v":""},{"$f":"IF(journal!AN19=\"\",\"\",IF(journal!AN19=\"a\",\"a\",journal!AN19/journal!AN$9))","v":""},{"$f":"IF(journal!AO19=\"\",\"\",IF(journal!AO19=\"a\",\"a\",journal!AO19/journal!AO$9))","v":""},{"$f":"IF(journal!AP19=\"\",\"\",IF(journal!AP19=\"a\",\"a\",journal!AP19/journal!AP$9))","v":""},{"$f":"IF(journal!AQ19=\"\",\"\",IF(journal!AQ19=\"a\",\"a\",journal!AQ19/journal!AQ$9))","v":""},{"$f":"IF(journal!AR19=\"\",\"\",IF(journal!AR19=\"a\",\"a\",journal!AR19/journal!AR$9))","v":""},"","","",""]
[null,"C",{"$f":"IF(journal!C20=\"\",\"\",IF(journal!C20=\"a\",\"a\",journal!C20/journal!C$10))","v":""},{"$f":"IF(journal!D20=\"\",\"\",IF(journal!D20=\"a\",\"a\",journal!D20/journal!D$10))","v":""},{"$f":"IF(journal!E20=\"\",\"\",IF(journal!E20=\"a\",\"a\",journal!E20/journal!E$10))","v":""},{"$f":"IF(journal!F20=\"\",\"\",IF(journal!F20=\"a\",\"a\",journal!F20/journal!F$10))","v":""},{"$f":"IF(journal!G20=\"\",\"\",IF(journal!G20=\"a\",\"a\",journal!G20/journal!G$10))","v":""},{"$f":"IF(journal!H20=\"\",\"\",IF(journal!H20=\"a\",\"a\",journal!H20/journal!H$10))","v":""},{"$f":"IF(journal!I20=\"\",\"\",IF(journal!I20=\"a\",\"a\",journal!I20/journal!I$10))","v":""},{"$f":"IF(journal!J20=\"\",\"\",IF(journal!J20=\"a\",\"a\",journal!J20/journal!J$10))","v":""},{"$f":"IF(journal!K20=\"\",\"\",IF(journal!K20=\"a\",\"a\",journal!K20/journal!K$10))","v":""},{"$f":"IF(journal!L20=\"\",\"\",IF(journal!L20=\"a\",\"a\",journal!L20/journal!L$10))","v":""},{"$f":"IF(journal!M20=\"\",\"\",IF(journal!M20=\"a\",\"a\",journal!M20/journal!M$10))","v":""},{"$f":"IF(journal!N20=\"\",\"\",IF(journal!N20=\"a\",\"a\",journal!N20/journal!N$10))","v":""},{"$f":"IF(journal!O20=\"\",\"\",IF(journal!O20=\"a\",\"a\",journal!O20/journal!O$10))","v":""},{"$f":"IF(journal!P20=\"\",\"\",IF(journal!P20=\"a\",\"a\",journal!P20/journal!P$10))","v":""},{"$f":"IF(journal!Q20=\"\",\"\",IF(journal!Q20=\"a\",\"a\",journal!Q20/journal!Q$10))","v":""},{"$f":"IF(journal!R20=\"\",\"\",IF(journal!R20=\"a\",\"a\",journal!R20/journal!R$10))","v":""},{"$f":"IF(journal!S20=\"\",\"\",IF(journal!S20=\"a\",\"a\",journal!S20/journal!S$10))","v":""},{"$f":"IF(journal!T20=\"\",\"\",IF(journal!T20=\"a\",\"a\",journal!T20/journal!T$10))","v":""},{"$f":"IF(journal!U20=\"\",\"\",IF(journal!U20=\"a\",\"a\",journal!U20/journal!U$10))","v":""},{"$f":"IF(journal!V20=\"\",\"\",IF(journal!V20=\"a\",\"a\",journal!V20/journal!V$10))","v":""},{"$f":"IF(journal!W20=\"\",\"\",IF(journal!W20=\"a\",\"a\",journal!W20/journal!W$10))","v":""},{"$f":"IF(journal!X20=\"\",\"\",IF(journal!X20=\"a\",\"a\",journal!X20/journal!X$10))","v":""},{"$f":"IF(journal!Y20=\"\",\"\",IF(journal!Y20=\"a\",\"a\",journal!Y20/journal!Y$10))","v":""},{"$f":"IF(journal!Z20=\"\",\"\",IF(journal!Z20=\"a\",\"a\",journal!Z20/journal!Z$10))","v":""},{"$f":"IF(journal!AA20=\"\",\"\",IF(journal!AA20=\"a\",\"a\",journal!AA20/journal!AA$10))","v":""},{"$f":"IF(journal!AB20=\"\",\"\",IF(journal!AB20=\"a\",\"a\",journal!AB20/journal!AB$10))","v":""},{"$f":"IF(journal!AC20=\"\",\"\",IF(journal!AC20=\"a\",\"a\",journal!AC20/journal!AC$10))","v":""},{"$f":"IF(journal!AD20=\"\",\"\",IF(journal!AD20=\"a\",\"a\",journal!AD20/journal!AD$10))","v":""},{"$f":"IF(journal!AE20=\"\",\"\",IF(journal!AE20=\"a\",\"a\",journal!AE20/journal!AE$10))","v":""},{"$f":"IF(journal!AF20=\"\",\"\",IF(journal!AF20=\"a\",\"a\",journal!AF20/journal!AF$10))","v":""},{"$f":"IF(journal!AG20=\"\",\"\",IF(journal!AG20=\"a\",\"a\",journal!AG20/journal!AG$10))","v":""},{"$f":"IF(journal!AH20=\"\",\"\",IF(journal!AH20=\"a\",\"a\",journal!AH20/journal!AH$10))","v":""},{"$f":"IF(journal!AI20=\"\",\"\",IF(journal!AI20=\"a\",\"a\",journal!AI20/journal!AI$10))","v":""},{"$f":"IF(journal!AJ20=\"\",\"\",IF(journal!AJ20=\"a\",\"a\",journal!AJ20/journal!AJ$10))","v":""},{"$f":"IF(journal!AK20=\"\",\"\",IF(journal!AK20=\"a\",\"a\",journal!AK20/journal!AK$10))","v":""},{"$f":"IF(journal!AL20=\"\",\"\",IF(journal!AL20=\"a\",\"a\",journal!AL20/journal!AL$10))","v":""},{"$f":"IF(journal!AM20=\"\",\"\",IF(journal!AM20=\"a\",\"a\",journal!AM20/journal!AM$10))","v":""},{"$f":"IF(journal!AN20=\"\",\"\",IF(journal!AN20=\"a\",\"a\",journal!AN20/journal!AN$10))","v":""},{"$f":"IF(journal!AO20=\"\",\"\",IF(journal!AO20=\"a\",\"a\",journal!AO20/journal!AO$10))","v":""},{"$f":"IF(journal!AP20=\"\",\"\",IF(journal!AP20=\"a\",\"a\",journal!AP20/journal!AP$10))","v":""},{"$f":"IF(journal!AQ20=\"\",\"\",IF(journal!AQ20=\"a\",\"a\",journal!AQ20/journal!AQ$10))","v":""},{"$f":"IF(journal!AR20=\"\",\"\",IF(journal!AR20=\"a\",\"a\",journal!AR20/journal!AR$10))","v":""},"","","",""]
[{"$f":"Saisie!A13","v":0},"S",{"$f":"IF(journal!C21=\"\",\"\",IF(journal!C21=\"a\",\"a\",journal!C21/journal!C$6))","v":""},{"$f":"IF(journal!D21=\"\",\"\",IF(journal!D21=\"a\",\"a\",journal!D21/journal!D$6))","v":""},{"$f":"IF(journal!E21=\"\",\"\",IF(journal!E21=\"a\",\"a\",journal!E21/journal!E$6))","v":""},{"$f":"IF(journal!F21=\"\",\"\",IF(journal!F21=\"a\",\"a\",journal!F21/journal!F$6))","v":""},{"$f":"IF(journal!G21=\"\",\"\",IF(journal!G21=\"a\",\"a\",journal!G21/journal!G$6))","v":""},{"$f":"IF(journal!H21=\"\",\"\",IF(journal!H21=\"a\",\"a\",journal!H21/journal!H$6))","v":""},{"$f":"IF(journal!I21=\"\",\"\",IF(journal!I21=\"a\",\"a\",journal!I21/journal!I$6))","v":""},{"$f":"IF(journal!J21=\"\",\"\",IF(journal!J21=\"a\",\"a\",journal!J21/journal!J$6))","v":""},{"$f":"IF(journal!K21=\"\",\"\",IF(journal!K21=\"a\",\"a\",journal!K21/journal!K$6))","v":""},{"$f":"IF(journal!L21=\"\",\"\",IF(journal!L21=\"a\",\"a\",journal!L21/journal!L$6))","v":""},{"$f":"IF(journal!M21=\"\",\"\",IF(journal!M21=\"a\",\"a\",journal!M21/journal!M$6))","v":""},{"$f":"IF(journal!N21=\"\",\"\",IF(journal!N21=\"a\",\"a\",journal!N21/journal!N$6))","v":""},{"$f":"IF(journal!O21=\"\",\"\",IF(journal!O21=\"a\",\"a\",journal!O21/journal!O$6))","v":""},{"$f":"IF(journal!P21=\"\",\"\",IF(journal!P21=\"a\",\"a\",journal!P21/journal!P$6))","v":""},{"$f":"IF(journal!Q21=\"\",\"\",IF(journal!Q21=\"a\",\"a\",journal!Q21/journal!Q$6))","v":""},{"$f":"IF(journal!R21=\"\",\"\",IF(journal!R21=\"a\",\"a\",journal!R21/journal!R$6))","v":""},{"$f":"IF(journal!S21=\"\",\"\",IF(journal!S21=\"a\",\"a\",journal!S21/journal!S$6))","v":""},{"$f":"IF(journal!T21=\"\",\"\",IF(journal!T21=\"a\",\"a\",journal!T21/journal!T$6))","v":""},{"$f":"IF(journal!U21=\"\",\"\",IF(journal!U21=\"a\",\"a\",journal!U21/journal!U$6))","v":""},{"$f":"IF(journal!V21=\"\",\"\",IF(journal!V21=\"a\",\"a\",journal!V21/journal!V$6))","v":""},{"$f":"IF(journal!W21=\"\",\"\",IF(journal!W21=\"a\",\"a\",journal!W21/journal!W$6))","v":""},{"$f":"IF(journal!X21=\"\",\"\",IF(journal!X21=\"a\",\"a\",journal!X21/journal!X$6))","v":""},{"$f":"IF(journal!Y21=\"\",\"\",IF(journal!Y21=\"a\",\"a\",journal!Y21/journal!Y$6))","v":""},{"$f":"IF(journal!Z21=\"\",\"\",IF(journal!Z21=\"a\",\"a\",journal!Z21/journal!Z$6))","v":""},{"$f":"IF(journal!AA21=\"\",\"\",IF(journal!AA21=\"a\",\"a\",journal!AA21/journal!AA$6))","v":""},{"$f":"IF(journal!AB21=\"\",\"\",IF(journal!AB21=\"a\",\"a\",journal!AB21/journal!AB$6))","v":""},{"$f":"IF(journal!AC21=\"\",\"\",IF(journal!AC21=\"a\",\"a\",journal!AC21/journal!AC$6))","v":""},{"$f":"IF(journal!AD21=\"\",\"\",IF(journal!AD21=\"a\",\"a\",journal!AD21/journal!AD$6))","v":""},{"$f":"IF(journal!AE21=\"\",\"\",IF(journal!AE21=\"a\",\"a\",journal!AE21/journal!AE$6))","v":""},{"$f":"IF(journal!AF21=\"\",\"\",IF(journal!AF21=\"a\",\"a\",journal!AF21/journal!AF$6))","v":""},{"$f":"IF(journal!AG21=\"\",\"\",IF(journal!AG21=\"a\",\"a\",journal!AG21/journal!AG$6))","v":""},{"$f":"IF(journal!AH21=\"\",\"\",IF(journal!AH21=\"a\",\"a\",journal!AH21/journal!AH$6))","v":""},{"$f":"IF(journal!AI21=\"\",\"\",IF(journal!AI21=\"a\",\"a\",journal!AI21/journal!AI$6))","v":""},{"$f":"IF(journal!AJ21=\"\",\"\",IF(journal!AJ21=\"a\",\"a\",journal!AJ21/journal!AJ$6))","v":""},{"$f":"IF(journal!AK21=\"\",\"\",IF(journal!AK21=\"a\",\"a\",journal!AK21/journal!AK$6))","v":""},{"$f":"IF(journal!AL21=\"\",\"\",IF(journal!AL21=\"a\",\"a\",journal!AL21/journal!AL$6))","v":""},{"$f":"IF(journal!AM21=\"\",\"\",IF(journal!AM21=\"a\",\"a\",journal!AM21/journal!AM$6))","v":""},{"$f":"IF(journal!AN21=\"\",\"\",IF(journal!AN21=\"a\",\"a\",journal!AN21/journal!AN$6))","v":""},{"$f":"IF(journal!AO21=\"\",\"\",IF(journal!AO21=\"a\",\"a\",journal!AO21/journal!AO$6))","v":""},{"$f":"IF(journal!AP21=\"\",\"\",IF(journal!AP21=\"a\",\"a\",journal!AP21/journal!AP$6))","v":""},{"$f":"IF(journal!AQ21=\"\",\"\",IF(journal!AQ21=\"a\",\"a\",journal!AQ21/journal!AQ$6))","v":""},{"$f":"IF(journal!AR21=\"\",\"\",IF(journal!AR21=\"a\",\"a\",journal!AR21/journal!AR$6))","v":""},"","","",""]
[null,"A",{"$f":"IF(journal!C22=\"\",\"\",IF(journal!C22=\"a\",\"a\",journal!C22/journal!C$7))","v":""},{"$f":"IF(journal!D22=\"\",\"\",IF(journal!D22=\"a\",\"a\",journal!D22/journal!D$7))","v":""},{"$f":"IF(journal!E22=\"\",\"\",IF(journal!E22=\"a\",\"a\",journal!E22/journal!E$7))","v":""},{"$f":"IF(journal!F22=\"\",\"\",IF(journal!F22=\"a\",\"a\",journal!F22/journal!F$7))","v":""},{"$f":"IF(journal!G22=\"\",\"\",IF(journal!G22=\"a\",\"a\",journal!G22/journal!G$7))","v":""},{"$f":"IF(journal!H22=\"\",\"\",IF(journal!H22=\"a\",\"a\",journal!H22/journal!H$7))","v":""},{"$f":"IF(journal!I22=\"\",\"\",IF(journal!I22=\"a\",\"a\",journal!I22/journal!I$7))","v":""},{"$f":"IF(journal!J22=\"\",\"\",IF(journal!J22=\"a\",\"a\",journal!J22/journal!J$7))","v":""},{"$f":"IF(journal!K22=\"\",\"\",IF(journal!K22=\"a\",\"a\",journal!K22/journal!K$7))","v":""},{"$f":"IF(journal!L22=\"\",\"\",IF(journal!L22=\"a\",\"a\",journal!L22/journal!L$7))","v":""},{"$f":"IF(journal!M22=\"\",\"\",IF(journal!M22=\"a\",\"a\",journal!M22/journal!M$7))","v":""},{"$f":"IF(journal!N22=\"\",\"\",IF(journal!N22=\"a\",\"a\",journal!N22/journal!N$7))","v":""},{"$f":"IF(journal!O22=\"\",\"\",IF(journal!O22=\"a\",\"a\",journal!O22/journal!O$7))","v":""},{"$f":"IF(journal!P22=\"\",\"\",IF(journal!P22=\"a\",\"a\",journal!P22/journal!P$7))","v":""},{"$f":"IF(journal!Q22=\"\",\"\",IF(journal!Q22=\"a\",\"a\",journal!Q22/journal!Q$7))","v":""},{"$f":"IF(journal!R22=\"\",\"\",IF(journal!R22=\"a\",\"a\",journal!R22/journal!R$7))","v":""},{"$f":"IF(journal!S22=\"\",\"\",IF(journal!S22=\"a\",\"a\",journal!S22/journal!S$7))","v":""},{"$f":"IF(journal!T22=\"\",\"\",IF(journal!T22=\"a\",\"a\",journal!T22/journal!T$7))","v":""},{"$f":"IF(journal!U22=\"\",\"\",IF(journal!U22=\"a\",\"a\",journal!U22/journal!U$7))","v":""},{"$f":"IF(journal!V22=\"\",\"\",IF(journal!V22=\"a\",\"a\",journal!V22/journal!V$7))","v":""},{"$f":"IF(journal!W22=\"\",\"\",IF(journal!W22=\"a\",\"a\",journal!W22/journal!W$7))","v":""},{"$f":"IF(journal!X22=\"\",\"\",IF(journal!X22=\"a\",\"a\",journal!X22/journal!X$7))","v":""},{"$f":"IF(journal!Y22=\"\",\"\",IF(journal!Y22=\"a\",\"a\",journal!Y22/journal!Y$7))","v":""},{"$f":"IF(journal!Z22=\"\",\"\",IF(journal!Z22=\"a\",\"a\",journal!Z22/journal!Z$7))","v":""},{"$f":"IF(journal!AA22=\"\",\"\",IF(journal!AA22=\"a\",\"a\",journal!AA22/journal!AA$7))","v":""},{"$f":"IF(journal!AB22=\"\",\"\",IF(journal!AB22=\"a\",\"a\",journal!AB22/journal!AB$7))","v":""},{"$f":"IF(journal!AC22=\"\",\"\",IF(journal!AC22=\"a\",\"a\",journal!AC22/journal!AC$7))","v":""},{"$f":"IF(journal!AD22=\"\",\"\",IF(journal!AD22=\"a\",\"a\",journal!AD22/journal!AD$7))","v":""},{"$f":"IF(journal!AE22=\"\",\"\",IF(journal!AE22=\"a\",\"a\",journal!AE22/journal!AE$7))","v":""},{"$f":"IF(journal!AF22=\"\",\"\",IF(journal!AF22=\"a\",\"a\",journal!AF22/journal!AF$7))","v":""},{"$f":"IF(journal!AG22=\"\",\"\",IF(journal!AG22=\"a\",\"a\",journal!AG22/journal!AG$7))","v":""},{"$f":"IF(journal!AH22=\"\",\"\",IF(journal!AH22=\"a\",\"a\",journal!AH22/journal!AH$7))","v":""},{"$f":"IF(journal!AI22=\"\",\"\",IF(journal!AI22=\"a\",\"a\",journal!AI22/journal!AI$7))","v":""},{"$f":"IF(journal!AJ22=\"\",\"\",IF(journal!AJ22=\"a\",\"a\",journal!AJ22/journal!AJ$7))","v":""},{"$f":"IF(journal!AK22=\"\",\"\",IF(journal!AK22=\"a\",\"a\",journal!AK22/journal!AK$7))","v":""},{"$f":"IF(journal!AL22=\"\",\"\",IF(journal!AL22=\"a\",\"a\",journal!AL22/journal!AL$7))","v":""},{"$f":"IF(journal!AM22=\"\",\"\",IF(journal!AM22=\"a\",\"a\",journal!AM22/journal!AM$7))","v":""},{"$f":"IF(journal!AN22=\"\",\"\",IF(journal!AN22=\"a\",\"a\",journal!AN22/journal!AN$7))","v":""},{"$f":"IF(journal!AO22=\"\",\"\",IF(journal!AO22=\"a\",\"a\",journal!AO22/journal!AO$7))","v":""},{"$f":"IF(journal!AP22=\"\",\"\",IF(journal!AP22=\"a\",\"a\",journal!AP22/journal!AP$7))","v":""},{"$f":"IF(journal!AQ22=\"\",\"\",IF(journal!AQ22=\"a\",\"a\",journal!AQ22/journal!AQ$7))","v":""},{"$f":"IF(journal!AR22=\"\",\"\",IF(journal!AR22=\"a\",\"a\",journal!AR22/journal!AR$7))","v":""},"","","",""]
[null,"R",{"$f":"IF(journal!C23=\"\",\"\",IF(journal!C23=\"a\",\"a\",journal!C23/journal!C$8))","v":""},{"$f":"IF(journal!D23=\"\",\"\",IF(journal!D23=\"a\",\"a\",journal!D23/journal!D$8))","v":""},{"$f":"IF(journal!E23=\"\",\"\",IF(journal!E23=\"a\",\"a\",journal!E23/journal!E$8))","v":""},{"$f":"IF(journal!F23=\"\",\"\",IF(journal!F23=\"a\",\"a\",journal!F23/journal!F$8))","v":""},{"$f":"IF(journal!G23=\"\",\"\",IF(journal!G23=\"a\",\"a\",journal!G23/journal!G$8))","v":""},{"$f":"IF(journal!H23=\"\",\"\",IF(journal!H23=\"a\",\"a\",journal!H23/journal!H$8))","v":""},{"$f":"IF(journal!I23=\"\",\"\",IF(journal!I23=\"a\",\"a\",journal!I23/journal!I$8))","v":""},{"$f":"IF(journal!J23=\"\",\"\",IF(journal!J23=\"a\",\"a\",journal!J23/journal!J$8))","v":""},{"$f":"IF(journal!K23=\"\",\"\",IF(journal!K23=\"a\",\"a\",journal!K23/journal!K$8))","v":""},{"$f":"IF(journal!L23=\"\",\"\",IF(journal!L23=\"a\",\"a\",journal!L23/journal!L$8))","v":""},{"$f":"IF(journal!M23=\"\",\"\",IF(journal!M23=\"a\",\"a\",journal!M23/journal!M$8))","v":""},{"$f":"IF(journal!N23=\"\",\"\",IF(journal!N23=\"a\",\"a\",journal!N23/journal!N$8))","v":""},{"$f":"IF(journal!O23=\"\",\"\",IF(journal!O23=\"a\",\"a\",journal!O23/journal!O$8))","v":""},{"$f":"IF(journal!P23=\"\",\"\",IF(journal!P23=\"a\",\"a\",journal!P23/journal!P$8))","v":""},{"$f":"IF(journal!Q23=\"\",\"\",IF(journal!Q23=\"a\",\"a\",journal!Q23/journal!Q$8))","v":""},{"$f":"IF(journal!R23=\"\",\"\",IF(journal!R23=\"a\",\"a\",journal!R23/journal!R$8))","v":""},{"$f":"IF(journal!S23=\"\",\"\",IF(journal!S23=\"a\",\"a\",journal!S23/journal!S$8))","v":""},{"$f":"IF(journal!T23=\"\",\"\",IF(journal!T23=\"a\",\"a\",journal!T23/journal!T$8))","v":""},{"$f":"IF(journal!U23=\"\",\"\",IF(journal!U23=\"a\",\"a\",journal!U23/journal!U$8))","v":""},{"$f":"IF(journal!V23=\"\",\"\",IF(journal!V23=\"a\",\"a\",journal!V23/journal!V$8))","v":""},{"$f":"IF(journal!W23=\"\",\"\",IF(journal!W23=\"a\",\"a\",journal!W23/journal!W$8))","v":""},{"$f":"IF(journal!X23=\"\",\"\",IF(journal!X23=\"a\",\"a\",journal!X23/journal!X$8))","v":""},{"$f":"IF(journal!Y23=\"\",\"\",IF(journal!Y23=\"a\",\"a\",journal!Y23/journal!Y$8))","v":""},{"$f":"IF(journal!Z23=\"\",\"\",IF(journal!Z23=\"a\",\"a\",journal!Z23/journal!Z$8))","v":""},{"$f":"IF(journal!AA23=\"\",\"\",IF(journal!AA23=\"a\",\"a\",journal!AA23/journal!AA$8))","v":""},{"$f":"IF(journal!AB23=\"\",\"\",IF(journal!AB23=\"a\",\"a\",journal!AB23/journal!AB$8))","v":""},{"$f":"IF(journal!AC23=\"\",\"\",IF(journal!AC23=\"a\",\"a\",journal!AC23/journal!AC$8))","v":""},{"$f":"IF(journal!AD23=\"\",\"\",IF(journal!AD23=\"a\",\"a\",journal!AD23/journal!AD$8))","v":""},{"$f":"IF(journal!AE23=\"\",\"\",IF(journal!AE23=\"a\",\"a\",journal!AE23/journal!AE$8))","v":""},{"$f":"IF(journal!AF23=\"\",\"\",IF(journal!AF23=\"a\",\"a\",journal!AF23/journal!AF$8))","v":""},{"$f":"IF(journal!AG23=\"\",\"\",IF(journal!AG23=\"a\",\"a\",journal!AG23/journal!AG$8))","v":""},{"$f":"IF(journal!AH23=\"\",\"\",IF(journal!AH23=\"a\",\"a\",journal!AH23/journal!AH$8))","v":""},{"$f":"IF(journal!AI23=\"\",\"\",IF(journal!AI23=\"a\",\"a\",journal!AI23/journal!AI$8))","v":""},{"$f":"IF(journal!AJ23=\"\",\"\",IF(journal!AJ23=\"a\",\"a\",journal!AJ23/journal!AJ$8))","v":""},{"$f":"IF(journal!AK23=\"\",\"\",IF(journal!AK23=\"a\",\"a\",journal!AK23/journal!AK$8))","v":""},{"$f":"IF(journal!AL23=\"\",\"\",IF(journal!AL23=\"a\",\"a\",journal!AL23/journal!AL$8))","v":""},{"$f":"IF(journal!AM23=\"\",\"\",IF(journal!AM23=\"a\",\"a\",journal!AM23/journal!AM$8))","v":""},{"$f":"IF(journal!AN23=\"\",\"\",IF(journal!AN23=\"a\",\"a\",journal!AN23/journal!AN$8))","v":""},{"$f":"IF(journal!AO23=\"\",\"\",IF(journal!AO23=\"a\",\"a\",journal!AO23/journal!AO$8))","v":""},{"$f":"IF(journal!AP23=\"\",\"\",IF(journal!AP23=\"a\",\"a\",journal!AP23/journal!AP$8))","v":""},{"$f":"IF(journal!AQ23=\"\",\"\",IF(journal!AQ23=\"a\",\"a\",journal!AQ23/journal!AQ$8))","v":""},{"$f":"IF(journal!AR23=\"\",\"\",IF(journal!AR23=\"a\",\"a\",journal!AR23/journal!AR$8))","v":""},"","","",""]
[null,"V",{"$f":"IF(journal!C24=\"\",\"\",IF(journal!C24=\"a\",\"a\",journal!C24/journal!C$9))","v":""},{"$f":"IF(journal!D24=\"\",\"\",IF(journal!D24=\"a\",\"a\",journal!D24/journal!D$9))","v":""},{"$f":"IF(journal!E24=\"\",\"\",IF(journal!E24=\"a\",\"a\",journal!E24/journal!E$9))","v":""},{"$f":"IF(journal!F24=\"\",\"\",IF(journal!F24=\"a\",\"a\",journal!F24/journal!F$9))","v":""},{"$f":"IF(journal!G24=\"\",\"\",IF(journal!G24=\"a\",\"a\",journal!G24/journal!G$9))","v":""},{"$f":"IF(journal!H24=\"\",\"\",IF(journal!H24=\"a\",\"a\",journal!H24/journal!H$9))","v":""},{"$f":"IF(journal!I24=\"\",\"\",IF(journal!I24=\"a\",\"a\",journal!I24/journal!I$9))","v":""},{"$f":"IF(journal!J24=\"\",\"\",IF(journal!J24=\"a\",\"a\",journal!J24/journal!J$9))","v":""},{"$f":"IF(journal!K24=\"\",\"\",IF(journal!K24=\"a\",\"a\",journal!K24/journal!K$9))","v":""},{"$f":"IF(journal!L24=\"\",\"\",IF(journal!L24=\"a\",\"a\",journal!L24/journal!L$9))","v":""},{"$f":"IF(journal!M24=\"\",\"\",IF(journal!M24=\"a\",\"a\",journal!M24/journal!M$9))","v":""},{"$f":"IF(journal!N24=\"\",\"\",IF(journal!N24=\"a\",\"a\",journal!N24/journal!N$9))","v":""},{"$f":"IF(journal!O24=\"\",\"\",IF(journal!O24=\"a\",\"a\",journal!O24/journal!O$9))","v":""},{"$f":"IF(journal!P24=\"\",\"\",IF(journal!P24=\"a\",\"a\",journal!P24/journal!P$9))","v":""},{"$f":"IF(journal!Q24=\"\",\"\",IF(journal!Q24=\"a\",\"a\",journal!Q24/journal!Q$9))","v":""},{"$f":"IF(journal!R24=\"\",\"\",IF(journal!R24=\"a\",\"a\",journal!R24/journal!R$9))","v":""},{"$f":"IF(journal!S24=\"\",\"\",IF(journal!S24=\"a\",\"a\",journal!S24/journal!S$9))","v":""},{"$f":"IF(journal!T24=\"\",\"\",IF(journal!T24=\"a\",\"a\",journal!T24/journal!T$9))","v":""},{"$f":"IF(journal!U24=\"\",\"\",IF(journal!U24=\"a\",\"a\",journal!U24/journal!U$9))","v":""},{"$f":"IF(journal!V24=\"\",\"\",IF(journal!V24=\"a\",\"a\",journal!V24/journal!V$9))","v":""},{"$f":"IF(journal!W24=\"\",\"\",IF(journal!W24=\"a\",\"a\",journal!W24/journal!W$9))","v":""},{"$f":"IF(journal!X24=\"\",\"\",IF(journal!X24=\"a\",\"a\",journal!X24/journal!X$9))","v":""},{"$f":"IF(journal!Y24=\"\",\"\",IF(journal!Y24=\"a\",\"a\",journal!Y24/journal!Y$9))","v":""},{"$f":"IF(journal!Z24=\"\",\"\",IF(journal!Z24=\"a\",\"a\",journal!Z24/journal!Z$9))","v":""},{"$f":"IF(journal!AA24=\"\",\"\",IF(journal!AA24=\"a\",\"a\",journal!AA24/journal!AA$9))","v":""},{"$f":"IF(journal!AB24=\"\",\"\",IF(journal!AB24=\"a\",\"a\",journal!AB24/journal!AB$9))","v":""},{"$f":"IF(journal!AC24=\"\",\"\",IF(journal!AC24=\"a\",\"a\",journal!AC24/journal!AC$9))","v":""},{"$f":"IF(journal!AD24=\"\",\"\",IF(journal!AD24=\"a\",\"a\",journal!AD24/journal!AD$9))","v":""},{"$f":"IF(journal!AE24=\"\",\"\",IF(journal!AE24=\"a\",\"a\",journal!AE24/journal!AE$9))","v":""},{"$f":"IF(journal!AF24=\"\",\"\",IF(journal!AF24=\"a\",\"a\",journal!AF24/journal!AF$9))","v":""},{"$f":"IF(journal!AG24=\"\",\"\",IF(journal!AG24=\"a\",\"a\",journal!AG24/journal!AG$9))","v":""},{"$f":"IF(journal!AH24=\"\",\"\",IF(journal!AH24=\"a\",\"a\",journal!AH24/journal!AH$9))","v":""},{"$f":"IF(journal!AI24=\"\",\"\",IF(journal!AI24=\"a\",\"a\",journal!AI24/journal!AI$9))","v":""},{"$f":"IF(journal!AJ24=\"\",\"\",IF(journal!AJ24=\"a\",\"a\",journal!AJ24/journal!AJ$9))","v":""},{"$f":"IF(journal!AK24=\"\",\"\",IF(journal!AK24=\"a\",\"a\",journal!AK24/journal!AK$9))","v":""},{"$f":"IF(journal!AL24=\"\",\"\",IF(journal!AL24=\"a\",\"a\",journal!AL24/journal!AL$9))","v":""},{"$f":"IF(journal!AM24=\"\",\"\",IF(journal!AM24=\"a\",\"a\",journal!AM24/journal!AM$9))","v":""},{"$f":"IF(journal!AN24=\"\",\"\",IF(journal!AN24=\"a\",\"a\",journal!AN24/journal!AN$9))","v":""},{"$f":"IF(journal!AO24=\"\",\"\",IF(journal!AO24=\"a\",\"a\",journal!AO24/journal!AO$9))","v":""},{"$f":"IF(journal!AP24=\"\",\"\",IF(journal!AP24=\"a\",\"a\",journal!AP24/journal!AP$9))","v":""},{"$f":"IF(journal!AQ24=\"\",\"\",IF(journal!AQ24=\"a\",\"a\",journal!AQ24/journal!AQ$9))","v":""},{"$f":"IF(journal!AR24=\"\",\"\",IF(journal!AR24=\"a\",\"a\",journal!AR24/journal!AR$9))","v":""},"","","",""]
[null,"C",{"$f":"IF(journal!C25=\"\",\"\",IF(journal!C25=\"a\",\"a\",journal!C25/journal!C$10))","v":""},{"$f":"IF(journal!D25=\"\",\"\",IF(journal!D25=\"a\",\"a\",journal!D25/journal!D$10))","v":""},{"$f":"IF(journal!E25=\"\",\"\",IF(journal!E25=\"a\",\"a\",journal!E25/journal!E$10))","v":""},{"$f":"IF(journal!F25=\"\",\"\",IF(journal!F25=\"a\",\"a\",journal!F25/journal!F$10))","v":""},{"$f":"IF(journal!G25=\"\",\"\",IF(journal!G25=\"a\",\"a\",journal!G25/journal!G$10))","v":""},{"$f":"IF(journal!H25=\"\",\"\",IF(journal!H25=\"a\",\"a\",journal!H25/journal!H$10))","v":""},{"$f":"IF(journal!I25=\"\",\"\",IF(journal!I25=\"a\",\"a\",journal!I25/journal!I$10))","v":""},{"$f":"IF(journal!J25=\"\",\"\",IF(journal!J25=\"a\",\"a\",journal!J25/journal!J$10))","v":""},{"$f":"IF(journal!K25=\"\",\"\",IF(journal!K25=\"a\",\"a\",journal!K25/journal!K$10))","v":""},{"$f":"IF(journal!L25=\"\",\"\",IF(journal!L25=\"a\",\"a\",journal!L25/journal!L$10))","v":""},{"$f":"IF(journal!M25=\"\",\"\",IF(journal!M25=\"a\",\"a\",journal!M25/journal!M$10))","v":""},{"$f":"IF(journal!N25=\"\",\"\",IF(journal!N25=\"a\",\"a\",journal!N25/journal!N$10))","v":""},{"$f":"IF(journal!O25=\"\",\"\",IF(journal!O25=\"a\",\"a\",journal!O25/journal!O$10))","v":""},{"$f":"IF(journal!P25=\"\",\"\",IF(journal!P25=\"a\",\"a\",journal!P25/journal!P$10))","v":""},{"$f":"IF(journal!Q25=\"\",\"\",IF(journal!Q25=\"a\",\"a\",journal!Q25/journal!Q$10))","v":""},{"$f":"IF(journal!R25=\"\",\"\",IF(journal!R25=\"a\",\"a\",journal!R25/journal!R$10))","v":""},{"$f":"IF(journal!S25=\"\",\"\",IF(journal!S25=\"a\",\"a\",journal!S25/journal!S$10))","v":""},{"$f":"IF(journal!T25=\"\",\"\",IF(journal!T25=\"a\",\"a\",journal!T25/journal!T$10))","v":""},{"$f":"IF(journal!U25=\"\",\"\",IF(journal!U25=\"a\",\"a\",journal!U25/journal!U$10))","v":""},{"$f":"IF(journal!V25=\"\",\"\",IF(journal!V25=\"a\",\"a\",journal!V25/journal!V$10))","v":""},{"$f":"IF(journal!W25=\"\",\"\",IF(journal!W25=\"a\",\"a\",journal!W25/journal!W$10))","v":""},{"$f":"IF(journal!X25=\"\",\"\",IF(journal!X25=\"a\",\"a\",journal!X25/journal!X$10))","v":""},{"$f":"IF(journal!Y25=\"\",\"\",IF(journal!Y25=\"a\",\"a\",journal!Y25/journal!Y$10))","v":""},{"$f":"IF(journal!Z25=\"\",\"\",IF(journal!Z25=\"a\",\"a\",journal!Z25/journal!Z$10))","v":""},{"$f":"IF(journal!AA25=\"\",\"\",IF(journal!AA25=\"a\",\"a\",journal!AA25/journal!AA$10))","v":""},{"$f":"IF(journal!AB25=\"\",\"\",IF(journal!AB25=\"a\",\"a\",journal!AB25/journal!AB$10))","v":""},{"$f":"IF(journal!AC25=\"\",\"\",IF(journal!AC25=\"a\",\"a\",journal!AC25/journal!AC$10))","v":""},{"$f":"IF(journal!AD25=\"\",\"\",IF(journal!AD25=\"a\",\"a\",journal!AD25/journal!AD$10))","v":""},{"$f":"IF(journal!AE25=\"\",\"\",IF(journal!AE25=\"a\",\"a\",journal!AE25/journal!AE$10))","v":""},{"$f":"IF(journal!AF25=\"\",\"\",IF(journal!AF25=\"a\",\"a\",journal!AF25/journal!AF$10))","v":""},{"$f":"IF(journal!AG25=\"\",\"\",IF(journal!AG25=\"a\",\"a\",journal!AG25/journal!AG$10))","v":""},{"$f":"IF(journal!AH25=\"\",\"\",IF(journal!AH25=\"a\",\"a\",journal!AH25/journal!AH$10))","v":""},{"$f":"IF(journal!AI25=\"\",\"\",IF(journal!AI25=\"a\",\"a\",journal!AI25/journal!AI$10))","v":""},{"$f":"IF(journal!AJ25=\"\",\"\",IF(journal!AJ25=\"a\",\"a\",journal!AJ25/journal!AJ$10))","v":""},{"$f":"IF(journal!AK25=\"\",\"\",IF(journal!AK25=\"a\",\"a\",journal!AK25/journal!AK$10))","v":""},{"$f":"IF(journal!AL25=\"\",\"\",IF(journal!AL25=\"a\",\"a\",journal!AL25/journal!AL$10))","v":""},{"$f":"IF(journal!AM25=\"\",\"\",IF(journal!AM25=\"a\",\"a\",journal!AM25/journal!AM$10))","v":""},{"$f":"IF(journal!AN25=\"\",\"\",IF(journal!AN25=\"a\",\"a\",journal!AN25/journal!AN$10))","v":""},{"$f":"IF(journal!AO25=\"\",\"\",IF(journal!AO25=\"a\",\"a\",journal!AO25/journal!AO$10))","v":""},{"$f":"IF(journal!AP25=\"\",\"\",IF(journal!AP25=\"a\",\"a\",journal!AP25/journal!AP$10))","v":""},{"$f":"IF(journal!AQ25=\"\",\"\",IF(journal!AQ25=\"a\",\"a\",journal!AQ25/journal!AQ$10))","v":""},{"$f":"IF(journal!AR25=\"\",\"\",IF(journal!AR25=\"a\",\"a\",journal!AR25/journal!AR$10))","v":""},"","","",""]
[{"$f":"Saisie!A14","v":0},"S",{"$f":"IF(journal!C26=\"\",\"\",IF(journal!C26=\"a\",\"a\",journal!C26/journal!C$6))","v":""},{"$f":"IF(journal!D26=\"\",\"\",IF(journal!D26=\"a\",\"a\",journal!D26/journal!D$6))","v":""},{"$f":"IF(journal!E26=\"\",\"\",IF(journal!E26=\"a\",\"a\",journal!E26/journal!E$6))","v":""},{"$f":"IF(journal!F26=\"\",\"\",IF(journal!F26=\"a\",\"a\",journal!F26/journal!F$6))","v":""},{"$f":"IF(journal!G26=\"\",\"\",IF(journal!G26=\"a\",\"a\",journal!G26/journal!G$6))","v":""},{"$f":"IF(journal!H26=\"\",\"\",IF(journal!H26=\"a\",\"a\",journal!H26/journal!H$6))","v":""},{"$f":"IF(journal!I26=\"\",\"\",IF(journal!I26=\"a\",\"a\",journal!I26/journal!I$6))","v":""},{"$f":"IF(journal!J26=\"\",\"\",IF(journal!J26=\"a\",\"a\",journal!J26/journal!J$6))","v":""},{"$f":"IF(journal!K26=\"\",\"\",IF(journal!K26=\"a\",\"a\",journal!K26/journal!K$6))","v":""},{"$f":"IF(journal!L26=\"\",\"\",IF(journal!L26=\"a\",\"a\",journal!L26/journal!L$6))","v":""},{"$f":"IF(journal!M26=\"\",\"\",IF(journal!M26=\"a\",\"a\",journal!M26/journal!M$6))","v":""},{"$f":"IF(journal!N26=\"\",\"\",IF(journal!N26=\"a\",\"a\",journal!N26/journal!N$6))","v":""},{"$f":"IF(journal!O26=\"\",\"\",IF(journal!O26=\"a\",\"a\",journal!O26/journal!O$6))","v":""},{"$f":"IF(journal!P26=\"\",\"\",IF(journal!P26=\"a\",\"a\",journal!P26/journal!P$6))","v":""},{"$f":"IF(journal!Q26=\"\",\"\",IF(journal!Q26=\"a\",\"a\",journal!Q26/journal!Q$6))","v":""},{"$f":"IF(journal!R26=\"\",\"\",IF(journal!R26=\"a\",\"a\",journal!R26/journal!R$6))","v":""},{"$f":"IF(journal!S26=\"\",\"\",IF(journal!S26=\"a\",\"a\",journal!S26/journal!S$6))","v":""},{"$f":"IF(journal!T26=\"\",\"\",IF(journal!T26=\"a\",\"a\",journal!T26/journal!T$6))","v":""},{"$f":"IF(journal!U26=\"\",\"\",IF(journal!U26=\"a\",\"a\",journal!U26/journal!U$6))","v":""},{"$f":"IF(journal!V26=\"\",\"\",IF(journal!V26=\"a\",\"a\",journal!V26/journal!V$6))","v":""},{"$f":"IF(journal!W26=\"\",\"\",IF(journal!W26=\"a\",\"a\",journal!W26/journal!W$6))","v":""},{"$f":"IF(journal!X26=\"\",\"\",IF(journal!X26=\"a\",\"a\",journal!X26/journal!X$6))","v":""},{"$f":"IF(journal!Y26=\"\",\"\",IF(journal!Y26=\"a\",\"a\",journal!Y26/journal!Y$6))","v":""},{"$f":"IF(journal!Z26=\"\",\"\",IF(journal!Z26=\"a\",\"a\",journal!Z26/journal!Z$6))","v":""},{"$f":"IF(journal!AA26=\"\",\"\",IF(journal!AA26=\"a\",\"a\",journal!AA26/journal!AA$6))","v":""},{"$f":"IF(journal!AB26=\"\",\"\",IF(journal!AB26=\"a\",\"a\",journal!AB26/journal!AB$6))","v":""},{"$f":"IF(journal!AC26=\"\",\"\",IF(journal!AC26=\"a\",\"a\",journal!AC26/journal!AC$6))","v":""},{"$f":"IF(journal!AD26=\"\",\"\",IF(journal!AD26=\"a\",\"a\",journal!AD26/journal!AD$6))","v":""},{"$f":"IF(journal!AE26=\"\",\"\",IF(journal!AE26=\"a\",\"a\",journal!AE26/journal!AE$6))","v":""},{"$f":"IF(journal!AF26=\"\",\"\",IF(journal!AF26=\"a\",\"a\",journal!AF26/journal!AF$6))","v":""},{"$f":"IF(journal!AG26=\"\",\"\",IF(journal!AG26=\"a\",\"a\",journal!AG26/journal!AG$6))","v":""},{"$f":"IF(journal!AH26=\"\",\"\",IF(journal!AH26=\"a\",\"a\",journal!AH26/journal!AH$6))","v":""},{"$f":"IF(journal!AI26=\"\",\"\",IF(journal!AI26=\"a\",\"a\",journal!AI26/journal!AI$6))","v":""},{"$f":"IF(journal!AJ26=\"\",\"\",IF(journal!AJ26=\"a\",\"a\",journal!AJ26/journal!AJ$6))","v":""},{"$f":"IF(journal!AK26=\"\",\"\",IF(journal!AK26=\"a\",\"a\",journal!AK26/journal!AK$6))","v":""},{"$f":"IF(journal!AL26=\"\",\"\",IF(journal!AL26=\"a\",\"a\",journal!AL26/journal!AL$6))","v":""},{"$f":"IF(journal!AM26=\"\",\"\",IF(journal!AM26=\"a\",\"a\",journal!AM26/journal!AM$6))","v":""},{"$f":"IF(journal!AN26=\"\",\"\",IF(journal!AN26=\"a\",\"a\",journal!AN26/journal!AN$6))","v":""},{"$f":"IF(journal!AO26=\"\",\"\",IF(journal!AO26=\"a\",\"a\",journal!AO26/journal!AO$6))","v":""},{"$f":"IF(journal!AP26=\"\",\"\",IF(journal!AP26=\"a\",\"a\",journal!AP26/journal!AP$6))","v":""},{"$f":"IF(journal!AQ26=\"\",\"\",IF(journal!AQ26=\"a\",\"a\",journal!AQ26/journal!AQ$6))","v":""},{"$f":"IF(journal!AR26=\"\",\"\",IF(journal!AR26=\"a\",\"a\",journal!AR26/journal!AR$6))","v":""},"","","",""]
[null,"A",{"$f":"IF(journal!C27=\"\",\"\",IF(journal!C27=\"a\",\"a\",journal!C27/journal!C$7))","v":""},{"$f":"IF(journal!D27=\"\",\"\",IF(journal!D27=\"a\",\"a\",journal!D27/journal!D$7))","v":""},{"$f":"IF(journal!E27=\"\",\"\",IF(journal!E27=\"a\",\"a\",journal!E27/journal!E$7))","v":""},{"$f":"IF(journal!F27=\"\",\"\",IF(journal!F27=\"a\",\"a\",journal!F27/journal!F$7))","v":""},{"$f":"IF(journal!G27=\"\",\"\",IF(journal!G27=\"a\",\"a\",journal!G27/journal!G$7))","v":""},{"$f":"IF(journal!H27=\"\",\"\",IF(journal!H27=\"a\",\"a\",journal!H27/journal!H$7))","v":""},{"$f":"IF(journal!I27=\"\",\"\",IF(journal!I27=\"a\",\"a\",journal!I27/journal!I$7))","v":""},{"$f":"IF(journal!J27=\"\",\"\",IF(journal!J27=\"a\",\"a\",journal!J27/journal!J$7))","v":""},{"$f":"IF(journal!K27=\"\",\"\",IF(journal!K27=\"a\",\"a\",journal!K27/journal!K$7))","v":""},{"$f":"IF(journal!L27=\"\",\"\",IF(journal!L27=\"a\",\"a\",journal!L27/journal!L$7))","v":""},{"$f":"IF(journal!M27=\"\",\"\",IF(journal!M27=\"a\",\"a\",journal!M27/journal!M$7))","v":""},{"$f":"IF(journal!N27=\"\",\"\",IF(journal!N27=\"a\",\"a\",journal!N27/journal!N$7))","v":""},{"$f":"IF(journal!O27=\"\",\"\",IF(journal!O27=\"a\",\"a\",journal!O27/journal!O$7))","v":""},{"$f":"IF(journal!P27=\"\",\"\",IF(journal!P27=\"a\",\"a\",journal!P27/journal!P$7))","v":""},{"$f":"IF(journal!Q27=\"\",\"\",IF(journal!Q27=\"a\",\"a\",journal!Q27/journal!Q$7))","v":""},{"$f":"IF(journal!R27=\"\",\"\",IF(journal!R27=\"a\",\"a\",journal!R27/journal!R$7))","v":""},{"$f":"IF(journal!S27=\"\",\"\",IF(journal!S27=\"a\",\"a\",journal!S27/journal!S$7))","v":""},{"$f":"IF(journal!T27=\"\",\"\",IF(journal!T27=\"a\",\"a\",journal!T27/journal!T$7))","v":""},{"$f":"IF(journal!U27=\"\",\"\",IF(journal!U27=\"a\",\"a\",journal!U27/journal!U$7))","v":""},{"$f":"IF(journal!V27=\"\",\"\",IF(journal!V27=\"a\",\"a\",journal!V27/journal!V$7))","v":""},{"$f":"IF(journal!W27=\"\",\"\",IF(journal!W27=\"a\",\"a\",journal!W27/journal!W$7))","v":""},{"$f":"IF(journal!X27=\"\",\"\",IF(journal!X27=\"a\",\"a\",journal!X27/journal!X$7))","v":""},{"$f":"IF(journal!Y27=\"\",\"\",IF(journal!Y27=\"a\",\"a\",journal!Y27/journal!Y$7))","v":""},{"$f":"IF(journal!Z27=\"\",\"\",IF(journal!Z27=\"a\",\"a\",journal!Z27/journal!Z$7))","v":""},{"$f":"IF(journal!AA27=\"\",\"\",IF(journal!AA27=\"a\",\"a\",journal!AA27/journal!AA$7))","v":""},{"$f":"IF(journal!AB27=\"\",\"\",IF(journal!AB27=\"a\",\"a\",journal!AB27/journal!AB$7))","v":""},{"$f":"IF(journal!AC27=\"\",\"\",IF(journal!AC27=\"a\",\"a\",journal!AC27/journal!AC$7))","v":""},{"$f":"IF(journal!AD27=\"\",\"\",IF(journal!AD27=\"a\",\"a\",journal!AD27/journal!AD$7))","v":""},{"$f":"IF(journal!AE27=\"\",\"\",IF(journal!AE27=\"a\",\"a\",journal!AE27/journal!AE$7))","v":""},{"$f":"IF(journal!AF27=\"\",\"\",IF(journal!AF27=\"a\",\"a\",journal!AF27/journal!AF$7))","v":""},{"$f":"IF(journal!AG27=\"\",\"\",IF(journal!AG27=\"a\",\"a\",journal!AG27/journal!AG$7))","v":""},{"$f":"IF(journal!AH27=\"\",\"\",IF(journal!AH27=\"a\",\"a\",journal!AH27/journal!AH$7))","v":""},{"$f":"IF(journal!AI27=\"\",\"\",IF(journal!AI27=\"a\",\"a\",journal!AI27/journal!AI$7))","v":""},{"$f":"IF(journal!AJ27=\"\",\"\",IF(journal!AJ27=\"a\",\"a\",journal!AJ27/journal!AJ$7))","v":""},{"$f":"IF(journal!AK27=\"\",\"\",IF(journal!AK27=\"a\",\"a\",journal!AK27/journal!AK$7))","v":""},{"$f":"IF(journal!AL27=\"\",\"\",IF(journal!AL27=\"a\",\"a\",journal!AL27/journal!AL$7))","v":""},{"$f":"IF(journal!AM27=\"\",\"\",IF(journal!AM27=\"a\",\"a\",journal!AM27/journal!AM$7))","v":""},{"$f":"IF(journal!AN27=\"\",\"\",IF(journal!AN27=\"a\",\"a\",journal!AN27/journal!AN$7))","v":""},{"$f":"IF(journal!AO27=\"\",\"\",IF(journal!AO27=\"a\",\"a\",journal!AO27/journal!AO$7))","v":""},{"$f":"IF(journal!AP27=\"\",\"\",IF(journal!AP27=\"a\",\"a\",journal!AP27/journal!AP$7))","v":""},{"$f":"IF(journal!AQ27=\"\",\"\",IF(journal!AQ27=\"a\",\"a\",journal!AQ27/journal!AQ$7))","v":""},{"$f":"IF(journal!AR27=\"\",\"\",IF(journal!AR27=\"a\",\"a\",journal!AR27/journal!AR$7))","v":""},"","","",""]
[null,"R",{"$f":"IF(journal!C28=\"\",\"\",IF(journal!C28=\"a\",\"a\",journal!C28/journal!C$8))","v":""},{"$f":"IF(journal!D28=\"\",\"\",IF(journal!D28=\"a\",\"a\",journal!D28/journal!D$8))","v":""},{"$f":"IF(journal!E28=\"\",\"\",IF(journal!E28=\"a\",\"a\",journal!E28/journal!E$8))","v":""},{"$f":"IF(journal!F28=\"\",\"\",IF(journal!F28=\"a\",\"a\",journal!F28/journal!F$8))","v":""},{"$f":"IF(journal!G28=\"\",\"\",IF(journal!G28=\"a\",\"a\",journal!G28/journal!G$8))","v":""},{"$f":"IF(journal!H28=\"\",\"\",IF(journal!H28=\"a\",\"a\",journal!H28/journal!H$8))","v":""},{"$f":"IF(journal!I28=\"\",\"\",IF(journal!I28=\"a\",\"a\",journal!I28/journal!I$8))","v":""},{"$f":"IF(journal!J28=\"\",\"\",IF(journal!J28=\"a\",\"a\",journal!J28/journal!J$8))","v":""},{"$f":"IF(journal!K28=\"\",\"\",IF(journal!K28=\"a\",\"a\",journal!K28/journal!K$8))","v":""},{"$f":"IF(journal!L28=\"\",\"\",IF(journal!L28=\"a\",\"a\",journal!L28/journal!L$8))","v":""},{"$f":"IF(journal!M28=\"\",\"\",IF(journal!M28=\"a\",\"a\",journal!M28/journal!M$8))","v":""},{"$f":"IF(journal!N28=\"\",\"\",IF(journal!N28=\"a\",\"a\",journal!N28/journal!N$8))","v":""},{"$f":"IF(journal!O28=\"\",\"\",IF(journal!O28=\"a\",\"a\",journal!O28/journal!O$8))","v":""},{"$f":"IF(journal!P28=\"\",\"\",IF(journal!P28=\"a\",\"a\",journal!P28/journal!P$8))","v":""},{"$f":"IF(journal!Q28=\"\",\"\",IF(journal!Q28=\"a\",\"a\",journal!Q28/journal!Q$8))","v":""},{"$f":"IF(journal!R28=\"\",\"\",IF(journal!R28=\"a\",\"a\",journal!R28/journal!R$8))","v":""},{"$f":"IF(journal!S28=\"\",\"\",IF(journal!S28=\"a\",\"a\",journal!S28/journal!S$8))","v":""},{"$f":"IF(journal!T28=\"\",\"\",IF(journal!T28=\"a\",\"a\",journal!T28/journal!T$8))","v":""},{"$f":"IF(journal!U28=\"\",\"\",IF(journal!U28=\"a\",\"a\",journal!U28/journal!U$8))","v":""},{"$f":"IF(journal!V28=\"\",\"\",IF(journal!V28=\"a\",\"a\",journal!V28/journal!V$8))","v":""},{"$f":"IF(journal!W28=\"\",\"\",IF(journal!W28=\"a\",\"a\",journal!W28/journal!W$8))","v":""},{"$f":"IF(journal!X28=\"\",\"\",IF(journal!X28=\"a\",\"a\",journal!X28/journal!X$8))","v":""},{"$f":"IF(journal!Y28=\"\",\"\",IF(journal!Y28=\"a\",\"a\",journal!Y28/journal!Y$8))","v":""},{"$f":"IF(journal!Z28=\"\",\"\",IF(journal!Z28=\"a\",\"a\",journal!Z28/journal!Z$8))","v":""},{"$f":"IF(journal!AA28=\"\",\"\",IF(journal!AA28=\"a\",\"a\",journal!AA28/journal!AA$8))","v":""},{"$f":"IF(journal!AB28=\"\",\"\",IF(journal!AB28=\"a\",\"a\",journal!AB28/journal!AB$8))","v":""},{"$f":"IF(journal!AC28=\"\",\"\",IF(journal!AC28=\"a\",\"a\",journal!AC28/journal!AC$8))","v":""},{"$f":"IF(journal!AD28=\"\",\"\",IF(journal!AD28=\"a\",\"a\",journal!AD28/journal!AD$8))","v":""},{"$f":"IF(journal!AE28=\"\",\"\",IF(journal!AE28=\"a\",\"a\",journal!AE28/journal!AE$8))","v":""},{"$f":"IF(journal!AF28=\"\",\"\",IF(journal!AF28=\"a\",\"a\",journal!AF28/journal!AF$8))","v":""},{"$f":"IF(journal!AG28=\"\",\"\",IF(journal!AG28=\"a\",\"a\",journal!AG28/journal!AG$8))","v":""},{"$f":"IF(journal!AH28=\"\",\"\",IF(journal!AH28=\"a\",\"a\",journal!AH28/journal!AH$8))","v":""},{"$f":"IF(journal!AI28=\"\",\"\",IF(journal!AI28=\"a\",\"a\",journal!AI28/journal!AI$8))","v":""},{"$f":"IF(journal!AJ28=\"\",\"\",IF(journal!AJ28=\"a\",\"a\",journal!AJ28/journal!AJ$8))","v":""},{"$f":"IF(journal!AK28=\"\",\"\",IF(journal!AK28=\"a\",\"a\",journal!AK28/journal!AK$8))","v":""},{"$f":"IF(journal!AL28=\"\",\"\",IF(journal!AL28=\"a\",\"a\",journal!AL28/journal!AL$8))","v":""},{"$f":"IF(journal!AM28=\"\",\"\",IF(journal!AM28=\"a\",\"a\",journal!AM28/journal!AM$8))","v":""},{"$f":"IF(journal!AN28=\"\",\"\",IF(journal!AN28=\"a\",\"a\",journal!AN28/journal!AN$8))","v":""},{"$f":"IF(journal!AO28=\"\",\"\",IF(journal!AO28=\"a\",\"a\",journal!AO28/journal!AO$8))","v":""},{"$f":"IF(journal!AP28=\"\",\"\",IF(journal!AP28=\"a\",\"a\",journal!AP28/journal!AP$8))","v":""},{"$f":"IF(journal!AQ28=\"\",\"\",IF(journal!AQ28=\"a\",\"a\",journal!AQ28/journal!AQ$8))","v":""},{"$f":"IF(journal!AR28=\"\",\"\",IF(journal!AR28=\"a\",\"a\",journal!AR28/journal!AR$8))","v":""},"","","",""]
[null,"V",{"$f":"IF(journal!C29=\"\",\"\",IF(journal!C29=\"a\",\"a\",journal!C29/journal!C$9))","v":""},{"$f":"IF(journal!D29=\"\",\"\",IF(journal!D29=\"a\",\"a\",journal!D29/journal!D$9))","v":""},{"$f":"IF(journal!E29=\"\",\"\",IF(journal!E29=\"a\",\"a\",journal!E29/journal!E$9))","v":""},{"$f":"IF(journal!F29=\"\",\"\",IF(journal!F29=\"a\",\"a\",journal!F29/journal!F$9))","v":""},{"$f":"IF(journal!G29=\"\",\"\",IF(journal!G29=\"a\",\"a\",journal!G29/journal!G$9))","v":""},{"$f":"IF(journal!H29=\"\",\"\",IF(journal!H29=\"a\",\"a\",journal!H29/journal!H$9))","v":""},{"$f":"IF(journal!I29=\"\",\"\",IF(journal!I29=\"a\",\"a\",journal!I29/journal!I$9))","v":""},{"$f":"IF(journal!J29=\"\",\"\",IF(journal!J29=\"a\",\"a\",journal!J29/journal!J$9))","v":""},{"$f":"IF(journal!K29=\"\",\"\",IF(journal!K29=\"a\",\"a\",journal!K29/journal!K$9))","v":""},{"$f":"IF(journal!L29=\"\",\"\",IF(journal!L29=\"a\",\"a\",journal!L29/journal!L$9))","v":""},{"$f":"IF(journal!M29=\"\",\"\",IF(journal!M29=\"a\",\"a\",journal!M29/journal!M$9))","v":""},{"$f":"IF(journal!N29=\"\",\"\",IF(journal!N29=\"a\",\"a\",journal!N29/journal!N$9))","v":""},{"$f":"IF(journal!O29=\"\",\"\",IF(journal!O29=\"a\",\"a\",journal!O29/journal!O$9))","v":""},{"$f":"IF(journal!P29=\"\",\"\",IF(journal!P29=\"a\",\"a\",journal!P29/journal!P$9))","v":""},{"$f":"IF(journal!Q29=\"\",\"\",IF(journal!Q29=\"a\",\"a\",journal!Q29/journal!Q$9))","v":""},{"$f":"IF(journal!R29=\"\",\"\",IF(journal!R29=\"a\",\"a\",journal!R29/journal!R$9))","v":""},{"$f":"IF(journal!S29=\"\",\"\",IF(journal!S29=\"a\",\"a\",journal!S29/journal!S$9))","v":""},{"$f":"IF(journal!T29=\"\",\"\",IF(journal!T29=\"a\",\"a\",journal!T29/journal!T$9))","v":""},{"$f":"IF(journal!U29=\"\",\"\",IF(journal!U29=\"a\",\"a\",journal!U29/journal!U$9))","v":""},{"$f":"IF(journal!V29=\"\",\"\",IF(journal!V29=\"a\",\"a\",journal!V29/journal!V$9))","v":""},{"$f":"IF(journal!W29=\"\",\"\",IF(journal!W29=\"a\",\"a\",journal!W29/journal!W$9))","v":""},{"$f":"IF(journal!X29=\"\",\"\",IF(journal!X29=\"a\",\"a\",journal!X29/journal!X$9))","v":""},{"$f":"IF(journal!Y29=\"\",\"\",IF(journal!Y29=\"a\",\"a\",journal!Y29/journal!Y$9))","v":""},{"$f":"IF(journal!Z29=\"\",\"\",IF(journal!Z29=\"a\",\"a\",journal!Z29/journal!Z$9))","v":""},{"$f":"IF(journal!AA29=\"\",\"\",IF(journal!AA29=\"a\",\"a\",journal!AA29/journal!AA$9))","v":""},{"$f":"IF(journal!AB29=\"\",\"\",IF(journal!AB29=\"a\",\"a\",journal!AB29/journal!AB$9))","v":""},{"$f":"IF(journal!AC29=\"\",\"\",IF(journal!AC29=\"a\",\"a\",journal!AC29/journal!AC$9))","v":""},{"$f":"IF(journal!AD29=\"\",\"\",IF(journal!AD29=\"a\",\"a\",journal!AD29/journal!AD$9))","v":""},{"$f":"IF(journal!AE29=\"\",\"\",IF(journal!AE29=\"a\",\"a\",journal!AE29/journal!AE$9))","v":""},{"$f":"IF(journal!AF29=\"\",\"\",IF(journal!AF29=\"a\",\"a\",journal!AF29/journal!AF$9))","v":""},{"$f":"IF(journal!AG29=\"\",\"\",IF(journal!AG29=\"a\",\"a\",journal!AG29/journal!AG$9))","v":""},{"$f":"IF(journal!AH29=\"\",\"\",IF(journal!AH29=\"a\",\"a\",journal!AH29/journal!AH$9))","v":""},{"$f":"IF(journal!AI29=\"\",\"\",IF(journal!AI29=\"a\",\"a\",journal!AI29/journal!AI$9))","v":""},{"$f":"IF(journal!AJ29=\"\",\"\",IF(journal!AJ29=\"a\",\"a\",journal!AJ29/journal!AJ$9))","v":""},{"$f":"IF(journal!AK29=\"\",\"\",IF(journal!AK29=\"a\",\"a\",journal!AK29/journal!AK$9))","v":""},{"$f":"IF(journal!AL29=\"\",\"\",IF(journal!AL29=\"a\",\"a\",journal!AL29/journal!AL$9))","v":""},{"$f":"IF(journal!AM29=\"\",\"\",IF(journal!AM29=\"a\",\"a\",journal!AM29/journal!AM$9))","v":""},{"$f":"IF(journal!AN29=\"\",\"\",IF(journal!AN29=\"a\",\"a\",journal!AN29/journal!AN$9))","v":""},{"$f":"IF(journal!AO29=\"\",\"\",IF(journal!AO29=\"a\",\"a\",journal!AO29/journal!AO$9))","v":""},{"$f":"IF(journal!AP29=\"\",\"\",IF(journal!AP29=\"a\",\"a\",journal!AP29/journal!AP$9))","v":""},{"$f":"IF(journal!AQ29=\"\",\"\",IF(journal!AQ29=\"a\",\"a\",journal!AQ29/journal!AQ$9))","v":""},{"$f":"IF(journal!AR29=\"\",\"\",IF(journal!AR29=\"a\",\"a\",journal!AR29/journal!AR$9))","v":""},"","","",""]
[null,"C",{"$f":"IF(journal!C30=\"\",\"\",IF(journal!C30=\"a\",\"a\",journal!C30/journal!C$10))","v":""},{"$f":"IF(journal!D30=\"\",\"\",IF(journal!D30=\"a\",\"a\",journal!D30/journal!D$10))","v":""},{"$f":"IF(journal!E30=\"\",\"\",IF(journal!E30=\"a\",\"a\",journal!E30/journal!E$10))","v":""},{"$f":"IF(journal!F30=\"\",\"\",IF(journal!F30=\"a\",\"a\",journal!F30/journal!F$10))","v":""},{"$f":"IF(journal!G30=\"\",\"\",IF(journal!G30=\"a\",\"a\",journal!G30/journal!G$10))","v":""},{"$f":"IF(journal!H30=\"\",\"\",IF(journal!H30=\"a\",\"a\",journal!H30/journal!H$10))","v":""},{"$f":"IF(journal!I30=\"\",\"\",IF(journal!I30=\"a\",\"a\",journal!I30/journal!I$10))","v":""},{"$f":"IF(journal!J30=\"\",\"\",IF(journal!J30=\"a\",\"a\",journal!J30/journal!J$10))","v":""},{"$f":"IF(journal!K30=\"\",\"\",IF(journal!K30=\"a\",\"a\",journal!K30/journal!K$10))","v":""},{"$f":"IF(journal!L30=\"\",\"\",IF(journal!L30=\"a\",\"a\",journal!L30/journal!L$10))","v":""},{"$f":"IF(journal!M30=\"\",\"\",IF(journal!M30=\"a\",\"a\",journal!M30/journal!M$10))","v":""},{"$f":"IF(journal!N30=\"\",\"\",IF(journal!N30=\"a\",\"a\",journal!N30/journal!N$10))","v":""},{"$f":"IF(journal!O30=\"\",\"\",IF(journal!O30=\"a\",\"a\",journal!O30/journal!O$10))","v":""},{"$f":"IF(journal!P30=\"\",\"\",IF(journal!P30=\"a\",\"a\",journal!P30/journal!P$10))","v":""},{"$f":"IF(journal!Q30=\"\",\"\",IF(journal!Q30=\"a\",\"a\",journal!Q30/journal!Q$10))","v":""},{"$f":"IF(journal!R30=\"\",\"\",IF(journal!R30=\"a\",\"a\",journal!R30/journal!R$10))","v":""},{"$f":"IF(journal!S30=\"\",\"\",IF(journal!S30=\"a\",\"a\",journal!S30/journal!S$10))","v":""},{"$f":"IF(journal!T30=\"\",\"\",IF(journal!T30=\"a\",\"a\",journal!T30/journal!T$10))","v":""},{"$f":"IF(journal!U30=\"\",\"\",IF(journal!U30=\"a\",\"a\",journal!U30/journal!U$10))","v":""},{"$f":"IF(journal!V30=\"\",\"\",IF(journal!V30=\"a\",\"a\",journal!V30/journal!V$10))","v":""},{"$f":"IF(journal!W30=\"\",\"\",IF(journal!W30=\"a\",\"a\",journal!W30/journal!W$10))","v":""},{"$f":"IF(journal!X30=\"\",\"\",IF(journal!X30=\"a\",\"a\",journal!X30/journal!X$10))","v":""},{"$f":"IF(journal!Y30=\"\",\"\",IF(journal!Y30=\"a\",\"a\",journal!Y30/journal!Y$10))","v":""},{"$f":"IF(journal!Z30=\"\",\"\",IF(journal!Z30=\"a\",\"a\",journal!Z30/journal!Z$10))","v":""},{"$f":"IF(journal!AA30=\"\",\"\",IF(journal!AA30=\"a\",\"a\",journal!AA30/journal!AA$10))","v":""},{"$f":"IF(journal!AB30=\"\",\"\",IF(journal!AB30=\"a\",\"a\",journal!AB30/journal!AB$10))","v":""},{"$f":"IF(journal!AC30=\"\",\"\",IF(journal!AC30=\"a\",\"a\",journal!AC30/journal!AC$10))","v":""},{"$f":"IF(journal!AD30=\"\",\"\",IF(journal!AD30=\"a\",\"a\",journal!AD30/journal!AD$10))","v":""},{"$f":"IF(journal!AE30=\"\",\"\",IF(journal!AE30=\"a\",\"a\",journal!AE30/journal!AE$10))","v":""},{"$f":"IF(journal!AF30=\"\",\"\",IF(journal!AF30=\"a\",\"a\",journal!AF30/journal!AF$10))","v":""},{"$f":"IF(journal!AG30=\"\",\"\",IF(journal!AG30=\"a\",\"a\",journal!AG30/journal!AG$10))","v":""},{"$f":"IF(journal!AH30=\"\",\"\",IF(journal!AH30=\"a\",\"a\",journal!AH30/journal!AH$10))","v":""},{"$f":"IF(journal!AI30=\"\",\"\",IF(journal!AI30=\"a\",\"a\",journal!AI30/journal!AI$10))","v":""},{"$f":"IF(journal!AJ30=\"\",\"\",IF(journal!AJ30=\"a\",\"a\",journal!AJ30/journal!AJ$10))","v":""},{"$f":"IF(journal!AK30=\"\",\"\",IF(journal!AK30=\"a\",\"a\",journal!AK30/journal!AK$10))","v":""},{"$f":"IF(journal!AL30=\"\",\"\",IF(journal!AL30=\"a\",\"a\",journal!AL30/journal!AL$10))","v":""},{"$f":"IF(journal!AM30=\"\",\"\",IF(journal!AM30=\"a\",\"a\",journal!AM30/journal!AM$10))","v":""},{"$f":"IF(journal!AN30=\"\",\"\",IF(journal!AN30=\"a\",\"a\",journal!AN30/journal!AN$10))","v":""},{"$f":"IF(journal!AO30=\"\",\"\",IF(journal!AO30=\"a\",\"a\",journal!AO30/journal!AO$10))","v":""},{"$f":"IF(journal!AP30=\"\",\"\",IF(journal!AP30=\"a\",\"a\",journal!AP30/journal!AP$10))","v":""},{"$f":"IF(journal!AQ30=\"\",\"\",IF(journal!AQ30=\"a\",\"a\",journal!AQ30/journal!AQ$10))","v":""},{"$f":"IF(journal!AR30=\"\",\"\",IF(journal!AR30=\"a\",\"a\",journal!AR30/journal!AR$10))","v":""},"","","",""]
[{"$f":"Saisie!A15","v":0},"S",{"$f":"IF(journal!C31=\"\",\"\",IF(journal!C31=\"a\",\"a\",journal!C31/journal!C$6))","v":""},{"$f":"IF(journal!D31=\"\",\"\",IF(journal!D31=\"a\",\"a\",journal!D31/journal!D$6))","v":""},{"$f":"IF(journal!E31=\"\",\"\",IF(journal!E31=\"a\",\"a\",journal!E31/journal!E$6))","v":""},{"$f":"IF(journal!F31=\"\",\"\",IF(journal!F31=\"a\",\"a\",journal!F31/journal!F$6))","v":""},{"$f":"IF(journal!G31=\"\",\"\",IF(journal!G31=\"a\",\"a\",journal!G31/journal!G$6))","v":""},{"$f":"IF(journal!H31=\"\",\"\",IF(journal!H31=\"a\",\"a\",journal!H31/journal!H$6))","v":""},{"$f":"IF(journal!I31=\"\",\"\",IF(journal!I31=\"a\",\"a\",journal!I31/journal!I$6))","v":""},{"$f":"IF(journal!J31=\"\",\"\",IF(journal!J31=\"a\",\"a\",journal!J31/journal!J$6))","v":""},{"$f":"IF(journal!K31=\"\",\"\",IF(journal!K31=\"a\",\"a\",journal!K31/journal!K$6))","v":""},{"$f":"IF(journal!L31=\"\",\"\",IF(journal!L31=\"a\",\"a\",journal!L31/journal!L$6))","v":""},{"$f":"IF(journal!M31=\"\",\"\",IF(journal!M31=\"a\",\"a\",journal!M31/journal!M$6))","v":""},{"$f":"IF(journal!N31=\"\",\"\",IF(journal!N31=\"a\",\"a\",journal!N31/journal!N$6))","v":""},{"$f":"IF(journal!O31=\"\",\"\",IF(journal!O31=\"a\",\"a\",journal!O31/journal!O$6))","v":""},{"$f":"IF(journal!P31=\"\",\"\",IF(journal!P31=\"a\",\"a\",journal!P31/journal!P$6))","v":""},{"$f":"IF(journal!Q31=\"\",\"\",IF(journal!Q31=\"a\",\"a\",journal!Q31/journal!Q$6))","v":""},{"$f":"IF(journal!R31=\"\",\"\",IF(journal!R31=\"a\",\"a\",journal!R31/journal!R$6))","v":""},{"$f":"IF(journal!S31=\"\",\"\",IF(journal!S31=\"a\",\"a\",journal!S31/journal!S$6))","v":""},{"$f":"IF(journal!T31=\"\",\"\",IF(journal!T31=\"a\",\"a\",journal!T31/journal!T$6))","v":""},{"$f":"IF(journal!U31=\"\",\"\",IF(journal!U31=\"a\",\"a\",journal!U31/journal!U$6))","v":""},{"$f":"IF(journal!V31=\"\",\"\",IF(journal!V31=\"a\",\"a\",journal!V31/journal!V$6))","v":""},{"$f":"IF(journal!W31=\"\",\"\",IF(journal!W31=\"a\",\"a\",journal!W31/journal!W$6))","v":""},{"$f":"IF(journal!X31=\"\",\"\",IF(journal!X31=\"a\",\"a\",journal!X31/journal!X$6))","v":""},{"$f":"IF(journal!Y31=\"\",\"\",IF(journal!Y31=\"a\",\"a\",journal!Y31/journal!Y$6))","v":""},{"$f":"IF(journal!Z31=\"\",\"\",IF(journal!Z31=\"a\",\"a\",journal!Z31/journal!Z$6))","v":""},{"$f":"IF(journal!AA31=\"\",\"\",IF(journal!AA31=\"a\",\"a\",journal!AA31/journal!AA$6))","v":""},{"$f":"IF(journal!AB31=\"\",\"\",IF(journal!AB31=\"a\",\"a\",journal!AB31/journal!AB$6))","v":""},{"$f":"IF(journal!AC31=\"\",\"\",IF(journal!AC31=\"a\",\"a\",journal!AC31/journal!AC$6))","v":""},{"$f":"IF(journal!AD31=\"\",\"\",IF(journal!AD31=\"a\",\"a\",journal!AD31/journal!AD$6))","v":""},{"$f":"IF(journal!AE31=\"\",\"\",IF(journal!AE31=\"a\",\"a\",journal!AE31/journal!AE$6))","v":""},{"$f":"IF(journal!AF31=\"\",\"\",IF(journal!AF31=\"a\",\"a\",journal!AF31/journal!AF$6))","v":""},{"$f":"IF(journal!AG31=\"\",\"\",IF(journal!AG31=\"a\",\"a\",journal!AG31/journal!AG$6))","v":""},{"$f":"IF(journal!AH31=\"\",\"\",IF(journal!AH31=\"a\",\"a\",journal!AH31/journal!AH$6))","v":""},{"$f":"IF(journal!AI31=\"\",\"\",IF(journal!AI31=\"a\",\"a\",journal!AI31/journal!AI$6))","v":""},{"$f":"IF(journal!AJ31=\"\",\"\",IF(journal!AJ31=\"a\",\"a\",journal!AJ31/journal!AJ$6))","v":""},{"$f":"IF(journal!AK31=\"\",\"\",IF(journal!AK31=\"a\",\"a\",journal!AK31/journal!AK$6))","v":""},{"$f":"IF(journal!AL31=\"\",\"\",IF(journal!AL31=\"a\",\"a\",journal!AL31/journal!AL$6))","v":""},{"$f":"IF(journal!AM31=\"\",\"\",IF(journal!AM31=\"a\",\"a\",journal!AM31/journal!AM$6))","v":""},{"$f":"IF(journal!AN31=\"\",\"\",IF(journal!AN31=\"a\",\"a\",journal!AN31/journal!AN$6))","v":""},{"$f":"IF(journal!AO31=\"\",\"\",IF(journal!AO31=\"a\",\"a\",journal!AO31/journal!AO$6))","v":""},{"$f":"IF(journal!AP31=\"\",\"\",IF(journal!AP31=\"a\",\"a\",journal!AP31/journal!AP$6))","v":""},{"$f":"IF(journal!AQ31=\"\",\"\",IF(journal!AQ31=\"a\",\"a\",journal!AQ31/journal!AQ$6))","v":""},{"$f":"IF(journal!AR31=\"\",\"\",IF(journal!AR31=\"a\",\"a\",journal!AR31/journal!AR$6))","v":""},"","","",""]
[null,"A",{"$f":"IF(journal!C32=\"\",\"\",IF(journal!C32=\"a\",\"a\",journal!C32/journal!C$7))","v":""},{"$f":"IF(journal!D32=\"\",\"\",IF(journal!D32=\"a\",\"a\",journal!D32/journal!D$7))","v":""},{"$f":"IF(journal!E32=\"\",\"\",IF(journal!E32=\"a\",\"a\",journal!E32/journal!E$7))","v":""},{"$f":"IF(journal!F32=\"\",\"\",IF(journal!F32=\"a\",\"a\",journal!F32/journal!F$7))","v":""},{"$f":"IF(journal!G32=\"\",\"\",IF(journal!G32=\"a\",\"a\",journal!G32/journal!G$7))","v":""},{"$f":"IF(journal!H32=\"\",\"\",IF(journal!H32=\"a\",\"a\",journal!H32/journal!H$7))","v":""},{"$f":"IF(journal!I32=\"\",\"\",IF(journal!I32=\"a\",\"a\",journal!I32/journal!I$7))","v":""},{"$f":"IF(journal!J32=\"\",\"\",IF(journal!J32=\"a\",\"a\",journal!J32/journal!J$7))","v":""},{"$f":"IF(journal!K32=\"\",\"\",IF(journal!K32=\"a\",\"a\",journal!K32/journal!K$7))","v":""},{"$f":"IF(journal!L32=\"\",\"\",IF(journal!L32=\"a\",\"a\",journal!L32/journal!L$7))","v":""},{"$f":"IF(journal!M32=\"\",\"\",IF(journal!M32=\"a\",\"a\",journal!M32/journal!M$7))","v":""},{"$f":"IF(journal!N32=\"\",\"\",IF(journal!N32=\"a\",\"a\",journal!N32/journal!N$7))","v":""},{"$f":"IF(journal!O32=\"\",\"\",IF(journal!O32=\"a\",\"a\",journal!O32/journal!O$7))","v":""},{"$f":"IF(journal!P32=\"\",\"\",IF(journal!P32=\"a\",\"a\",journal!P32/journal!P$7))","v":""},{"$f":"IF(journal!Q32=\"\",\"\",IF(journal!Q32=\"a\",\"a\",journal!Q32/journal!Q$7))","v":""},{"$f":"IF(journal!R32=\"\",\"\",IF(journal!R32=\"a\",\"a\",journal!R32/journal!R$7))","v":""},{"$f":"IF(journal!S32=\"\",\"\",IF(journal!S32=\"a\",\"a\",journal!S32/journal!S$7))","v":""},{"$f":"IF(journal!T32=\"\",\"\",IF(journal!T32=\"a\",\"a\",journal!T32/journal!T$7))","v":""},{"$f":"IF(journal!U32=\"\",\"\",IF(journal!U32=\"a\",\"a\",journal!U32/journal!U$7))","v":""},{"$f":"IF(journal!V32=\"\",\"\",IF(journal!V32=\"a\",\"a\",journal!V32/journal!V$7))","v":""},{"$f":"IF(journal!W32=\"\",\"\",IF(journal!W32=\"a\",\"a\",journal!W32/journal!W$7))","v":""},{"$f":"IF(journal!X32=\"\",\"\",IF(journal!X32=\"a\",\"a\",journal!X32/journal!X$7))","v":""},{"$f":"IF(journal!Y32=\"\",\"\",IF(journal!Y32=\"a\",\"a\",journal!Y32/journal!Y$7))","v":""},{"$f":"IF(journal!Z32=\"\",\"\",IF(journal!Z32=\"a\",\"a\",journal!Z32/journal!Z$7))","v":""},{"$f":"IF(journal!AA32=\"\",\"\",IF(journal!AA32=\"a\",\"a\",journal!AA32/journal!AA$7))","v":""},{"$f":"IF(journal!AB32=\"\",\"\",IF(journal!AB32=\"a\",\"a\",journal!AB32/journal!AB$7))","v":""},{"$f":"IF(journal!AC32=\"\",\"\",IF(journal!AC32=\"a\",\"a\",journal!AC32/journal!AC$7))","v":""},{"$f":"IF(journal!AD32=\"\",\"\",IF(journal!AD32=\"a\",\"a\",journal!AD32/journal!AD$7))","v":""},{"$f":"IF(journal!AE32=\"\",\"\",IF(journal!AE32=\"a\",\"a\",journal!AE32/journal!AE$7))","v":""},{"$f":"IF(journal!AF32=\"\",\"\",IF(journal!AF32=\"a\",\"a\",journal!AF32/journal!AF$7))","v":""},{"$f":"IF(journal!AG32=\"\",\"\",IF(journal!AG32=\"a\",\"a\",journal!AG32/journal!AG$7))","v":""},{"$f":"IF(journal!AH32=\"\",\"\",IF(journal!AH32=\"a\",\"a\",journal!AH32/journal!AH$7))","v":""},{"$f":"IF(journal!AI32=\"\",\"\",IF(journal!AI32=\"a\",\"a\",journal!AI32/journal!AI$7))","v":""},{"$f":"IF(journal!AJ32=\"\",\"\",IF(journal!AJ32=\"a\",\"a\",journal!AJ32/journal!AJ$7))","v":""},{"$f":"IF(journal!AK32=\"\",\"\",IF(journal!AK32=\"a\",\"a\",journal!AK32/journal!AK$7))","v":""},{"$f":"IF(journal!AL32=\"\",\"\",IF(journal!AL32=\"a\",\"a\",journal!AL32/journal!AL$7))","v":""},{"$f":"IF(journal!AM32=\"\",\"\",IF(journal!AM32=\"a\",\"a\",journal!AM32/journal!AM$7))","v":""},{"$f":"IF(journal!AN32=\"\",\"\",IF(journal!AN32=\"a\",\"a\",journal!AN32/journal!AN$7))","v":""},{"$f":"IF(journal!AO32=\"\",\"\",IF(journal!AO32=\"a\",\"a\",journal!AO32/journal!AO$7))","v":""},{"$f":"IF(journal!AP32=\"\",\"\",IF(journal!AP32=\"a\",\"a\",journal!AP32/journal!AP$7))","v":""},{"$f":"IF(journal!AQ32=\"\",\"\",IF(journal!AQ32=\"a\",\"a\",journal!AQ32/journal!AQ$7))","v":""},{"$f":"IF(journal!AR32=\"\",\"\",IF(journal!AR32=\"a\",\"a\",journal!AR32/journal!AR$7))","v":""},"","","",""]
[null,"R",{"$f":"IF(journal!C33=\"\",\"\",IF(journal!C33=\"a\",\"a\",journal!C33/journal!C$8))","v":""},{"$f":"IF(journal!D33=\"\",\"\",IF(journal!D33=\"a\",\"a\",journal!D33/journal!D$8))","v":""},{"$f":"IF(journal!E33=\"\",\"\",IF(journal!E33=\"a\",\"a\",journal!E33/journal!E$8))","v":""},{"$f":"IF(journal!F33=\"\",\"\",IF(journal!F33=\"a\",\"a\",journal!F33/journal!F$8))","v":""},{"$f":"IF(journal!G33=\"\",\"\",IF(journal!G33=\"a\",\"a\",journal!G33/journal!G$8))","v":""},{"$f":"IF(journal!H33=\"\",\"\",IF(journal!H33=\"a\",\"a\",journal!H33/journal!H$8))","v":""},{"$f":"IF(journal!I33=\"\",\"\",IF(journal!I33=\"a\",\"a\",journal!I33/journal!I$8))","v":""},{"$f":"IF(journal!J33=\"\",\"\",IF(journal!J33=\"a\",\"a\",journal!J33/journal!J$8))","v":""},{"$f":"IF(journal!K33=\"\",\"\",IF(journal!K33=\"a\",\"a\",journal!K33/journal!K$8))","v":""},{"$f":"IF(journal!L33=\"\",\"\",IF(journal!L33=\"a\",\"a\",journal!L33/journal!L$8))","v":""},{"$f":"IF(journal!M33=\"\",\"\",IF(journal!M33=\"a\",\"a\",journal!M33/journal!M$8))","v":""},{"$f":"IF(journal!N33=\"\",\"\",IF(journal!N33=\"a\",\"a\",journal!N33/journal!N$8))","v":""},{"$f":"IF(journal!O33=\"\",\"\",IF(journal!O33=\"a\",\"a\",journal!O33/journal!O$8))","v":""},{"$f":"IF(journal!P33=\"\",\"\",IF(journal!P33=\"a\",\"a\",journal!P33/journal!P$8))","v":""},{"$f":"IF(journal!Q33=\"\",\"\",IF(journal!Q33=\"a\",\"a\",journal!Q33/journal!Q$8))","v":""},{"$f":"IF(journal!R33=\"\",\"\",IF(journal!R33=\"a\",\"a\",journal!R33/journal!R$8))","v":""},{"$f":"IF(journal!S33=\"\",\"\",IF(journal!S33=\"a\",\"a\",journal!S33/journal!S$8))","v":""},{"$f":"IF(journal!T33=\"\",\"\",IF(journal!T33=\"a\",\"a\",journal!T33/journal!T$8))","v":""},{"$f":"IF(journal!U33=\"\",\"\",IF(journal!U33=\"a\",\"a\",journal!U33/journal!U$8))","v":""},{"$f":"IF(journal!V33=\"\",\"\",IF(journal!V33=\"a\",\"a\",journal!V33/journal!V$8))","v":""},{"$f":"IF(journal!W33=\"\",\"\",IF(journal!W33=\"a\",\"a\",journal!W33/journal!W$8))","v":""},{"$f":"IF(journal!X33=\"\",\"\",IF(journal!X33=\"a\",\"a\",journal!X33/journal!X$8))","v":""},{"$f":"IF(journal!Y33=\"\",\"\",IF(journal!Y33=\"a\",\"a\",journal!Y33/journal!Y$8))","v":""},{"$f":"IF(journal!Z33=\"\",\"\",IF(journal!Z33=\"a\",\"a\",journal!Z33/journal!Z$8))","v":""},{"$f":"IF(journal!AA33=\"\",\"\",IF(journal!AA33=\"a\",\"a\",journal!AA33/journal!AA$8))","v":""},{"$f":"IF(journal!AB33=\"\",\"\",IF(journal!AB33=\"a\",\"a\",journal!AB33/journal!AB$8))","v":""},{"$f":"IF(journal!AC33=\"\",\"\",IF(journal!AC33=\"a\",\"a\",journal!AC33/journal!AC$8))","v":""},{"$f":"IF(journal!AD33=\"\",\"\",IF(journal!AD33=\"a\",\"a\",journal!AD33/journal!AD$8))","v":""},{"$f":"IF(journal!AE33=\"\",\"\",IF(journal!AE33=\"a\",\"a\",journal!AE33/journal!AE$8))","v":""},{"$f":"IF(journal!AF33=\"\",\"\",IF(journal!AF33=\"a\",\"a\",journal!AF33/journal!AF$8))","v":""},{"$f":"IF(journal!AG33=\"\",\"\",IF(journal!AG33=\"a\",\"a\",journal!AG33/journal!AG$8))","v":""},{"$f":"IF(journal!AH33=\"\",\"\",IF(journal!AH33=\"a\",\"a\",journal!AH33/journal!AH$8))","v":""},{"$f":"IF(journal!AI33=\"\",\"\",IF(journal!AI33=\"a\",\"a\",journal!AI33/journal!AI$8))","v":""},{"$f":"IF(journal!AJ33=\"\",\"\",IF(journal!AJ33=\"a\",\"a\",journal!AJ33/journal!AJ$8))","v":""},{"$f":"IF(journal!AK33=\"\",\"\",IF(journal!AK33=\"a\",\"a\",journal!AK33/journal!AK$8))","v":""},{"$f":"IF(journal!AL33=\"\",\"\",IF(journal!AL33=\"a\",\"a\",journal!AL33/journal!AL$8))","v":""},{"$f":"IF(journal!AM33=\"\",\"\",IF(journal!AM33=\"a\",\"a\",journal!AM33/journal!AM$8))","v":""},{"$f":"IF(journal!AN33=\"\",\"\",IF(journal!AN33=\"a\",\"a\",journal!AN33/journal!AN$8))","v":""},{"$f":"IF(journal!AO33=\"\",\"\",IF(journal!AO33=\"a\",\"a\",journal!AO33/journal!AO$8))","v":""},{"$f":"IF(journal!AP33=\"\",\"\",IF(journal!AP33=\"a\",\"a\",journal!AP33/journal!AP$8))","v":""},{"$f":"IF(journal!AQ33=\"\",\"\",IF(journal!AQ33=\"a\",\"a\",journal!AQ33/journal!AQ$8))","v":""},{"$f":"IF(journal!AR33=\"\",\"\",IF(journal!AR33=\"a\",\"a\",journal!AR33/journal!AR$8))","v":""},"","","",""]
[null,"V",{"$f":"IF(journal!C34=\"\",\"\",IF(journal!C34=\"a\",\"a\",journal!C34/journal!C$9))","v":""},{"$f":"IF(journal!D34=\"\",\"\",IF(journal!D34=\"a\",\"a\",journal!D34/journal!D$9))","v":""},{"$f":"IF(journal!E34=\"\",\"\",IF(journal!E34=\"a\",\"a\",journal!E34/journal!E$9))","v":""},{"$f":"IF(journal!F34=\"\",\"\",IF(journal!F34=\"a\",\"a\",journal!F34/journal!F$9))","v":""},{"$f":"IF(journal!G34=\"\",\"\",IF(journal!G34=\"a\",\"a\",journal!G34/journal!G$9))","v":""},{"$f":"IF(journal!H34=\"\",\"\",IF(journal!H34=\"a\",\"a\",journal!H34/journal!H$9))","v":""},{"$f":"IF(journal!I34=\"\",\"\",IF(journal!I34=\"a\",\"a\",journal!I34/journal!I$9))","v":""},{"$f":"IF(journal!J34=\"\",\"\",IF(journal!J34=\"a\",\"a\",journal!J34/journal!J$9))","v":""},{"$f":"IF(journal!K34=\"\",\"\",IF(journal!K34=\"a\",\"a\",journal!K34/journal!K$9))","v":""},{"$f":"IF(journal!L34=\"\",\"\",IF(journal!L34=\"a\",\"a\",journal!L34/journal!L$9))","v":""},{"$f":"IF(journal!M34=\"\",\"\",IF(journal!M34=\"a\",\"a\",journal!M34/journal!M$9))","v":""},{"$f":"IF(journal!N34=\"\",\"\",IF(journal!N34=\"a\",\"a\",journal!N34/journal!N$9))","v":""},{"$f":"IF(journal!O34=\"\",\"\",IF(journal!O34=\"a\",\"a\",journal!O34/journal!O$9))","v":""},{"$f":"IF(journal!P34=\"\",\"\",IF(journal!P34=\"a\",\"a\",journal!P34/journal!P$9))","v":""},{"$f":"IF(journal!Q34=\"\",\"\",IF(journal!Q34=\"a\",\"a\",journal!Q34/journal!Q$9))","v":""},{"$f":"IF(journal!R34=\"\",\"\",IF(journal!R34=\"a\",\"a\",journal!R34/journal!R$9))","v":""},{"$f":"IF(journal!S34=\"\",\"\",IF(journal!S34=\"a\",\"a\",journal!S34/journal!S$9))","v":""},{"$f":"IF(journal!T34=\"\",\"\",IF(journal!T34=\"a\",\"a\",journal!T34/journal!T$9))","v":""},{"$f":"IF(journal!U34=\"\",\"\",IF(journal!U34=\"a\",\"a\",journal!U34/journal!U$9))","v":""},{"$f":"IF(journal!V34=\"\",\"\",IF(journal!V34=\"a\",\"a\",journal!V34/journal!V$9))","v":""},{"$f":"IF(journal!W34=\"\",\"\",IF(journal!W34=\"a\",\"a\",journal!W34/journal!W$9))","v":""},{"$f":"IF(journal!X34=\"\",\"\",IF(journal!X34=\"a\",\"a\",journal!X34/journal!X$9))","v":""},{"$f":"IF(journal!Y34=\"\",\"\",IF(journal!Y34=\"a\",\"a\",journal!Y34/journal!Y$9))","v":""},{"$f":"IF(journal!Z34=\"\",\"\",IF(journal!Z34=\"a\",\"a\",journal!Z34/journal!Z$9))","v":""},{"$f":"IF(journal!AA34=\"\",\"\",IF(journal!AA34=\"a\",\"a\",journal!AA34/journal!AA$9))","v":""},{"$f":"IF(journal!AB34=\"\",\"\",IF(journal!AB34=\"a\",\"a\",journal!AB34/journal!AB$9))","v":""},{"$f":"IF(journal!AC34=\"\",\"\",IF(journal!AC34=\"a\",\"a\",journal!AC34/journal!AC$9))","v":""},{"$f":"IF(journal!AD34=\"\",\"\",IF(journal!AD34=\"a\",\"a\",journal!AD34/journal!AD$9))","v":""},{"$f":"IF(journal!AE34=\"\",\"\",IF(journal!AE34=\"a\",\"a\",journal!AE34/journal!AE$9))","v":""},{"$f":"IF(journal!AF34=\"\",\"\",IF(journal!AF34=\"a\",\"a\",journal!AF34/journal!AF$9))","v":""},{"$f":"IF(journal!AG34=\"\",\"\",IF(journal!AG34=\"a\",\"a\",journal!AG34/journal!AG$9))","v":""},{"$f":"IF(journal!AH34=\"\",\"\",IF(journal!AH34=\"a\",\"a\",journal!AH34/journal!AH$9))","v":""},{"$f":"IF(journal!AI34=\"\",\"\",IF(journal!AI34=\"a\",\"a\",journal!AI34/journal!AI$9))","v":""},{"$f":"IF(journal!AJ34=\"\",\"\",IF(journal!AJ34=\"a\",\"a\",journal!AJ34/journal!AJ$9))","v":""},{"$f":"IF(journal!AK34=\"\",\"\",IF(journal!AK34=\"a\",\"a\",journal!AK34/journal!AK$9))","v":""},{"$f":"IF(journal!AL34=\"\",\"\",IF(journal!AL34=\"a\",\"a\",journal!AL34/journal!AL$9))","v":""},{"$f":"IF(journal!AM34=\"\",\"\",IF(journal!AM34=\"a\",\"a\",journal!AM34/journal!AM$9))","v":""},{"$f":"IF(journal!AN34=\"\",\"\",IF(journal!AN34=\"a\",\"a\",journal!AN34/journal!AN$9))","v":""},{"$f":"IF(journal!AO34=\"\",\"\",IF(journal!AO34=\"a\",\"a\",journal!AO34/journal!AO$9))","v":""},{"$f":"IF(journal!AP34=\"\",\"\",IF(journal!AP34=\"a\",\"a\",journal!AP34/journal!AP$9))","v":""},{"$f":"IF(journal!AQ34=\"\",\"\",IF(journal!AQ34=\"a\",\"a\",journal!AQ34/journal!AQ$9))","v":""},{"$f":"IF(journal!AR34=\"\",\"\",IF(journal!AR34=\"a\",\"a\",journal!AR34/journal!AR$9))","v":""},"","","",""]
[null,"C",{"$f":"IF(journal!C35=\"\",\"\",IF(journal!C35=\"a\",\"a\",journal!C35/journal!C$10))","v":""},{"$f":"IF(journal!D35=\"\",\"\",IF(journal!D35=\"a\",\"a\",journal!D35/journal!D$10))","v":""},{"$f":"IF(journal!E35=\"\",\"\",IF(journal!E35=\"a\",\"a\",journal!E35/journal!E$10))","v":""},{"$f":"IF(journal!F35=\"\",\"\",IF(journal!F35=\"a\",\"a\",journal!F35/journal!F$10))","v":""},{"$f":"IF(journal!G35=\"\",\"\",IF(journal!G35=\"a\",\"a\",journal!G35/journal!G$10))","v":""},{"$f":"IF(journal!H35=\"\",\"\",IF(journal!H35=\"a\",\"a\",journal!H35/journal!H$10))","v":""},{"$f":"IF(journal!I35=\"\",\"\",IF(journal!I35=\"a\",\"a\",journal!I35/journal!I$10))","v":""},{"$f":"IF(journal!J35=\"\",\"\",IF(journal!J35=\"a\",\"a\",journal!J35/journal!J$10))","v":""},{"$f":"IF(journal!K35=\"\",\"\",IF(journal!K35=\"a\",\"a\",journal!K35/journal!K$10))","v":""},{"$f":"IF(journal!L35=\"\",\"\",IF(journal!L35=\"a\",\"a\",journal!L35/journal!L$10))","v":""},{"$f":"IF(journal!M35=\"\",\"\",IF(journal!M35=\"a\",\"a\",journal!M35/journal!M$10))","v":""},{"$f":"IF(journal!N35=\"\",\"\",IF(journal!N35=\"a\",\"a\",journal!N35/journal!N$10))","v":""},{"$f":"IF(journal!O35=\"\",\"\",IF(journal!O35=\"a\",\"a\",journal!O35/journal!O$10))","v":""},{"$f":"IF(journal!P35=\"\",\"\",IF(journal!P35=\"a\",\"a\",journal!P35/journal!P$10))","v":""},{"$f":"IF(journal!Q35=\"\",\"\",IF(journal!Q35=\"a\",\"a\",journal!Q35/journal!Q$10))","v":""},{"$f":"IF(journal!R35=\"\",\"\",IF(journal!R35=\"a\",\"a\",journal!R35/journal!R$10))","v":""},{"$f":"IF(journal!S35=\"\",\"\",IF(journal!S35=\"a\",\"a\",journal!S35/journal!S$10))","v":""},{"$f":"IF(journal!T35=\"\",\"\",IF(journal!T35=\"a\",\"a\",journal!T35/journal!T$10))","v":""},{"$f":"IF(journal!U35=\"\",\"\",IF(journal!U35=\"a\",\"a\",journal!U35/journal!U$10))","v":""},{"$f":"IF(journal!V35=\"\",\"\",IF(journal!V35=\"a\",\"a\",journal!V35/journal!V$10))","v":""},{"$f":"IF(journal!W35=\"\",\"\",IF(journal!W35=\"a\",\"a\",journal!W35/journal!W$10))","v":""},{"$f":"IF(journal!X35=\"\",\"\",IF(journal!X35=\"a\",\"a\",journal!X35/journal!X$10))","v":""},{"$f":"IF(journal!Y35=\"\",\"\",IF(journal!Y35=\"a\",\"a\",journal!Y35/journal!Y$10))","v":""},{"$f":"IF(journal!Z35=\"\",\"\",IF(journal!Z35=\"a\",\"a\",journal!Z35/journal!Z$10))","v":""},{"$f":"IF(journal!AA35=\"\",\"\",IF(journal!AA35=\"a\",\"a\",journal!AA35/journal!AA$10))","v":""},{"$f":"IF(journal!AB35=\"\",\"\",IF(journal!AB35=\"a\",\"a\",journal!AB35/journal!AB$10))","v":""},{"$f":"IF(journal!AC35=\"\",\"\",IF(journal!AC35=\"a\",\"a\",journal!AC35/journal!AC$10))","v":""},{"$f":"IF(journal!AD35=\"\",\"\",IF(journal!AD35=\"a\",\"a\",journal!AD35/journal!AD$10))","v":""},{"$f":"IF(journal!AE35=\"\",\"\",IF(journal!AE35=\"a\",\"a\",journal!AE35/journal!AE$10))","v":""},{"$f":"IF(journal!AF35=\"\",\"\",IF(journal!AF35=\"a\",\"a\",journal!AF35/journal!AF$10))","v":""},{"$f":"IF(journal!AG35=\"\",\"\",IF(journal!AG35=\"a\",\"a\",journal!AG35/journal!AG$10))","v":""},{"$f":"IF(journal!AH35=\"\",\"\",IF(journal!AH35=\"a\",\"a\",journal!AH35/journal!AH$10))","v":""},{"$f":"IF(journal!AI35=\"\",\"\",IF(journal!AI35=\"a\",\"a\",journal!AI35/journal!AI$10))","v":""},{"$f":"IF(journal!AJ35=\"\",\"\",IF(journal!AJ35=\"a\",\"a\",journal!AJ35/journal!AJ$10))","v":""},{"$f":"IF(journal!AK35=\"\",\"\",IF(journal!AK35=\"a\",\"a\",journal!AK35/journal!AK$10))","v":""},{"$f":"IF(journal!AL35=\"\",\"\",IF(journal!AL35=\"a\",\"a\",journal!AL35/journal!AL$10))","v":""},{"$f":"IF(journal!AM35=\"\",\"\",IF(journal!AM35=\"a\",\"a\",journal!AM35/journal!AM$10))","v":""},{"$f":"IF(journal!AN35=\"\",\"\",IF(journal!AN35=\"a\",\"a\",journal!AN35/journal!AN$10))","v":""},{"$f":"IF(journal!AO35=\"\",\"\",IF(journal!AO35=\"a\",\"a\",journal!AO35/journal!AO$10))","v":""},{"$f":"IF(journal!AP35=\"\",\"\",IF(journal!AP35=\"a\",\"a\",journal!AP35/journal!AP$10))","v":""},{"$f":"IF(journal!AQ35=\"\",\"\",IF(journal!AQ35=\"a\",\"a\",journal!AQ35/journal!AQ$10))","v":""},{"$f":"IF(journal!AR35=\"\",\"\",IF(journal!AR35=\"a\",\"a\",journal!AR35/journal!AR$10))","v":""},"","","",""]
[{"$f":"Saisie!A16","v":0},"S",{"$f":"IF(journal!C36=\"\",\"\",IF(journal!C36=\"a\",\"a\",journal!C36/journal!C$6))","v":""},{"$f":"IF(journal!D36=\"\",\"\",IF(journal!D36=\"a\",\"a\",journal!D36/journal!D$6))","v":""},{"$f":"IF(journal!E36=\"\",\"\",IF(journal!E36=\"a\",\"a\",journal!E36/journal!E$6))","v":""},{"$f":"IF(journal!F36=\"\",\"\",IF(journal!F36=\"a\",\"a\",journal!F36/journal!F$6))","v":""},{"$f":"IF(journal!G36=\"\",\"\",IF(journal!G36=\"a\",\"a\",journal!G36/journal!G$6))","v":""},{"$f":"IF(journal!H36=\"\",\"\",IF(journal!H36=\"a\",\"a\",journal!H36/journal!H$6))","v":""},{"$f":"IF(journal!I36=\"\",\"\",IF(journal!I36=\"a\",\"a\",journal!I36/journal!I$6))","v":""},{"$f":"IF(journal!J36=\"\",\"\",IF(journal!J36=\"a\",\"a\",journal!J36/journal!J$6))","v":""},{"$f":"IF(journal!K36=\"\",\"\",IF(journal!K36=\"a\",\"a\",journal!K36/journal!K$6))","v":""},{"$f":"IF(journal!L36=\"\",\"\",IF(journal!L36=\"a\",\"a\",journal!L36/journal!L$6))","v":""},{"$f":"IF(journal!M36=\"\",\"\",IF(journal!M36=\"a\",\"a\",journal!M36/journal!M$6))","v":""},{"$f":"IF(journal!N36=\"\",\"\",IF(journal!N36=\"a\",\"a\",journal!N36/journal!N$6))","v":""},{"$f":"IF(journal!O36=\"\",\"\",IF(journal!O36=\"a\",\"a\",journal!O36/journal!O$6))","v":""},{"$f":"IF(journal!P36=\"\",\"\",IF(journal!P36=\"a\",\"a\",journal!P36/journal!P$6))","v":""},{"$f":"IF(journal!Q36=\"\",\"\",IF(journal!Q36=\"a\",\"a\",journal!Q36/journal!Q$6))","v":""},{"$f":"IF(journal!R36=\"\",\"\",IF(journal!R36=\"a\",\"a\",journal!R36/journal!R$6))","v":""},{"$f":"IF(journal!S36=\"\",\"\",IF(journal!S36=\"a\",\"a\",journal!S36/journal!S$6))","v":""},{"$f":"IF(journal!T36=\"\",\"\",IF(journal!T36=\"a\",\"a\",journal!T36/journal!T$6))","v":""},{"$f":"IF(journal!U36=\"\",\"\",IF(journal!U36=\"a\",\"a\",journal!U36/journal!U$6))","v":""},{"$f":"IF(journal!V36=\"\",\"\",IF(journal!V36=\"a\",\"a\",journal!V36/journal!V$6))","v":""},{"$f":"IF(journal!W36=\"\",\"\",IF(journal!W36=\"a\",\"a\",journal!W36/journal!W$6))","v":""},{"$f":"IF(journal!X36=\"\",\"\",IF(journal!X36=\"a\",\"a\",journal!X36/journal!X$6))","v":""},{"$f":"IF(journal!Y36=\"\",\"\",IF(journal!Y36=\"a\",\"a\",journal!Y36/journal!Y$6))","v":""},{"$f":"IF(journal!Z36=\"\",\"\",IF(journal!Z36=\"a\",\"a\",journal!Z36/journal!Z$6))","v":""},{"$f":"IF(journal!AA36=\"\",\"\",IF(journal!AA36=\"a\",\"a\",journal!AA36/journal!AA$6))","v":""},{"$f":"IF(journal!AB36=\"\",\"\",IF(journal!AB36=\"a\",\"a\",journal!AB36/journal!AB$6))","v":""},{"$f":"IF(journal!AC36=\"\",\"\",IF(journal!AC36=\"a\",\"a\",journal!AC36/journal!AC$6))","v":""},{"$f":"IF(journal!AD36=\"\",\"\",IF(journal!AD36=\"a\",\"a\",journal!AD36/journal!AD$6))","v":""},{"$f":"IF(journal!AE36=\"\",\"\",IF(journal!AE36=\"a\",\"a\",journal!AE36/journal!AE$6))","v":""},{"$f":"IF(journal!AF36=\"\",\"\",IF(journal!AF36=\"a\",\"a\",journal!AF36/journal!AF$6))","v":""},{"$f":"IF(journal!AG36=\"\",\"\",IF(journal!AG36=\"a\",\"a\",journal!AG36/journal!AG$6))","v":""},{"$f":"IF(journal!AH36=\"\",\"\",IF(journal!AH36=\"a\",\"a\",journal!AH36/journal!AH$6))","v":""},{"$f":"IF(journal!AI36=\"\",\"\",IF(journal!AI36=\"a\",\"a\",journal!AI36/journal!AI$6))","v":""},{"$f":"IF(journal!AJ36=\"\",\"\",IF(journal!AJ36=\"a\",\"a\",journal!AJ36/journal!AJ$6))","v":""},{"$f":"IF(journal!AK36=\"\",\"\",IF(journal!AK36=\"a\",\"a\",journal!AK36/journal!AK$6))","v":""},{"$f":"IF(journal!AL36=\"\",\"\",IF(journal!AL36=\"a\",\"a\",journal!AL36/journal!AL$6))","v":""},{"$f":"IF(journal!AM36=\"\",\"\",IF(journal!AM36=\"a\",\"a\",journal!AM36/journal!AM$6))","v":""},{"$f":"IF(journal!AN36=\"\",\"\",IF(journal!AN36=\"a\",\"a\",journal!AN36/journal!AN$6))","v":""},{"$f":"IF(journal!AO36=\"\",\"\",IF(journal!AO36=\"a\",\"a\",journal!AO36/journal!AO$6))","v":""},{"$f":"IF(journal!AP36=\"\",\"\",IF(journal!AP36=\"a\",\"a\",journal!AP36/journal!AP$6))","v":""},{"$f":"IF(journal!AQ36=\"\",\"\",IF(journal!AQ36=\"a\",\"a\",journal!AQ36/journal!AQ$6))","v":""},{"$f":"IF(journal!AR36=\"\",\"\",IF(journal!AR36=\"a\",\"a\",journal!AR36/journal!AR$6))","v":""},"","","",""]
[null,"A",{"$f":"IF(journal!C37=\"\",\"\",IF(journal!C37=\"a\",\"a\",journal!C37/journal!C$7))","v":""},{"$f":"IF(journal!D37=\"\",\"\",IF(journal!D37=\"a\",\"a\",journal!D37/journal!D$7))","v":""},{"$f":"IF(journal!E37=\"\",\"\",IF(journal!E37=\"a\",\"a\",journal!E37/journal!E$7))","v":""},{"$f":"IF(journal!F37=\"\",\"\",IF(journal!F37=\"a\",\"a\",journal!F37/journal!F$7))","v":""},{"$f":"IF(journal!G37=\"\",\"\",IF(journal!G37=\"a\",\"a\",journal!G37/journal!G$7))","v":""},{"$f":"IF(journal!H37=\"\",\"\",IF(journal!H37=\"a\",\"a\",journal!H37/journal!H$7))","v":""},{"$f":"IF(journal!I37=\"\",\"\",IF(journal!I37=\"a\",\"a\",journal!I37/journal!I$7))","v":""},{"$f":"IF(journal!J37=\"\",\"\",IF(journal!J37=\"a\",\"a\",journal!J37/journal!J$7))","v":""},{"$f":"IF(journal!K37=\"\",\"\",IF(journal!K37=\"a\",\"a\",journal!K37/journal!K$7))","v":""},{"$f":"IF(journal!L37=\"\",\"\",IF(journal!L37=\"a\",\"a\",journal!L37/journal!L$7))","v":""},{"$f":"IF(journal!M37=\"\",\"\",IF(journal!M37=\"a\",\"a\",journal!M37/journal!M$7))","v":""},{"$f":"IF(journal!N37=\"\",\"\",IF(journal!N37=\"a\",\"a\",journal!N37/journal!N$7))","v":""},{"$f":"IF(journal!O37=\"\",\"\",IF(journal!O37=\"a\",\"a\",journal!O37/journal!O$7))","v":""},{"$f":"IF(journal!P37=\"\",\"\",IF(journal!P37=\"a\",\"a\",journal!P37/journal!P$7))","v":""},{"$f":"IF(journal!Q37=\"\",\"\",IF(journal!Q37=\"a\",\"a\",journal!Q37/journal!Q$7))","v":""},{"$f":"IF(journal!R37=\"\",\"\",IF(journal!R37=\"a\",\"a\",journal!R37/journal!R$7))","v":""},{"$f":"IF(journal!S37=\"\",\"\",IF(journal!S37=\"a\",\"a\",journal!S37/journal!S$7))","v":""},{"$f":"IF(journal!T37=\"\",\"\",IF(journal!T37=\"a\",\"a\",journal!T37/journal!T$7))","v":""},{"$f":"IF(journal!U37=\"\",\"\",IF(journal!U37=\"a\",\"a\",journal!U37/journal!U$7))","v":""},{"$f":"IF(journal!V37=\"\",\"\",IF(journal!V37=\"a\",\"a\",journal!V37/journal!V$7))","v":""},{"$f":"IF(journal!W37=\"\",\"\",IF(journal!W37=\"a\",\"a\",journal!W37/journal!W$7))","v":""},{"$f":"IF(journal!X37=\"\",\"\",IF(journal!X37=\"a\",\"a\",journal!X37/journal!X$7))","v":""},{"$f":"IF(journal!Y37=\"\",\"\",IF(journal!Y37=\"a\",\"a\",journal!Y37/journal!Y$7))","v":""},{"$f":"IF(journal!Z37=\"\",\"\",IF(journal!Z37=\"a\",\"a\",journal!Z37/journal!Z$7))","v":""},{"$f":"IF(journal!AA37=\"\",\"\",IF(journal!AA37=\"a\",\"a\",journal!AA37/journal!AA$7))","v":""},{"$f":"IF(journal!AB37=\"\",\"\",IF(journal!AB37=\"a\",\"a\",journal!AB37/journal!AB$7))","v":""},{"$f":"IF(journal!AC37=\"\",\"\",IF(journal!AC37=\"a\",\"a\",journal!AC37/journal!AC$7))","v":""},{"$f":"IF(journal!AD37=\"\",\"\",IF(journal!AD37=\"a\",\"a\",journal!AD37/journal!AD$7))","v":""},{"$f":"IF(journal!AE37=\"\",\"\",IF(journal!AE37=\"a\",\"a\",journal!AE37/journal!AE$7))","v":""},{"$f":"IF(journal!AF37=\"\",\"\",IF(journal!AF37=\"a\",\"a\",journal!AF37/journal!AF$7))","v":""},{"$f":"IF(journal!AG37=\"\",\"\",IF(journal!AG37=\"a\",\"a\",journal!AG37/journal!AG$7))","v":""},{"$f":"IF(journal!AH37=\"\",\"\",IF(journal!AH37=\"a\",\"a\",journal!AH37/journal!AH$7))","v":""},{"$f":"IF(journal!AI37=\"\",\"\",IF(journal!AI37=\"a\",\"a\",journal!AI37/journal!AI$7))","v":""},{"$f":"IF(journal!AJ37=\"\",\"\",IF(journal!AJ37=\"a\",\"a\",journal!AJ37/journal!AJ$7))","v":""},{"$f":"IF(journal!AK37=\"\",\"\",IF(journal!AK37=\"a\",\"a\",journal!AK37/journal!AK$7))","v":""},{"$f":"IF(journal!AL37=\"\",\"\",IF(journal!AL37=\"a\",\"a\",journal!AL37/journal!AL$7))","v":""},{"$f":"IF(journal!AM37=\"\",\"\",IF(journal!AM37=\"a\",\"a\",journal!AM37/journal!AM$7))","v":""},{"$f":"IF(journal!AN37=\"\",\"\",IF(journal!AN37=\"a\",\"a\",journal!AN37/journal!AN$7))","v":""},{"$f":"IF(journal!AO37=\"\",\"\",IF(journal!AO37=\"a\",\"a\",journal!AO37/journal!AO$7))","v":""},{"$f":"IF(journal!AP37=\"\",\"\",IF(journal!AP37=\"a\",\"a\",journal!AP37/journal!AP$7))","v":""},{"$f":"IF(journal!AQ37=\"\",\"\",IF(journal!AQ37=\"a\",\"a\",journal!AQ37/journal!AQ$7))","v":""},{"$f":"IF(journal!AR37=\"\",\"\",IF(journal!AR37=\"a\",\"a\",journal!AR37/journal!AR$7))","v":""},"","","",""]
[null,"R",{"$f":"IF(journal!C38=\"\",\"\",IF(journal!C38=\"a\",\"a\",journal!C38/journal!C$8))","v":""},{"$f":"IF(journal!D38=\"\",\"\",IF(journal!D38=\"a\",\"a\",journal!D38/journal!D$8))","v":""},{"$f":"IF(journal!E38=\"\",\"\",IF(journal!E38=\"a\",\"a\",journal!E38/journal!E$8))","v":""},{"$f":"IF(journal!F38=\"\",\"\",IF(journal!F38=\"a\",\"a\",journal!F38/journal!F$8))","v":""},{"$f":"IF(journal!G38=\"\",\"\",IF(journal!G38=\"a\",\"a\",journal!G38/journal!G$8))","v":""},{"$f":"IF(journal!H38=\"\",\"\",IF(journal!H38=\"a\",\"a\",journal!H38/journal!H$8))","v":""},{"$f":"IF(journal!I38=\"\",\"\",IF(journal!I38=\"a\",\"a\",journal!I38/journal!I$8))","v":""},{"$f":"IF(journal!J38=\"\",\"\",IF(journal!J38=\"a\",\"a\",journal!J38/journal!J$8))","v":""},{"$f":"IF(journal!K38=\"\",\"\",IF(journal!K38=\"a\",\"a\",journal!K38/journal!K$8))","v":""},{"$f":"IF(journal!L38=\"\",\"\",IF(journal!L38=\"a\",\"a\",journal!L38/journal!L$8))","v":""},{"$f":"IF(journal!M38=\"\",\"\",IF(journal!M38=\"a\",\"a\",journal!M38/journal!M$8))","v":""},{"$f":"IF(journal!N38=\"\",\"\",IF(journal!N38=\"a\",\"a\",journal!N38/journal!N$8))","v":""},{"$f":"IF(journal!O38=\"\",\"\",IF(journal!O38=\"a\",\"a\",journal!O38/journal!O$8))","v":""},{"$f":"IF(journal!P38=\"\",\"\",IF(journal!P38=\"a\",\"a\",journal!P38/journal!P$8))","v":""},{"$f":"IF(journal!Q38=\"\",\"\",IF(journal!Q38=\"a\",\"a\",journal!Q38/journal!Q$8))","v":""},{"$f":"IF(journal!R38=\"\",\"\",IF(journal!R38=\"a\",\"a\",journal!R38/journal!R$8))","v":""},{"$f":"IF(journal!S38=\"\",\"\",IF(journal!S38=\"a\",\"a\",journal!S38/journal!S$8))","v":""},{"$f":"IF(journal!T38=\"\",\"\",IF(journal!T38=\"a\",\"a\",journal!T38/journal!T$8))","v":""},{"$f":"IF(journal!U38=\"\",\"\",IF(journal!U38=\"a\",\"a\",journal!U38/journal!U$8))","v":""},{"$f":"IF(journal!V38=\"\",\"\",IF(journal!V38=\"a\",\"a\",journal!V38/journal!V$8))","v":""},{"$f":"IF(journal!W38=\"\",\"\",IF(journal!W38=\"a\",\"a\",journal!W38/journal!W$8))","v":""},{"$f":"IF(journal!X38=\"\",\"\",IF(journal!X38=\"a\",\"a\",journal!X38/journal!X$8))","v":""},{"$f":"IF(journal!Y38=\"\",\"\",IF(journal!Y38=\"a\",\"a\",journal!Y38/journal!Y$8))","v":""},{"$f":"IF(journal!Z38=\"\",\"\",IF(journal!Z38=\"a\",\"a\",journal!Z38/journal!Z$8))","v":""},{"$f":"IF(journal!AA38=\"\",\"\",IF(journal!AA38=\"a\",\"a\",journal!AA38/journal!AA$8))","v":""},{"$f":"IF(journal!AB38=\"\",\"\",IF(journal!AB38=\"a\",\"a\",journal!AB38/journal!AB$8))","v":""},{"$f":"IF(journal!AC38=\"\",\"\",IF(journal!AC38=\"a\",\"a\",journal!AC38/journal!AC$8))","v":""},{"$f":"IF(journal!AD38=\"\",\"\",IF(journal!AD38=\"a\",\"a\",journal!AD38/journal!AD$8))","v":""},{"$f":"IF(journal!AE38=\"\",\"\",IF(journal!AE38=\"a\",\"a\",journal!AE38/journal!AE$8))","v":""},{"$f":"IF(journal!AF38=\"\",\"\",IF(journal!AF38=\"a\",\"a\",journal!AF38/journal!AF$8))","v":""},{"$f":"IF(journal!AG38=\"\",\"\",IF(journal!AG38=\"a\",\"a\",journal!AG38/journal!AG$8))","v":""},{"$f":"IF(journal!AH38=\"\",\"\",IF(journal!AH38=\"a\",\"a\",journal!AH38/journal!AH$8))","v":""},{"$f":"IF(journal!AI38=\"\",\"\",IF(journal!AI38=\"a\",\"a\",journal!AI38/journal!AI$8))","v":""},{"$f":"IF(journal!AJ38=\"\",\"\",IF(journal!AJ38=\"a\",\"a\",journal!AJ38/journal!AJ$8))","v":""},{"$f":"IF(journal!AK38=\"\",\"\",IF(journal!AK38=\"a\",\"a\",journal!AK38/journal!AK$8))","v":""},{"$f":"IF(journal!AL38=\"\",\"\",IF(journal!AL38=\"a\",\"a\",journal!AL38/journal!AL$8))","v":""},{"$f":"IF(journal!AM38=\"\",\"\",IF(journal!AM38=\"a\",\"a\",journal!AM38/journal!AM$8))","v":""},{"$f":"IF(journal!AN38=\"\",\"\",IF(journal!AN38=\"a\",\"a\",journal!AN38/journal!AN$8))","v":""},{"$f":"IF(journal!AO38=\"\",\"\",IF(journal!AO38=\"a\",\"a\",journal!AO38/journal!AO$8))","v":""},{"$f":"IF(journal!AP38=\"\",\"\",IF(journal!AP38=\"a\",\"a\",journal!AP38/journal!AP$8))","v":""},{"$f":"IF(journal!AQ38=\"\",\"\",IF(journal!AQ38=\"a\",\"a\",journal!AQ38/journal!AQ$8))","v":""},{"$f":"IF(journal!AR38=\"\",\"\",IF(journal!AR38=\"a\",\"a\",journal!AR38/journal!AR$8))","v":""},"","","",""]
[null,"V",{"$f":"IF(journal!C39=\"\",\"\",IF(journal!C39=\"a\",\"a\",journal!C39/journal!C$9))","v":""},{"$f":"IF(journal!D39=\"\",\"\",IF(journal!D39=\"a\",\"a\",journal!D39/journal!D$9))","v":""},{"$f":"IF(journal!E39=\"\",\"\",IF(journal!E39=\"a\",\"a\",journal!E39/journal!E$9))","v":""},{"$f":"IF(journal!F39=\"\",\"\",IF(journal!F39=\"a\",\"a\",journal!F39/journal!F$9))","v":""},{"$f":"IF(journal!G39=\"\",\"\",IF(journal!G39=\"a\",\"a\",journal!G39/journal!G$9))","v":""},{"$f":"IF(journal!H39=\"\",\"\",IF(journal!H39=\"a\",\"a\",journal!H39/journal!H$9))","v":""},{"$f":"IF(journal!I39=\"\",\"\",IF(journal!I39=\"a\",\"a\",journal!I39/journal!I$9))","v":""},{"$f":"IF(journal!J39=\"\",\"\",IF(journal!J39=\"a\",\"a\",journal!J39/journal!J$9))","v":""},{"$f":"IF(journal!K39=\"\",\"\",IF(journal!K39=\"a\",\"a\",journal!K39/journal!K$9))","v":""},{"$f":"IF(journal!L39=\"\",\"\",IF(journal!L39=\"a\",\"a\",journal!L39/journal!L$9))","v":""},{"$f":"IF(journal!M39=\"\",\"\",IF(journal!M39=\"a\",\"a\",journal!M39/journal!M$9))","v":""},{"$f":"IF(journal!N39=\"\",\"\",IF(journal!N39=\"a\",\"a\",journal!N39/journal!N$9))","v":""},{"$f":"IF(journal!O39=\"\",\"\",IF(journal!O39=\"a\",\"a\",journal!O39/journal!O$9))","v":""},{"$f":"IF(journal!P39=\"\",\"\",IF(journal!P39=\"a\",\"a\",journal!P39/journal!P$9))","v":""},{"$f":"IF(journal!Q39=\"\",\"\",IF(journal!Q39=\"a\",\"a\",journal!Q39/journal!Q$9))","v":""},{"$f":"IF(journal!R39=\"\",\"\",IF(journal!R39=\"a\",\"a\",journal!R39/journal!R$9))","v":""},{"$f":"IF(journal!S39=\"\",\"\",IF(journal!S39=\"a\",\"a\",journal!S39/journal!S$9))","v":""},{"$f":"IF(journal!T39=\"\",\"\",IF(journal!T39=\"a\",\"a\",journal!T39/journal!T$9))","v":""},{"$f":"IF(journal!U39=\"\",\"\",IF(journal!U39=\"a\",\"a\",journal!U39/journal!U$9))","v":""},{"$f":"IF(journal!V39=\"\",\"\",IF(journal!V39=\"a\",\"a\",journal!V39/journal!V$9))","v":""},{"$f":"IF(journal!W39=\"\",\"\",IF(journal!W39=\"a\",\"a\",journal!W39/journal!W$9))","v":""},{"$f":"IF(journal!X39=\"\",\"\",IF(journal!X39=\"a\",\"a\",journal!X39/journal!X$9))","v":""},{"$f":"IF(journal!Y39=\"\",\"\",IF(journal!Y39=\"a\",\"a\",journal!Y39/journal!Y$9))","v":""},{"$f":"IF(journal!Z39=\"\",\"\",IF(journal!Z39=\"a\",\"a\",journal!Z39/journal!Z$9))","v":""},{"$f":"IF(journal!AA39=\"\",\"\",IF(journal!AA39=\"a\",\"a\",journal!AA39/journal!AA$9))","v":""},{"$f":"IF(journal!AB39=\"\",\"\",IF(journal!AB39=\"a\",\"a\",journal!AB39/journal!AB$9))","v":""},{"$f":"IF(journal!AC39=\"\",\"\",IF(journal!AC39=\"a\",\"a\",journal!AC39/journal!AC$9))","v":""},{"$f":"IF(journal!AD39=\"\",\"\",IF(journal!AD39=\"a\",\"a\",journal!AD39/journal!AD$9))","v":""},{"$f":"IF(journal!AE39=\"\",\"\",IF(journal!AE39=\"a\",\"a\",journal!AE39/journal!AE$9))","v":""},{"$f":"IF(journal!AF39=\"\",\"\",IF(journal!AF39=\"a\",\"a\",journal!AF39/journal!AF$9))","v":""},{"$f":"IF(journal!AG39=\"\",\"\",IF(journal!AG39=\"a\",\"a\",journal!AG39/journal!AG$9))","v":""},{"$f":"IF(journal!AH39=\"\",\"\",IF(journal!AH39=\"a\",\"a\",journal!AH39/journal!AH$9))","v":""},{"$f":"IF(journal!AI39=\"\",\"\",IF(journal!AI39=\"a\",\"a\",journal!AI39/journal!AI$9))","v":""},{"$f":"IF(journal!AJ39=\"\",\"\",IF(journal!AJ39=\"a\",\"a\",journal!AJ39/journal!AJ$9))","v":""},{"$f":"IF(journal!AK39=\"\",\"\",IF(journal!AK39=\"a\",\"a\",journal!AK39/journal!AK$9))","v":""},{"$f":"IF(journal!AL39=\"\",\"\",IF(journal!AL39=\"a\",\"a\",journal!AL39/journal!AL$9))","v":""},{"$f":"IF(journal!AM39=\"\",\"\",IF(journal!AM39=\"a\",\"a\",journal!AM39/journal!AM$9))","v":""},{"$f":"IF(journal!AN39=\"\",\"\",IF(journal!AN39=\"a\",\"a\",journal!AN39/journal!AN$9))","v":""},{"$f":"IF(journal!AO39=\"\",\"\",IF(journal!AO39=\"a\",\"a\",journal!AO39/journal!AO$9))","v":""},{"$f":"IF(journal!AP39=\"\",\"\",IF(journal!AP39=\"a\",\"a\",journal!AP39/journal!AP$9))","v":""},{"$f":"IF(journal!AQ39=\"\",\"\",IF(journal!AQ39=\"a\",\"a\",journal!AQ39/journal!AQ$9))","v":""},{"$f":"IF(journal!AR39=\"\",\"\",IF(journal!AR39=\"a\",\"a\",journal!AR39/journal!AR$9))","v":""},"","","",""]
[null,"C",{"$f":"IF(journal!C40=\"\",\"\",IF(journal!C40=\"a\",\"a\",journal!C40/journal!C$10))","v":""},{"$f":"IF(journal!D40=\"\",\"\",IF(journal!D40=\"a\",\"a\",journal!D40/journal!D$10))","v":""},{"$f":"IF(journal!E40=\"\",\"\",IF(journal!E40=\"a\",\"a\",journal!E40/journal!E$10))","v":""},{"$f":"IF(journal!F40=\"\",\"\",IF(journal!F40=\"a\",\"a\",journal!F40/journal!F$10))","v":""},{"$f":"IF(journal!G40=\"\",\"\",IF(journal!G40=\"a\",\"a\",journal!G40/journal!G$10))","v":""},{"$f":"IF(journal!H40=\"\",\"\",IF(journal!H40=\"a\",\"a\",journal!H40/journal!H$10))","v":""},{"$f":"IF(journal!I40=\"\",\"\",IF(journal!I40=\"a\",\"a\",journal!I40/journal!I$10))","v":""},{"$f":"IF(journal!J40=\"\",\"\",IF(journal!J40=\"a\",\"a\",journal!J40/journal!J$10))","v":""},{"$f":"IF(journal!K40=\"\",\"\",IF(journal!K40=\"a\",\"a\",journal!K40/journal!K$10))","v":""},{"$f":"IF(journal!L40=\"\",\"\",IF(journal!L40=\"a\",\"a\",journal!L40/journal!L$10))","v":""},{"$f":"IF(journal!M40=\"\",\"\",IF(journal!M40=\"a\",\"a\",journal!M40/journal!M$10))","v":""},{"$f":"IF(journal!N40=\"\",\"\",IF(journal!N40=\"a\",\"a\",journal!N40/journal!N$10))","v":""},{"$f":"IF(journal!O40=\"\",\"\",IF(journal!O40=\"a\",\"a\",journal!O40/journal!O$10))","v":""},{"$f":"IF(journal!P40=\"\",\"\",IF(journal!P40=\"a\",\"a\",journal!P40/journal!P$10))","v":""},{"$f":"IF(journal!Q40=\"\",\"\",IF(journal!Q40=\"a\",\"a\",journal!Q40/journal!Q$10))","v":""},{"$f":"IF(journal!R40=\"\",\"\",IF(journal!R40=\"a\",\"a\",journal!R40/journal!R$10))","v":""},{"$f":"IF(journal!S40=\"\",\"\",IF(journal!S40=\"a\",\"a\",journal!S40/journal!S$10))","v":""},{"$f":"IF(journal!T40=\"\",\"\",IF(journal!T40=\"a\",\"a\",journal!T40/journal!T$10))","v":""},{"$f":"IF(journal!U40=\"\",\"\",IF(journal!U40=\"a\",\"a\",journal!U40/journal!U$10))","v":""},{"$f":"IF(journal!V40=\"\",\"\",IF(journal!V40=\"a\",\"a\",journal!V40/journal!V$10))","v":""},{"$f":"IF(journal!W40=\"\",\"\",IF(journal!W40=\"a\",\"a\",journal!W40/journal!W$10))","v":""},{"$f":"IF(journal!X40=\"\",\"\",IF(journal!X40=\"a\",\"a\",journal!X40/journal!X$10))","v":""},{"$f":"IF(journal!Y40=\"\",\"\",IF(journal!Y40=\"a\",\"a\",journal!Y40/journal!Y$10))","v":""},{"$f":"IF(journal!Z40=\"\",\"\",IF(journal!Z40=\"a\",\"a\",journal!Z40/journal!Z$10))","v":""},{"$f":"IF(journal!AA40=\"\",\"\",IF(journal!AA40=\"a\",\"a\",journal!AA40/journal!AA$10))","v":""},{"$f":"IF(journal!AB40=\"\",\"\",IF(journal!AB40=\"a\",\"a\",journal!AB40/journal!AB$10))","v":""},{"$f":"IF(journal!AC40=\"\",\"\",IF(journal!AC40=\"a\",\"a\",journal!AC40/journal!AC$10))","v":""},{"$f":"IF(journal!AD40=\"\",\"\",IF(journal!AD40=\"a\",\"a\",journal!AD40/journal!AD$10))","v":""},{"$f":"IF(journal!AE40=\"\",\"\",IF(journal!AE40=\"a\",\"a\",journal!AE40/journal!AE$10))","v":""},{"$f":"IF(journal!AF40=\"\",\"\",IF(journal!AF40=\"a\",\"a\",journal!AF40/journal!AF$10))","v":""},{"$f":"IF(journal!AG40=\"\",\"\",IF(journal!AG40=\"a\",\"a\",journal!AG40/journal!AG$10))","v":""},{"$f":"IF(journal!AH40=\"\",\"\",IF(journal!AH40=\"a\",\"a\",journal!AH40/journal!AH$10))","v":""},{"$f":"IF(journal!AI40=\"\",\"\",IF(journal!AI40=\"a\",\"a\",journal!AI40/journal!AI$10))","v":""},{"$f":"IF(journal!AJ40=\"\",\"\",IF(journal!AJ40=\"a\",\"a\",journal!AJ40/journal!AJ$10))","v":""},{"$f":"IF(journal!AK40=\"\",\"\",IF(journal!AK40=\"a\",\"a\",journal!AK40/journal!AK$10))","v":""},{"$f":"IF(journal!AL40=\"\",\"\",IF(journal!AL40=\"a\",\"a\",journal!AL40/journal!AL$10))","v":""},{"$f":"IF(journal!AM40=\"\",\"\",IF(journal!AM40=\"a\",\"a\",journal!AM40/journal!AM$10))","v":""},{"$f":"IF(journal!AN40=\"\",\"\",IF(journal!AN40=\"a\",\"a\",journal!AN40/journal!AN$10))","v":""},{"$f":"IF(journal!AO40=\"\",\"\",IF(journal!AO40=\"a\",\"a\",journal!AO40/journal!AO$10))","v":""},{"$f":"IF(journal!AP40=\"\",\"\",IF(journal!AP40=\"a\",\"a\",journal!AP40/journal!AP$10))","v":""},{"$f":"IF(journal!AQ40=\"\",\"\",IF(journal!AQ40=\"a\",\"a\",journal!AQ40/journal!AQ$10))","v":""},{"$f":"IF(journal!AR40=\"\",\"\",IF(journal!AR40=\"a\",\"a\",journal!AR40/journal!AR$10))","v":""},"","","",""]
[{"$f":"Saisie!A17","v":0},"S",{"$f":"IF(journal!C41=\"\",\"\",IF(journal!C41=\"a\",\"a\",journal!C41/journal!C$6))","v":""},{"$f":"IF(journal!D41=\"\",\"\",IF(journal!D41=\"a\",\"a\",journal!D41/journal!D$6))","v":""},{"$f":"IF(journal!E41=\"\",\"\",IF(journal!E41=\"a\",\"a\",journal!E41/journal!E$6))","v":""},{"$f":"IF(journal!F41=\"\",\"\",IF(journal!F41=\"a\",\"a\",journal!F41/journal!F$6))","v":""},{"$f":"IF(journal!G41=\"\",\"\",IF(journal!G41=\"a\",\"a\",journal!G41/journal!G$6))","v":""},{"$f":"IF(journal!H41=\"\",\"\",IF(journal!H41=\"a\",\"a\",journal!H41/journal!H$6))","v":""},{"$f":"IF(journal!I41=\"\",\"\",IF(journal!I41=\"a\",\"a\",journal!I41/journal!I$6))","v":""},{"$f":"IF(journal!J41=\"\",\"\",IF(journal!J41=\"a\",\"a\",journal!J41/journal!J$6))","v":""},{"$f":"IF(journal!K41=\"\",\"\",IF(journal!K41=\"a\",\"a\",journal!K41/journal!K$6))","v":""},{"$f":"IF(journal!L41=\"\",\"\",IF(journal!L41=\"a\",\"a\",journal!L41/journal!L$6))","v":""},{"$f":"IF(journal!M41=\"\",\"\",IF(journal!M41=\"a\",\"a\",journal!M41/journal!M$6))","v":""},{"$f":"IF(journal!N41=\"\",\"\",IF(journal!N41=\"a\",\"a\",journal!N41/journal!N$6))","v":""},{"$f":"IF(journal!O41=\"\",\"\",IF(journal!O41=\"a\",\"a\",journal!O41/journal!O$6))","v":""},{"$f":"IF(journal!P41=\"\",\"\",IF(journal!P41=\"a\",\"a\",journal!P41/journal!P$6))","v":""},{"$f":"IF(journal!Q41=\"\",\"\",IF(journal!Q41=\"a\",\"a\",journal!Q41/journal!Q$6))","v":""},{"$f":"IF(journal!R41=\"\",\"\",IF(journal!R41=\"a\",\"a\",journal!R41/journal!R$6))","v":""},{"$f":"IF(journal!S41=\"\",\"\",IF(journal!S41=\"a\",\"a\",journal!S41/journal!S$6))","v":""},{"$f":"IF(journal!T41=\"\",\"\",IF(journal!T41=\"a\",\"a\",journal!T41/journal!T$6))","v":""},{"$f":"IF(journal!U41=\"\",\"\",IF(journal!U41=\"a\",\"a\",journal!U41/journal!U$6))","v":""},{"$f":"IF(journal!V41=\"\",\"\",IF(journal!V41=\"a\",\"a\",journal!V41/journal!V$6))","v":""},{"$f":"IF(journal!W41=\"\",\"\",IF(journal!W41=\"a\",\"a\",journal!W41/journal!W$6))","v":""},{"$f":"IF(journal!X41=\"\",\"\",IF(journal!X41=\"a\",\"a\",journal!X41/journal!X$6))","v":""},{"$f":"IF(journal!Y41=\"\",\"\",IF(journal!Y41=\"a\",\"a\",journal!Y41/journal!Y$6))","v":""},{"$f":"IF(journal!Z41=\"\",\"\",IF(journal!Z41=\"a\",\"a\",journal!Z41/journal!Z$6))","v":""},{"$f":"IF(journal!AA41=\"\",\"\",IF(journal!AA41=\"a\",\"a\",journal!AA41/journal!AA$6))","v":""},{"$f":"IF(journal!AB41=\"\",\"\",IF(journal!AB41=\"a\",\"a\",journal!AB41/journal!AB$6))","v":""},{"$f":"IF(journal!AC41=\"\",\"\",IF(journal!AC41=\"a\",\"a\",journal!AC41/journal!AC$6))","v":""},{"$f":"IF(journal!AD41=\"\",\"\",IF(journal!AD41=\"a\",\"a\",journal!AD41/journal!AD$6))","v":""},{"$f":"IF(journal!AE41=\"\",\"\",IF(journal!AE41=\"a\",\"a\",journal!AE41/journal!AE$6))","v":""},{"$f":"IF(journal!AF41=\"\",\"\",IF(journal!AF41=\"a\",\"a\",journal!AF41/journal!AF$6))","v":""},{"$f":"IF(journal!AG41=\"\",\"\",IF(journal!AG41=\"a\",\"a\",journal!AG41/journal!AG$6))","v":""},{"$f":"IF(journal!AH41=\"\",\"\",IF(journal!AH41=\"a\",\"a\",journal!AH41/journal!AH$6))","v":""},{"$f":"IF(journal!AI41=\"\",\"\",IF(journal!AI41=\"a\",\"a\",journal!AI41/journal!AI$6))","v":""},{"$f":"IF(journal!AJ41=\"\",\"\",IF(journal!AJ41=\"a\",\"a\",journal!AJ41/journal!AJ$6))","v":""},{"$f":"IF(journal!AK41=\"\",\"\",IF(journal!AK41=\"a\",\"a\",journal!AK41/journal!AK$6))","v":""},{"$f":"IF(journal!AL41=\"\",\"\",IF(journal!AL41=\"a\",\"a\",journal!AL41/journal!AL$6))","v":""},{"$f":"IF(journal!AM41=\"\",\"\",IF(journal!AM41=\"a\",\"a\",journal!AM41/journal!AM$6))","v":""},{"$f":"IF(journal!AN41=\"\",\"\",IF(journal!AN41=\"a\",\"a\",journal!AN41/journal!AN$6))","v":""},{"$f":"IF(journal!AO41=\"\",\"\",IF(journal!AO41=\"a\",\"a\",journal!AO41/journal!AO$6))","v":""},{"$f":"IF(journal!AP41=\"\",\"\",IF(journal!AP41=\"a\",\"a\",journal!AP41/journal!AP$6))","v":""},{"$f":"IF(journal!AQ41=\"\",\"\",IF(journal!AQ41=\"a\",\"a\",journal!AQ41/journal!AQ$6))","v":""},{"$f":"IF(journal!AR41=\"\",\"\",IF(journal!AR41=\"a\",\"a\",journal!AR41/journal!AR$6))","v":""},"","","",""]
[null,"A",{"$f":"IF(journal!C42=\"\",\"\",IF(journal!C42=\"a\",\"a\",journal!C42/journal!C$7))","v":""},{"$f":"IF(journal!D42=\"\",\"\",IF(journal!D42=\"a\",\"a\",journal!D42/journal!D$7))","v":""},{"$f":"IF(journal!E42=\"\",\"\",IF(journal!E42=\"a\",\"a\",journal!E42/journal!E$7))","v":""},{"$f":"IF(journal!F42=\"\",\"\",IF(journal!F42=\"a\",\"a\",journal!F42/journal!F$7))","v":""},{"$f":"IF(journal!G42=\"\",\"\",IF(journal!G42=\"a\",\"a\",journal!G42/journal!G$7))","v":""},{"$f":"IF(journal!H42=\"\",\"\",IF(journal!H42=\"a\",\"a\",journal!H42/journal!H$7))","v":""},{"$f":"IF(journal!I42=\"\",\"\",IF(journal!I42=\"a\",\"a\",journal!I42/journal!I$7))","v":""},{"$f":"IF(journal!J42=\"\",\"\",IF(journal!J42=\"a\",\"a\",journal!J42/journal!J$7))","v":""},{"$f":"IF(journal!K42=\"\",\"\",IF(journal!K42=\"a\",\"a\",journal!K42/journal!K$7))","v":""},{"$f":"IF(journal!L42=\"\",\"\",IF(journal!L42=\"a\",\"a\",journal!L42/journal!L$7))","v":""},{"$f":"IF(journal!M42=\"\",\"\",IF(journal!M42=\"a\",\"a\",journal!M42/journal!M$7))","v":""},{"$f":"IF(journal!N42=\"\",\"\",IF(journal!N42=\"a\",\"a\",journal!N42/journal!N$7))","v":""},{"$f":"IF(journal!O42=\"\",\"\",IF(journal!O42=\"a\",\"a\",journal!O42/journal!O$7))","v":""},{"$f":"IF(journal!P42=\"\",\"\",IF(journal!P42=\"a\",\"a\",journal!P42/journal!P$7))","v":""},{"$f":"IF(journal!Q42=\"\",\"\",IF(journal!Q42=\"a\",\"a\",journal!Q42/journal!Q$7))","v":""},{"$f":"IF(journal!R42=\"\",\"\",IF(journal!R42=\"a\",\"a\",journal!R42/journal!R$7))","v":""},{"$f":"IF(journal!S42=\"\",\"\",IF(journal!S42=\"a\",\"a\",journal!S42/journal!S$7))","v":""},{"$f":"IF(journal!T42=\"\",\"\",IF(journal!T42=\"a\",\"a\",journal!T42/journal!T$7))","v":""},{"$f":"IF(journal!U42=\"\",\"\",IF(journal!U42=\"a\",\"a\",journal!U42/journal!U$7))","v":""},{"$f":"IF(journal!V42=\"\",\"\",IF(journal!V42=\"a\",\"a\",journal!V42/journal!V$7))","v":""},{"$f":"IF(journal!W42=\"\",\"\",IF(journal!W42=\"a\",\"a\",journal!W42/journal!W$7))","v":""},{"$f":"IF(journal!X42=\"\",\"\",IF(journal!X42=\"a\",\"a\",journal!X42/journal!X$7))","v":""},{"$f":"IF(journal!Y42=\"\",\"\",IF(journal!Y42=\"a\",\"a\",journal!Y42/journal!Y$7))","v":""},{"$f":"IF(journal!Z42=\"\",\"\",IF(journal!Z42=\"a\",\"a\",journal!Z42/journal!Z$7))","v":""},{"$f":"IF(journal!AA42=\"\",\"\",IF(journal!AA42=\"a\",\"a\",journal!AA42/journal!AA$7))","v":""},{"$f":"IF(journal!AB42=\"\",\"\",IF(journal!AB42=\"a\",\"a\",journal!AB42/journal!AB$7))","v":""},{"$f":"IF(journal!AC42=\"\",\"\",IF(journal!AC42=\"a\",\"a\",journal!AC42/journal!AC$7))","v":""},{"$f":"IF(journal!AD42=\"\",\"\",IF(journal!AD42=\"a\",\"a\",journal!AD42/journal!AD$7))","v":""},{"$f":"IF(journal!AE42=\"\",\"\",IF(journal!AE42=\"a\",\"a\",journal!AE42/journal!AE$7))","v":""},{"$f":"IF(journal!AF42=\"\",\"\",IF(journal!AF42=\"a\",\"a\",journal!AF42/journal!AF$7))","v":""},{"$f":"IF(journal!AG42=\"\",\"\",IF(journal!AG42=\"a\",\"a\",journal!AG42/journal!AG$7))","v":""},{"$f":"IF(journal!AH42=\"\",\"\",IF(journal!AH42=\"a\",\"a\",journal!AH42/journal!AH$7))","v":""},{"$f":"IF(journal!AI42=\"\",\"\",IF(journal!AI42=\"a\",\"a\",journal!AI42/journal!AI$7))","v":""},{"$f":"IF(journal!AJ42=\"\",\"\",IF(journal!AJ42=\"a\",\"a\",journal!AJ42/journal!AJ$7))","v":""},{"$f":"IF(journal!AK42=\"\",\"\",IF(journal!AK42=\"a\",\"a\",journal!AK42/journal!AK$7))","v":""},{"$f":"IF(journal!AL42=\"\",\"\",IF(journal!AL42=\"a\",\"a\",journal!AL42/journal!AL$7))","v":""},{"$f":"IF(journal!AM42=\"\",\"\",IF(journal!AM42=\"a\",\"a\",journal!AM42/journal!AM$7))","v":""},{"$f":"IF(journal!AN42=\"\",\"\",IF(journal!AN42=\"a\",\"a\",journal!AN42/journal!AN$7))","v":""},{"$f":"IF(journal!AO42=\"\",\"\",IF(journal!AO42=\"a\",\"a\",journal!AO42/journal!AO$7))","v":""},{"$f":"IF(journal!AP42=\"\",\"\",IF(journal!AP42=\"a\",\"a\",journal!AP42/journal!AP$7))","v":""},{"$f":"IF(journal!AQ42=\"\",\"\",IF(journal!AQ42=\"a\",\"a\",journal!AQ42/journal!AQ$7))","v":""},{"$f":"IF(journal!AR42=\"\",\"\",IF(journal!AR42=\"a\",\"a\",journal!AR42/journal!AR$7))","v":""},"","","",""]
[null,"R",{"$f":"IF(journal!C43=\"\",\"\",IF(journal!C43=\"a\",\"a\",journal!C43/journal!C$8))","v":""},{"$f":"IF(journal!D43=\"\",\"\",IF(journal!D43=\"a\",\"a\",journal!D43/journal!D$8))","v":""},{"$f":"IF(journal!E43=\"\",\"\",IF(journal!E43=\"a\",\"a\",journal!E43/journal!E$8))","v":""},{"$f":"IF(journal!F43=\"\",\"\",IF(journal!F43=\"a\",\"a\",journal!F43/journal!F$8))","v":""},{"$f":"IF(journal!G43=\"\",\"\",IF(journal!G43=\"a\",\"a\",journal!G43/journal!G$8))","v":""},{"$f":"IF(journal!H43=\"\",\"\",IF(journal!H43=\"a\",\"a\",journal!H43/journal!H$8))","v":""},{"$f":"IF(journal!I43=\"\",\"\",IF(journal!I43=\"a\",\"a\",journal!I43/journal!I$8))","v":""},{"$f":"IF(journal!J43=\"\",\"\",IF(journal!J43=\"a\",\"a\",journal!J43/journal!J$8))","v":""},{"$f":"IF(journal!K43=\"\",\"\",IF(journal!K43=\"a\",\"a\",journal!K43/journal!K$8))","v":""},{"$f":"IF(journal!L43=\"\",\"\",IF(journal!L43=\"a\",\"a\",journal!L43/journal!L$8))","v":""},{"$f":"IF(journal!M43=\"\",\"\",IF(journal!M43=\"a\",\"a\",journal!M43/journal!M$8))","v":""},{"$f":"IF(journal!N43=\"\",\"\",IF(journal!N43=\"a\",\"a\",journal!N43/journal!N$8))","v":""},{"$f":"IF(journal!O43=\"\",\"\",IF(journal!O43=\"a\",\"a\",journal!O43/journal!O$8))","v":""},{"$f":"IF(journal!P43=\"\",\"\",IF(journal!P43=\"a\",\"a\",journal!P43/journal!P$8))","v":""},{"$f":"IF(journal!Q43=\"\",\"\",IF(journal!Q43=\"a\",\"a\",journal!Q43/journal!Q$8))","v":""},{"$f":"IF(journal!R43=\"\",\"\",IF(journal!R43=\"a\",\"a\",journal!R43/journal!R$8))","v":""},{"$f":"IF(journal!S43=\"\",\"\",IF(journal!S43=\"a\",\"a\",journal!S43/journal!S$8))","v":""},{"$f":"IF(journal!T43=\"\",\"\",IF(journal!T43=\"a\",\"a\",journal!T43/journal!T$8))","v":""},{"$f":"IF(journal!U43=\"\",\"\",IF(journal!U43=\"a\",\"a\",journal!U43/journal!U$8))","v":""},{"$f":"IF(journal!V43=\"\",\"\",IF(journal!V43=\"a\",\"a\",journal!V43/journal!V$8))","v":""},{"$f":"IF(journal!W43=\"\",\"\",IF(journal!W43=\"a\",\"a\",journal!W43/journal!W$8))","v":""},{"$f":"IF(journal!X43=\"\",\"\",IF(journal!X43=\"a\",\"a\",journal!X43/journal!X$8))","v":""},{"$f":"IF(journal!Y43=\"\",\"\",IF(journal!Y43=\"a\",\"a\",journal!Y43/journal!Y$8))","v":""},{"$f":"IF(journal!Z43=\"\",\"\",IF(journal!Z43=\"a\",\"a\",journal!Z43/journal!Z$8))","v":""},{"$f":"IF(journal!AA43=\"\",\"\",IF(journal!AA43=\"a\",\"a\",journal!AA43/journal!AA$8))","v":""},{"$f":"IF(journal!AB43=\"\",\"\",IF(journal!AB43=\"a\",\"a\",journal!AB43/journal!AB$8))","v":""},{"$f":"IF(journal!AC43=\"\",\"\",IF(journal!AC43=\"a\",\"a\",journal!AC43/journal!AC$8))","v":""},{"$f":"IF(journal!AD43=\"\",\"\",IF(journal!AD43=\"a\",\"a\",journal!AD43/journal!AD$8))","v":""},{"$f":"IF(journal!AE43=\"\",\"\",IF(journal!AE43=\"a\",\"a\",journal!AE43/journal!AE$8))","v":""},{"$f":"IF(journal!AF43=\"\",\"\",IF(journal!AF43=\"a\",\"a\",journal!AF43/journal!AF$8))","v":""},{"$f":"IF(journal!AG43=\"\",\"\",IF(journal!AG43=\"a\",\"a\",journal!AG43/journal!AG$8))","v":""},{"$f":"IF(journal!AH43=\"\",\"\",IF(journal!AH43=\"a\",\"a\",journal!AH43/journal!AH$8))","v":""},{"$f":"IF(journal!AI43=\"\",\"\",IF(journal!AI43=\"a\",\"a\",journal!AI43/journal!AI$8))","v":""},{"$f":"IF(journal!AJ43=\"\",\"\",IF(journal!AJ43=\"a\",\"a\",journal!AJ43/journal!AJ$8))","v":""},{"$f":"IF(journal!AK43=\"\",\"\",IF(journal!AK43=\"a\",\"a\",journal!AK43/journal!AK$8))","v":""},{"$f":"IF(journal!AL43=\"\",\"\",IF(journal!AL43=\"a\",\"a\",journal!AL43/journal!AL$8))","v":""},{"$f":"IF(journal!AM43=\"\",\"\",IF(journal!AM43=\"a\",\"a\",journal!AM43/journal!AM$8))","v":""},{"$f":"IF(journal!AN43=\"\",\"\",IF(journal!AN43=\"a\",\"a\",journal!AN43/journal!AN$8))","v":""},{"$f":"IF(journal!AO43=\"\",\"\",IF(journal!AO43=\"a\",\"a\",journal!AO43/journal!AO$8))","v":""},{"$f":"IF(journal!AP43=\"\",\"\",IF(journal!AP43=\"a\",\"a\",journal!AP43/journal!AP$8))","v":""},{"$f":"IF(journal!AQ43=\"\",\"\",IF(journal!AQ43=\"a\",\"a\",journal!AQ43/journal!AQ$8))","v":""},{"$f":"IF(journal!AR43=\"\",\"\",IF(journal!AR43=\"a\",\"a\",journal!AR43/journal!AR$8))","v":""},"","","",""]
[null,"V",{"$f":"IF(journal!C44=\"\",\"\",IF(journal!C44=\"a\",\"a\",journal!C44/journal!C$9))","v":""},{"$f":"IF(journal!D44=\"\",\"\",IF(journal!D44=\"a\",\"a\",journal!D44/journal!D$9))","v":""},{"$f":"IF(journal!E44=\"\",\"\",IF(journal!E44=\"a\",\"a\",journal!E44/journal!E$9))","v":""},{"$f":"IF(journal!F44=\"\",\"\",IF(journal!F44=\"a\",\"a\",journal!F44/journal!F$9))","v":""},{"$f":"IF(journal!G44=\"\",\"\",IF(journal!G44=\"a\",\"a\",journal!G44/journal!G$9))","v":""},{"$f":"IF(journal!H44=\"\",\"\",IF(journal!H44=\"a\",\"a\",journal!H44/journal!H$9))","v":""},{"$f":"IF(journal!I44=\"\",\"\",IF(journal!I44=\"a\",\"a\",journal!I44/journal!I$9))","v":""},{"$f":"IF(journal!J44=\"\",\"\",IF(journal!J44=\"a\",\"a\",journal!J44/journal!J$9))","v":""},{"$f":"IF(journal!K44=\"\",\"\",IF(journal!K44=\"a\",\"a\",journal!K44/journal!K$9))","v":""},{"$f":"IF(journal!L44=\"\",\"\",IF(journal!L44=\"a\",\"a\",journal!L44/journal!L$9))","v":""},{"$f":"IF(journal!M44=\"\",\"\",IF(journal!M44=\"a\",\"a\",journal!M44/journal!M$9))","v":""},{"$f":"IF(journal!N44=\"\",\"\",IF(journal!N44=\"a\",\"a\",journal!N44/journal!N$9))","v":""},{"$f":"IF(journal!O44=\"\",\"\",IF(journal!O44=\"a\",\"a\",journal!O44/journal!O$9))","v":""},{"$f":"IF(journal!P44=\"\",\"\",IF(journal!P44=\"a\",\"a\",journal!P44/journal!P$9))","v":""},{"$f":"IF(journal!Q44=\"\",\"\",IF(journal!Q44=\"a\",\"a\",journal!Q44/journal!Q$9))","v":""},{"$f":"IF(journal!R44=\"\",\"\",IF(journal!R44=\"a\",\"a\",journal!R44/journal!R$9))","v":""},{"$f":"IF(journal!S44=\"\",\"\",IF(journal!S44=\"a\",\"a\",journal!S44/journal!S$9))","v":""},{"$f":"IF(journal!T44=\"\",\"\",IF(journal!T44=\"a\",\"a\",journal!T44/journal!T$9))","v":""},{"$f":"IF(journal!U44=\"\",\"\",IF(journal!U44=\"a\",\"a\",journal!U44/journal!U$9))","v":""},{"$f":"IF(journal!V44=\"\",\"\",IF(journal!V44=\"a\",\"a\",journal!V44/journal!V$9))","v":""},{"$f":"IF(journal!W44=\"\",\"\",IF(journal!W44=\"a\",\"a\",journal!W44/journal!W$9))","v":""},{"$f":"IF(journal!X44=\"\",\"\",IF(journal!X44=\"a\",\"a\",journal!X44/journal!X$9))","v":""},{"$f":"IF(journal!Y44=\"\",\"\",IF(journal!Y44=\"a\",\"a\",journal!Y44/journal!Y$9))","v":""},{"$f":"IF(journal!Z44=\"\",\"\",IF(journal!Z44=\"a\",\"a\",journal!Z44/journal!Z$9))","v":""},{"$f":"IF(journal!AA44=\"\",\"\",IF(journal!AA44=\"a\",\"a\",journal!AA44/journal!AA$9))","v":""},{"$f":"IF(journal!AB44=\"\",\"\",IF(journal!AB44=\"a\",\"a\",journal!AB44/journal!AB$9))","v":""},{"$f":"IF(journal!AC44=\"\",\"\",IF(journal!AC44=\"a\",\"a\",journal!AC44/journal!AC$9))","v":""},{"$f":"IF(journal!AD44=\"\",\"\",IF(journal!AD44=\"a\",\"a\",journal!AD44/journal!AD$9))","v":""},{"$f":"IF(journal!AE44=\"\",\"\",IF(journal!AE44=\"a\",\"a\",journal!AE44/journal!AE$9))","v":""},{"$f":"IF(journal!AF44=\"\",\"\",IF(journal!AF44=\"a\",\"a\",journal!AF44/journal!AF$9))","v":""},{"$f":"IF(journal!AG44=\"\",\"\",IF(journal!AG44=\"a\",\"a\",journal!AG44/journal!AG$9))","v":""},{"$f":"IF(journal!AH44=\"\",\"\",IF(journal!AH44=\"a\",\"a\",journal!AH44/journal!AH$9))","v":""},{"$f":"IF(journal!AI44=\"\",\"\",IF(journal!AI44=\"a\",\"a\",journal!AI44/journal!AI$9))","v":""},{"$f":"IF(journal!AJ44=\"\",\"\",IF(journal!AJ44=\"a\",\"a\",journal!AJ44/journal!AJ$9))","v":""},{"$f":"IF(journal!AK44=\"\",\"\",IF(journal!AK44=\"a\",\"a\",journal!AK44/journal!AK$9))","v":""},{"$f":"IF(journal!AL44=\"\",\"\",IF(journal!AL44=\"a\",\"a\",journal!AL44/journal!AL$9))","v":""},{"$f":"IF(journal!AM44=\"\",\"\",IF(journal!AM44=\"a\",\"a\",journal!AM44/journal!AM$9))","v":""},{"$f":"IF(journal!AN44=\"\",\"\",IF(journal!AN44=\"a\",\"a\",journal!AN44/journal!AN$9))","v":""},{"$f":"IF(journal!AO44=\"\",\"\",IF(journal!AO44=\"a\",\"a\",journal!AO44/journal!AO$9))","v":""},{"$f":"IF(journal!AP44=\"\",\"\",IF(journal!AP44=\"a\",\"a\",journal!AP44/journal!AP$9))","v":""},{"$f":"IF(journal!AQ44=\"\",\"\",IF(journal!AQ44=\"a\",\"a\",journal!AQ44/journal!AQ$9))","v":""},{"$f":"IF(journal!AR44=\"\",\"\",IF(journal!AR44=\"a\",\"a\",journal!AR44/journal!AR$9))","v":""},"","","",""]
[null,"C",{"$f":"IF(journal!C45=\"\",\"\",IF(journal!C45=\"a\",\"a\",journal!C45/journal!C$10))","v":""},{"$f":"IF(journal!D45=\"\",\"\",IF(journal!D45=\"a\",\"a\",journal!D45/journal!D$10))","v":""},{"$f":"IF(journal!E45=\"\",\"\",IF(journal!E45=\"a\",\"a\",journal!E45/journal!E$10))","v":""},{"$f":"IF(journal!F45=\"\",\"\",IF(journal!F45=\"a\",\"a\",journal!F45/journal!F$10))","v":""},{"$f":"IF(journal!G45=\"\",\"\",IF(journal!G45=\"a\",\"a\",journal!G45/journal!G$10))","v":""},{"$f":"IF(journal!H45=\"\",\"\",IF(journal!H45=\"a\",\"a\",journal!H45/journal!H$10))","v":""},{"$f":"IF(journal!I45=\"\",\"\",IF(journal!I45=\"a\",\"a\",journal!I45/journal!I$10))","v":""},{"$f":"IF(journal!J45=\"\",\"\",IF(journal!J45=\"a\",\"a\",journal!J45/journal!J$10))","v":""},{"$f":"IF(journal!K45=\"\",\"\",IF(journal!K45=\"a\",\"a\",journal!K45/journal!K$10))","v":""},{"$f":"IF(journal!L45=\"\",\"\",IF(journal!L45=\"a\",\"a\",journal!L45/journal!L$10))","v":""},{"$f":"IF(journal!M45=\"\",\"\",IF(journal!M45=\"a\",\"a\",journal!M45/journal!M$10))","v":""},{"$f":"IF(journal!N45=\"\",\"\",IF(journal!N45=\"a\",\"a\",journal!N45/journal!N$10))","v":""},{"$f":"IF(journal!O45=\"\",\"\",IF(journal!O45=\"a\",\"a\",journal!O45/journal!O$10))","v":""},{"$f":"IF(journal!P45=\"\",\"\",IF(journal!P45=\"a\",\"a\",journal!P45/journal!P$10))","v":""},{"$f":"IF(journal!Q45=\"\",\"\",IF(journal!Q45=\"a\",\"a\",journal!Q45/journal!Q$10))","v":""},{"$f":"IF(journal!R45=\"\",\"\",IF(journal!R45=\"a\",\"a\",journal!R45/journal!R$10))","v":""},{"$f":"IF(journal!S45=\"\",\"\",IF(journal!S45=\"a\",\"a\",journal!S45/journal!S$10))","v":""},{"$f":"IF(journal!T45=\"\",\"\",IF(journal!T45=\"a\",\"a\",journal!T45/journal!T$10))","v":""},{"$f":"IF(journal!U45=\"\",\"\",IF(journal!U45=\"a\",\"a\",journal!U45/journal!U$10))","v":""},{"$f":"IF(journal!V45=\"\",\"\",IF(journal!V45=\"a\",\"a\",journal!V45/journal!V$10))","v":""},{"$f":"IF(journal!W45=\"\",\"\",IF(journal!W45=\"a\",\"a\",journal!W45/journal!W$10))","v":""},{"$f":"IF(journal!X45=\"\",\"\",IF(journal!X45=\"a\",\"a\",journal!X45/journal!X$10))","v":""},{"$f":"IF(journal!Y45=\"\",\"\",IF(journal!Y45=\"a\",\"a\",journal!Y45/journal!Y$10))","v":""},{"$f":"IF(journal!Z45=\"\",\"\",IF(journal!Z45=\"a\",\"a\",journal!Z45/journal!Z$10))","v":""},{"$f":"IF(journal!AA45=\"\",\"\",IF(journal!AA45=\"a\",\"a\",journal!AA45/journal!AA$10))","v":""},{"$f":"IF(journal!AB45=\"\",\"\",IF(journal!AB45=\"a\",\"a\",journal!AB45/journal!AB$10))","v":""},{"$f":"IF(journal!AC45=\"\",\"\",IF(journal!AC45=\"a\",\"a\",journal!AC45/journal!AC$10))","v":""},{"$f":"IF(journal!AD45=\"\",\"\",IF(journal!AD45=\"a\",\"a\",journal!AD45/journal!AD$10))","v":""},{"$f":"IF(journal!AE45=\"\",\"\",IF(journal!AE45=\"a\",\"a\",journal!AE45/journal!AE$10))","v":""},{"$f":"IF(journal!AF45=\"\",\"\",IF(journal!AF45=\"a\",\"a\",journal!AF45/journal!AF$10))","v":""},{"$f":"IF(journal!AG45=\"\",\"\",IF(journal!AG45=\"a\",\"a\",journal!AG45/journal!AG$10))","v":""},{"$f":"IF(journal!AH45=\"\",\"\",IF(journal!AH45=\"a\",\"a\",journal!AH45/journal!AH$10))","v":""},{"$f":"IF(journal!AI45=\"\",\"\",IF(journal!AI45=\"a\",\"a\",journal!AI45/journal!AI$10))","v":""},{"$f":"IF(journal!AJ45=\"\",\"\",IF(journal!AJ45=\"a\",\"a\",journal!AJ45/journal!AJ$10))","v":""},{"$f":"IF(journal!AK45=\"\",\"\",IF(journal!AK45=\"a\",\"a\",journal!AK45/journal!AK$10))","v":""},{"$f":"IF(journal!AL45=\"\",\"\",IF(journal!AL45=\"a\",\"a\",journal!AL45/journal!AL$10))","v":""},{"$f":"IF(journal!AM45=\"\",\"\",IF(journal!AM45=\"a\",\"a\",journal!AM45/journal!AM$10))","v":""},{"$f":"IF(journal!AN45=\"\",\"\",IF(journal!AN45=\"a\",\"a\",journal!AN45/journal!AN$10))","v":""},{"$f":"IF(journal!AO45=\"\",\"\",IF(journal!AO45=\"a\",\"a\",journal!AO45/journal!AO$10))","v":""},{"$f":"IF(journal!AP45=\"\",\"\",IF(journal!AP45=\"a\",\"a\",journal!AP45/journal!AP$10))","v":""},{"$f":"IF(journal!AQ45=\"\",\"\",IF(journal!AQ45=\"a\",\"a\",journal!AQ45/journal!AQ$10))","v":""},{"$f":"IF(journal!AR45=\"\",\"\",IF(journal!AR45=\"a\",\"a\",journal!AR45/journal!AR$10))","v":""},"","","",""]
[{"$f":"Saisie!A18","v":0},"S",{"$f":"IF(journal!C46=\"\",\"\",IF(journal!C46=\"a\",\"a\",journal!C46/journal!C$6))","v":""},{"$f":"IF(journal!D46=\"\",\"\",IF(journal!D46=\"a\",\"a\",journal!D46/journal!D$6))","v":""},{"$f":"IF(journal!E46=\"\",\"\",IF(journal!E46=\"a\",\"a\",journal!E46/journal!E$6))","v":""},{"$f":"IF(journal!F46=\"\",\"\",IF(journal!F46=\"a\",\"a\",journal!F46/journal!F$6))","v":""},{"$f":"IF(journal!G46=\"\",\"\",IF(journal!G46=\"a\",\"a\",journal!G46/journal!G$6))","v":""},{"$f":"IF(journal!H46=\"\",\"\",IF(journal!H46=\"a\",\"a\",journal!H46/journal!H$6))","v":""},{"$f":"IF(journal!I46=\"\",\"\",IF(journal!I46=\"a\",\"a\",journal!I46/journal!I$6))","v":""},{"$f":"IF(journal!J46=\"\",\"\",IF(journal!J46=\"a\",\"a\",journal!J46/journal!J$6))","v":""},{"$f":"IF(journal!K46=\"\",\"\",IF(journal!K46=\"a\",\"a\",journal!K46/journal!K$6))","v":""},{"$f":"IF(journal!L46=\"\",\"\",IF(journal!L46=\"a\",\"a\",journal!L46/journal!L$6))","v":""},{"$f":"IF(journal!M46=\"\",\"\",IF(journal!M46=\"a\",\"a\",journal!M46/journal!M$6))","v":""},{"$f":"IF(journal!N46=\"\",\"\",IF(journal!N46=\"a\",\"a\",journal!N46/journal!N$6))","v":""},{"$f":"IF(journal!O46=\"\",\"\",IF(journal!O46=\"a\",\"a\",journal!O46/journal!O$6))","v":""},{"$f":"IF(journal!P46=\"\",\"\",IF(journal!P46=\"a\",\"a\",journal!P46/journal!P$6))","v":""},{"$f":"IF(journal!Q46=\"\",\"\",IF(journal!Q46=\"a\",\"a\",journal!Q46/journal!Q$6))","v":""},{"$f":"IF(journal!R46=\"\",\"\",IF(journal!R46=\"a\",\"a\",journal!R46/journal!R$6))","v":""},{"$f":"IF(journal!S46=\"\",\"\",IF(journal!S46=\"a\",\"a\",journal!S46/journal!S$6))","v":""},{"$f":"IF(journal!T46=\"\",\"\",IF(journal!T46=\"a\",\"a\",journal!T46/journal!T$6))","v":""},{"$f":"IF(journal!U46=\"\",\"\",IF(journal!U46=\"a\",\"a\",journal!U46/journal!U$6))","v":""},{"$f":"IF(journal!V46=\"\",\"\",IF(journal!V46=\"a\",\"a\",journal!V46/journal!V$6))","v":""},{"$f":"IF(journal!W46=\"\",\"\",IF(journal!W46=\"a\",\"a\",journal!W46/journal!W$6))","v":""},{"$f":"IF(journal!X46=\"\",\"\",IF(journal!X46=\"a\",\"a\",journal!X46/journal!X$6))","v":""},{"$f":"IF(journal!Y46=\"\",\"\",IF(journal!Y46=\"a\",\"a\",journal!Y46/journal!Y$6))","v":""},{"$f":"IF(journal!Z46=\"\",\"\",IF(journal!Z46=\"a\",\"a\",journal!Z46/journal!Z$6))","v":""},{"$f":"IF(journal!AA46=\"\",\"\",IF(journal!AA46=\"a\",\"a\",journal!AA46/journal!AA$6))","v":""},{"$f":"IF(journal!AB46=\"\",\"\",IF(journal!AB46=\"a\",\"a\",journal!AB46/journal!AB$6))","v":""},{"$f":"IF(journal!AC46=\"\",\"\",IF(journal!AC46=\"a\",\"a\",journal!AC46/journal!AC$6))","v":""},{"$f":"IF(journal!AD46=\"\",\"\",IF(journal!AD46=\"a\",\"a\",journal!AD46/journal!AD$6))","v":""},{"$f":"IF(journal!AE46=\"\",\"\",IF(journal!AE46=\"a\",\"a\",journal!AE46/journal!AE$6))","v":""},{"$f":"IF(journal!AF46=\"\",\"\",IF(journal!AF46=\"a\",\"a\",journal!AF46/journal!AF$6))","v":""},{"$f":"IF(journal!AG46=\"\",\"\",IF(journal!AG46=\"a\",\"a\",journal!AG46/journal!AG$6))","v":""},{"$f":"IF(journal!AH46=\"\",\"\",IF(journal!AH46=\"a\",\"a\",journal!AH46/journal!AH$6))","v":""},{"$f":"IF(journal!AI46=\"\",\"\",IF(journal!AI46=\"a\",\"a\",journal!AI46/journal!AI$6))","v":""},{"$f":"IF(journal!AJ46=\"\",\"\",IF(journal!AJ46=\"a\",\"a\",journal!AJ46/journal!AJ$6))","v":""},{"$f":"IF(journal!AK46=\"\",\"\",IF(journal!AK46=\"a\",\"a\",journal!AK46/journal!AK$6))","v":""},{"$f":"IF(journal!AL46=\"\",\"\",IF(journal!AL46=\"a\",\"a\",journal!AL46/journal!AL$6))","v":""},{"$f":"IF(journal!AM46=\"\",\"\",IF(journal!AM46=\"a\",\"a\",journal!AM46/journal!AM$6))","v":""},{"$f":"IF(journal!AN46=\"\",\"\",IF(journal!AN46=\"a\",\"a\",journal!AN46/journal!AN$6))","v":""},{"$f":"IF(journal!AO46=\"\",\"\",IF(journal!AO46=\"a\",\"a\",journal!AO46/journal!AO$6))","v":""},{"$f":"IF(journal!AP46=\"\",\"\",IF(journal!AP46=\"a\",\"a\",journal!AP46/journal!AP$6))","v":""},{"$f":"IF(journal!AQ46=\"\",\"\",IF(journal!AQ46=\"a\",\"a\",journal!AQ46/journal!AQ$6))","v":""},{"$f":"IF(journal!AR46=\"\",\"\",IF(journal!AR46=\"a\",\"a\",journal!AR46/journal!AR$6))","v":""},"","","",""]
[null,"A",{"$f":"IF(journal!C47=\"\",\"\",IF(journal!C47=\"a\",\"a\",journal!C47/journal!C$7))","v":""},{"$f":"IF(journal!D47=\"\",\"\",IF(journal!D47=\"a\",\"a\",journal!D47/journal!D$7))","v":""},{"$f":"IF(journal!E47=\"\",\"\",IF(journal!E47=\"a\",\"a\",journal!E47/journal!E$7))","v":""},{"$f":"IF(journal!F47=\"\",\"\",IF(journal!F47=\"a\",\"a\",journal!F47/journal!F$7))","v":""},{"$f":"IF(journal!G47=\"\",\"\",IF(journal!G47=\"a\",\"a\",journal!G47/journal!G$7))","v":""},{"$f":"IF(journal!H47=\"\",\"\",IF(journal!H47=\"a\",\"a\",journal!H47/journal!H$7))","v":""},{"$f":"IF(journal!I47=\"\",\"\",IF(journal!I47=\"a\",\"a\",journal!I47/journal!I$7))","v":""},{"$f":"IF(journal!J47=\"\",\"\",IF(journal!J47=\"a\",\"a\",journal!J47/journal!J$7))","v":""},{"$f":"IF(journal!K47=\"\",\"\",IF(journal!K47=\"a\",\"a\",journal!K47/journal!K$7))","v":""},{"$f":"IF(journal!L47=\"\",\"\",IF(journal!L47=\"a\",\"a\",journal!L47/journal!L$7))","v":""},{"$f":"IF(journal!M47=\"\",\"\",IF(journal!M47=\"a\",\"a\",journal!M47/journal!M$7))","v":""},{"$f":"IF(journal!N47=\"\",\"\",IF(journal!N47=\"a\",\"a\",journal!N47/journal!N$7))","v":""},{"$f":"IF(journal!O47=\"\",\"\",IF(journal!O47=\"a\",\"a\",journal!O47/journal!O$7))","v":""},{"$f":"IF(journal!P47=\"\",\"\",IF(journal!P47=\"a\",\"a\",journal!P47/journal!P$7))","v":""},{"$f":"IF(journal!Q47=\"\",\"\",IF(journal!Q47=\"a\",\"a\",journal!Q47/journal!Q$7))","v":""},{"$f":"IF(journal!R47=\"\",\"\",IF(journal!R47=\"a\",\"a\",journal!R47/journal!R$7))","v":""},{"$f":"IF(journal!S47=\"\",\"\",IF(journal!S47=\"a\",\"a\",journal!S47/journal!S$7))","v":""},{"$f":"IF(journal!T47=\"\",\"\",IF(journal!T47=\"a\",\"a\",journal!T47/journal!T$7))","v":""},{"$f":"IF(journal!U47=\"\",\"\",IF(journal!U47=\"a\",\"a\",journal!U47/journal!U$7))","v":""},{"$f":"IF(journal!V47=\"\",\"\",IF(journal!V47=\"a\",\"a\",journal!V47/journal!V$7))","v":""},{"$f":"IF(journal!W47=\"\",\"\",IF(journal!W47=\"a\",\"a\",journal!W47/journal!W$7))","v":""},{"$f":"IF(journal!X47=\"\",\"\",IF(journal!X47=\"a\",\"a\",journal!X47/journal!X$7))","v":""},{"$f":"IF(journal!Y47=\"\",\"\",IF(journal!Y47=\"a\",\"a\",journal!Y47/journal!Y$7))","v":""},{"$f":"IF(journal!Z47=\"\",\"\",IF(journal!Z47=\"a\",\"a\",journal!Z47/journal!Z$7))","v":""},{"$f":"IF(journal!AA47=\"\",\"\",IF(journal!AA47=\"a\",\"a\",journal!AA47/journal!AA$7))","v":""},{"$f":"IF(journal!AB47=\"\",\"\",IF(journal!AB47=\"a\",\"a\",journal!AB47/journal!AB$7))","v":""},{"$f":"IF(journal!AC47=\"\",\"\",IF(journal!AC47=\"a\",\"a\",journal!AC47/journal!AC$7))","v":""},{"$f":"IF(journal!AD47=\"\",\"\",IF(journal!AD47=\"a\",\"a\",journal!AD47/journal!AD$7))","v":""},{"$f":"IF(journal!AE47=\"\",\"\",IF(journal!AE47=\"a\",\"a\",journal!AE47/journal!AE$7))","v":""},{"$f":"IF(journal!AF47=\"\",\"\",IF(journal!AF47=\"a\",\"a\",journal!AF47/journal!AF$7))","v":""},{"$f":"IF(journal!AG47=\"\",\"\",IF(journal!AG47=\"a\",\"a\",journal!AG47/journal!AG$7))","v":""},{"$f":"IF(journal!AH47=\"\",\"\",IF(journal!AH47=\"a\",\"a\",journal!AH47/journal!AH$7))","v":""},{"$f":"IF(journal!AI47=\"\",\"\",IF(journal!AI47=\"a\",\"a\",journal!AI47/journal!AI$7))","v":""},{"$f":"IF(journal!AJ47=\"\",\"\",IF(journal!AJ47=\"a\",\"a\",journal!AJ47/journal!AJ$7))","v":""},{"$f":"IF(journal!AK47=\"\",\"\",IF(journal!AK47=\"a\",\"a\",journal!AK47/journal!AK$7))","v":""},{"$f":"IF(journal!AL47=\"\",\"\",IF(journal!AL47=\"a\",\"a\",journal!AL47/journal!AL$7))","v":""},{"$f":"IF(journal!AM47=\"\",\"\",IF(journal!AM47=\"a\",\"a\",journal!AM47/journal!AM$7))","v":""},{"$f":"IF(journal!AN47=\"\",\"\",IF(journal!AN47=\"a\",\"a\",journal!AN47/journal!AN$7))","v":""},{"$f":"IF(journal!AO47=\"\",\"\",IF(journal!AO47=\"a\",\"a\",journal!AO47/journal!AO$7))","v":""},{"$f":"IF(journal!AP47=\"\",\"\",IF(journal!AP47=\"a\",\"a\",journal!AP47/journal!AP$7))","v":""},{"$f":"IF(journal!AQ47=\"\",\"\",IF(journal!AQ47=\"a\",\"a\",journal!AQ47/journal!AQ$7))","v":""},{"$f":"IF(journal!AR47=\"\",\"\",IF(journal!AR47=\"a\",\"a\",journal!AR47/journal!AR$7))","v":""},"","","",""]
[null,"R",{"$f":"IF(journal!C48=\"\",\"\",IF(journal!C48=\"a\",\"a\",journal!C48/journal!C$8))","v":""},{"$f":"IF(journal!D48=\"\",\"\",IF(journal!D48=\"a\",\"a\",journal!D48/journal!D$8))","v":""},{"$f":"IF(journal!E48=\"\",\"\",IF(journal!E48=\"a\",\"a\",journal!E48/journal!E$8))","v":""},{"$f":"IF(journal!F48=\"\",\"\",IF(journal!F48=\"a\",\"a\",journal!F48/journal!F$8))","v":""},{"$f":"IF(journal!G48=\"\",\"\",IF(journal!G48=\"a\",\"a\",journal!G48/journal!G$8))","v":""},{"$f":"IF(journal!H48=\"\",\"\",IF(journal!H48=\"a\",\"a\",journal!H48/journal!H$8))","v":""},{"$f":"IF(journal!I48=\"\",\"\",IF(journal!I48=\"a\",\"a\",journal!I48/journal!I$8))","v":""},{"$f":"IF(journal!J48=\"\",\"\",IF(journal!J48=\"a\",\"a\",journal!J48/journal!J$8))","v":""},{"$f":"IF(journal!K48=\"\",\"\",IF(journal!K48=\"a\",\"a\",journal!K48/journal!K$8))","v":""},{"$f":"IF(journal!L48=\"\",\"\",IF(journal!L48=\"a\",\"a\",journal!L48/journal!L$8))","v":""},{"$f":"IF(journal!M48=\"\",\"\",IF(journal!M48=\"a\",\"a\",journal!M48/journal!M$8))","v":""},{"$f":"IF(journal!N48=\"\",\"\",IF(journal!N48=\"a\",\"a\",journal!N48/journal!N$8))","v":""},{"$f":"IF(journal!O48=\"\",\"\",IF(journal!O48=\"a\",\"a\",journal!O48/journal!O$8))","v":""},{"$f":"IF(journal!P48=\"\",\"\",IF(journal!P48=\"a\",\"a\",journal!P48/journal!P$8))","v":""},{"$f":"IF(journal!Q48=\"\",\"\",IF(journal!Q48=\"a\",\"a\",journal!Q48/journal!Q$8))","v":""},{"$f":"IF(journal!R48=\"\",\"\",IF(journal!R48=\"a\",\"a\",journal!R48/journal!R$8))","v":""},{"$f":"IF(journal!S48=\"\",\"\",IF(journal!S48=\"a\",\"a\",journal!S48/journal!S$8))","v":""},{"$f":"IF(journal!T48=\"\",\"\",IF(journal!T48=\"a\",\"a\",journal!T48/journal!T$8))","v":""},{"$f":"IF(journal!U48=\"\",\"\",IF(journal!U48=\"a\",\"a\",journal!U48/journal!U$8))","v":""},{"$f":"IF(journal!V48=\"\",\"\",IF(journal!V48=\"a\",\"a\",journal!V48/journal!V$8))","v":""},{"$f":"IF(journal!W48=\"\",\"\",IF(journal!W48=\"a\",\"a\",journal!W48/journal!W$8))","v":""},{"$f":"IF(journal!X48=\"\",\"\",IF(journal!X48=\"a\",\"a\",journal!X48/journal!X$8))","v":""},{"$f":"IF(journal!Y48=\"\",\"\",IF(journal!Y48=\"a\",\"a\",journal!Y48/journal!Y$8))","v":""},{"$f":"IF(journal!Z48=\"\",\"\",IF(journal!Z48=\"a\",\"a\",journal!Z48/journal!Z$8))","v":""},{"$f":"IF(journal!AA48=\"\",\"\",IF(journal!AA48=\"a\",\"a\",journal!AA48/journal!AA$8))","v":""},{"$f":"IF(journal!AB48=\"\",\"\",IF(journal!AB48=\"a\",\"a\",journal!AB48/journal!AB$8))","v":""},{"$f":"IF(journal!AC48=\"\",\"\",IF(journal!AC48=\"a\",\"a\",journal!AC48/journal!AC$8))","v":""},{"$f":"IF(journal!AD48=\"\",\"\",IF(journal!AD48=\"a\",\"a\",journal!AD48/journal!AD$8))","v":""},{"$f":"IF(journal!AE48=\"\",\"\",IF(journal!AE48=\"a\",\"a\",journal!AE48/journal!AE$8))","v":""},{"$f":"IF(journal!AF48=\"\",\"\",IF(journal!AF48=\"a\",\"a\",journal!AF48/journal!AF$8))","v":""},{"$f":"IF(journal!AG48=\"\",\"\",IF(journal!AG48=\"a\",\"a\",journal!AG48/journal!AG$8))","v":""},{"$f":"IF(journal!AH48=\"\",\"\",IF(journal!AH48=\"a\",\"a\",journal!AH48/journal!AH$8))","v":""},{"$f":"IF(journal!AI48=\"\",\"\",IF(journal!AI48=\"a\",\"a\",journal!AI48/journal!AI$8))","v":""},{"$f":"IF(journal!AJ48=\"\",\"\",IF(journal!AJ48=\"a\",\"a\",journal!AJ48/journal!AJ$8))","v":""},{"$f":"IF(journal!AK48=\"\",\"\",IF(journal!AK48=\"a\",\"a\",journal!AK48/journal!AK$8))","v":""},{"$f":"IF(journal!AL48=\"\",\"\",IF(journal!AL48=\"a\",\"a\",journal!AL48/journal!AL$8))","v":""},{"$f":"IF(journal!AM48=\"\",\"\",IF(journal!AM48=\"a\",\"a\",journal!AM48/journal!AM$8))","v":""},{"$f":"IF(journal!AN48=\"\",\"\",IF(journal!AN48=\"a\",\"a\",journal!AN48/journal!AN$8))","v":""},{"$f":"IF(journal!AO48=\"\",\"\",IF(journal!AO48=\"a\",\"a\",journal!AO48/journal!AO$8))","v":""},{"$f":"IF(journal!AP48=\"\",\"\",IF(journal!AP48=\"a\",\"a\",journal!AP48/journal!AP$8))","v":""},{"$f":"IF(journal!AQ48=\"\",\"\",IF(journal!AQ48=\"a\",\"a\",journal!AQ48/journal!AQ$8))","v":""},{"$f":"IF(journal!AR48=\"\",\"\",IF(journal!AR48=\"a\",\"a\",journal!AR48/journal!AR$8))","v":""},"","","",""]
[null,"V",{"$f":"IF(journal!C49=\"\",\"\",IF(journal!C49=\"a\",\"a\",journal!C49/journal!C$9))","v":""},{"$f":"IF(journal!D49=\"\",\"\",IF(journal!D49=\"a\",\"a\",journal!D49/journal!D$9))","v":""},{"$f":"IF(journal!E49=\"\",\"\",IF(journal!E49=\"a\",\"a\",journal!E49/journal!E$9))","v":""},{"$f":"IF(journal!F49=\"\",\"\",IF(journal!F49=\"a\",\"a\",journal!F49/journal!F$9))","v":""},{"$f":"IF(journal!G49=\"\",\"\",IF(journal!G49=\"a\",\"a\",journal!G49/journal!G$9))","v":""},{"$f":"IF(journal!H49=\"\",\"\",IF(journal!H49=\"a\",\"a\",journal!H49/journal!H$9))","v":""},{"$f":"IF(journal!I49=\"\",\"\",IF(journal!I49=\"a\",\"a\",journal!I49/journal!I$9))","v":""},{"$f":"IF(journal!J49=\"\",\"\",IF(journal!J49=\"a\",\"a\",journal!J49/journal!J$9))","v":""},{"$f":"IF(journal!K49=\"\",\"\",IF(journal!K49=\"a\",\"a\",journal!K49/journal!K$9))","v":""},{"$f":"IF(journal!L49=\"\",\"\",IF(journal!L49=\"a\",\"a\",journal!L49/journal!L$9))","v":""},{"$f":"IF(journal!M49=\"\",\"\",IF(journal!M49=\"a\",\"a\",journal!M49/journal!M$9))","v":""},{"$f":"IF(journal!N49=\"\",\"\",IF(journal!N49=\"a\",\"a\",journal!N49/journal!N$9))","v":""},{"$f":"IF(journal!O49=\"\",\"\",IF(journal!O49=\"a\",\"a\",journal!O49/journal!O$9))","v":""},{"$f":"IF(journal!P49=\"\",\"\",IF(journal!P49=\"a\",\"a\",journal!P49/journal!P$9))","v":""},{"$f":"IF(journal!Q49=\"\",\"\",IF(journal!Q49=\"a\",\"a\",journal!Q49/journal!Q$9))","v":""},{"$f":"IF(journal!R49=\"\",\"\",IF(journal!R49=\"a\",\"a\",journal!R49/journal!R$9))","v":""},{"$f":"IF(journal!S49=\"\",\"\",IF(journal!S49=\"a\",\"a\",journal!S49/journal!S$9))","v":""},{"$f":"IF(journal!T49=\"\",\"\",IF(journal!T49=\"a\",\"a\",journal!T49/journal!T$9))","v":""},{"$f":"IF(journal!U49=\"\",\"\",IF(journal!U49=\"a\",\"a\",journal!U49/journal!U$9))","v":""},{"$f":"IF(journal!V49=\"\",\"\",IF(journal!V49=\"a\",\"a\",journal!V49/journal!V$9))","v":""},{"$f":"IF(journal!W49=\"\",\"\",IF(journal!W49=\"a\",\"a\",journal!W49/journal!W$9))","v":""},{"$f":"IF(journal!X49=\"\",\"\",IF(journal!X49=\"a\",\"a\",journal!X49/journal!X$9))","v":""},{"$f":"IF(journal!Y49=\"\",\"\",IF(journal!Y49=\"a\",\"a\",journal!Y49/journal!Y$9))","v":""},{"$f":"IF(journal!Z49=\"\",\"\",IF(journal!Z49=\"a\",\"a\",journal!Z49/journal!Z$9))","v":""},{"$f":"IF(journal!AA49=\"\",\"\",IF(journal!AA49=\"a\",\"a\",journal!AA49/journal!AA$9))","v":""},{"$f":"IF(journal!AB49=\"\",\"\",IF(journal!AB49=\"a\",\"a\",journal!AB49/journal!AB$9))","v":""},{"$f":"IF(journal!AC49=\"\",\"\",IF(journal!AC49=\"a\",\"a\",journal!AC49/journal!AC$9))","v":""},{"$f":"IF(journal!AD49=\"\",\"\",IF(journal!AD49=\"a\",\"a\",journal!AD49/journal!AD$9))","v":""},{"$f":"IF(journal!AE49=\"\",\"\",IF(journal!AE49=\"a\",\"a\",journal!AE49/journal!AE$9))","v":""},{"$f":"IF(journal!AF49=\"\",\"\",IF(journal!AF49=\"a\",\"a\",journal!AF49/journal!AF$9))","v":""},{"$f":"IF(journal!AG49=\"\",\"\",IF(journal!AG49=\"a\",\"a\",journal!AG49/journal!AG$9))","v":""},{"$f":"IF(journal!AH49=\"\",\"\",IF(journal!AH49=\"a\",\"a\",journal!AH49/journal!AH$9))","v":""},{"$f":"IF(journal!AI49=\"\",\"\",IF(journal!AI49=\"a\",\"a\",journal!AI49/journal!AI$9))","v":""},{"$f":"IF(journal!AJ49=\"\",\"\",IF(journal!AJ49=\"a\",\"a\",journal!AJ49/journal!AJ$9))","v":""},{"$f":"IF(journal!AK49=\"\",\"\",IF(journal!AK49=\"a\",\"a\",journal!AK49/journal!AK$9))","v":""},{"$f":"IF(journal!AL49=\"\",\"\",IF(journal!AL49=\"a\",\"a\",journal!AL49/journal!AL$9))","v":""},{"$f":"IF(journal!AM49=\"\",\"\",IF(journal!AM49=\"a\",\"a\",journal!AM49/journal!AM$9))","v":""},{"$f":"IF(journal!AN49=\"\",\"\",IF(journal!AN49=\"a\",\"a\",journal!AN49/journal!AN$9))","v":""},{"$f":"IF(journal!AO49=\"\",\"\",IF(journal!AO49=\"a\",\"a\",journal!AO49/journal!AO$9))","v":""},{"$f":"IF(journal!AP49=\"\",\"\",IF(journal!AP49=\"a\",\"a\",journal!AP49/journal!AP$9))","v":""},{"$f":"IF(journal!AQ49=\"\",\"\",IF(journal!AQ49=\"a\",\"a\",journal!AQ49/journal!AQ$9))","v":""},{"$f":"IF(journal!AR49=\"\",\"\",IF(journal!AR49=\"a\",\"a\",journal!AR49/journal!AR$9))","v":""},"","","",""]
[null,"C",{"$f":"IF(journal!C50=\"\",\"\",IF(journal!C50=\"a\",\"a\",journal!C50/journal!C$10))","v":""},{"$f":"IF(journal!D50=\"\",\"\",IF(journal!D50=\"a\",\"a\",journal!D50/journal!D$10))","v":""},{"$f":"IF(journal!E50=\"\",\"\",IF(journal!E50=\"a\",\"a\",journal!E50/journal!E$10))","v":""},{"$f":"IF(journal!F50=\"\",\"\",IF(journal!F50=\"a\",\"a\",journal!F50/journal!F$10))","v":""},{"$f":"IF(journal!G50=\"\",\"\",IF(journal!G50=\"a\",\"a\",journal!G50/journal!G$10))","v":""},{"$f":"IF(journal!H50=\"\",\"\",IF(journal!H50=\"a\",\"a\",journal!H50/journal!H$10))","v":""},{"$f":"IF(journal!I50=\"\",\"\",IF(journal!I50=\"a\",\"a\",journal!I50/journal!I$10))","v":""},{"$f":"IF(journal!J50=\"\",\"\",IF(journal!J50=\"a\",\"a\",journal!J50/journal!J$10))","v":""},{"$f":"IF(journal!K50=\"\",\"\",IF(journal!K50=\"a\",\"a\",journal!K50/journal!K$10))","v":""},{"$f":"IF(journal!L50=\"\",\"\",IF(journal!L50=\"a\",\"a\",journal!L50/journal!L$10))","v":""},{"$f":"IF(journal!M50=\"\",\"\",IF(journal!M50=\"a\",\"a\",journal!M50/journal!M$10))","v":""},{"$f":"IF(journal!N50=\"\",\"\",IF(journal!N50=\"a\",\"a\",journal!N50/journal!N$10))","v":""},{"$f":"IF(journal!O50=\"\",\"\",IF(journal!O50=\"a\",\"a\",journal!O50/journal!O$10))","v":""},{"$f":"IF(journal!P50=\"\",\"\",IF(journal!P50=\"a\",\"a\",journal!P50/journal!P$10))","v":""},{"$f":"IF(journal!Q50=\"\",\"\",IF(journal!Q50=\"a\",\"a\",journal!Q50/journal!Q$10))","v":""},{"$f":"IF(journal!R50=\"\",\"\",IF(journal!R50=\"a\",\"a\",journal!R50/journal!R$10))","v":""},{"$f":"IF(journal!S50=\"\",\"\",IF(journal!S50=\"a\",\"a\",journal!S50/journal!S$10))","v":""},{"$f":"IF(journal!T50=\"\",\"\",IF(journal!T50=\"a\",\"a\",journal!T50/journal!T$10))","v":""},{"$f":"IF(journal!U50=\"\",\"\",IF(journal!U50=\"a\",\"a\",journal!U50/journal!U$10))","v":""},{"$f":"IF(journal!V50=\"\",\"\",IF(journal!V50=\"a\",\"a\",journal!V50/journal!V$10))","v":""},{"$f":"IF(journal!W50=\"\",\"\",IF(journal!W50=\"a\",\"a\",journal!W50/journal!W$10))","v":""},{"$f":"IF(journal!X50=\"\",\"\",IF(journal!X50=\"a\",\"a\",journal!X50/journal!X$10))","v":""},{"$f":"IF(journal!Y50=\"\",\"\",IF(journal!Y50=\"a\",\"a\",journal!Y50/journal!Y$10))","v":""},{"$f":"IF(journal!Z50=\"\",\"\",IF(journal!Z50=\"a\",\"a\",journal!Z50/journal!Z$10))","v":""},{"$f":"IF(journal!AA50=\"\",\"\",IF(journal!AA50=\"a\",\"a\",journal!AA50/journal!AA$10))","v":""},{"$f":"IF(journal!AB50=\"\",\"\",IF(journal!AB50=\"a\",\"a\",journal!AB50/journal!AB$10))","v":""},{"$f":"IF(journal!AC50=\"\",\"\",IF(journal!AC50=\"a\",\"a\",journal!AC50/journal!AC$10))","v":""},{"$f":"IF(journal!AD50=\"\",\"\",IF(journal!AD50=\"a\",\"a\",journal!AD50/journal!AD$10))","v":""},{"$f":"IF(journal!AE50=\"\",\"\",IF(journal!AE50=\"a\",\"a\",journal!AE50/journal!AE$10))","v":""},{"$f":"IF(journal!AF50=\"\",\"\",IF(journal!AF50=\"a\",\"a\",journal!AF50/journal!AF$10))","v":""},{"$f":"IF(journal!AG50=\"\",\"\",IF(journal!AG50=\"a\",\"a\",journal!AG50/journal!AG$10))","v":""},{"$f":"IF(journal!AH50=\"\",\"\",IF(journal!AH50=\"a\",\"a\",journal!AH50/journal!AH$10))","v":""},{"$f":"IF(journal!AI50=\"\",\"\",IF(journal!AI50=\"a\",\"a\",journal!AI50/journal!AI$10))","v":""},{"$f":"IF(journal!AJ50=\"\",\"\",IF(journal!AJ50=\"a\",\"a\",journal!AJ50/journal!AJ$10))","v":""},{"$f":"IF(journal!AK50=\"\",\"\",IF(journal!AK50=\"a\",\"a\",journal!AK50/journal!AK$10))","v":""},{"$f":"IF(journal!AL50=\"\",\"\",IF(journal!AL50=\"a\",\"a\",journal!AL50/journal!AL$10))","v":""},{"$f":"IF(journal!AM50=\"\",\"\",IF(journal!AM50=\"a\",\"a\",journal!AM50/journal!AM$10))","v":""},{"$f":"IF(journal!AN50=\"\",\"\",IF(journal!AN50=\"a\",\"a\",journal!AN50/journal!AN$10))","v":""},{"$f":"IF(journal!AO50=\"\",\"\",IF(journal!AO50=\"a\",\"a\",journal!AO50/journal!AO$10))","v":""},{"$f":"IF(journal!AP50=\"\",\"\",IF(journal!AP50=\"a\",\"a\",journal!AP50/journal!AP$10))","v":""},{"$f":"IF(journal!AQ50=\"\",\"\",IF(journal!AQ50=\"a\",\"a\",journal!AQ50/journal!AQ$10))","v":""},{"$f":"IF(journal!AR50=\"\",\"\",IF(journal!AR50=\"a\",\"a\",journal!AR50/journal!AR$10))","v":""},"","","",""]
[{"$f":"Saisie!A19","v":0},"S",{"$f":"IF(journal!C51=\"\",\"\",IF(journal!C51=\"a\",\"a\",journal!C51/journal!C$6))","v":""},{"$f":"IF(journal!D51=\"\",\"\",IF(journal!D51=\"a\",\"a\",journal!D51/journal!D$6))","v":""},{"$f":"IF(journal!E51=\"\",\"\",IF(journal!E51=\"a\",\"a\",journal!E51/journal!E$6))","v":""},{"$f":"IF(journal!F51=\"\",\"\",IF(journal!F51=\"a\",\"a\",journal!F51/journal!F$6))","v":""},{"$f":"IF(journal!G51=\"\",\"\",IF(journal!G51=\"a\",\"a\",journal!G51/journal!G$6))","v":""},{"$f":"IF(journal!H51=\"\",\"\",IF(journal!H51=\"a\",\"a\",journal!H51/journal!H$6))","v":""},{"$f":"IF(journal!I51=\"\",\"\",IF(journal!I51=\"a\",\"a\",journal!I51/journal!I$6))","v":""},{"$f":"IF(journal!J51=\"\",\"\",IF(journal!J51=\"a\",\"a\",journal!J51/journal!J$6))","v":""},{"$f":"IF(journal!K51=\"\",\"\",IF(journal!K51=\"a\",\"a\",journal!K51/journal!K$6))","v":""},{"$f":"IF(journal!L51=\"\",\"\",IF(journal!L51=\"a\",\"a\",journal!L51/journal!L$6))","v":""},{"$f":"IF(journal!M51=\"\",\"\",IF(journal!M51=\"a\",\"a\",journal!M51/journal!M$6))","v":""},{"$f":"IF(journal!N51=\"\",\"\",IF(journal!N51=\"a\",\"a\",journal!N51/journal!N$6))","v":""},{"$f":"IF(journal!O51=\"\",\"\",IF(journal!O51=\"a\",\"a\",journal!O51/journal!O$6))","v":""},{"$f":"IF(journal!P51=\"\",\"\",IF(journal!P51=\"a\",\"a\",journal!P51/journal!P$6))","v":""},{"$f":"IF(journal!Q51=\"\",\"\",IF(journal!Q51=\"a\",\"a\",journal!Q51/journal!Q$6))","v":""},{"$f":"IF(journal!R51=\"\",\"\",IF(journal!R51=\"a\",\"a\",journal!R51/journal!R$6))","v":""},{"$f":"IF(journal!S51=\"\",\"\",IF(journal!S51=\"a\",\"a\",journal!S51/journal!S$6))","v":""},{"$f":"IF(journal!T51=\"\",\"\",IF(journal!T51=\"a\",\"a\",journal!T51/journal!T$6))","v":""},{"$f":"IF(journal!U51=\"\",\"\",IF(journal!U51=\"a\",\"a\",journal!U51/journal!U$6))","v":""},{"$f":"IF(journal!V51=\"\",\"\",IF(journal!V51=\"a\",\"a\",journal!V51/journal!V$6))","v":""},{"$f":"IF(journal!W51=\"\",\"\",IF(journal!W51=\"a\",\"a\",journal!W51/journal!W$6))","v":""},{"$f":"IF(journal!X51=\"\",\"\",IF(journal!X51=\"a\",\"a\",journal!X51/journal!X$6))","v":""},{"$f":"IF(journal!Y51=\"\",\"\",IF(journal!Y51=\"a\",\"a\",journal!Y51/journal!Y$6))","v":""},{"$f":"IF(journal!Z51=\"\",\"\",IF(journal!Z51=\"a\",\"a\",journal!Z51/journal!Z$6))","v":""},{"$f":"IF(journal!AA51=\"\",\"\",IF(journal!AA51=\"a\",\"a\",journal!AA51/journal!AA$6))","v":""},{"$f":"IF(journal!AB51=\"\",\"\",IF(journal!AB51=\"a\",\"a\",journal!AB51/journal!AB$6))","v":""},{"$f":"IF(journal!AC51=\"\",\"\",IF(journal!AC51=\"a\",\"a\",journal!AC51/journal!AC$6))","v":""},{"$f":"IF(journal!AD51=\"\",\"\",IF(journal!AD51=\"a\",\"a\",journal!AD51/journal!AD$6))","v":""},{"$f":"IF(journal!AE51=\"\",\"\",IF(journal!AE51=\"a\",\"a\",journal!AE51/journal!AE$6))","v":""},{"$f":"IF(journal!AF51=\"\",\"\",IF(journal!AF51=\"a\",\"a\",journal!AF51/journal!AF$6))","v":""},{"$f":"IF(journal!AG51=\"\",\"\",IF(journal!AG51=\"a\",\"a\",journal!AG51/journal!AG$6))","v":""},{"$f":"IF(journal!AH51=\"\",\"\",IF(journal!AH51=\"a\",\"a\",journal!AH51/journal!AH$6))","v":""},{"$f":"IF(journal!AI51=\"\",\"\",IF(journal!AI51=\"a\",\"a\",journal!AI51/journal!AI$6))","v":""},{"$f":"IF(journal!AJ51=\"\",\"\",IF(journal!AJ51=\"a\",\"a\",journal!AJ51/journal!AJ$6))","v":""},{"$f":"IF(journal!AK51=\"\",\"\",IF(journal!AK51=\"a\",\"a\",journal!AK51/journal!AK$6))","v":""},{"$f":"IF(journal!AL51=\"\",\"\",IF(journal!AL51=\"a\",\"a\",journal!AL51/journal!AL$6))","v":""},{"$f":"IF(journal!AM51=\"\",\"\",IF(journal!AM51=\"a\",\"a\",journal!AM51/journal!AM$6))","v":""},{"$f":"IF(journal!AN51=\"\",\"\",IF(journal!AN51=\"a\",\"a\",journal!AN51/journal!AN$6))","v":""},{"$f":"IF(journal!AO51=\"\",\"\",IF(journal!AO51=\"a\",\"a\",journal!AO51/journal!AO$6))","v":""},{"$f":"IF(journal!AP51=\"\",\"\",IF(journal!AP51=\"a\",\"a\",journal!AP51/journal!AP$6))","v":""},{"$f":"IF(journal!AQ51=\"\",\"\",IF(journal!AQ51=\"a\",\"a\",journal!AQ51/journal!AQ$6))","v":""},{"$f":"IF(journal!AR51=\"\",\"\",IF(journal!AR51=\"a\",\"a\",journal!AR51/journal!AR$6))","v":""},"","","",""]
[null,"A",{"$f":"IF(journal!C52=\"\",\"\",IF(journal!C52=\"a\",\"a\",journal!C52/journal!C$7))","v":""},{"$f":"IF(journal!D52=\"\",\"\",IF(journal!D52=\"a\",\"a\",journal!D52/journal!D$7))","v":""},{"$f":"IF(journal!E52=\"\",\"\",IF(journal!E52=\"a\",\"a\",journal!E52/journal!E$7))","v":""},{"$f":"IF(journal!F52=\"\",\"\",IF(journal!F52=\"a\",\"a\",journal!F52/journal!F$7))","v":""},{"$f":"IF(journal!G52=\"\",\"\",IF(journal!G52=\"a\",\"a\",journal!G52/journal!G$7))","v":""},{"$f":"IF(journal!H52=\"\",\"\",IF(journal!H52=\"a\",\"a\",journal!H52/journal!H$7))","v":""},{"$f":"IF(journal!I52=\"\",\"\",IF(journal!I52=\"a\",\"a\",journal!I52/journal!I$7))","v":""},{"$f":"IF(journal!J52=\"\",\"\",IF(journal!J52=\"a\",\"a\",journal!J52/journal!J$7))","v":""},{"$f":"IF(journal!K52=\"\",\"\",IF(journal!K52=\"a\",\"a\",journal!K52/journal!K$7))","v":""},{"$f":"IF(journal!L52=\"\",\"\",IF(journal!L52=\"a\",\"a\",journal!L52/journal!L$7))","v":""},{"$f":"IF(journal!M52=\"\",\"\",IF(journal!M52=\"a\",\"a\",journal!M52/journal!M$7))","v":""},{"$f":"IF(journal!N52=\"\",\"\",IF(journal!N52=\"a\",\"a\",journal!N52/journal!N$7))","v":""},{"$f":"IF(journal!O52=\"\",\"\",IF(journal!O52=\"a\",\"a\",journal!O52/journal!O$7))","v":""},{"$f":"IF(journal!P52=\"\",\"\",IF(journal!P52=\"a\",\"a\",journal!P52/journal!P$7))","v":""},{"$f":"IF(journal!Q52=\"\",\"\",IF(journal!Q52=\"a\",\"a\",journal!Q52/journal!Q$7))","v":""},{"$f":"IF(journal!R52=\"\",\"\",IF(journal!R52=\"a\",\"a\",journal!R52/journal!R$7))","v":""},{"$f":"IF(journal!S52=\"\",\"\",IF(journal!S52=\"a\",\"a\",journal!S52/journal!S$7))","v":""},{"$f":"IF(journal!T52=\"\",\"\",IF(journal!T52=\"a\",\"a\",journal!T52/journal!T$7))","v":""},{"$f":"IF(journal!U52=\"\",\"\",IF(journal!U52=\"a\",\"a\",journal!U52/journal!U$7))","v":""},{"$f":"IF(journal!V52=\"\",\"\",IF(journal!V52=\"a\",\"a\",journal!V52/journal!V$7))","v":""},{"$f":"IF(journal!W52=\"\",\"\",IF(journal!W52=\"a\",\"a\",journal!W52/journal!W$7))","v":""},{"$f":"IF(journal!X52=\"\",\"\",IF(journal!X52=\"a\",\"a\",journal!X52/journal!X$7))","v":""},{"$f":"IF(journal!Y52=\"\",\"\",IF(journal!Y52=\"a\",\"a\",journal!Y52/journal!Y$7))","v":""},{"$f":"IF(journal!Z52=\"\",\"\",IF(journal!Z52=\"a\",\"a\",journal!Z52/journal!Z$7))","v":""},{"$f":"IF(journal!AA52=\"\",\"\",IF(journal!AA52=\"a\",\"a\",journal!AA52/journal!AA$7))","v":""},{"$f":"IF(journal!AB52=\"\",\"\",IF(journal!AB52=\"a\",\"a\",journal!AB52/journal!AB$7))","v":""},{"$f":"IF(journal!AC52=\"\",\"\",IF(journal!AC52=\"a\",\"a\",journal!AC52/journal!AC$7))","v":""},{"$f":"IF(journal!AD52=\"\",\"\",IF(journal!AD52=\"a\",\"a\",journal!AD52/journal!AD$7))","v":""},{"$f":"IF(journal!AE52=\"\",\"\",IF(journal!AE52=\"a\",\"a\",journal!AE52/journal!AE$7))","v":""},{"$f":"IF(journal!AF52=\"\",\"\",IF(journal!AF52=\"a\",\"a\",journal!AF52/journal!AF$7))","v":""},{"$f":"IF(journal!AG52=\"\",\"\",IF(journal!AG52=\"a\",\"a\",journal!AG52/journal!AG$7))","v":""},{"$f":"IF(journal!AH52=\"\",\"\",IF(journal!AH52=\"a\",\"a\",journal!AH52/journal!AH$7))","v":""},{"$f":"IF(journal!AI52=\"\",\"\",IF(journal!AI52=\"a\",\"a\",journal!AI52/journal!AI$7))","v":""},{"$f":"IF(journal!AJ52=\"\",\"\",IF(journal!AJ52=\"a\",\"a\",journal!AJ52/journal!AJ$7))","v":""},{"$f":"IF(journal!AK52=\"\",\"\",IF(journal!AK52=\"a\",\"a\",journal!AK52/journal!AK$7))","v":""},{"$f":"IF(journal!AL52=\"\",\"\",IF(journal!AL52=\"a\",\"a\",journal!AL52/journal!AL$7))","v":""},{"$f":"IF(journal!AM52=\"\",\"\",IF(journal!AM52=\"a\",\"a\",journal!AM52/journal!AM$7))","v":""},{"$f":"IF(journal!AN52=\"\",\"\",IF(journal!AN52=\"a\",\"a\",journal!AN52/journal!AN$7))","v":""},{"$f":"IF(journal!AO52=\"\",\"\",IF(journal!AO52=\"a\",\"a\",journal!AO52/journal!AO$7))","v":""},{"$f":"IF(journal!AP52=\"\",\"\",IF(journal!AP52=\"a\",\"a\",journal!AP52/journal!AP$7))","v":""},{"$f":"IF(journal!AQ52=\"\",\"\",IF(journal!AQ52=\"a\",\"a\",journal!AQ52/journal!AQ$7))","v":""},{"$f":"IF(journal!AR52=\"\",\"\",IF(journal!AR52=\"a\",\"a\",journal!AR52/journal!AR$7))","v":""},"","","",""]
[null,"R",{"$f":"IF(journal!C53=\"\",\"\",IF(journal!C53=\"a\",\"a\",journal!C53/journal!C$8))","v":""},{"$f":"IF(journal!D53=\"\",\"\",IF(journal!D53=\"a\",\"a\",journal!D53/journal!D$8))","v":""},{"$f":"IF(journal!E53=\"\",\"\",IF(journal!E53=\"a\",\"a\",journal!E53/journal!E$8))","v":""},{"$f":"IF(journal!F53=\"\",\"\",IF(journal!F53=\"a\",\"a\",journal!F53/journal!F$8))","v":""},{"$f":"IF(journal!G53=\"\",\"\",IF(journal!G53=\"a\",\"a\",journal!G53/journal!G$8))","v":""},{"$f":"IF(journal!H53=\"\",\"\",IF(journal!H53=\"a\",\"a\",journal!H53/journal!H$8))","v":""},{"$f":"IF(journal!I53=\"\",\"\",IF(journal!I53=\"a\",\"a\",journal!I53/journal!I$8))","v":""},{"$f":"IF(journal!J53=\"\",\"\",IF(journal!J53=\"a\",\"a\",journal!J53/journal!J$8))","v":""},{"$f":"IF(journal!K53=\"\",\"\",IF(journal!K53=\"a\",\"a\",journal!K53/journal!K$8))","v":""},{"$f":"IF(journal!L53=\"\",\"\",IF(journal!L53=\"a\",\"a\",journal!L53/journal!L$8))","v":""},{"$f":"IF(journal!M53=\"\",\"\",IF(journal!M53=\"a\",\"a\",journal!M53/journal!M$8))","v":""},{"$f":"IF(journal!N53=\"\",\"\",IF(journal!N53=\"a\",\"a\",journal!N53/journal!N$8))","v":""},{"$f":"IF(journal!O53=\"\",\"\",IF(journal!O53=\"a\",\"a\",journal!O53/journal!O$8))","v":""},{"$f":"IF(journal!P53=\"\",\"\",IF(journal!P53=\"a\",\"a\",journal!P53/journal!P$8))","v":""},{"$f":"IF(journal!Q53=\"\",\"\",IF(journal!Q53=\"a\",\"a\",journal!Q53/journal!Q$8))","v":""},{"$f":"IF(journal!R53=\"\",\"\",IF(journal!R53=\"a\",\"a\",journal!R53/journal!R$8))","v":""},{"$f":"IF(journal!S53=\"\",\"\",IF(journal!S53=\"a\",\"a\",journal!S53/journal!S$8))","v":""},{"$f":"IF(journal!T53=\"\",\"\",IF(journal!T53=\"a\",\"a\",journal!T53/journal!T$8))","v":""},{"$f":"IF(journal!U53=\"\",\"\",IF(journal!U53=\"a\",\"a\",journal!U53/journal!U$8))","v":""},{"$f":"IF(journal!V53=\"\",\"\",IF(journal!V53=\"a\",\"a\",journal!V53/journal!V$8))","v":""},{"$f":"IF(journal!W53=\"\",\"\",IF(journal!W53=\"a\",\"a\",journal!W53/journal!W$8))","v":""},{"$f":"IF(journal!X53=\"\",\"\",IF(journal!X53=\"a\",\"a\",journal!X53/journal!X$8))","v":""},{"$f":"IF(journal!Y53=\"\",\"\",IF(journal!Y53=\"a\",\"a\",journal!Y53/journal!Y$8))","v":""},{"$f":"IF(journal!Z53=\"\",\"\",IF(journal!Z53=\"a\",\"a\",journal!Z53/journal!Z$8))","v":""},{"$f":"IF(journal!AA53=\"\",\"\",IF(journal!AA53=\"a\",\"a\",journal!AA53/journal!AA$8))","v":""},{"$f":"IF(journal!AB53=\"\",\"\",IF(journal!AB53=\"a\",\"a\",journal!AB53/journal!AB$8))","v":""},{"$f":"IF(journal!AC53=\"\",\"\",IF(journal!AC53=\"a\",\"a\",journal!AC53/journal!AC$8))","v":""},{"$f":"IF(journal!AD53=\"\",\"\",IF(journal!AD53=\"a\",\"a\",journal!AD53/journal!AD$8))","v":""},{"$f":"IF(journal!AE53=\"\",\"\",IF(journal!AE53=\"a\",\"a\",journal!AE53/journal!AE$8))","v":""},{"$f":"IF(journal!AF53=\"\",\"\",IF(journal!AF53=\"a\",\"a\",journal!AF53/journal!AF$8))","v":""},{"$f":"IF(journal!AG53=\"\",\"\",IF(journal!AG53=\"a\",\"a\",journal!AG53/journal!AG$8))","v":""},{"$f":"IF(journal!AH53=\"\",\"\",IF(journal!AH53=\"a\",\"a\",journal!AH53/journal!AH$8))","v":""},{"$f":"IF(journal!AI53=\"\",\"\",IF(journal!AI53=\"a\",\"a\",journal!AI53/journal!AI$8))","v":""},{"$f":"IF(journal!AJ53=\"\",\"\",IF(journal!AJ53=\"a\",\"a\",journal!AJ53/journal!AJ$8))","v":""},{"$f":"IF(journal!AK53=\"\",\"\",IF(journal!AK53=\"a\",\"a\",journal!AK53/journal!AK$8))","v":""},{"$f":"IF(journal!AL53=\"\",\"\",IF(journal!AL53=\"a\",\"a\",journal!AL53/journal!AL$8))","v":""},{"$f":"IF(journal!AM53=\"\",\"\",IF(journal!AM53=\"a\",\"a\",journal!AM53/journal!AM$8))","v":""},{"$f":"IF(journal!AN53=\"\",\"\",IF(journal!AN53=\"a\",\"a\",journal!AN53/journal!AN$8))","v":""},{"$f":"IF(journal!AO53=\"\",\"\",IF(journal!AO53=\"a\",\"a\",journal!AO53/journal!AO$8))","v":""},{"$f":"IF(journal!AP53=\"\",\"\",IF(journal!AP53=\"a\",\"a\",journal!AP53/journal!AP$8))","v":""},{"$f":"IF(journal!AQ53=\"\",\"\",IF(journal!AQ53=\"a\",\"a\",journal!AQ53/journal!AQ$8))","v":""},{"$f":"IF(journal!AR53=\"\",\"\",IF(journal!AR53=\"a\",\"a\",journal!AR53/journal!AR$8))","v":""},"","","",""]
[null,"V",{"$f":"IF(journal!C54=\"\",\"\",IF(journal!C54=\"a\",\"a\",journal!C54/journal!C$9))","v":""},{"$f":"IF(journal!D54=\"\",\"\",IF(journal!D54=\"a\",\"a\",journal!D54/journal!D$9))","v":""},{"$f":"IF(journal!E54=\"\",\"\",IF(journal!E54=\"a\",\"a\",journal!E54/journal!E$9))","v":""},{"$f":"IF(journal!F54=\"\",\"\",IF(journal!F54=\"a\",\"a\",journal!F54/journal!F$9))","v":""},{"$f":"IF(journal!G54=\"\",\"\",IF(journal!G54=\"a\",\"a\",journal!G54/journal!G$9))","v":""},{"$f":"IF(journal!H54=\"\",\"\",IF(journal!H54=\"a\",\"a\",journal!H54/journal!H$9))","v":""},{"$f":"IF(journal!I54=\"\",\"\",IF(journal!I54=\"a\",\"a\",journal!I54/journal!I$9))","v":""},{"$f":"IF(journal!J54=\"\",\"\",IF(journal!J54=\"a\",\"a\",journal!J54/journal!J$9))","v":""},{"$f":"IF(journal!K54=\"\",\"\",IF(journal!K54=\"a\",\"a\",journal!K54/journal!K$9))","v":""},{"$f":"IF(journal!L54=\"\",\"\",IF(journal!L54=\"a\",\"a\",journal!L54/journal!L$9))","v":""},{"$f":"IF(journal!M54=\"\",\"\",IF(journal!M54=\"a\",\"a\",journal!M54/journal!M$9))","v":""},{"$f":"IF(journal!N54=\"\",\"\",IF(journal!N54=\"a\",\"a\",journal!N54/journal!N$9))","v":""},{"$f":"IF(journal!O54=\"\",\"\",IF(journal!O54=\"a\",\"a\",journal!O54/journal!O$9))","v":""},{"$f":"IF(journal!P54=\"\",\"\",IF(journal!P54=\"a\",\"a\",journal!P54/journal!P$9))","v":""},{"$f":"IF(journal!Q54=\"\",\"\",IF(journal!Q54=\"a\",\"a\",journal!Q54/journal!Q$9))","v":""},{"$f":"IF(journal!R54=\"\",\"\",IF(journal!R54=\"a\",\"a\",journal!R54/journal!R$9))","v":""},{"$f":"IF(journal!S54=\"\",\"\",IF(journal!S54=\"a\",\"a\",journal!S54/journal!S$9))","v":""},{"$f":"IF(journal!T54=\"\",\"\",IF(journal!T54=\"a\",\"a\",journal!T54/journal!T$9))","v":""},{"$f":"IF(journal!U54=\"\",\"\",IF(journal!U54=\"a\",\"a\",journal!U54/journal!U$9))","v":""},{"$f":"IF(journal!V54=\"\",\"\",IF(journal!V54=\"a\",\"a\",journal!V54/journal!V$9))","v":""},{"$f":"IF(journal!W54=\"\",\"\",IF(journal!W54=\"a\",\"a\",journal!W54/journal!W$9))","v":""},{"$f":"IF(journal!X54=\"\",\"\",IF(journal!X54=\"a\",\"a\",journal!X54/journal!X$9))","v":""},{"$f":"IF(journal!Y54=\"\",\"\",IF(journal!Y54=\"a\",\"a\",journal!Y54/journal!Y$9))","v":""},{"$f":"IF(journal!Z54=\"\",\"\",IF(journal!Z54=\"a\",\"a\",journal!Z54/journal!Z$9))","v":""},{"$f":"IF(journal!AA54=\"\",\"\",IF(journal!AA54=\"a\",\"a\",journal!AA54/journal!AA$9))","v":""},{"$f":"IF(journal!AB54=\"\",\"\",IF(journal!AB54=\"a\",\"a\",journal!AB54/journal!AB$9))","v":""},{"$f":"IF(journal!AC54=\"\",\"\",IF(journal!AC54=\"a\",\"a\",journal!AC54/journal!AC$9))","v":""},{"$f":"IF(journal!AD54=\"\",\"\",IF(journal!AD54=\"a\",\"a\",journal!AD54/journal!AD$9))","v":""},{"$f":"IF(journal!AE54=\"\",\"\",IF(journal!AE54=\"a\",\"a\",journal!AE54/journal!AE$9))","v":""},{"$f":"IF(journal!AF54=\"\",\"\",IF(journal!AF54=\"a\",\"a\",journal!AF54/journal!AF$9))","v":""},{"$f":"IF(journal!AG54=\"\",\"\",IF(journal!AG54=\"a\",\"a\",journal!AG54/journal!AG$9))","v":""},{"$f":"IF(journal!AH54=\"\",\"\",IF(journal!AH54=\"a\",\"a\",journal!AH54/journal!AH$9))","v":""},{"$f":"IF(journal!AI54=\"\",\"\",IF(journal!AI54=\"a\",\"a\",journal!AI54/journal!AI$9))","v":""},{"$f":"IF(journal!AJ54=\"\",\"\",IF(journal!AJ54=\"a\",\"a\",journal!AJ54/journal!AJ$9))","v":""},{"$f":"IF(journal!AK54=\"\",\"\",IF(journal!AK54=\"a\",\"a\",journal!AK54/journal!AK$9))","v":""},{"$f":"IF(journal!AL54=\"\",\"\",IF(journal!AL54=\"a\",\"a\",journal!AL54/journal!AL$9))","v":""},{"$f":"IF(journal!AM54=\"\",\"\",IF(journal!AM54=\"a\",\"a\",journal!AM54/journal!AM$9))","v":""},{"$f":"IF(journal!AN54=\"\",\"\",IF(journal!AN54=\"a\",\"a\",journal!AN54/journal!AN$9))","v":""},{"$f":"IF(journal!AO54=\"\",\"\",IF(journal!AO54=\"a\",\"a\",journal!AO54/journal!AO$9))","v":""},{"$f":"IF(journal!AP54=\"\",\"\",IF(journal!AP54=\"a\",\"a\",journal!AP54/journal!AP$9))","v":""},{"$f":"IF(journal!AQ54=\"\",\"\",IF(journal!AQ54=\"a\",\"a\",journal!AQ54/journal!AQ$9))","v":""},{"$f":"IF(journal!AR54=\"\",\"\",IF(journal!AR54=\"a\",\"a\",journal!AR54/journal!AR$9))","v":""},"","","",""]
[null,"C",{"$f":"IF(journal!C55=\"\",\"\",IF(journal!C55=\"a\",\"a\",journal!C55/journal!C$10))","v":""},{"$f":"IF(journal!D55=\"\",\"\",IF(journal!D55=\"a\",\"a\",journal!D55/journal!D$10))","v":""},{"$f":"IF(journal!E55=\"\",\"\",IF(journal!E55=\"a\",\"a\",journal!E55/journal!E$10))","v":""},{"$f":"IF(journal!F55=\"\",\"\",IF(journal!F55=\"a\",\"a\",journal!F55/journal!F$10))","v":""},{"$f":"IF(journal!G55=\"\",\"\",IF(journal!G55=\"a\",\"a\",journal!G55/journal!G$10))","v":""},{"$f":"IF(journal!H55=\"\",\"\",IF(journal!H55=\"a\",\"a\",journal!H55/journal!H$10))","v":""},{"$f":"IF(journal!I55=\"\",\"\",IF(journal!I55=\"a\",\"a\",journal!I55/journal!I$10))","v":""},{"$f":"IF(journal!J55=\"\",\"\",IF(journal!J55=\"a\",\"a\",journal!J55/journal!J$10))","v":""},{"$f":"IF(journal!K55=\"\",\"\",IF(journal!K55=\"a\",\"a\",journal!K55/journal!K$10))","v":""},{"$f":"IF(journal!L55=\"\",\"\",IF(journal!L55=\"a\",\"a\",journal!L55/journal!L$10))","v":""},{"$f":"IF(journal!M55=\"\",\"\",IF(journal!M55=\"a\",\"a\",journal!M55/journal!M$10))","v":""},{"$f":"IF(journal!N55=\"\",\"\",IF(journal!N55=\"a\",\"a\",journal!N55/journal!N$10))","v":""},{"$f":"IF(journal!O55=\"\",\"\",IF(journal!O55=\"a\",\"a\",journal!O55/journal!O$10))","v":""},{"$f":"IF(journal!P55=\"\",\"\",IF(journal!P55=\"a\",\"a\",journal!P55/journal!P$10))","v":""},{"$f":"IF(journal!Q55=\"\",\"\",IF(journal!Q55=\"a\",\"a\",journal!Q55/journal!Q$10))","v":""},{"$f":"IF(journal!R55=\"\",\"\",IF(journal!R55=\"a\",\"a\",journal!R55/journal!R$10))","v":""},{"$f":"IF(journal!S55=\"\",\"\",IF(journal!S55=\"a\",\"a\",journal!S55/journal!S$10))","v":""},{"$f":"IF(journal!T55=\"\",\"\",IF(journal!T55=\"a\",\"a\",journal!T55/journal!T$10))","v":""},{"$f":"IF(journal!U55=\"\",\"\",IF(journal!U55=\"a\",\"a\",journal!U55/journal!U$10))","v":""},{"$f":"IF(journal!V55=\"\",\"\",IF(journal!V55=\"a\",\"a\",journal!V55/journal!V$10))","v":""},{"$f":"IF(journal!W55=\"\",\"\",IF(journal!W55=\"a\",\"a\",journal!W55/journal!W$10))","v":""},{"$f":"IF(journal!X55=\"\",\"\",IF(journal!X55=\"a\",\"a\",journal!X55/journal!X$10))","v":""},{"$f":"IF(journal!Y55=\"\",\"\",IF(journal!Y55=\"a\",\"a\",journal!Y55/journal!Y$10))","v":""},{"$f":"IF(journal!Z55=\"\",\"\",IF(journal!Z55=\"a\",\"a\",journal!Z55/journal!Z$10))","v":""},{"$f":"IF(journal!AA55=\"\",\"\",IF(journal!AA55=\"a\",\"a\",journal!AA55/journal!AA$10))","v":""},{"$f":"IF(journal!AB55=\"\",\"\",IF(journal!AB55=\"a\",\"a\",journal!AB55/journal!AB$10))","v":""},{"$f":"IF(journal!AC55=\"\",\"\",IF(journal!AC55=\"a\",\"a\",journal!AC55/journal!AC$10))","v":""},{"$f":"IF(journal!AD55=\"\",\"\",IF(journal!AD55=\"a\",\"a\",journal!AD55/journal!AD$10))","v":""},{"$f":"IF(journal!AE55=\"\",\"\",IF(journal!AE55=\"a\",\"a\",journal!AE55/journal!AE$10))","v":""},{"$f":"IF(journal!AF55=\"\",\"\",IF(journal!AF55=\"a\",\"a\",journal!AF55/journal!AF$10))","v":""},{"$f":"IF(journal!AG55=\"\",\"\",IF(journal!AG55=\"a\",\"a\",journal!AG55/journal!AG$10))","v":""},{"$f":"IF(journal!AH55=\"\",\"\",IF(journal!AH55=\"a\",\"a\",journal!AH55/journal!AH$10))","v":""},{"$f":"IF(journal!AI55=\"\",\"\",IF(journal!AI55=\"a\",\"a\",journal!AI55/journal!AI$10))","v":""},{"$f":"IF(journal!AJ55=\"\",\"\",IF(journal!AJ55=\"a\",\"a\",journal!AJ55/journal!AJ$10))","v":""},{"$f":"IF(journal!AK55=\"\",\"\",IF(journal!AK55=\"a\",\"a\",journal!AK55/journal!AK$10))","v":""},{"$f":"IF(journal!AL55=\"\",\"\",IF(journal!AL55=\"a\",\"a\",journal!AL55/journal!AL$10))","v":""},{"$f":"IF(journal!AM55=\"\",\"\",IF(journal!AM55=\"a\",\"a\",journal!AM55/journal!AM$10))","v":""},{"$f":"IF(journal!AN55=\"\",\"\",IF(journal!AN55=\"a\",\"a\",journal!AN55/journal!AN$10))","v":""},{"$f":"IF(journal!AO55=\"\",\"\",IF(journal!AO55=\"a\",\"a\",journal!AO55/journal!AO$10))","v":""},{"$f":"IF(journal!AP55=\"\",\"\",IF(journal!AP55=\"a\",\"a\",journal!AP55/journal!AP$10))","v":""},{"$f":"IF(journal!AQ55=\"\",\"\",IF(journal!AQ55=\"a\",\"a\",journal!AQ55/journal!AQ$10))","v":""},{"$f":"IF(journal!AR55=\"\",\"\",IF(journal!AR55=\"a\",\"a\",journal!AR55/journal!AR$10))","v":""},"","","",""]
[{"$f":"Saisie!A20","v":0},"S",{"$f":"IF(journal!C56=\"\",\"\",IF(journal!C56=\"a\",\"a\",journal!C56/journal!C$6))","v":""},{"$f":"IF(journal!D56=\"\",\"\",IF(journal!D56=\"a\",\"a\",journal!D56/journal!D$6))","v":""},{"$f":"IF(journal!E56=\"\",\"\",IF(journal!E56=\"a\",\"a\",journal!E56/journal!E$6))","v":""},{"$f":"IF(journal!F56=\"\",\"\",IF(journal!F56=\"a\",\"a\",journal!F56/journal!F$6))","v":""},{"$f":"IF(journal!G56=\"\",\"\",IF(journal!G56=\"a\",\"a\",journal!G56/journal!G$6))","v":""},{"$f":"IF(journal!H56=\"\",\"\",IF(journal!H56=\"a\",\"a\",journal!H56/journal!H$6))","v":""},{"$f":"IF(journal!I56=\"\",\"\",IF(journal!I56=\"a\",\"a\",journal!I56/journal!I$6))","v":""},{"$f":"IF(journal!J56=\"\",\"\",IF(journal!J56=\"a\",\"a\",journal!J56/journal!J$6))","v":""},{"$f":"IF(journal!K56=\"\",\"\",IF(journal!K56=\"a\",\"a\",journal!K56/journal!K$6))","v":""},{"$f":"IF(journal!L56=\"\",\"\",IF(journal!L56=\"a\",\"a\",journal!L56/journal!L$6))","v":""},{"$f":"IF(journal!M56=\"\",\"\",IF(journal!M56=\"a\",\"a\",journal!M56/journal!M$6))","v":""},{"$f":"IF(journal!N56=\"\",\"\",IF(journal!N56=\"a\",\"a\",journal!N56/journal!N$6))","v":""},{"$f":"IF(journal!O56=\"\",\"\",IF(journal!O56=\"a\",\"a\",journal!O56/journal!O$6))","v":""},{"$f":"IF(journal!P56=\"\",\"\",IF(journal!P56=\"a\",\"a\",journal!P56/journal!P$6))","v":""},{"$f":"IF(journal!Q56=\"\",\"\",IF(journal!Q56=\"a\",\"a\",journal!Q56/journal!Q$6))","v":""},{"$f":"IF(journal!R56=\"\",\"\",IF(journal!R56=\"a\",\"a\",journal!R56/journal!R$6))","v":""},{"$f":"IF(journal!S56=\"\",\"\",IF(journal!S56=\"a\",\"a\",journal!S56/journal!S$6))","v":""},{"$f":"IF(journal!T56=\"\",\"\",IF(journal!T56=\"a\",\"a\",journal!T56/journal!T$6))","v":""},{"$f":"IF(journal!U56=\"\",\"\",IF(journal!U56=\"a\",\"a\",journal!U56/journal!U$6))","v":""},{"$f":"IF(journal!V56=\"\",\"\",IF(journal!V56=\"a\",\"a\",journal!V56/journal!V$6))","v":""},{"$f":"IF(journal!W56=\"\",\"\",IF(journal!W56=\"a\",\"a\",journal!W56/journal!W$6))","v":""},{"$f":"IF(journal!X56=\"\",\"\",IF(journal!X56=\"a\",\"a\",journal!X56/journal!X$6))","v":""},{"$f":"IF(journal!Y56=\"\",\"\",IF(journal!Y56=\"a\",\"a\",journal!Y56/journal!Y$6))","v":""},{"$f":"IF(journal!Z56=\"\",\"\",IF(journal!Z56=\"a\",\"a\",journal!Z56/journal!Z$6))","v":""},{"$f":"IF(journal!AA56=\"\",\"\",IF(journal!AA56=\"a\",\"a\",journal!AA56/journal!AA$6))","v":""},{"$f":"IF(journal!AB56=\"\",\"\",IF(journal!AB56=\"a\",\"a\",journal!AB56/journal!AB$6))","v":""},{"$f":"IF(journal!AC56=\"\",\"\",IF(journal!AC56=\"a\",\"a\",journal!AC56/journal!AC$6))","v":""},{"$f":"IF(journal!AD56=\"\",\"\",IF(journal!AD56=\"a\",\"a\",journal!AD56/journal!AD$6))","v":""},{"$f":"IF(journal!AE56=\"\",\"\",IF(journal!AE56=\"a\",\"a\",journal!AE56/journal!AE$6))","v":""},{"$f":"IF(journal!AF56=\"\",\"\",IF(journal!AF56=\"a\",\"a\",journal!AF56/journal!AF$6))","v":""},{"$f":"IF(journal!AG56=\"\",\"\",IF(journal!AG56=\"a\",\"a\",journal!AG56/journal!AG$6))","v":""},{"$f":"IF(journal!AH56=\"\",\"\",IF(journal!AH56=\"a\",\"a\",journal!AH56/journal!AH$6))","v":""},{"$f":"IF(journal!AI56=\"\",\"\",IF(journal!AI56=\"a\",\"a\",journal!AI56/journal!AI$6))","v":""},{"$f":"IF(journal!AJ56=\"\",\"\",IF(journal!AJ56=\"a\",\"a\",journal!AJ56/journal!AJ$6))","v":""},{"$f":"IF(journal!AK56=\"\",\"\",IF(journal!AK56=\"a\",\"a\",journal!AK56/journal!AK$6))","v":""},{"$f":"IF(journal!AL56=\"\",\"\",IF(journal!AL56=\"a\",\"a\",journal!AL56/journal!AL$6))","v":""},{"$f":"IF(journal!AM56=\"\",\"\",IF(journal!AM56=\"a\",\"a\",journal!AM56/journal!AM$6))","v":""},{"$f":"IF(journal!AN56=\"\",\"\",IF(journal!AN56=\"a\",\"a\",journal!AN56/journal!AN$6))","v":""},{"$f":"IF(journal!AO56=\"\",\"\",IF(journal!AO56=\"a\",\"a\",journal!AO56/journal!AO$6))","v":""},{"$f":"IF(journal!AP56=\"\",\"\",IF(journal!AP56=\"a\",\"a\",journal!AP56/journal!AP$6))","v":""},{"$f":"IF(journal!AQ56=\"\",\"\",IF(journal!AQ56=\"a\",\"a\",journal!AQ56/journal!AQ$6))","v":""},{"$f":"IF(journal!AR56=\"\",\"\",IF(journal!AR56=\"a\",\"a\",journal!AR56/journal!AR$6))","v":""},"","","",""]
[null,"A",{"$f":"IF(journal!C57=\"\",\"\",IF(journal!C57=\"a\",\"a\",journal!C57/journal!C$7))","v":""},{"$f":"IF(journal!D57=\"\",\"\",IF(journal!D57=\"a\",\"a\",journal!D57/journal!D$7))","v":""},{"$f":"IF(journal!E57=\"\",\"\",IF(journal!E57=\"a\",\"a\",journal!E57/journal!E$7))","v":""},{"$f":"IF(journal!F57=\"\",\"\",IF(journal!F57=\"a\",\"a\",journal!F57/journal!F$7))","v":""},{"$f":"IF(journal!G57=\"\",\"\",IF(journal!G57=\"a\",\"a\",journal!G57/journal!G$7))","v":""},{"$f":"IF(journal!H57=\"\",\"\",IF(journal!H57=\"a\",\"a\",journal!H57/journal!H$7))","v":""},{"$f":"IF(journal!I57=\"\",\"\",IF(journal!I57=\"a\",\"a\",journal!I57/journal!I$7))","v":""},{"$f":"IF(journal!J57=\"\",\"\",IF(journal!J57=\"a\",\"a\",journal!J57/journal!J$7))","v":""},{"$f":"IF(journal!K57=\"\",\"\",IF(journal!K57=\"a\",\"a\",journal!K57/journal!K$7))","v":""},{"$f":"IF(journal!L57=\"\",\"\",IF(journal!L57=\"a\",\"a\",journal!L57/journal!L$7))","v":""},{"$f":"IF(journal!M57=\"\",\"\",IF(journal!M57=\"a\",\"a\",journal!M57/journal!M$7))","v":""},{"$f":"IF(journal!N57=\"\",\"\",IF(journal!N57=\"a\",\"a\",journal!N57/journal!N$7))","v":""},{"$f":"IF(journal!O57=\"\",\"\",IF(journal!O57=\"a\",\"a\",journal!O57/journal!O$7))","v":""},{"$f":"IF(journal!P57=\"\",\"\",IF(journal!P57=\"a\",\"a\",journal!P57/journal!P$7))","v":""},{"$f":"IF(journal!Q57=\"\",\"\",IF(journal!Q57=\"a\",\"a\",journal!Q57/journal!Q$7))","v":""},{"$f":"IF(journal!R57=\"\",\"\",IF(journal!R57=\"a\",\"a\",journal!R57/journal!R$7))","v":""},{"$f":"IF(journal!S57=\"\",\"\",IF(journal!S57=\"a\",\"a\",journal!S57/journal!S$7))","v":""},{"$f":"IF(journal!T57=\"\",\"\",IF(journal!T57=\"a\",\"a\",journal!T57/journal!T$7))","v":""},{"$f":"IF(journal!U57=\"\",\"\",IF(journal!U57=\"a\",\"a\",journal!U57/journal!U$7))","v":""},{"$f":"IF(journal!V57=\"\",\"\",IF(journal!V57=\"a\",\"a\",journal!V57/journal!V$7))","v":""},{"$f":"IF(journal!W57=\"\",\"\",IF(journal!W57=\"a\",\"a\",journal!W57/journal!W$7))","v":""},{"$f":"IF(journal!X57=\"\",\"\",IF(journal!X57=\"a\",\"a\",journal!X57/journal!X$7))","v":""},{"$f":"IF(journal!Y57=\"\",\"\",IF(journal!Y57=\"a\",\"a\",journal!Y57/journal!Y$7))","v":""},{"$f":"IF(journal!Z57=\"\",\"\",IF(journal!Z57=\"a\",\"a\",journal!Z57/journal!Z$7))","v":""},{"$f":"IF(journal!AA57=\"\",\"\",IF(journal!AA57=\"a\",\"a\",journal!AA57/journal!AA$7))","v":""},{"$f":"IF(journal!AB57=\"\",\"\",IF(journal!AB57=\"a\",\"a\",journal!AB57/journal!AB$7))","v":""},{"$f":"IF(journal!AC57=\"\",\"\",IF(journal!AC57=\"a\",\"a\",journal!AC57/journal!AC$7))","v":""},{"$f":"IF(journal!AD57=\"\",\"\",IF(journal!AD57=\"a\",\"a\",journal!AD57/journal!AD$7))","v":""},{"$f":"IF(journal!AE57=\"\",\"\",IF(journal!AE57=\"a\",\"a\",journal!AE57/journal!AE$7))","v":""},{"$f":"IF(journal!AF57=\"\",\"\",IF(journal!AF57=\"a\",\"a\",journal!AF57/journal!AF$7))","v":""},{"$f":"IF(journal!AG57=\"\",\"\",IF(journal!AG57=\"a\",\"a\",journal!AG57/journal!AG$7))","v":""},{"$f":"IF(journal!AH57=\"\",\"\",IF(journal!AH57=\"a\",\"a\",journal!AH57/journal!AH$7))","v":""},{"$f":"IF(journal!AI57=\"\",\"\",IF(journal!AI57=\"a\",\"a\",journal!AI57/journal!AI$7))","v":""},{"$f":"IF(journal!AJ57=\"\",\"\",IF(journal!AJ57=\"a\",\"a\",journal!AJ57/journal!AJ$7))","v":""},{"$f":"IF(journal!AK57=\"\",\"\",IF(journal!AK57=\"a\",\"a\",journal!AK57/journal!AK$7))","v":""},{"$f":"IF(journal!AL57=\"\",\"\",IF(journal!AL57=\"a\",\"a\",journal!AL57/journal!AL$7))","v":""},{"$f":"IF(journal!AM57=\"\",\"\",IF(journal!AM57=\"a\",\"a\",journal!AM57/journal!AM$7))","v":""},{"$f":"IF(journal!AN57=\"\",\"\",IF(journal!AN57=\"a\",\"a\",journal!AN57/journal!AN$7))","v":""},{"$f":"IF(journal!AO57=\"\",\"\",IF(journal!AO57=\"a\",\"a\",journal!AO57/journal!AO$7))","v":""},{"$f":"IF(journal!AP57=\"\",\"\",IF(journal!AP57=\"a\",\"a\",journal!AP57/journal!AP$7))","v":""},{"$f":"IF(journal!AQ57=\"\",\"\",IF(journal!AQ57=\"a\",\"a\",journal!AQ57/journal!AQ$7))","v":""},{"$f":"IF(journal!AR57=\"\",\"\",IF(journal!AR57=\"a\",\"a\",journal!AR57/journal!AR$7))","v":""},"","","",""]
[null,"R",{"$f":"IF(journal!C58=\"\",\"\",IF(journal!C58=\"a\",\"a\",journal!C58/journal!C$8))","v":""},{"$f":"IF(journal!D58=\"\",\"\",IF(journal!D58=\"a\",\"a\",journal!D58/journal!D$8))","v":""},{"$f":"IF(journal!E58=\"\",\"\",IF(journal!E58=\"a\",\"a\",journal!E58/journal!E$8))","v":""},{"$f":"IF(journal!F58=\"\",\"\",IF(journal!F58=\"a\",\"a\",journal!F58/journal!F$8))","v":""},{"$f":"IF(journal!G58=\"\",\"\",IF(journal!G58=\"a\",\"a\",journal!G58/journal!G$8))","v":""},{"$f":"IF(journal!H58=\"\",\"\",IF(journal!H58=\"a\",\"a\",journal!H58/journal!H$8))","v":""},{"$f":"IF(journal!I58=\"\",\"\",IF(journal!I58=\"a\",\"a\",journal!I58/journal!I$8))","v":""},{"$f":"IF(journal!J58=\"\",\"\",IF(journal!J58=\"a\",\"a\",journal!J58/journal!J$8))","v":""},{"$f":"IF(journal!K58=\"\",\"\",IF(journal!K58=\"a\",\"a\",journal!K58/journal!K$8))","v":""},{"$f":"IF(journal!L58=\"\",\"\",IF(journal!L58=\"a\",\"a\",journal!L58/journal!L$8))","v":""},{"$f":"IF(journal!M58=\"\",\"\",IF(journal!M58=\"a\",\"a\",journal!M58/journal!M$8))","v":""},{"$f":"IF(journal!N58=\"\",\"\",IF(journal!N58=\"a\",\"a\",journal!N58/journal!N$8))","v":""},{"$f":"IF(journal!O58=\"\",\"\",IF(journal!O58=\"a\",\"a\",journal!O58/journal!O$8))","v":""},{"$f":"IF(journal!P58=\"\",\"\",IF(journal!P58=\"a\",\"a\",journal!P58/journal!P$8))","v":""},{"$f":"IF(journal!Q58=\"\",\"\",IF(journal!Q58=\"a\",\"a\",journal!Q58/journal!Q$8))","v":""},{"$f":"IF(journal!R58=\"\",\"\",IF(journal!R58=\"a\",\"a\",journal!R58/journal!R$8))","v":""},{"$f":"IF(journal!S58=\"\",\"\",IF(journal!S58=\"a\",\"a\",journal!S58/journal!S$8))","v":""},{"$f":"IF(journal!T58=\"\",\"\",IF(journal!T58=\"a\",\"a\",journal!T58/journal!T$8))","v":""},{"$f":"IF(journal!U58=\"\",\"\",IF(journal!U58=\"a\",\"a\",journal!U58/journal!U$8))","v":""},{"$f":"IF(journal!V58=\"\",\"\",IF(journal!V58=\"a\",\"a\",journal!V58/journal!V$8))","v":""},{"$f":"IF(journal!W58=\"\",\"\",IF(journal!W58=\"a\",\"a\",journal!W58/journal!W$8))","v":""},{"$f":"IF(journal!X58=\"\",\"\",IF(journal!X58=\"a\",\"a\",journal!X58/journal!X$8))","v":""},{"$f":"IF(journal!Y58=\"\",\"\",IF(journal!Y58=\"a\",\"a\",journal!Y58/journal!Y$8))","v":""},{"$f":"IF(journal!Z58=\"\",\"\",IF(journal!Z58=\"a\",\"a\",journal!Z58/journal!Z$8))","v":""},{"$f":"IF(journal!AA58=\"\",\"\",IF(journal!AA58=\"a\",\"a\",journal!AA58/journal!AA$8))","v":""},{"$f":"IF(journal!AB58=\"\",\"\",IF(journal!AB58=\"a\",\"a\",journal!AB58/journal!AB$8))","v":""},{"$f":"IF(journal!AC58=\"\",\"\",IF(journal!AC58=\"a\",\"a\",journal!AC58/journal!AC$8))","v":""},{"$f":"IF(journal!AD58=\"\",\"\",IF(journal!AD58=\"a\",\"a\",journal!AD58/journal!AD$8))","v":""},{"$f":"IF(journal!AE58=\"\",\"\",IF(journal!AE58=\"a\",\"a\",journal!AE58/journal!AE$8))","v":""},{"$f":"IF(journal!AF58=\"\",\"\",IF(journal!AF58=\"a\",\"a\",journal!AF58/journal!AF$8))","v":""},{"$f":"IF(journal!AG58=\"\",\"\",IF(journal!AG58=\"a\",\"a\",journal!AG58/journal!AG$8))","v":""},{"$f":"IF(journal!AH58=\"\",\"\",IF(journal!AH58=\"a\",\"a\",journal!AH58/journal!AH$8))","v":""},{"$f":"IF(journal!AI58=\"\",\"\",IF(journal!AI58=\"a\",\"a\",journal!AI58/journal!AI$8))","v":""},{"$f":"IF(journal!AJ58=\"\",\"\",IF(journal!AJ58=\"a\",\"a\",journal!AJ58/journal!AJ$8))","v":""},{"$f":"IF(journal!AK58=\"\",\"\",IF(journal!AK58=\"a\",\"a\",journal!AK58/journal!AK$8))","v":""},{"$f":"IF(journal!AL58=\"\",\"\",IF(journal!AL58=\"a\",\"a\",journal!AL58/journal!AL$8))","v":""},{"$f":"IF(journal!AM58=\"\",\"\",IF(journal!AM58=\"a\",\"a\",journal!AM58/journal!AM$8))","v":""},{"$f":"IF(journal!AN58=\"\",\"\",IF(journal!AN58=\"a\",\"a\",journal!AN58/journal!AN$8))","v":""},{"$f":"IF(journal!AO58=\"\",\"\",IF(journal!AO58=\"a\",\"a\",journal!AO58/journal!AO$8))","v":""},{"$f":"IF(journal!AP58=\"\",\"\",IF(journal!AP58=\"a\",\"a\",journal!AP58/journal!AP$8))","v":""},{"$f":"IF(journal!AQ58=\"\",\"\",IF(journal!AQ58=\"a\",\"a\",journal!AQ58/journal!AQ$8))","v":""},{"$f":"IF(journal!AR58=\"\",\"\",IF(journal!AR58=\"a\",\"a\",journal!AR58/journal!AR$8))","v":""},"","","",""]
[null,"V",{"$f":"IF(journal!C59=\"\",\"\",IF(journal!C59=\"a\",\"a\",journal!C59/journal!C$9))","v":""},{"$f":"IF(journal!D59=\"\",\"\",IF(journal!D59=\"a\",\"a\",journal!D59/journal!D$9))","v":""},{"$f":"IF(journal!E59=\"\",\"\",IF(journal!E59=\"a\",\"a\",journal!E59/journal!E$9))","v":""},{"$f":"IF(journal!F59=\"\",\"\",IF(journal!F59=\"a\",\"a\",journal!F59/journal!F$9))","v":""},{"$f":"IF(journal!G59=\"\",\"\",IF(journal!G59=\"a\",\"a\",journal!G59/journal!G$9))","v":""},{"$f":"IF(journal!H59=\"\",\"\",IF(journal!H59=\"a\",\"a\",journal!H59/journal!H$9))","v":""},{"$f":"IF(journal!I59=\"\",\"\",IF(journal!I59=\"a\",\"a\",journal!I59/journal!I$9))","v":""},{"$f":"IF(journal!J59=\"\",\"\",IF(journal!J59=\"a\",\"a\",journal!J59/journal!J$9))","v":""},{"$f":"IF(journal!K59=\"\",\"\",IF(journal!K59=\"a\",\"a\",journal!K59/journal!K$9))","v":""},{"$f":"IF(journal!L59=\"\",\"\",IF(journal!L59=\"a\",\"a\",journal!L59/journal!L$9))","v":""},{"$f":"IF(journal!M59=\"\",\"\",IF(journal!M59=\"a\",\"a\",journal!M59/journal!M$9))","v":""},{"$f":"IF(journal!N59=\"\",\"\",IF(journal!N59=\"a\",\"a\",journal!N59/journal!N$9))","v":""},{"$f":"IF(journal!O59=\"\",\"\",IF(journal!O59=\"a\",\"a\",journal!O59/journal!O$9))","v":""},{"$f":"IF(journal!P59=\"\",\"\",IF(journal!P59=\"a\",\"a\",journal!P59/journal!P$9))","v":""},{"$f":"IF(journal!Q59=\"\",\"\",IF(journal!Q59=\"a\",\"a\",journal!Q59/journal!Q$9))","v":""},{"$f":"IF(journal!R59=\"\",\"\",IF(journal!R59=\"a\",\"a\",journal!R59/journal!R$9))","v":""},{"$f":"IF(journal!S59=\"\",\"\",IF(journal!S59=\"a\",\"a\",journal!S59/journal!S$9))","v":""},{"$f":"IF(journal!T59=\"\",\"\",IF(journal!T59=\"a\",\"a\",journal!T59/journal!T$9))","v":""},{"$f":"IF(journal!U59=\"\",\"\",IF(journal!U59=\"a\",\"a\",journal!U59/journal!U$9))","v":""},{"$f":"IF(journal!V59=\"\",\"\",IF(journal!V59=\"a\",\"a\",journal!V59/journal!V$9))","v":""},{"$f":"IF(journal!W59=\"\",\"\",IF(journal!W59=\"a\",\"a\",journal!W59/journal!W$9))","v":""},{"$f":"IF(journal!X59=\"\",\"\",IF(journal!X59=\"a\",\"a\",journal!X59/journal!X$9))","v":""},{"$f":"IF(journal!Y59=\"\",\"\",IF(journal!Y59=\"a\",\"a\",journal!Y59/journal!Y$9))","v":""},{"$f":"IF(journal!Z59=\"\",\"\",IF(journal!Z59=\"a\",\"a\",journal!Z59/journal!Z$9))","v":""},{"$f":"IF(journal!AA59=\"\",\"\",IF(journal!AA59=\"a\",\"a\",journal!AA59/journal!AA$9))","v":""},{"$f":"IF(journal!AB59=\"\",\"\",IF(journal!AB59=\"a\",\"a\",journal!AB59/journal!AB$9))","v":""},{"$f":"IF(journal!AC59=\"\",\"\",IF(journal!AC59=\"a\",\"a\",journal!AC59/journal!AC$9))","v":""},{"$f":"IF(journal!AD59=\"\",\"\",IF(journal!AD59=\"a\",\"a\",journal!AD59/journal!AD$9))","v":""},{"$f":"IF(journal!AE59=\"\",\"\",IF(journal!AE59=\"a\",\"a\",journal!AE59/journal!AE$9))","v":""},{"$f":"IF(journal!AF59=\"\",\"\",IF(journal!AF59=\"a\",\"a\",journal!AF59/journal!AF$9))","v":""},{"$f":"IF(journal!AG59=\"\",\"\",IF(journal!AG59=\"a\",\"a\",journal!AG59/journal!AG$9))","v":""},{"$f":"IF(journal!AH59=\"\",\"\",IF(journal!AH59=\"a\",\"a\",journal!AH59/journal!AH$9))","v":""},{"$f":"IF(journal!AI59=\"\",\"\",IF(journal!AI59=\"a\",\"a\",journal!AI59/journal!AI$9))","v":""},{"$f":"IF(journal!AJ59=\"\",\"\",IF(journal!AJ59=\"a\",\"a\",journal!AJ59/journal!AJ$9))","v":""},{"$f":"IF(journal!AK59=\"\",\"\",IF(journal!AK59=\"a\",\"a\",journal!AK59/journal!AK$9))","v":""},{"$f":"IF(journal!AL59=\"\",\"\",IF(journal!AL59=\"a\",\"a\",journal!AL59/journal!AL$9))","v":""},{"$f":"IF(journal!AM59=\"\",\"\",IF(journal!AM59=\"a\",\"a\",journal!AM59/journal!AM$9))","v":""},{"$f":"IF(journal!AN59=\"\",\"\",IF(journal!AN59=\"a\",\"a\",journal!AN59/journal!AN$9))","v":""},{"$f":"IF(journal!AO59=\"\",\"\",IF(journal!AO59=\"a\",\"a\",journal!AO59/journal!AO$9))","v":""},{"$f":"IF(journal!AP59=\"\",\"\",IF(journal!AP59=\"a\",\"a\",journal!AP59/journal!AP$9))","v":""},{"$f":"IF(journal!AQ59=\"\",\"\",IF(journal!AQ59=\"a\",\"a\",journal!AQ59/journal!AQ$9))","v":""},{"$f":"IF(journal!AR59=\"\",\"\",IF(journal!AR59=\"a\",\"a\",journal!AR59/journal!AR$9))","v":""},"","","",""]
[null,"C",{"$f":"IF(journal!C60=\"\",\"\",IF(journal!C60=\"a\",\"a\",journal!C60/journal!C$10))","v":""},{"$f":"IF(journal!D60=\"\",\"\",IF(journal!D60=\"a\",\"a\",journal!D60/journal!D$10))","v":""},{"$f":"IF(journal!E60=\"\",\"\",IF(journal!E60=\"a\",\"a\",journal!E60/journal!E$10))","v":""},{"$f":"IF(journal!F60=\"\",\"\",IF(journal!F60=\"a\",\"a\",journal!F60/journal!F$10))","v":""},{"$f":"IF(journal!G60=\"\",\"\",IF(journal!G60=\"a\",\"a\",journal!G60/journal!G$10))","v":""},{"$f":"IF(journal!H60=\"\",\"\",IF(journal!H60=\"a\",\"a\",journal!H60/journal!H$10))","v":""},{"$f":"IF(journal!I60=\"\",\"\",IF(journal!I60=\"a\",\"a\",journal!I60/journal!I$10))","v":""},{"$f":"IF(journal!J60=\"\",\"\",IF(journal!J60=\"a\",\"a\",journal!J60/journal!J$10))","v":""},{"$f":"IF(journal!K60=\"\",\"\",IF(journal!K60=\"a\",\"a\",journal!K60/journal!K$10))","v":""},{"$f":"IF(journal!L60=\"\",\"\",IF(journal!L60=\"a\",\"a\",journal!L60/journal!L$10))","v":""},{"$f":"IF(journal!M60=\"\",\"\",IF(journal!M60=\"a\",\"a\",journal!M60/journal!M$10))","v":""},{"$f":"IF(journal!N60=\"\",\"\",IF(journal!N60=\"a\",\"a\",journal!N60/journal!N$10))","v":""},{"$f":"IF(journal!O60=\"\",\"\",IF(journal!O60=\"a\",\"a\",journal!O60/journal!O$10))","v":""},{"$f":"IF(journal!P60=\"\",\"\",IF(journal!P60=\"a\",\"a\",journal!P60/journal!P$10))","v":""},{"$f":"IF(journal!Q60=\"\",\"\",IF(journal!Q60=\"a\",\"a\",journal!Q60/journal!Q$10))","v":""},{"$f":"IF(journal!R60=\"\",\"\",IF(journal!R60=\"a\",\"a\",journal!R60/journal!R$10))","v":""},{"$f":"IF(journal!S60=\"\",\"\",IF(journal!S60=\"a\",\"a\",journal!S60/journal!S$10))","v":""},{"$f":"IF(journal!T60=\"\",\"\",IF(journal!T60=\"a\",\"a\",journal!T60/journal!T$10))","v":""},{"$f":"IF(journal!U60=\"\",\"\",IF(journal!U60=\"a\",\"a\",journal!U60/journal!U$10))","v":""},{"$f":"IF(journal!V60=\"\",\"\",IF(journal!V60=\"a\",\"a\",journal!V60/journal!V$10))","v":""},{"$f":"IF(journal!W60=\"\",\"\",IF(journal!W60=\"a\",\"a\",journal!W60/journal!W$10))","v":""},{"$f":"IF(journal!X60=\"\",\"\",IF(journal!X60=\"a\",\"a\",journal!X60/journal!X$10))","v":""},{"$f":"IF(journal!Y60=\"\",\"\",IF(journal!Y60=\"a\",\"a\",journal!Y60/journal!Y$10))","v":""},{"$f":"IF(journal!Z60=\"\",\"\",IF(journal!Z60=\"a\",\"a\",journal!Z60/journal!Z$10))","v":""},{"$f":"IF(journal!AA60=\"\",\"\",IF(journal!AA60=\"a\",\"a\",journal!AA60/journal!AA$10))","v":""},{"$f":"IF(journal!AB60=\"\",\"\",IF(journal!AB60=\"a\",\"a\",journal!AB60/journal!AB$10))","v":""},{"$f":"IF(journal!AC60=\"\",\"\",IF(journal!AC60=\"a\",\"a\",journal!AC60/journal!AC$10))","v":""},{"$f":"IF(journal!AD60=\"\",\"\",IF(journal!AD60=\"a\",\"a\",journal!AD60/journal!AD$10))","v":""},{"$f":"IF(journal!AE60=\"\",\"\",IF(journal!AE60=\"a\",\"a\",journal!AE60/journal!AE$10))","v":""},{"$f":"IF(journal!AF60=\"\",\"\",IF(journal!AF60=\"a\",\"a\",journal!AF60/journal!AF$10))","v":""},{"$f":"IF(journal!AG60=\"\",\"\",IF(journal!AG60=\"a\",\"a\",journal!AG60/journal!AG$10))","v":""},{"$f":"IF(journal!AH60=\"\",\"\",IF(journal!AH60=\"a\",\"a\",journal!AH60/journal!AH$10))","v":""},{"$f":"IF(journal!AI60=\"\",\"\",IF(journal!AI60=\"a\",\"a\",journal!AI60/journal!AI$10))","v":""},{"$f":"IF(journal!AJ60=\"\",\"\",IF(journal!AJ60=\"a\",\"a\",journal!AJ60/journal!AJ$10))","v":""},{"$f":"IF(journal!AK60=\"\",\"\",IF(journal!AK60=\"a\",\"a\",journal!AK60/journal!AK$10))","v":""},{"$f":"IF(journal!AL60=\"\",\"\",IF(journal!AL60=\"a\",\"a\",journal!AL60/journal!AL$10))","v":""},{"$f":"IF(journal!AM60=\"\",\"\",IF(journal!AM60=\"a\",\"a\",journal!AM60/journal!AM$10))","v":""},{"$f":"IF(journal!AN60=\"\",\"\",IF(journal!AN60=\"a\",\"a\",journal!AN60/journal!AN$10))","v":""},{"$f":"IF(journal!AO60=\"\",\"\",IF(journal!AO60=\"a\",\"a\",journal!AO60/journal!AO$10))","v":""},{"$f":"IF(journal!AP60=\"\",\"\",IF(journal!AP60=\"a\",\"a\",journal!AP60/journal!AP$10))","v":""},{"$f":"IF(journal!AQ60=\"\",\"\",IF(journal!AQ60=\"a\",\"a\",journal!AQ60/journal!AQ$10))","v":""},{"$f":"IF(journal!AR60=\"\",\"\",IF(journal!AR60=\"a\",\"a\",journal!AR60/journal!AR$10))","v":""},"","","",""]
[{"$f":"Saisie!A21","v":0},"S",{"$f":"IF(journal!C61=\"\",\"\",IF(journal!C61=\"a\",\"a\",journal!C61/journal!C$6))","v":""},{"$f":"IF(journal!D61=\"\",\"\",IF(journal!D61=\"a\",\"a\",journal!D61/journal!D$6))","v":""},{"$f":"IF(journal!E61=\"\",\"\",IF(journal!E61=\"a\",\"a\",journal!E61/journal!E$6))","v":""},{"$f":"IF(journal!F61=\"\",\"\",IF(journal!F61=\"a\",\"a\",journal!F61/journal!F$6))","v":""},{"$f":"IF(journal!G61=\"\",\"\",IF(journal!G61=\"a\",\"a\",journal!G61/journal!G$6))","v":""},{"$f":"IF(journal!H61=\"\",\"\",IF(journal!H61=\"a\",\"a\",journal!H61/journal!H$6))","v":""},{"$f":"IF(journal!I61=\"\",\"\",IF(journal!I61=\"a\",\"a\",journal!I61/journal!I$6))","v":""},{"$f":"IF(journal!J61=\"\",\"\",IF(journal!J61=\"a\",\"a\",journal!J61/journal!J$6))","v":""},{"$f":"IF(journal!K61=\"\",\"\",IF(journal!K61=\"a\",\"a\",journal!K61/journal!K$6))","v":""},{"$f":"IF(journal!L61=\"\",\"\",IF(journal!L61=\"a\",\"a\",journal!L61/journal!L$6))","v":""},{"$f":"IF(journal!M61=\"\",\"\",IF(journal!M61=\"a\",\"a\",journal!M61/journal!M$6))","v":""},{"$f":"IF(journal!N61=\"\",\"\",IF(journal!N61=\"a\",\"a\",journal!N61/journal!N$6))","v":""},{"$f":"IF(journal!O61=\"\",\"\",IF(journal!O61=\"a\",\"a\",journal!O61/journal!O$6))","v":""},{"$f":"IF(journal!P61=\"\",\"\",IF(journal!P61=\"a\",\"a\",journal!P61/journal!P$6))","v":""},{"$f":"IF(journal!Q61=\"\",\"\",IF(journal!Q61=\"a\",\"a\",journal!Q61/journal!Q$6))","v":""},{"$f":"IF(journal!R61=\"\",\"\",IF(journal!R61=\"a\",\"a\",journal!R61/journal!R$6))","v":""},{"$f":"IF(journal!S61=\"\",\"\",IF(journal!S61=\"a\",\"a\",journal!S61/journal!S$6))","v":""},{"$f":"IF(journal!T61=\"\",\"\",IF(journal!T61=\"a\",\"a\",journal!T61/journal!T$6))","v":""},{"$f":"IF(journal!U61=\"\",\"\",IF(journal!U61=\"a\",\"a\",journal!U61/journal!U$6))","v":""},{"$f":"IF(journal!V61=\"\",\"\",IF(journal!V61=\"a\",\"a\",journal!V61/journal!V$6))","v":""},{"$f":"IF(journal!W61=\"\",\"\",IF(journal!W61=\"a\",\"a\",journal!W61/journal!W$6))","v":""},{"$f":"IF(journal!X61=\"\",\"\",IF(journal!X61=\"a\",\"a\",journal!X61/journal!X$6))","v":""},{"$f":"IF(journal!Y61=\"\",\"\",IF(journal!Y61=\"a\",\"a\",journal!Y61/journal!Y$6))","v":""},{"$f":"IF(journal!Z61=\"\",\"\",IF(journal!Z61=\"a\",\"a\",journal!Z61/journal!Z$6))","v":""},{"$f":"IF(journal!AA61=\"\",\"\",IF(journal!AA61=\"a\",\"a\",journal!AA61/journal!AA$6))","v":""},{"$f":"IF(journal!AB61=\"\",\"\",IF(journal!AB61=\"a\",\"a\",journal!AB61/journal!AB$6))","v":""},{"$f":"IF(journal!AC61=\"\",\"\",IF(journal!AC61=\"a\",\"a\",journal!AC61/journal!AC$6))","v":""},{"$f":"IF(journal!AD61=\"\",\"\",IF(journal!AD61=\"a\",\"a\",journal!AD61/journal!AD$6))","v":""},{"$f":"IF(journal!AE61=\"\",\"\",IF(journal!AE61=\"a\",\"a\",journal!AE61/journal!AE$6))","v":""},{"$f":"IF(journal!AF61=\"\",\"\",IF(journal!AF61=\"a\",\"a\",journal!AF61/journal!AF$6))","v":""},{"$f":"IF(journal!AG61=\"\",\"\",IF(journal!AG61=\"a\",\"a\",journal!AG61/journal!AG$6))","v":""},{"$f":"IF(journal!AH61=\"\",\"\",IF(journal!AH61=\"a\",\"a\",journal!AH61/journal!AH$6))","v":""},{"$f":"IF(journal!AI61=\"\",\"\",IF(journal!AI61=\"a\",\"a\",journal!AI61/journal!AI$6))","v":""},{"$f":"IF(journal!AJ61=\"\",\"\",IF(journal!AJ61=\"a\",\"a\",journal!AJ61/journal!AJ$6))","v":""},{"$f":"IF(journal!AK61=\"\",\"\",IF(journal!AK61=\"a\",\"a\",journal!AK61/journal!AK$6))","v":""},{"$f":"IF(journal!AL61=\"\",\"\",IF(journal!AL61=\"a\",\"a\",journal!AL61/journal!AL$6))","v":""},{"$f":"IF(journal!AM61=\"\",\"\",IF(journal!AM61=\"a\",\"a\",journal!AM61/journal!AM$6))","v":""},{"$f":"IF(journal!AN61=\"\",\"\",IF(journal!AN61=\"a\",\"a\",journal!AN61/journal!AN$6))","v":""},{"$f":"IF(journal!AO61=\"\",\"\",IF(journal!AO61=\"a\",\"a\",journal!AO61/journal!AO$6))","v":""},{"$f":"IF(journal!AP61=\"\",\"\",IF(journal!AP61=\"a\",\"a\",journal!AP61/journal!AP$6))","v":""},{"$f":"IF(journal!AQ61=\"\",\"\",IF(journal!AQ61=\"a\",\"a\",journal!AQ61/journal!AQ$6))","v":""},{"$f":"IF(journal!AR61=\"\",\"\",IF(journal!AR61=\"a\",\"a\",journal!AR61/journal!AR$6))","v":""},"","","",""]
[null,"A",{"$f":"IF(journal!C62=\"\",\"\",IF(journal!C62=\"a\",\"a\",journal!C62/journal!C$7))","v":""},{"$f":"IF(journal!D62=\"\",\"\",IF(journal!D62=\"a\",\"a\",journal!D62/journal!D$7))","v":""},{"$f":"IF(journal!E62=\"\",\"\",IF(journal!E62=\"a\",\"a\",journal!E62/journal!E$7))","v":""},{"$f":"IF(journal!F62=\"\",\"\",IF(journal!F62=\"a\",\"a\",journal!F62/journal!F$7))","v":""},{"$f":"IF(journal!G62=\"\",\"\",IF(journal!G62=\"a\",\"a\",journal!G62/journal!G$7))","v":""},{"$f":"IF(journal!H62=\"\",\"\",IF(journal!H62=\"a\",\"a\",journal!H62/journal!H$7))","v":""},{"$f":"IF(journal!I62=\"\",\"\",IF(journal!I62=\"a\",\"a\",journal!I62/journal!I$7))","v":""},{"$f":"IF(journal!J62=\"\",\"\",IF(journal!J62=\"a\",\"a\",journal!J62/journal!J$7))","v":""},{"$f":"IF(journal!K62=\"\",\"\",IF(journal!K62=\"a\",\"a\",journal!K62/journal!K$7))","v":""},{"$f":"IF(journal!L62=\"\",\"\",IF(journal!L62=\"a\",\"a\",journal!L62/journal!L$7))","v":""},{"$f":"IF(journal!M62=\"\",\"\",IF(journal!M62=\"a\",\"a\",journal!M62/journal!M$7))","v":""},{"$f":"IF(journal!N62=\"\",\"\",IF(journal!N62=\"a\",\"a\",journal!N62/journal!N$7))","v":""},{"$f":"IF(journal!O62=\"\",\"\",IF(journal!O62=\"a\",\"a\",journal!O62/journal!O$7))","v":""},{"$f":"IF(journal!P62=\"\",\"\",IF(journal!P62=\"a\",\"a\",journal!P62/journal!P$7))","v":""},{"$f":"IF(journal!Q62=\"\",\"\",IF(journal!Q62=\"a\",\"a\",journal!Q62/journal!Q$7))","v":""},{"$f":"IF(journal!R62=\"\",\"\",IF(journal!R62=\"a\",\"a\",journal!R62/journal!R$7))","v":""},{"$f":"IF(journal!S62=\"\",\"\",IF(journal!S62=\"a\",\"a\",journal!S62/journal!S$7))","v":""},{"$f":"IF(journal!T62=\"\",\"\",IF(journal!T62=\"a\",\"a\",journal!T62/journal!T$7))","v":""},{"$f":"IF(journal!U62=\"\",\"\",IF(journal!U62=\"a\",\"a\",journal!U62/journal!U$7))","v":""},{"$f":"IF(journal!V62=\"\",\"\",IF(journal!V62=\"a\",\"a\",journal!V62/journal!V$7))","v":""},{"$f":"IF(journal!W62=\"\",\"\",IF(journal!W62=\"a\",\"a\",journal!W62/journal!W$7))","v":""},{"$f":"IF(journal!X62=\"\",\"\",IF(journal!X62=\"a\",\"a\",journal!X62/journal!X$7))","v":""},{"$f":"IF(journal!Y62=\"\",\"\",IF(journal!Y62=\"a\",\"a\",journal!Y62/journal!Y$7))","v":""},{"$f":"IF(journal!Z62=\"\",\"\",IF(journal!Z62=\"a\",\"a\",journal!Z62/journal!Z$7))","v":""},{"$f":"IF(journal!AA62=\"\",\"\",IF(journal!AA62=\"a\",\"a\",journal!AA62/journal!AA$7))","v":""},{"$f":"IF(journal!AB62=\"\",\"\",IF(journal!AB62=\"a\",\"a\",journal!AB62/journal!AB$7))","v":""},{"$f":"IF(journal!AC62=\"\",\"\",IF(journal!AC62=\"a\",\"a\",journal!AC62/journal!AC$7))","v":""},{"$f":"IF(journal!AD62=\"\",\"\",IF(journal!AD62=\"a\",\"a\",journal!AD62/journal!AD$7))","v":""},{"$f":"IF(journal!AE62=\"\",\"\",IF(journal!AE62=\"a\",\"a\",journal!AE62/journal!AE$7))","v":""},{"$f":"IF(journal!AF62=\"\",\"\",IF(journal!AF62=\"a\",\"a\",journal!AF62/journal!AF$7))","v":""},{"$f":"IF(journal!AG62=\"\",\"\",IF(journal!AG62=\"a\",\"a\",journal!AG62/journal!AG$7))","v":""},{"$f":"IF(journal!AH62=\"\",\"\",IF(journal!AH62=\"a\",\"a\",journal!AH62/journal!AH$7))","v":""},{"$f":"IF(journal!AI62=\"\",\"\",IF(journal!AI62=\"a\",\"a\",journal!AI62/journal!AI$7))","v":""},{"$f":"IF(journal!AJ62=\"\",\"\",IF(journal!AJ62=\"a\",\"a\",journal!AJ62/journal!AJ$7))","v":""},{"$f":"IF(journal!AK62=\"\",\"\",IF(journal!AK62=\"a\",\"a\",journal!AK62/journal!AK$7))","v":""},{"$f":"IF(journal!AL62=\"\",\"\",IF(journal!AL62=\"a\",\"a\",journal!AL62/journal!AL$7))","v":""},{"$f":"IF(journal!AM62=\"\",\"\",IF(journal!AM62=\"a\",\"a\",journal!AM62/journal!AM$7))","v":""},{"$f":"IF(journal!AN62=\"\",\"\",IF(journal!AN62=\"a\",\"a\",journal!AN62/journal!AN$7))","v":""},{"$f":"IF(journal!AO62=\"\",\"\",IF(journal!AO62=\"a\",\"a\",journal!AO62/journal!AO$7))","v":""},{"$f":"IF(journal!AP62=\"\",\"\",IF(journal!AP62=\"a\",\"a\",journal!AP62/journal!AP$7))","v":""},{"$f":"IF(journal!AQ62=\"\",\"\",IF(journal!AQ62=\"a\",\"a\",journal!AQ62/journal!AQ$7))","v":""},{"$f":"IF(journal!AR62=\"\",\"\",IF(journal!AR62=\"a\",\"a\",journal!AR62/journal!AR$7))","v":""},"","","",""]
[null,"R",{"$f":"IF(journal!C63=\"\",\"\",IF(journal!C63=\"a\",\"a\",journal!C63/journal!C$8))","v":""},{"$f":"IF(journal!D63=\"\",\"\",IF(journal!D63=\"a\",\"a\",journal!D63/journal!D$8))","v":""},{"$f":"IF(journal!E63=\"\",\"\",IF(journal!E63=\"a\",\"a\",journal!E63/journal!E$8))","v":""},{"$f":"IF(journal!F63=\"\",\"\",IF(journal!F63=\"a\",\"a\",journal!F63/journal!F$8))","v":""},{"$f":"IF(journal!G63=\"\",\"\",IF(journal!G63=\"a\",\"a\",journal!G63/journal!G$8))","v":""},{"$f":"IF(journal!H63=\"\",\"\",IF(journal!H63=\"a\",\"a\",journal!H63/journal!H$8))","v":""},{"$f":"IF(journal!I63=\"\",\"\",IF(journal!I63=\"a\",\"a\",journal!I63/journal!I$8))","v":""},{"$f":"IF(journal!J63=\"\",\"\",IF(journal!J63=\"a\",\"a\",journal!J63/journal!J$8))","v":""},{"$f":"IF(journal!K63=\"\",\"\",IF(journal!K63=\"a\",\"a\",journal!K63/journal!K$8))","v":""},{"$f":"IF(journal!L63=\"\",\"\",IF(journal!L63=\"a\",\"a\",journal!L63/journal!L$8))","v":""},{"$f":"IF(journal!M63=\"\",\"\",IF(journal!M63=\"a\",\"a\",journal!M63/journal!M$8))","v":""},{"$f":"IF(journal!N63=\"\",\"\",IF(journal!N63=\"a\",\"a\",journal!N63/journal!N$8))","v":""},{"$f":"IF(journal!O63=\"\",\"\",IF(journal!O63=\"a\",\"a\",journal!O63/journal!O$8))","v":""},{"$f":"IF(journal!P63=\"\",\"\",IF(journal!P63=\"a\",\"a\",journal!P63/journal!P$8))","v":""},{"$f":"IF(journal!Q63=\"\",\"\",IF(journal!Q63=\"a\",\"a\",journal!Q63/journal!Q$8))","v":""},{"$f":"IF(journal!R63=\"\",\"\",IF(journal!R63=\"a\",\"a\",journal!R63/journal!R$8))","v":""},{"$f":"IF(journal!S63=\"\",\"\",IF(journal!S63=\"a\",\"a\",journal!S63/journal!S$8))","v":""},{"$f":"IF(journal!T63=\"\",\"\",IF(journal!T63=\"a\",\"a\",journal!T63/journal!T$8))","v":""},{"$f":"IF(journal!U63=\"\",\"\",IF(journal!U63=\"a\",\"a\",journal!U63/journal!U$8))","v":""},{"$f":"IF(journal!V63=\"\",\"\",IF(journal!V63=\"a\",\"a\",journal!V63/journal!V$8))","v":""},{"$f":"IF(journal!W63=\"\",\"\",IF(journal!W63=\"a\",\"a\",journal!W63/journal!W$8))","v":""},{"$f":"IF(journal!X63=\"\",\"\",IF(journal!X63=\"a\",\"a\",journal!X63/journal!X$8))","v":""},{"$f":"IF(journal!Y63=\"\",\"\",IF(journal!Y63=\"a\",\"a\",journal!Y63/journal!Y$8))","v":""},{"$f":"IF(journal!Z63=\"\",\"\",IF(journal!Z63=\"a\",\"a\",journal!Z63/journal!Z$8))","v":""},{"$f":"IF(journal!AA63=\"\",\"\",IF(journal!AA63=\"a\",\"a\",journal!AA63/journal!AA$8))","v":""},{"$f":"IF(journal!AB63=\"\",\"\",IF(journal!AB63=\"a\",\"a\",journal!AB63/journal!AB$8))","v":""},{"$f":"IF(journal!AC63=\"\",\"\",IF(journal!AC63=\"a\",\"a\",journal!AC63/journal!AC$8))","v":""},{"$f":"IF(journal!AD63=\"\",\"\",IF(journal!AD63=\"a\",\"a\",journal!AD63/journal!AD$8))","v":""},{"$f":"IF(journal!AE63=\"\",\"\",IF(journal!AE63=\"a\",\"a\",journal!AE63/journal!AE$8))","v":""},{"$f":"IF(journal!AF63=\"\",\"\",IF(journal!AF63=\"a\",\"a\",journal!AF63/journal!AF$8))","v":""},{"$f":"IF(journal!AG63=\"\",\"\",IF(journal!AG63=\"a\",\"a\",journal!AG63/journal!AG$8))","v":""},{"$f":"IF(journal!AH63=\"\",\"\",IF(journal!AH63=\"a\",\"a\",journal!AH63/journal!AH$8))","v":""},{"$f":"IF(journal!AI63=\"\",\"\",IF(journal!AI63=\"a\",\"a\",journal!AI63/journal!AI$8))","v":""},{"$f":"IF(journal!AJ63=\"\",\"\",IF(journal!AJ63=\"a\",\"a\",journal!AJ63/journal!AJ$8))","v":""},{"$f":"IF(journal!AK63=\"\",\"\",IF(journal!AK63=\"a\",\"a\",journal!AK63/journal!AK$8))","v":""},{"$f":"IF(journal!AL63=\"\",\"\",IF(journal!AL63=\"a\",\"a\",journal!AL63/journal!AL$8))","v":""},{"$f":"IF(journal!AM63=\"\",\"\",IF(journal!AM63=\"a\",\"a\",journal!AM63/journal!AM$8))","v":""},{"$f":"IF(journal!AN63=\"\",\"\",IF(journal!AN63=\"a\",\"a\",journal!AN63/journal!AN$8))","v":""},{"$f":"IF(journal!AO63=\"\",\"\",IF(journal!AO63=\"a\",\"a\",journal!AO63/journal!AO$8))","v":""},{"$f":"IF(journal!AP63=\"\",\"\",IF(journal!AP63=\"a\",\"a\",journal!AP63/journal!AP$8))","v":""},{"$f":"IF(journal!AQ63=\"\",\"\",IF(journal!AQ63=\"a\",\"a\",journal!AQ63/journal!AQ$8))","v":""},{"$f":"IF(journal!AR63=\"\",\"\",IF(journal!AR63=\"a\",\"a\",journal!AR63/journal!AR$8))","v":""},"","","",""]
[null,"V",{"$f":"IF(journal!C64=\"\",\"\",IF(journal!C64=\"a\",\"a\",journal!C64/journal!C$9))","v":""},{"$f":"IF(journal!D64=\"\",\"\",IF(journal!D64=\"a\",\"a\",journal!D64/journal!D$9))","v":""},{"$f":"IF(journal!E64=\"\",\"\",IF(journal!E64=\"a\",\"a\",journal!E64/journal!E$9))","v":""},{"$f":"IF(journal!F64=\"\",\"\",IF(journal!F64=\"a\",\"a\",journal!F64/journal!F$9))","v":""},{"$f":"IF(journal!G64=\"\",\"\",IF(journal!G64=\"a\",\"a\",journal!G64/journal!G$9))","v":""},{"$f":"IF(journal!H64=\"\",\"\",IF(journal!H64=\"a\",\"a\",journal!H64/journal!H$9))","v":""},{"$f":"IF(journal!I64=\"\",\"\",IF(journal!I64=\"a\",\"a\",journal!I64/journal!I$9))","v":""},{"$f":"IF(journal!J64=\"\",\"\",IF(journal!J64=\"a\",\"a\",journal!J64/journal!J$9))","v":""},{"$f":"IF(journal!K64=\"\",\"\",IF(journal!K64=\"a\",\"a\",journal!K64/journal!K$9))","v":""},{"$f":"IF(journal!L64=\"\",\"\",IF(journal!L64=\"a\",\"a\",journal!L64/journal!L$9))","v":""},{"$f":"IF(journal!M64=\"\",\"\",IF(journal!M64=\"a\",\"a\",journal!M64/journal!M$9))","v":""},{"$f":"IF(journal!N64=\"\",\"\",IF(journal!N64=\"a\",\"a\",journal!N64/journal!N$9))","v":""},{"$f":"IF(journal!O64=\"\",\"\",IF(journal!O64=\"a\",\"a\",journal!O64/journal!O$9))","v":""},{"$f":"IF(journal!P64=\"\",\"\",IF(journal!P64=\"a\",\"a\",journal!P64/journal!P$9))","v":""},{"$f":"IF(journal!Q64=\"\",\"\",IF(journal!Q64=\"a\",\"a\",journal!Q64/journal!Q$9))","v":""},{"$f":"IF(journal!R64=\"\",\"\",IF(journal!R64=\"a\",\"a\",journal!R64/journal!R$9))","v":""},{"$f":"IF(journal!S64=\"\",\"\",IF(journal!S64=\"a\",\"a\",journal!S64/journal!S$9))","v":""},{"$f":"IF(journal!T64=\"\",\"\",IF(journal!T64=\"a\",\"a\",journal!T64/journal!T$9))","v":""},{"$f":"IF(journal!U64=\"\",\"\",IF(journal!U64=\"a\",\"a\",journal!U64/journal!U$9))","v":""},{"$f":"IF(journal!V64=\"\",\"\",IF(journal!V64=\"a\",\"a\",journal!V64/journal!V$9))","v":""},{"$f":"IF(journal!W64=\"\",\"\",IF(journal!W64=\"a\",\"a\",journal!W64/journal!W$9))","v":""},{"$f":"IF(journal!X64=\"\",\"\",IF(journal!X64=\"a\",\"a\",journal!X64/journal!X$9))","v":""},{"$f":"IF(journal!Y64=\"\",\"\",IF(journal!Y64=\"a\",\"a\",journal!Y64/journal!Y$9))","v":""},{"$f":"IF(journal!Z64=\"\",\"\",IF(journal!Z64=\"a\",\"a\",journal!Z64/journal!Z$9))","v":""},{"$f":"IF(journal!AA64=\"\",\"\",IF(journal!AA64=\"a\",\"a\",journal!AA64/journal!AA$9))","v":""},{"$f":"IF(journal!AB64=\"\",\"\",IF(journal!AB64=\"a\",\"a\",journal!AB64/journal!AB$9))","v":""},{"$f":"IF(journal!AC64=\"\",\"\",IF(journal!AC64=\"a\",\"a\",journal!AC64/journal!AC$9))","v":""},{"$f":"IF(journal!AD64=\"\",\"\",IF(journal!AD64=\"a\",\"a\",journal!AD64/journal!AD$9))","v":""},{"$f":"IF(journal!AE64=\"\",\"\",IF(journal!AE64=\"a\",\"a\",journal!AE64/journal!AE$9))","v":""},{"$f":"IF(journal!AF64=\"\",\"\",IF(journal!AF64=\"a\",\"a\",journal!AF64/journal!AF$9))","v":""},{"$f":"IF(journal!AG64=\"\",\"\",IF(journal!AG64=\"a\",\"a\",journal!AG64/journal!AG$9))","v":""},{"$f":"IF(journal!AH64=\"\",\"\",IF(journal!AH64=\"a\",\"a\",journal!AH64/journal!AH$9))","v":""},{"$f":"IF(journal!AI64=\"\",\"\",IF(journal!AI64=\"a\",\"a\",journal!AI64/journal!AI$9))","v":""},{"$f":"IF(journal!AJ64=\"\",\"\",IF(journal!AJ64=\"a\",\"a\",journal!AJ64/journal!AJ$9))","v":""},{"$f":"IF(journal!AK64=\"\",\"\",IF(journal!AK64=\"a\",\"a\",journal!AK64/journal!AK$9))","v":""},{"$f":"IF(journal!AL64=\"\",\"\",IF(journal!AL64=\"a\",\"a\",journal!AL64/journal!AL$9))","v":""},{"$f":"IF(journal!AM64=\"\",\"\",IF(journal!AM64=\"a\",\"a\",journal!AM64/journal!AM$9))","v":""},{"$f":"IF(journal!AN64=\"\",\"\",IF(journal!AN64=\"a\",\"a\",journal!AN64/journal!AN$9))","v":""},{"$f":"IF(journal!AO64=\"\",\"\",IF(journal!AO64=\"a\",\"a\",journal!AO64/journal!AO$9))","v":""},{"$f":"IF(journal!AP64=\"\",\"\",IF(journal!AP64=\"a\",\"a\",journal!AP64/journal!AP$9))","v":""},{"$f":"IF(journal!AQ64=\"\",\"\",IF(journal!AQ64=\"a\",\"a\",journal!AQ64/journal!AQ$9))","v":""},{"$f":"IF(journal!AR64=\"\",\"\",IF(journal!AR64=\"a\",\"a\",journal!AR64/journal!AR$9))","v":""},"","","",""]
[null,"C",{"$f":"IF(journal!C65=\"\",\"\",IF(journal!C65=\"a\",\"a\",journal!C65/journal!C$10))","v":""},{"$f":"IF(journal!D65=\"\",\"\",IF(journal!D65=\"a\",\"a\",journal!D65/journal!D$10))","v":""},{"$f":"IF(journal!E65=\"\",\"\",IF(journal!E65=\"a\",\"a\",journal!E65/journal!E$10))","v":""},{"$f":"IF(journal!F65=\"\",\"\",IF(journal!F65=\"a\",\"a\",journal!F65/journal!F$10))","v":""},{"$f":"IF(journal!G65=\"\",\"\",IF(journal!G65=\"a\",\"a\",journal!G65/journal!G$10))","v":""},{"$f":"IF(journal!H65=\"\",\"\",IF(journal!H65=\"a\",\"a\",journal!H65/journal!H$10))","v":""},{"$f":"IF(journal!I65=\"\",\"\",IF(journal!I65=\"a\",\"a\",journal!I65/journal!I$10))","v":""},{"$f":"IF(journal!J65=\"\",\"\",IF(journal!J65=\"a\",\"a\",journal!J65/journal!J$10))","v":""},{"$f":"IF(journal!K65=\"\",\"\",IF(journal!K65=\"a\",\"a\",journal!K65/journal!K$10))","v":""},{"$f":"IF(journal!L65=\"\",\"\",IF(journal!L65=\"a\",\"a\",journal!L65/journal!L$10))","v":""},{"$f":"IF(journal!M65=\"\",\"\",IF(journal!M65=\"a\",\"a\",journal!M65/journal!M$10))","v":""},{"$f":"IF(journal!N65=\"\",\"\",IF(journal!N65=\"a\",\"a\",journal!N65/journal!N$10))","v":""},{"$f":"IF(journal!O65=\"\",\"\",IF(journal!O65=\"a\",\"a\",journal!O65/journal!O$10))","v":""},{"$f":"IF(journal!P65=\"\",\"\",IF(journal!P65=\"a\",\"a\",journal!P65/journal!P$10))","v":""},{"$f":"IF(journal!Q65=\"\",\"\",IF(journal!Q65=\"a\",\"a\",journal!Q65/journal!Q$10))","v":""},{"$f":"IF(journal!R65=\"\",\"\",IF(journal!R65=\"a\",\"a\",journal!R65/journal!R$10))","v":""},{"$f":"IF(journal!S65=\"\",\"\",IF(journal!S65=\"a\",\"a\",journal!S65/journal!S$10))","v":""},{"$f":"IF(journal!T65=\"\",\"\",IF(journal!T65=\"a\",\"a\",journal!T65/journal!T$10))","v":""},{"$f":"IF(journal!U65=\"\",\"\",IF(journal!U65=\"a\",\"a\",journal!U65/journal!U$10))","v":""},{"$f":"IF(journal!V65=\"\",\"\",IF(journal!V65=\"a\",\"a\",journal!V65/journal!V$10))","v":""},{"$f":"IF(journal!W65=\"\",\"\",IF(journal!W65=\"a\",\"a\",journal!W65/journal!W$10))","v":""},{"$f":"IF(journal!X65=\"\",\"\",IF(journal!X65=\"a\",\"a\",journal!X65/journal!X$10))","v":""},{"$f":"IF(journal!Y65=\"\",\"\",IF(journal!Y65=\"a\",\"a\",journal!Y65/journal!Y$10))","v":""},{"$f":"IF(journal!Z65=\"\",\"\",IF(journal!Z65=\"a\",\"a\",journal!Z65/journal!Z$10))","v":""},{"$f":"IF(journal!AA65=\"\",\"\",IF(journal!AA65=\"a\",\"a\",journal!AA65/journal!AA$10))","v":""},{"$f":"IF(journal!AB65=\"\",\"\",IF(journal!AB65=\"a\",\"a\",journal!AB65/journal!AB$10))","v":""},{"$f":"IF(journal!AC65=\"\",\"\",IF(journal!AC65=\"a\",\"a\",journal!AC65/journal!AC$10))","v":""},{"$f":"IF(journal!AD65=\"\",\"\",IF(journal!AD65=\"a\",\"a\",journal!AD65/journal!AD$10))","v":""},{"$f":"IF(journal!AE65=\"\",\"\",IF(journal!AE65=\"a\",\"a\",journal!AE65/journal!AE$10))","v":""},{"$f":"IF(journal!AF65=\"\",\"\",IF(journal!AF65=\"a\",\"a\",journal!AF65/journal!AF$10))","v":""},{"$f":"IF(journal!AG65=\"\",\"\",IF(journal!AG65=\"a\",\"a\",journal!AG65/journal!AG$10))","v":""},{"$f":"IF(journal!AH65=\"\",\"\",IF(journal!AH65=\"a\",\"a\",journal!AH65/journal!AH$10))","v":""},{"$f":"IF(journal!AI65=\"\",\"\",IF(journal!AI65=\"a\",\"a\",journal!AI65/journal!AI$10))","v":""},{"$f":"IF(journal!AJ65=\"\",\"\",IF(journal!AJ65=\"a\",\"a\",journal!AJ65/journal!AJ$10))","v":""},{"$f":"IF(journal!AK65=\"\",\"\",IF(journal!AK65=\"a\",\"a\",journal!AK65/journal!AK$10))","v":""},{"$f":"IF(journal!AL65=\"\",\"\",IF(journal!AL65=\"a\",\"a\",journal!AL65/journal!AL$10))","v":""},{"$f":"IF(journal!AM65=\"\",\"\",IF(journal!AM65=\"a\",\"a\",journal!AM65/journal!AM$10))","v":""},{"$f":"IF(journal!AN65=\"\",\"\",IF(journal!AN65=\"a\",\"a\",journal!AN65/journal!AN$10))","v":""},{"$f":"IF(journal!AO65=\"\",\"\",IF(journal!AO65=\"a\",\"a\",journal!AO65/journal!AO$10))","v":""},{"$f":"IF(journal!AP65=\"\",\"\",IF(journal!AP65=\"a\",\"a\",journal!AP65/journal!AP$10))","v":""},{"$f":"IF(journal!AQ65=\"\",\"\",IF(journal!AQ65=\"a\",\"a\",journal!AQ65/journal!AQ$10))","v":""},{"$f":"IF(journal!AR65=\"\",\"\",IF(journal!AR65=\"a\",\"a\",journal!AR65/journal!AR$10))","v":""},"","","",""]
[{"$f":"Saisie!A22","v":0},"S",{"$f":"IF(journal!C66=\"\",\"\",IF(journal!C66=\"a\",\"a\",journal!C66/journal!C$6))","v":""},{"$f":"IF(journal!D66=\"\",\"\",IF(journal!D66=\"a\",\"a\",journal!D66/journal!D$6))","v":""},{"$f":"IF(journal!E66=\"\",\"\",IF(journal!E66=\"a\",\"a\",journal!E66/journal!E$6))","v":""},{"$f":"IF(journal!F66=\"\",\"\",IF(journal!F66=\"a\",\"a\",journal!F66/journal!F$6))","v":""},{"$f":"IF(journal!G66=\"\",\"\",IF(journal!G66=\"a\",\"a\",journal!G66/journal!G$6))","v":""},{"$f":"IF(journal!H66=\"\",\"\",IF(journal!H66=\"a\",\"a\",journal!H66/journal!H$6))","v":""},{"$f":"IF(journal!I66=\"\",\"\",IF(journal!I66=\"a\",\"a\",journal!I66/journal!I$6))","v":""},{"$f":"IF(journal!J66=\"\",\"\",IF(journal!J66=\"a\",\"a\",journal!J66/journal!J$6))","v":""},{"$f":"IF(journal!K66=\"\",\"\",IF(journal!K66=\"a\",\"a\",journal!K66/journal!K$6))","v":""},{"$f":"IF(journal!L66=\"\",\"\",IF(journal!L66=\"a\",\"a\",journal!L66/journal!L$6))","v":""},{"$f":"IF(journal!M66=\"\",\"\",IF(journal!M66=\"a\",\"a\",journal!M66/journal!M$6))","v":""},{"$f":"IF(journal!N66=\"\",\"\",IF(journal!N66=\"a\",\"a\",journal!N66/journal!N$6))","v":""},{"$f":"IF(journal!O66=\"\",\"\",IF(journal!O66=\"a\",\"a\",journal!O66/journal!O$6))","v":""},{"$f":"IF(journal!P66=\"\",\"\",IF(journal!P66=\"a\",\"a\",journal!P66/journal!P$6))","v":""},{"$f":"IF(journal!Q66=\"\",\"\",IF(journal!Q66=\"a\",\"a\",journal!Q66/journal!Q$6))","v":""},{"$f":"IF(journal!R66=\"\",\"\",IF(journal!R66=\"a\",\"a\",journal!R66/journal!R$6))","v":""},{"$f":"IF(journal!S66=\"\",\"\",IF(journal!S66=\"a\",\"a\",journal!S66/journal!S$6))","v":""},{"$f":"IF(journal!T66=\"\",\"\",IF(journal!T66=\"a\",\"a\",journal!T66/journal!T$6))","v":""},{"$f":"IF(journal!U66=\"\",\"\",IF(journal!U66=\"a\",\"a\",journal!U66/journal!U$6))","v":""},{"$f":"IF(journal!V66=\"\",\"\",IF(journal!V66=\"a\",\"a\",journal!V66/journal!V$6))","v":""},{"$f":"IF(journal!W66=\"\",\"\",IF(journal!W66=\"a\",\"a\",journal!W66/journal!W$6))","v":""},{"$f":"IF(journal!X66=\"\",\"\",IF(journal!X66=\"a\",\"a\",journal!X66/journal!X$6))","v":""},{"$f":"IF(journal!Y66=\"\",\"\",IF(journal!Y66=\"a\",\"a\",journal!Y66/journal!Y$6))","v":""},{"$f":"IF(journal!Z66=\"\",\"\",IF(journal!Z66=\"a\",\"a\",journal!Z66/journal!Z$6))","v":""},{"$f":"IF(journal!AA66=\"\",\"\",IF(journal!AA66=\"a\",\"a\",journal!AA66/journal!AA$6))","v":""},{"$f":"IF(journal!AB66=\"\",\"\",IF(journal!AB66=\"a\",\"a\",journal!AB66/journal!AB$6))","v":""},{"$f":"IF(journal!AC66=\"\",\"\",IF(journal!AC66=\"a\",\"a\",journal!AC66/journal!AC$6))","v":""},{"$f":"IF(journal!AD66=\"\",\"\",IF(journal!AD66=\"a\",\"a\",journal!AD66/journal!AD$6))","v":""},{"$f":"IF(journal!AE66=\"\",\"\",IF(journal!AE66=\"a\",\"a\",journal!AE66/journal!AE$6))","v":""},{"$f":"IF(journal!AF66=\"\",\"\",IF(journal!AF66=\"a\",\"a\",journal!AF66/journal!AF$6))","v":""},{"$f":"IF(journal!AG66=\"\",\"\",IF(journal!AG66=\"a\",\"a\",journal!AG66/journal!AG$6))","v":""},{"$f":"IF(journal!AH66=\"\",\"\",IF(journal!AH66=\"a\",\"a\",journal!AH66/journal!AH$6))","v":""},{"$f":"IF(journal!AI66=\"\",\"\",IF(journal!AI66=\"a\",\"a\",journal!AI66/journal!AI$6))","v":""},{"$f":"IF(journal!AJ66=\"\",\"\",IF(journal!AJ66=\"a\",\"a\",journal!AJ66/journal!AJ$6))","v":""},{"$f":"IF(journal!AK66=\"\",\"\",IF(journal!AK66=\"a\",\"a\",journal!AK66/journal!AK$6))","v":""},{"$f":"IF(journal!AL66=\"\",\"\",IF(journal!AL66=\"a\",\"a\",journal!AL66/journal!AL$6))","v":""},{"$f":"IF(journal!AM66=\"\",\"\",IF(journal!AM66=\"a\",\"a\",journal!AM66/journal!AM$6))","v":""},{"$f":"IF(journal!AN66=\"\",\"\",IF(journal!AN66=\"a\",\"a\",journal!AN66/journal!AN$6))","v":""},{"$f":"IF(journal!AO66=\"\",\"\",IF(journal!AO66=\"a\",\"a\",journal!AO66/journal!AO$6))","v":""},{"$f":"IF(journal!AP66=\"\",\"\",IF(journal!AP66=\"a\",\"a\",journal!AP66/journal!AP$6))","v":""},{"$f":"IF(journal!AQ66=\"\",\"\",IF(journal!AQ66=\"a\",\"a\",journal!AQ66/journal!AQ$6))","v":""},{"$f":"IF(journal!AR66=\"\",\"\",IF(journal!AR66=\"a\",\"a\",journal!AR66/journal!AR$6))","v":""},"","","",""]
[null,"A",{"$f":"IF(journal!C67=\"\",\"\",IF(journal!C67=\"a\",\"a\",journal!C67/journal!C$7))","v":""},{"$f":"IF(journal!D67=\"\",\"\",IF(journal!D67=\"a\",\"a\",journal!D67/journal!D$7))","v":""},{"$f":"IF(journal!E67=\"\",\"\",IF(journal!E67=\"a\",\"a\",journal!E67/journal!E$7))","v":""},{"$f":"IF(journal!F67=\"\",\"\",IF(journal!F67=\"a\",\"a\",journal!F67/journal!F$7))","v":""},{"$f":"IF(journal!G67=\"\",\"\",IF(journal!G67=\"a\",\"a\",journal!G67/journal!G$7))","v":""},{"$f":"IF(journal!H67=\"\",\"\",IF(journal!H67=\"a\",\"a\",journal!H67/journal!H$7))","v":""},{"$f":"IF(journal!I67=\"\",\"\",IF(journal!I67=\"a\",\"a\",journal!I67/journal!I$7))","v":""},{"$f":"IF(journal!J67=\"\",\"\",IF(journal!J67=\"a\",\"a\",journal!J67/journal!J$7))","v":""},{"$f":"IF(journal!K67=\"\",\"\",IF(journal!K67=\"a\",\"a\",journal!K67/journal!K$7))","v":""},{"$f":"IF(journal!L67=\"\",\"\",IF(journal!L67=\"a\",\"a\",journal!L67/journal!L$7))","v":""},{"$f":"IF(journal!M67=\"\",\"\",IF(journal!M67=\"a\",\"a\",journal!M67/journal!M$7))","v":""},{"$f":"IF(journal!N67=\"\",\"\",IF(journal!N67=\"a\",\"a\",journal!N67/journal!N$7))","v":""},{"$f":"IF(journal!O67=\"\",\"\",IF(journal!O67=\"a\",\"a\",journal!O67/journal!O$7))","v":""},{"$f":"IF(journal!P67=\"\",\"\",IF(journal!P67=\"a\",\"a\",journal!P67/journal!P$7))","v":""},{"$f":"IF(journal!Q67=\"\",\"\",IF(journal!Q67=\"a\",\"a\",journal!Q67/journal!Q$7))","v":""},{"$f":"IF(journal!R67=\"\",\"\",IF(journal!R67=\"a\",\"a\",journal!R67/journal!R$7))","v":""},{"$f":"IF(journal!S67=\"\",\"\",IF(journal!S67=\"a\",\"a\",journal!S67/journal!S$7))","v":""},{"$f":"IF(journal!T67=\"\",\"\",IF(journal!T67=\"a\",\"a\",journal!T67/journal!T$7))","v":""},{"$f":"IF(journal!U67=\"\",\"\",IF(journal!U67=\"a\",\"a\",journal!U67/journal!U$7))","v":""},{"$f":"IF(journal!V67=\"\",\"\",IF(journal!V67=\"a\",\"a\",journal!V67/journal!V$7))","v":""},{"$f":"IF(journal!W67=\"\",\"\",IF(journal!W67=\"a\",\"a\",journal!W67/journal!W$7))","v":""},{"$f":"IF(journal!X67=\"\",\"\",IF(journal!X67=\"a\",\"a\",journal!X67/journal!X$7))","v":""},{"$f":"IF(journal!Y67=\"\",\"\",IF(journal!Y67=\"a\",\"a\",journal!Y67/journal!Y$7))","v":""},{"$f":"IF(journal!Z67=\"\",\"\",IF(journal!Z67=\"a\",\"a\",journal!Z67/journal!Z$7))","v":""},{"$f":"IF(journal!AA67=\"\",\"\",IF(journal!AA67=\"a\",\"a\",journal!AA67/journal!AA$7))","v":""},{"$f":"IF(journal!AB67=\"\",\"\",IF(journal!AB67=\"a\",\"a\",journal!AB67/journal!AB$7))","v":""},{"$f":"IF(journal!AC67=\"\",\"\",IF(journal!AC67=\"a\",\"a\",journal!AC67/journal!AC$7))","v":""},{"$f":"IF(journal!AD67=\"\",\"\",IF(journal!AD67=\"a\",\"a\",journal!AD67/journal!AD$7))","v":""},{"$f":"IF(journal!AE67=\"\",\"\",IF(journal!AE67=\"a\",\"a\",journal!AE67/journal!AE$7))","v":""},{"$f":"IF(journal!AF67=\"\",\"\",IF(journal!AF67=\"a\",\"a\",journal!AF67/journal!AF$7))","v":""},{"$f":"IF(journal!AG67=\"\",\"\",IF(journal!AG67=\"a\",\"a\",journal!AG67/journal!AG$7))","v":""},{"$f":"IF(journal!AH67=\"\",\"\",IF(journal!AH67=\"a\",\"a\",journal!AH67/journal!AH$7))","v":""},{"$f":"IF(journal!AI67=\"\",\"\",IF(journal!AI67=\"a\",\"a\",journal!AI67/journal!AI$7))","v":""},{"$f":"IF(journal!AJ67=\"\",\"\",IF(journal!AJ67=\"a\",\"a\",journal!AJ67/journal!AJ$7))","v":""},{"$f":"IF(journal!AK67=\"\",\"\",IF(journal!AK67=\"a\",\"a\",journal!AK67/journal!AK$7))","v":""},{"$f":"IF(journal!AL67=\"\",\"\",IF(journal!AL67=\"a\",\"a\",journal!AL67/journal!AL$7))","v":""},{"$f":"IF(journal!AM67=\"\",\"\",IF(journal!AM67=\"a\",\"a\",journal!AM67/journal!AM$7))","v":""},{"$f":"IF(journal!AN67=\"\",\"\",IF(journal!AN67=\"a\",\"a\",journal!AN67/journal!AN$7))","v":""},{"$f":"IF(journal!AO67=\"\",\"\",IF(journal!AO67=\"a\",\"a\",journal!AO67/journal!AO$7))","v":""},{"$f":"IF(journal!AP67=\"\",\"\",IF(journal!AP67=\"a\",\"a\",journal!AP67/journal!AP$7))","v":""},{"$f":"IF(journal!AQ67=\"\",\"\",IF(journal!AQ67=\"a\",\"a\",journal!AQ67/journal!AQ$7))","v":""},{"$f":"IF(journal!AR67=\"\",\"\",IF(journal!AR67=\"a\",\"a\",journal!AR67/journal!AR$7))","v":""},"","","",""]
[null,"R",{"$f":"IF(journal!C68=\"\",\"\",IF(journal!C68=\"a\",\"a\",journal!C68/journal!C$8))","v":""},{"$f":"IF(journal!D68=\"\",\"\",IF(journal!D68=\"a\",\"a\",journal!D68/journal!D$8))","v":""},{"$f":"IF(journal!E68=\"\",\"\",IF(journal!E68=\"a\",\"a\",journal!E68/journal!E$8))","v":""},{"$f":"IF(journal!F68=\"\",\"\",IF(journal!F68=\"a\",\"a\",journal!F68/journal!F$8))","v":""},{"$f":"IF(journal!G68=\"\",\"\",IF(journal!G68=\"a\",\"a\",journal!G68/journal!G$8))","v":""},{"$f":"IF(journal!H68=\"\",\"\",IF(journal!H68=\"a\",\"a\",journal!H68/journal!H$8))","v":""},{"$f":"IF(journal!I68=\"\",\"\",IF(journal!I68=\"a\",\"a\",journal!I68/journal!I$8))","v":""},{"$f":"IF(journal!J68=\"\",\"\",IF(journal!J68=\"a\",\"a\",journal!J68/journal!J$8))","v":""},{"$f":"IF(journal!K68=\"\",\"\",IF(journal!K68=\"a\",\"a\",journal!K68/journal!K$8))","v":""},{"$f":"IF(journal!L68=\"\",\"\",IF(journal!L68=\"a\",\"a\",journal!L68/journal!L$8))","v":""},{"$f":"IF(journal!M68=\"\",\"\",IF(journal!M68=\"a\",\"a\",journal!M68/journal!M$8))","v":""},{"$f":"IF(journal!N68=\"\",\"\",IF(journal!N68=\"a\",\"a\",journal!N68/journal!N$8))","v":""},{"$f":"IF(journal!O68=\"\",\"\",IF(journal!O68=\"a\",\"a\",journal!O68/journal!O$8))","v":""},{"$f":"IF(journal!P68=\"\",\"\",IF(journal!P68=\"a\",\"a\",journal!P68/journal!P$8))","v":""},{"$f":"IF(journal!Q68=\"\",\"\",IF(journal!Q68=\"a\",\"a\",journal!Q68/journal!Q$8))","v":""},{"$f":"IF(journal!R68=\"\",\"\",IF(journal!R68=\"a\",\"a\",journal!R68/journal!R$8))","v":""},{"$f":"IF(journal!S68=\"\",\"\",IF(journal!S68=\"a\",\"a\",journal!S68/journal!S$8))","v":""},{"$f":"IF(journal!T68=\"\",\"\",IF(journal!T68=\"a\",\"a\",journal!T68/journal!T$8))","v":""},{"$f":"IF(journal!U68=\"\",\"\",IF(journal!U68=\"a\",\"a\",journal!U68/journal!U$8))","v":""},{"$f":"IF(journal!V68=\"\",\"\",IF(journal!V68=\"a\",\"a\",journal!V68/journal!V$8))","v":""},{"$f":"IF(journal!W68=\"\",\"\",IF(journal!W68=\"a\",\"a\",journal!W68/journal!W$8))","v":""},{"$f":"IF(journal!X68=\"\",\"\",IF(journal!X68=\"a\",\"a\",journal!X68/journal!X$8))","v":""},{"$f":"IF(journal!Y68=\"\",\"\",IF(journal!Y68=\"a\",\"a\",journal!Y68/journal!Y$8))","v":""},{"$f":"IF(journal!Z68=\"\",\"\",IF(journal!Z68=\"a\",\"a\",journal!Z68/journal!Z$8))","v":""},{"$f":"IF(journal!AA68=\"\",\"\",IF(journal!AA68=\"a\",\"a\",journal!AA68/journal!AA$8))","v":""},{"$f":"IF(journal!AB68=\"\",\"\",IF(journal!AB68=\"a\",\"a\",journal!AB68/journal!AB$8))","v":""},{"$f":"IF(journal!AC68=\"\",\"\",IF(journal!AC68=\"a\",\"a\",journal!AC68/journal!AC$8))","v":""},{"$f":"IF(journal!AD68=\"\",\"\",IF(journal!AD68=\"a\",\"a\",journal!AD68/journal!AD$8))","v":""},{"$f":"IF(journal!AE68=\"\",\"\",IF(journal!AE68=\"a\",\"a\",journal!AE68/journal!AE$8))","v":""},{"$f":"IF(journal!AF68=\"\",\"\",IF(journal!AF68=\"a\",\"a\",journal!AF68/journal!AF$8))","v":""},{"$f":"IF(journal!AG68=\"\",\"\",IF(journal!AG68=\"a\",\"a\",journal!AG68/journal!AG$8))","v":""},{"$f":"IF(journal!AH68=\"\",\"\",IF(journal!AH68=\"a\",\"a\",journal!AH68/journal!AH$8))","v":""},{"$f":"IF(journal!AI68=\"\",\"\",IF(journal!AI68=\"a\",\"a\",journal!AI68/journal!AI$8))","v":""},{"$f":"IF(journal!AJ68=\"\",\"\",IF(journal!AJ68=\"a\",\"a\",journal!AJ68/journal!AJ$8))","v":""},{"$f":"IF(journal!AK68=\"\",\"\",IF(journal!AK68=\"a\",\"a\",journal!AK68/journal!AK$8))","v":""},{"$f":"IF(journal!AL68=\"\",\"\",IF(journal!AL68=\"a\",\"a\",journal!AL68/journal!AL$8))","v":""},{"$f":"IF(journal!AM68=\"\",\"\",IF(journal!AM68=\"a\",\"a\",journal!AM68/journal!AM$8))","v":""},{"$f":"IF(journal!AN68=\"\",\"\",IF(journal!AN68=\"a\",\"a\",journal!AN68/journal!AN$8))","v":""},{"$f":"IF(journal!AO68=\"\",\"\",IF(journal!AO68=\"a\",\"a\",journal!AO68/journal!AO$8))","v":""},{"$f":"IF(journal!AP68=\"\",\"\",IF(journal!AP68=\"a\",\"a\",journal!AP68/journal!AP$8))","v":""},{"$f":"IF(journal!AQ68=\"\",\"\",IF(journal!AQ68=\"a\",\"a\",journal!AQ68/journal!AQ$8))","v":""},{"$f":"IF(journal!AR68=\"\",\"\",IF(journal!AR68=\"a\",\"a\",journal!AR68/journal!AR$8))","v":""},"","","",""]
[null,"V",{"$f":"IF(journal!C69=\"\",\"\",IF(journal!C69=\"a\",\"a\",journal!C69/journal!C$9))","v":""},{"$f":"IF(journal!D69=\"\",\"\",IF(journal!D69=\"a\",\"a\",journal!D69/journal!D$9))","v":""},{"$f":"IF(journal!E69=\"\",\"\",IF(journal!E69=\"a\",\"a\",journal!E69/journal!E$9))","v":""},{"$f":"IF(journal!F69=\"\",\"\",IF(journal!F69=\"a\",\"a\",journal!F69/journal!F$9))","v":""},{"$f":"IF(journal!G69=\"\",\"\",IF(journal!G69=\"a\",\"a\",journal!G69/journal!G$9))","v":""},{"$f":"IF(journal!H69=\"\",\"\",IF(journal!H69=\"a\",\"a\",journal!H69/journal!H$9))","v":""},{"$f":"IF(journal!I69=\"\",\"\",IF(journal!I69=\"a\",\"a\",journal!I69/journal!I$9))","v":""},{"$f":"IF(journal!J69=\"\",\"\",IF(journal!J69=\"a\",\"a\",journal!J69/journal!J$9))","v":""},{"$f":"IF(journal!K69=\"\",\"\",IF(journal!K69=\"a\",\"a\",journal!K69/journal!K$9))","v":""},{"$f":"IF(journal!L69=\"\",\"\",IF(journal!L69=\"a\",\"a\",journal!L69/journal!L$9))","v":""},{"$f":"IF(journal!M69=\"\",\"\",IF(journal!M69=\"a\",\"a\",journal!M69/journal!M$9))","v":""},{"$f":"IF(journal!N69=\"\",\"\",IF(journal!N69=\"a\",\"a\",journal!N69/journal!N$9))","v":""},{"$f":"IF(journal!O69=\"\",\"\",IF(journal!O69=\"a\",\"a\",journal!O69/journal!O$9))","v":""},{"$f":"IF(journal!P69=\"\",\"\",IF(journal!P69=\"a\",\"a\",journal!P69/journal!P$9))","v":""},{"$f":"IF(journal!Q69=\"\",\"\",IF(journal!Q69=\"a\",\"a\",journal!Q69/journal!Q$9))","v":""},{"$f":"IF(journal!R69=\"\",\"\",IF(journal!R69=\"a\",\"a\",journal!R69/journal!R$9))","v":""},{"$f":"IF(journal!S69=\"\",\"\",IF(journal!S69=\"a\",\"a\",journal!S69/journal!S$9))","v":""},{"$f":"IF(journal!T69=\"\",\"\",IF(journal!T69=\"a\",\"a\",journal!T69/journal!T$9))","v":""},{"$f":"IF(journal!U69=\"\",\"\",IF(journal!U69=\"a\",\"a\",journal!U69/journal!U$9))","v":""},{"$f":"IF(journal!V69=\"\",\"\",IF(journal!V69=\"a\",\"a\",journal!V69/journal!V$9))","v":""},{"$f":"IF(journal!W69=\"\",\"\",IF(journal!W69=\"a\",\"a\",journal!W69/journal!W$9))","v":""},{"$f":"IF(journal!X69=\"\",\"\",IF(journal!X69=\"a\",\"a\",journal!X69/journal!X$9))","v":""},{"$f":"IF(journal!Y69=\"\",\"\",IF(journal!Y69=\"a\",\"a\",journal!Y69/journal!Y$9))","v":""},{"$f":"IF(journal!Z69=\"\",\"\",IF(journal!Z69=\"a\",\"a\",journal!Z69/journal!Z$9))","v":""},{"$f":"IF(journal!AA69=\"\",\"\",IF(journal!AA69=\"a\",\"a\",journal!AA69/journal!AA$9))","v":""},{"$f":"IF(journal!AB69=\"\",\"\",IF(journal!AB69=\"a\",\"a\",journal!AB69/journal!AB$9))","v":""},{"$f":"IF(journal!AC69=\"\",\"\",IF(journal!AC69=\"a\",\"a\",journal!AC69/journal!AC$9))","v":""},{"$f":"IF(journal!AD69=\"\",\"\",IF(journal!AD69=\"a\",\"a\",journal!AD69/journal!AD$9))","v":""},{"$f":"IF(journal!AE69=\"\",\"\",IF(journal!AE69=\"a\",\"a\",journal!AE69/journal!AE$9))","v":""},{"$f":"IF(journal!AF69=\"\",\"\",IF(journal!AF69=\"a\",\"a\",journal!AF69/journal!AF$9))","v":""},{"$f":"IF(journal!AG69=\"\",\"\",IF(journal!AG69=\"a\",\"a\",journal!AG69/journal!AG$9))","v":""},{"$f":"IF(journal!AH69=\"\",\"\",IF(journal!AH69=\"a\",\"a\",journal!AH69/journal!AH$9))","v":""},{"$f":"IF(journal!AI69=\"\",\"\",IF(journal!AI69=\"a\",\"a\",journal!AI69/journal!AI$9))","v":""},{"$f":"IF(journal!AJ69=\"\",\"\",IF(journal!AJ69=\"a\",\"a\",journal!AJ69/journal!AJ$9))","v":""},{"$f":"IF(journal!AK69=\"\",\"\",IF(journal!AK69=\"a\",\"a\",journal!AK69/journal!AK$9))","v":""},{"$f":"IF(journal!AL69=\"\",\"\",IF(journal!AL69=\"a\",\"a\",journal!AL69/journal!AL$9))","v":""},{"$f":"IF(journal!AM69=\"\",\"\",IF(journal!AM69=\"a\",\"a\",journal!AM69/journal!AM$9))","v":""},{"$f":"IF(journal!AN69=\"\",\"\",IF(journal!AN69=\"a\",\"a\",journal!AN69/journal!AN$9))","v":""},{"$f":"IF(journal!AO69=\"\",\"\",IF(journal!AO69=\"a\",\"a\",journal!AO69/journal!AO$9))","v":""},{"$f":"IF(journal!AP69=\"\",\"\",IF(journal!AP69=\"a\",\"a\",journal!AP69/journal!AP$9))","v":""},{"$f":"IF(journal!AQ69=\"\",\"\",IF(journal!AQ69=\"a\",\"a\",journal!AQ69/journal!AQ$9))","v":""},{"$f":"IF(journal!AR69=\"\",\"\",IF(journal!AR69=\"a\",\"a\",journal!AR69/journal!AR$9))","v":""},"","","",""]
[null,"C",{"$f":"IF(journal!C70=\"\",\"\",IF(journal!C70=\"a\",\"a\",journal!C70/journal!C$10))","v":""},{"$f":"IF(journal!D70=\"\",\"\",IF(journal!D70=\"a\",\"a\",journal!D70/journal!D$10))","v":""},{"$f":"IF(journal!E70=\"\",\"\",IF(journal!E70=\"a\",\"a\",journal!E70/journal!E$10))","v":""},{"$f":"IF(journal!F70=\"\",\"\",IF(journal!F70=\"a\",\"a\",journal!F70/journal!F$10))","v":""},{"$f":"IF(journal!G70=\"\",\"\",IF(journal!G70=\"a\",\"a\",journal!G70/journal!G$10))","v":""},{"$f":"IF(journal!H70=\"\",\"\",IF(journal!H70=\"a\",\"a\",journal!H70/journal!H$10))","v":""},{"$f":"IF(journal!I70=\"\",\"\",IF(journal!I70=\"a\",\"a\",journal!I70/journal!I$10))","v":""},{"$f":"IF(journal!J70=\"\",\"\",IF(journal!J70=\"a\",\"a\",journal!J70/journal!J$10))","v":""},{"$f":"IF(journal!K70=\"\",\"\",IF(journal!K70=\"a\",\"a\",journal!K70/journal!K$10))","v":""},{"$f":"IF(journal!L70=\"\",\"\",IF(journal!L70=\"a\",\"a\",journal!L70/journal!L$10))","v":""},{"$f":"IF(journal!M70=\"\",\"\",IF(journal!M70=\"a\",\"a\",journal!M70/journal!M$10))","v":""},{"$f":"IF(journal!N70=\"\",\"\",IF(journal!N70=\"a\",\"a\",journal!N70/journal!N$10))","v":""},{"$f":"IF(journal!O70=\"\",\"\",IF(journal!O70=\"a\",\"a\",journal!O70/journal!O$10))","v":""},{"$f":"IF(journal!P70=\"\",\"\",IF(journal!P70=\"a\",\"a\",journal!P70/journal!P$10))","v":""},{"$f":"IF(journal!Q70=\"\",\"\",IF(journal!Q70=\"a\",\"a\",journal!Q70/journal!Q$10))","v":""},{"$f":"IF(journal!R70=\"\",\"\",IF(journal!R70=\"a\",\"a\",journal!R70/journal!R$10))","v":""},{"$f":"IF(journal!S70=\"\",\"\",IF(journal!S70=\"a\",\"a\",journal!S70/journal!S$10))","v":""},{"$f":"IF(journal!T70=\"\",\"\",IF(journal!T70=\"a\",\"a\",journal!T70/journal!T$10))","v":""},{"$f":"IF(journal!U70=\"\",\"\",IF(journal!U70=\"a\",\"a\",journal!U70/journal!U$10))","v":""},{"$f":"IF(journal!V70=\"\",\"\",IF(journal!V70=\"a\",\"a\",journal!V70/journal!V$10))","v":""},{"$f":"IF(journal!W70=\"\",\"\",IF(journal!W70=\"a\",\"a\",journal!W70/journal!W$10))","v":""},{"$f":"IF(journal!X70=\"\",\"\",IF(journal!X70=\"a\",\"a\",journal!X70/journal!X$10))","v":""},{"$f":"IF(journal!Y70=\"\",\"\",IF(journal!Y70=\"a\",\"a\",journal!Y70/journal!Y$10))","v":""},{"$f":"IF(journal!Z70=\"\",\"\",IF(journal!Z70=\"a\",\"a\",journal!Z70/journal!Z$10))","v":""},{"$f":"IF(journal!AA70=\"\",\"\",IF(journal!AA70=\"a\",\"a\",journal!AA70/journal!AA$10))","v":""},{"$f":"IF(journal!AB70=\"\",\"\",IF(journal!AB70=\"a\",\"a\",journal!AB70/journal!AB$10))","v":""},{"$f":"IF(journal!AC70=\"\",\"\",IF(journal!AC70=\"a\",\"a\",journal!AC70/journal!AC$10))","v":""},{"$f":"IF(journal!AD70=\"\",\"\",IF(journal!AD70=\"a\",\"a\",journal!AD70/journal!AD$10))","v":""},{"$f":"IF(journal!AE70=\"\",\"\",IF(journal!AE70=\"a\",\"a\",journal!AE70/journal!AE$10))","v":""},{"$f":"IF(journal!AF70=\"\",\"\",IF(journal!AF70=\"a\",\"a\",journal!AF70/journal!AF$10))","v":""},{"$f":"IF(journal!AG70=\"\",\"\",IF(journal!AG70=\"a\",\"a\",journal!AG70/journal!AG$10))","v":""},{"$f":"IF(journal!AH70=\"\",\"\",IF(journal!AH70=\"a\",\"a\",journal!AH70/journal!AH$10))","v":""},{"$f":"IF(journal!AI70=\"\",\"\",IF(journal!AI70=\"a\",\"a\",journal!AI70/journal!AI$10))","v":""},{"$f":"IF(journal!AJ70=\"\",\"\",IF(journal!AJ70=\"a\",\"a\",journal!AJ70/journal!AJ$10))","v":""},{"$f":"IF(journal!AK70=\"\",\"\",IF(journal!AK70=\"a\",\"a\",journal!AK70/journal!AK$10))","v":""},{"$f":"IF(journal!AL70=\"\",\"\",IF(journal!AL70=\"a\",\"a\",journal!AL70/journal!AL$10))","v":""},{"$f":"IF(journal!AM70=\"\",\"\",IF(journal!AM70=\"a\",\"a\",journal!AM70/journal!AM$10))","v":""},{"$f":"IF(journal!AN70=\"\",\"\",IF(journal!AN70=\"a\",\"a\",journal!AN70/journal!AN$10))","v":""},{"$f":"IF(journal!AO70=\"\",\"\",IF(journal!AO70=\"a\",\"a\",journal!AO70/journal!AO$10))","v":""},{"$f":"IF(journal!AP70=\"\",\"\",IF(journal!AP70=\"a\",\"a\",journal!AP70/journal!AP$10))","v":""},{"$f":"IF(journal!AQ70=\"\",\"\",IF(journal!AQ70=\"a\",\"a\",journal!AQ70/journal!AQ$10))","v":""},{"$f":"IF(journal!AR70=\"\",\"\",IF(journal!AR70=\"a\",\"a\",journal!AR70/journal!AR$10))","v":""},{"$f":"IF(ISERROR(AVERAGE(C70:AR70)),\"\",AVERAGE(C70:AR70))","v":""},"","",""]
[{"$f":"Saisie!A23","v":0},"S",{"$f":"IF(journal!C71=\"\",\"\",IF(journal!C71=\"a\",\"a\",journal!C71/journal!C$6))","v":""},{"$f":"IF(journal!D71=\"\",\"\",IF(journal!D71=\"a\",\"a\",journal!D71/journal!D$6))","v":""},{"$f":"IF(journal!E71=\"\",\"\",IF(journal!E71=\"a\",\"a\",journal!E71/journal!E$6))","v":""},{"$f":"IF(journal!F71=\"\",\"\",IF(journal!F71=\"a\",\"a\",journal!F71/journal!F$6))","v":""},{"$f":"IF(journal!G71=\"\",\"\",IF(journal!G71=\"a\",\"a\",journal!G71/journal!G$6))","v":""},{"$f":"IF(journal!H71=\"\",\"\",IF(journal!H71=\"a\",\"a\",journal!H71/journal!H$6))","v":""},{"$f":"IF(journal!I71=\"\",\"\",IF(journal!I71=\"a\",\"a\",journal!I71/journal!I$6))","v":""},{"$f":"IF(journal!J71=\"\",\"\",IF(journal!J71=\"a\",\"a\",journal!J71/journal!J$6))","v":""},{"$f":"IF(journal!K71=\"\",\"\",IF(journal!K71=\"a\",\"a\",journal!K71/journal!K$6))","v":""},{"$f":"IF(journal!L71=\"\",\"\",IF(journal!L71=\"a\",\"a\",journal!L71/journal!L$6))","v":""},{"$f":"IF(journal!M71=\"\",\"\",IF(journal!M71=\"a\",\"a\",journal!M71/journal!M$6))","v":""},{"$f":"IF(journal!N71=\"\",\"\",IF(journal!N71=\"a\",\"a\",journal!N71/journal!N$6))","v":""},{"$f":"IF(journal!O71=\"\",\"\",IF(journal!O71=\"a\",\"a\",journal!O71/journal!O$6))","v":""},{"$f":"IF(journal!P71=\"\",\"\",IF(journal!P71=\"a\",\"a\",journal!P71/journal!P$6))","v":""},{"$f":"IF(journal!Q71=\"\",\"\",IF(journal!Q71=\"a\",\"a\",journal!Q71/journal!Q$6))","v":""},{"$f":"IF(journal!R71=\"\",\"\",IF(journal!R71=\"a\",\"a\",journal!R71/journal!R$6))","v":""},{"$f":"IF(journal!S71=\"\",\"\",IF(journal!S71=\"a\",\"a\",journal!S71/journal!S$6))","v":""},{"$f":"IF(journal!T71=\"\",\"\",IF(journal!T71=\"a\",\"a\",journal!T71/journal!T$6))","v":""},{"$f":"IF(journal!U71=\"\",\"\",IF(journal!U71=\"a\",\"a\",journal!U71/journal!U$6))","v":""},{"$f":"IF(journal!V71=\"\",\"\",IF(journal!V71=\"a\",\"a\",journal!V71/journal!V$6))","v":""},{"$f":"IF(journal!W71=\"\",\"\",IF(journal!W71=\"a\",\"a\",journal!W71/journal!W$6))","v":""},{"$f":"IF(journal!X71=\"\",\"\",IF(journal!X71=\"a\",\"a\",journal!X71/journal!X$6))","v":""},{"$f":"IF(journal!Y71=\"\",\"\",IF(journal!Y71=\"a\",\"a\",journal!Y71/journal!Y$6))","v":""},{"$f":"IF(journal!Z71=\"\",\"\",IF(journal!Z71=\"a\",\"a\",journal!Z71/journal!Z$6))","v":""},{"$f":"IF(journal!AA71=\"\",\"\",IF(journal!AA71=\"a\",\"a\",journal!AA71/journal!AA$6))","v":""},{"$f":"IF(journal!AB71=\"\",\"\",IF(journal!AB71=\"a\",\"a\",journal!AB71/journal!AB$6))","v":""},{"$f":"IF(journal!AC71=\"\",\"\",IF(journal!AC71=\"a\",\"a\",journal!AC71/journal!AC$6))","v":""},{"$f":"IF(journal!AD71=\"\",\"\",IF(journal!AD71=\"a\",\"a\",journal!AD71/journal!AD$6))","v":""},{"$f":"IF(journal!AE71=\"\",\"\",IF(journal!AE71=\"a\",\"a\",journal!AE71/journal!AE$6))","v":""},{"$f":"IF(journal!AF71=\"\",\"\",IF(journal!AF71=\"a\",\"a\",journal!AF71/journal!AF$6))","v":""},{"$f":"IF(journal!AG71=\"\",\"\",IF(journal!AG71=\"a\",\"a\",journal!AG71/journal!AG$6))","v":""},{"$f":"IF(journal!AH71=\"\",\"\",IF(journal!AH71=\"a\",\"a\",journal!AH71/journal!AH$6))","v":""},{"$f":"IF(journal!AI71=\"\",\"\",IF(journal!AI71=\"a\",\"a\",journal!AI71/journal!AI$6))","v":""},{"$f":"IF(journal!AJ71=\"\",\"\",IF(journal!AJ71=\"a\",\"a\",journal!AJ71/journal!AJ$6))","v":""},{"$f":"IF(journal!AK71=\"\",\"\",IF(journal!AK71=\"a\",\"a\",journal!AK71/journal!AK$6))","v":""},{"$f":"IF(journal!AL71=\"\",\"\",IF(journal!AL71=\"a\",\"a\",journal!AL71/journal!AL$6))","v":""},{"$f":"IF(journal!AM71=\"\",\"\",IF(journal!AM71=\"a\",\"a\",journal!AM71/journal!AM$6))","v":""},{"$f":"IF(journal!AN71=\"\",\"\",IF(journal!AN71=\"a\",\"a\",journal!AN71/journal!AN$6))","v":""},{"$f":"IF(journal!AO71=\"\",\"\",IF(journal!AO71=\"a\",\"a\",journal!AO71/journal!AO$6))","v":""},{"$f":"IF(journal!AP71=\"\",\"\",IF(journal!AP71=\"a\",\"a\",journal!AP71/journal!AP$6))","v":""},{"$f":"IF(journal!AQ71=\"\",\"\",IF(journal!AQ71=\"a\",\"a\",journal!AQ71/journal!AQ$6))","v":""},{"$f":"IF(journal!AR71=\"\",\"\",IF(journal!AR71=\"a\",\"a\",journal!AR71/journal!AR$6))","v":""},"","","",""]
[null,"A",{"$f":"IF(journal!C72=\"\",\"\",IF(journal!C72=\"a\",\"a\",journal!C72/journal!C$7))","v":""},{"$f":"IF(journal!D72=\"\",\"\",IF(journal!D72=\"a\",\"a\",journal!D72/journal!D$7))","v":""},{"$f":"IF(journal!E72=\"\",\"\",IF(journal!E72=\"a\",\"a\",journal!E72/journal!E$7))","v":""},{"$f":"IF(journal!F72=\"\",\"\",IF(journal!F72=\"a\",\"a\",journal!F72/journal!F$7))","v":""},{"$f":"IF(journal!G72=\"\",\"\",IF(journal!G72=\"a\",\"a\",journal!G72/journal!G$7))","v":""},{"$f":"IF(journal!H72=\"\",\"\",IF(journal!H72=\"a\",\"a\",journal!H72/journal!H$7))","v":""},{"$f":"IF(journal!I72=\"\",\"\",IF(journal!I72=\"a\",\"a\",journal!I72/journal!I$7))","v":""},{"$f":"IF(journal!J72=\"\",\"\",IF(journal!J72=\"a\",\"a\",journal!J72/journal!J$7))","v":""},{"$f":"IF(journal!K72=\"\",\"\",IF(journal!K72=\"a\",\"a\",journal!K72/journal!K$7))","v":""},{"$f":"IF(journal!L72=\"\",\"\",IF(journal!L72=\"a\",\"a\",journal!L72/journal!L$7))","v":""},{"$f":"IF(journal!M72=\"\",\"\",IF(journal!M72=\"a\",\"a\",journal!M72/journal!M$7))","v":""},{"$f":"IF(journal!N72=\"\",\"\",IF(journal!N72=\"a\",\"a\",journal!N72/journal!N$7))","v":""},{"$f":"IF(journal!O72=\"\",\"\",IF(journal!O72=\"a\",\"a\",journal!O72/journal!O$7))","v":""},{"$f":"IF(journal!P72=\"\",\"\",IF(journal!P72=\"a\",\"a\",journal!P72/journal!P$7))","v":""},{"$f":"IF(journal!Q72=\"\",\"\",IF(journal!Q72=\"a\",\"a\",journal!Q72/journal!Q$7))","v":""},{"$f":"IF(journal!R72=\"\",\"\",IF(journal!R72=\"a\",\"a\",journal!R72/journal!R$7))","v":""},{"$f":"IF(journal!S72=\"\",\"\",IF(journal!S72=\"a\",\"a\",journal!S72/journal!S$7))","v":""},{"$f":"IF(journal!T72=\"\",\"\",IF(journal!T72=\"a\",\"a\",journal!T72/journal!T$7))","v":""},{"$f":"IF(journal!U72=\"\",\"\",IF(journal!U72=\"a\",\"a\",journal!U72/journal!U$7))","v":""},{"$f":"IF(journal!V72=\"\",\"\",IF(journal!V72=\"a\",\"a\",journal!V72/journal!V$7))","v":""},{"$f":"IF(journal!W72=\"\",\"\",IF(journal!W72=\"a\",\"a\",journal!W72/journal!W$7))","v":""},{"$f":"IF(journal!X72=\"\",\"\",IF(journal!X72=\"a\",\"a\",journal!X72/journal!X$7))","v":""},{"$f":"IF(journal!Y72=\"\",\"\",IF(journal!Y72=\"a\",\"a\",journal!Y72/journal!Y$7))","v":""},{"$f":"IF(journal!Z72=\"\",\"\",IF(journal!Z72=\"a\",\"a\",journal!Z72/journal!Z$7))","v":""},{"$f":"IF(journal!AA72=\"\",\"\",IF(journal!AA72=\"a\",\"a\",journal!AA72/journal!AA$7))","v":""},{"$f":"IF(journal!AB72=\"\",\"\",IF(journal!AB72=\"a\",\"a\",journal!AB72/journal!AB$7))","v":""},{"$f":"IF(journal!AC72=\"\",\"\",IF(journal!AC72=\"a\",\"a\",journal!AC72/journal!AC$7))","v":""},{"$f":"IF(journal!AD72=\"\",\"\",IF(journal!AD72=\"a\",\"a\",journal!AD72/journal!AD$7))","v":""},{"$f":"IF(journal!AE72=\"\",\"\",IF(journal!AE72=\"a\",\"a\",journal!AE72/journal!AE$7))","v":""},{"$f":"IF(journal!AF72=\"\",\"\",IF(journal!AF72=\"a\",\"a\",journal!AF72/journal!AF$7))","v":""},{"$f":"IF(journal!AG72=\"\",\"\",IF(journal!AG72=\"a\",\"a\",journal!AG72/journal!AG$7))","v":""},{"$f":"IF(journal!AH72=\"\",\"\",IF(journal!AH72=\"a\",\"a\",journal!AH72/journal!AH$7))","v":""},{"$f":"IF(journal!AI72=\"\",\"\",IF(journal!AI72=\"a\",\"a\",journal!AI72/journal!AI$7))","v":""},{"$f":"IF(journal!AJ72=\"\",\"\",IF(journal!AJ72=\"a\",\"a\",journal!AJ72/journal!AJ$7))","v":""},{"$f":"IF(journal!AK72=\"\",\"\",IF(journal!AK72=\"a\",\"a\",journal!AK72/journal!AK$7))","v":""},{"$f":"IF(journal!AL72=\"\",\"\",IF(journal!AL72=\"a\",\"a\",journal!AL72/journal!AL$7))","v":""},{"$f":"IF(journal!AM72=\"\",\"\",IF(journal!AM72=\"a\",\"a\",journal!AM72/journal!AM$7))","v":""},{"$f":"IF(journal!AN72=\"\",\"\",IF(journal!AN72=\"a\",\"a\",journal!AN72/journal!AN$7))","v":""},{"$f":"IF(journal!AO72=\"\",\"\",IF(journal!AO72=\"a\",\"a\",journal!AO72/journal!AO$7))","v":""},{"$f":"IF(journal!AP72=\"\",\"\",IF(journal!AP72=\"a\",\"a\",journal!AP72/journal!AP$7))","v":""},{"$f":"IF(journal!AQ72=\"\",\"\",IF(journal!AQ72=\"a\",\"a\",journal!AQ72/journal!AQ$7))","v":""},{"$f":"IF(journal!AR72=\"\",\"\",IF(journal!AR72=\"a\",\"a\",journal!AR72/journal!AR$7))","v":""},"","","",""]
[null,"R",{"$f":"IF(journal!C73=\"\",\"\",IF(journal!C73=\"a\",\"a\",journal!C73/journal!C$8))","v":""},{"$f":"IF(journal!D73=\"\",\"\",IF(journal!D73=\"a\",\"a\",journal!D73/journal!D$8))","v":""},{"$f":"IF(journal!E73=\"\",\"\",IF(journal!E73=\"a\",\"a\",journal!E73/journal!E$8))","v":""},{"$f":"IF(journal!F73=\"\",\"\",IF(journal!F73=\"a\",\"a\",journal!F73/journal!F$8))","v":""},{"$f":"IF(journal!G73=\"\",\"\",IF(journal!G73=\"a\",\"a\",journal!G73/journal!G$8))","v":""},{"$f":"IF(journal!H73=\"\",\"\",IF(journal!H73=\"a\",\"a\",journal!H73/journal!H$8))","v":""},{"$f":"IF(journal!I73=\"\",\"\",IF(journal!I73=\"a\",\"a\",journal!I73/journal!I$8))","v":""},{"$f":"IF(journal!J73=\"\",\"\",IF(journal!J73=\"a\",\"a\",journal!J73/journal!J$8))","v":""},{"$f":"IF(journal!K73=\"\",\"\",IF(journal!K73=\"a\",\"a\",journal!K73/journal!K$8))","v":""},{"$f":"IF(journal!L73=\"\",\"\",IF(journal!L73=\"a\",\"a\",journal!L73/journal!L$8))","v":""},{"$f":"IF(journal!M73=\"\",\"\",IF(journal!M73=\"a\",\"a\",journal!M73/journal!M$8))","v":""},{"$f":"IF(journal!N73=\"\",\"\",IF(journal!N73=\"a\",\"a\",journal!N73/journal!N$8))","v":""},{"$f":"IF(journal!O73=\"\",\"\",IF(journal!O73=\"a\",\"a\",journal!O73/journal!O$8))","v":""},{"$f":"IF(journal!P73=\"\",\"\",IF(journal!P73=\"a\",\"a\",journal!P73/journal!P$8))","v":""},{"$f":"IF(journal!Q73=\"\",\"\",IF(journal!Q73=\"a\",\"a\",journal!Q73/journal!Q$8))","v":""},{"$f":"IF(journal!R73=\"\",\"\",IF(journal!R73=\"a\",\"a\",journal!R73/journal!R$8))","v":""},{"$f":"IF(journal!S73=\"\",\"\",IF(journal!S73=\"a\",\"a\",journal!S73/journal!S$8))","v":""},{"$f":"IF(journal!T73=\"\",\"\",IF(journal!T73=\"a\",\"a\",journal!T73/journal!T$8))","v":""},{"$f":"IF(journal!U73=\"\",\"\",IF(journal!U73=\"a\",\"a\",journal!U73/journal!U$8))","v":""},{"$f":"IF(journal!V73=\"\",\"\",IF(journal!V73=\"a\",\"a\",journal!V73/journal!V$8))","v":""},{"$f":"IF(journal!W73=\"\",\"\",IF(journal!W73=\"a\",\"a\",journal!W73/journal!W$8))","v":""},{"$f":"IF(journal!X73=\"\",\"\",IF(journal!X73=\"a\",\"a\",journal!X73/journal!X$8))","v":""},{"$f":"IF(journal!Y73=\"\",\"\",IF(journal!Y73=\"a\",\"a\",journal!Y73/journal!Y$8))","v":""},{"$f":"IF(journal!Z73=\"\",\"\",IF(journal!Z73=\"a\",\"a\",journal!Z73/journal!Z$8))","v":""},{"$f":"IF(journal!AA73=\"\",\"\",IF(journal!AA73=\"a\",\"a\",journal!AA73/journal!AA$8))","v":""},{"$f":"IF(journal!AB73=\"\",\"\",IF(journal!AB73=\"a\",\"a\",journal!AB73/journal!AB$8))","v":""},{"$f":"IF(journal!AC73=\"\",\"\",IF(journal!AC73=\"a\",\"a\",journal!AC73/journal!AC$8))","v":""},{"$f":"IF(journal!AD73=\"\",\"\",IF(journal!AD73=\"a\",\"a\",journal!AD73/journal!AD$8))","v":""},{"$f":"IF(journal!AE73=\"\",\"\",IF(journal!AE73=\"a\",\"a\",journal!AE73/journal!AE$8))","v":""},{"$f":"IF(journal!AF73=\"\",\"\",IF(journal!AF73=\"a\",\"a\",journal!AF73/journal!AF$8))","v":""},{"$f":"IF(journal!AG73=\"\",\"\",IF(journal!AG73=\"a\",\"a\",journal!AG73/journal!AG$8))","v":""},{"$f":"IF(journal!AH73=\"\",\"\",IF(journal!AH73=\"a\",\"a\",journal!AH73/journal!AH$8))","v":""},{"$f":"IF(journal!AI73=\"\",\"\",IF(journal!AI73=\"a\",\"a\",journal!AI73/journal!AI$8))","v":""},{"$f":"IF(journal!AJ73=\"\",\"\",IF(journal!AJ73=\"a\",\"a\",journal!AJ73/journal!AJ$8))","v":""},{"$f":"IF(journal!AK73=\"\",\"\",IF(journal!AK73=\"a\",\"a\",journal!AK73/journal!AK$8))","v":""},{"$f":"IF(journal!AL73=\"\",\"\",IF(journal!AL73=\"a\",\"a\",journal!AL73/journal!AL$8))","v":""},{"$f":"IF(journal!AM73=\"\",\"\",IF(journal!AM73=\"a\",\"a\",journal!AM73/journal!AM$8))","v":""},{"$f":"IF(journal!AN73=\"\",\"\",IF(journal!AN73=\"a\",\"a\",journal!AN73/journal!AN$8))","v":""},{"$f":"IF(journal!AO73=\"\",\"\",IF(journal!AO73=\"a\",\"a\",journal!AO73/journal!AO$8))","v":""},{"$f":"IF(journal!AP73=\"\",\"\",IF(journal!AP73=\"a\",\"a\",journal!AP73/journal!AP$8))","v":""},{"$f":"IF(journal!AQ73=\"\",\"\",IF(journal!AQ73=\"a\",\"a\",journal!AQ73/journal!AQ$8))","v":""},{"$f":"IF(journal!AR73=\"\",\"\",IF(journal!AR73=\"a\",\"a\",journal!AR73/journal!AR$8))","v":""},"","","",""]
[null,"V",{"$f":"IF(journal!C74=\"\",\"\",IF(journal!C74=\"a\",\"a\",journal!C74/journal!C$9))","v":""},{"$f":"IF(journal!D74=\"\",\"\",IF(journal!D74=\"a\",\"a\",journal!D74/journal!D$9))","v":""},{"$f":"IF(journal!E74=\"\",\"\",IF(journal!E74=\"a\",\"a\",journal!E74/journal!E$9))","v":""},{"$f":"IF(journal!F74=\"\",\"\",IF(journal!F74=\"a\",\"a\",journal!F74/journal!F$9))","v":""},{"$f":"IF(journal!G74=\"\",\"\",IF(journal!G74=\"a\",\"a\",journal!G74/journal!G$9))","v":""},{"$f":"IF(journal!H74=\"\",\"\",IF(journal!H74=\"a\",\"a\",journal!H74/journal!H$9))","v":""},{"$f":"IF(journal!I74=\"\",\"\",IF(journal!I74=\"a\",\"a\",journal!I74/journal!I$9))","v":""},{"$f":"IF(journal!J74=\"\",\"\",IF(journal!J74=\"a\",\"a\",journal!J74/journal!J$9))","v":""},{"$f":"IF(journal!K74=\"\",\"\",IF(journal!K74=\"a\",\"a\",journal!K74/journal!K$9))","v":""},{"$f":"IF(journal!L74=\"\",\"\",IF(journal!L74=\"a\",\"a\",journal!L74/journal!L$9))","v":""},{"$f":"IF(journal!M74=\"\",\"\",IF(journal!M74=\"a\",\"a\",journal!M74/journal!M$9))","v":""},{"$f":"IF(journal!N74=\"\",\"\",IF(journal!N74=\"a\",\"a\",journal!N74/journal!N$9))","v":""},{"$f":"IF(journal!O74=\"\",\"\",IF(journal!O74=\"a\",\"a\",journal!O74/journal!O$9))","v":""},{"$f":"IF(journal!P74=\"\",\"\",IF(journal!P74=\"a\",\"a\",journal!P74/journal!P$9))","v":""},{"$f":"IF(journal!Q74=\"\",\"\",IF(journal!Q74=\"a\",\"a\",journal!Q74/journal!Q$9))","v":""},{"$f":"IF(journal!R74=\"\",\"\",IF(journal!R74=\"a\",\"a\",journal!R74/journal!R$9))","v":""},{"$f":"IF(journal!S74=\"\",\"\",IF(journal!S74=\"a\",\"a\",journal!S74/journal!S$9))","v":""},{"$f":"IF(journal!T74=\"\",\"\",IF(journal!T74=\"a\",\"a\",journal!T74/journal!T$9))","v":""},{"$f":"IF(journal!U74=\"\",\"\",IF(journal!U74=\"a\",\"a\",journal!U74/journal!U$9))","v":""},{"$f":"IF(journal!V74=\"\",\"\",IF(journal!V74=\"a\",\"a\",journal!V74/journal!V$9))","v":""},{"$f":"IF(journal!W74=\"\",\"\",IF(journal!W74=\"a\",\"a\",journal!W74/journal!W$9))","v":""},{"$f":"IF(journal!X74=\"\",\"\",IF(journal!X74=\"a\",\"a\",journal!X74/journal!X$9))","v":""},{"$f":"IF(journal!Y74=\"\",\"\",IF(journal!Y74=\"a\",\"a\",journal!Y74/journal!Y$9))","v":""},{"$f":"IF(journal!Z74=\"\",\"\",IF(journal!Z74=\"a\",\"a\",journal!Z74/journal!Z$9))","v":""},{"$f":"IF(journal!AA74=\"\",\"\",IF(journal!AA74=\"a\",\"a\",journal!AA74/journal!AA$9))","v":""},{"$f":"IF(journal!AB74=\"\",\"\",IF(journal!AB74=\"a\",\"a\",journal!AB74/journal!AB$9))","v":""},{"$f":"IF(journal!AC74=\"\",\"\",IF(journal!AC74=\"a\",\"a\",journal!AC74/journal!AC$9))","v":""},{"$f":"IF(journal!AD74=\"\",\"\",IF(journal!AD74=\"a\",\"a\",journal!AD74/journal!AD$9))","v":""},{"$f":"IF(journal!AE74=\"\",\"\",IF(journal!AE74=\"a\",\"a\",journal!AE74/journal!AE$9))","v":""},{"$f":"IF(journal!AF74=\"\",\"\",IF(journal!AF74=\"a\",\"a\",journal!AF74/journal!AF$9))","v":""},{"$f":"IF(journal!AG74=\"\",\"\",IF(journal!AG74=\"a\",\"a\",journal!AG74/journal!AG$9))","v":""},{"$f":"IF(journal!AH74=\"\",\"\",IF(journal!AH74=\"a\",\"a\",journal!AH74/journal!AH$9))","v":""},{"$f":"IF(journal!AI74=\"\",\"\",IF(journal!AI74=\"a\",\"a\",journal!AI74/journal!AI$9))","v":""},{"$f":"IF(journal!AJ74=\"\",\"\",IF(journal!AJ74=\"a\",\"a\",journal!AJ74/journal!AJ$9))","v":""},{"$f":"IF(journal!AK74=\"\",\"\",IF(journal!AK74=\"a\",\"a\",journal!AK74/journal!AK$9))","v":""},{"$f":"IF(journal!AL74=\"\",\"\",IF(journal!AL74=\"a\",\"a\",journal!AL74/journal!AL$9))","v":""},{"$f":"IF(journal!AM74=\"\",\"\",IF(journal!AM74=\"a\",\"a\",journal!AM74/journal!AM$9))","v":""},{"$f":"IF(journal!AN74=\"\",\"\",IF(journal!AN74=\"a\",\"a\",journal!AN74/journal!AN$9))","v":""},{"$f":"IF(journal!AO74=\"\",\"\",IF(journal!AO74=\"a\",\"a\",journal!AO74/journal!AO$9))","v":""},{"$f":"IF(journal!AP74=\"\",\"\",IF(journal!AP74=\"a\",\"a\",journal!AP74/journal!AP$9))","v":""},{"$f":"IF(journal!AQ74=\"\",\"\",IF(journal!AQ74=\"a\",\"a\",journal!AQ74/journal!AQ$9))","v":""},{"$f":"IF(journal!AR74=\"\",\"\",IF(journal!AR74=\"a\",\"a\",journal!AR74/journal!AR$9))","v":""},"","","",""]
[null,"C",{"$f":"IF(journal!C75=\"\",\"\",IF(journal!C75=\"a\",\"a\",journal!C75/journal!C$10))","v":""},{"$f":"IF(journal!D75=\"\",\"\",IF(journal!D75=\"a\",\"a\",journal!D75/journal!D$10))","v":""},{"$f":"IF(journal!E75=\"\",\"\",IF(journal!E75=\"a\",\"a\",journal!E75/journal!E$10))","v":""},{"$f":"IF(journal!F75=\"\",\"\",IF(journal!F75=\"a\",\"a\",journal!F75/journal!F$10))","v":""},{"$f":"IF(journal!G75=\"\",\"\",IF(journal!G75=\"a\",\"a\",journal!G75/journal!G$10))","v":""},{"$f":"IF(journal!H75=\"\",\"\",IF(journal!H75=\"a\",\"a\",journal!H75/journal!H$10))","v":""},{"$f":"IF(journal!I75=\"\",\"\",IF(journal!I75=\"a\",\"a\",journal!I75/journal!I$10))","v":""},{"$f":"IF(journal!J75=\"\",\"\",IF(journal!J75=\"a\",\"a\",journal!J75/journal!J$10))","v":""},{"$f":"IF(journal!K75=\"\",\"\",IF(journal!K75=\"a\",\"a\",journal!K75/journal!K$10))","v":""},{"$f":"IF(journal!L75=\"\",\"\",IF(journal!L75=\"a\",\"a\",journal!L75/journal!L$10))","v":""},{"$f":"IF(journal!M75=\"\",\"\",IF(journal!M75=\"a\",\"a\",journal!M75/journal!M$10))","v":""},{"$f":"IF(journal!N75=\"\",\"\",IF(journal!N75=\"a\",\"a\",journal!N75/journal!N$10))","v":""},{"$f":"IF(journal!O75=\"\",\"\",IF(journal!O75=\"a\",\"a\",journal!O75/journal!O$10))","v":""},{"$f":"IF(journal!P75=\"\",\"\",IF(journal!P75=\"a\",\"a\",journal!P75/journal!P$10))","v":""},{"$f":"IF(journal!Q75=\"\",\"\",IF(journal!Q75=\"a\",\"a\",journal!Q75/journal!Q$10))","v":""},{"$f":"IF(journal!R75=\"\",\"\",IF(journal!R75=\"a\",\"a\",journal!R75/journal!R$10))","v":""},{"$f":"IF(journal!S75=\"\",\"\",IF(journal!S75=\"a\",\"a\",journal!S75/journal!S$10))","v":""},{"$f":"IF(journal!T75=\"\",\"\",IF(journal!T75=\"a\",\"a\",journal!T75/journal!T$10))","v":""},{"$f":"IF(journal!U75=\"\",\"\",IF(journal!U75=\"a\",\"a\",journal!U75/journal!U$10))","v":""},{"$f":"IF(journal!V75=\"\",\"\",IF(journal!V75=\"a\",\"a\",journal!V75/journal!V$10))","v":""},{"$f":"IF(journal!W75=\"\",\"\",IF(journal!W75=\"a\",\"a\",journal!W75/journal!W$10))","v":""},{"$f":"IF(journal!X75=\"\",\"\",IF(journal!X75=\"a\",\"a\",journal!X75/journal!X$10))","v":""},{"$f":"IF(journal!Y75=\"\",\"\",IF(journal!Y75=\"a\",\"a\",journal!Y75/journal!Y$10))","v":""},{"$f":"IF(journal!Z75=\"\",\"\",IF(journal!Z75=\"a\",\"a\",journal!Z75/journal!Z$10))","v":""},{"$f":"IF(journal!AA75=\"\",\"\",IF(journal!AA75=\"a\",\"a\",journal!AA75/journal!AA$10))","v":""},{"$f":"IF(journal!AB75=\"\",\"\",IF(journal!AB75=\"a\",\"a\",journal!AB75/journal!AB$10))","v":""},{"$f":"IF(journal!AC75=\"\",\"\",IF(journal!AC75=\"a\",\"a\",journal!AC75/journal!AC$10))","v":""},{"$f":"IF(journal!AD75=\"\",\"\",IF(journal!AD75=\"a\",\"a\",journal!AD75/journal!AD$10))","v":""},{"$f":"IF(journal!AE75=\"\",\"\",IF(journal!AE75=\"a\",\"a\",journal!AE75/journal!AE$10))","v":""},{"$f":"IF(journal!AF75=\"\",\"\",IF(journal!AF75=\"a\",\"a\",journal!AF75/journal!AF$10))","v":""},{"$f":"IF(journal!AG75=\"\",\"\",IF(journal!AG75=\"a\",\"a\",journal!AG75/journal!AG$10))","v":""},{"$f":"IF(journal!AH75=\"\",\"\",IF(journal!AH75=\"a\",\"a\",journal!AH75/journal!AH$10))","v":""},{"$f":"IF(journal!AI75=\"\",\"\",IF(journal!AI75=\"a\",\"a\",journal!AI75/journal!AI$10))","v":""},{"$f":"IF(journal!AJ75=\"\",\"\",IF(journal!AJ75=\"a\",\"a\",journal!AJ75/journal!AJ$10))","v":""},{"$f":"IF(journal!AK75=\"\",\"\",IF(journal!AK75=\"a\",\"a\",journal!AK75/journal!AK$10))","v":""},{"$f":"IF(journal!AL75=\"\",\"\",IF(journal!AL75=\"a\",\"a\",journal!AL75/journal!AL$10))","v":""},{"$f":"IF(journal!AM75=\"\",\"\",IF(journal!AM75=\"a\",\"a\",journal!AM75/journal!AM$10))","v":""},{"$f":"IF(journal!AN75=\"\",\"\",IF(journal!AN75=\"a\",\"a\",journal!AN75/journal!AN$10))","v":""},{"$f":"IF(journal!AO75=\"\",\"\",IF(journal!AO75=\"a\",\"a\",journal!AO75/journal!AO$10))","v":""},{"$f":"IF(journal!AP75=\"\",\"\",IF(journal!AP75=\"a\",\"a\",journal!AP75/journal!AP$10))","v":""},{"$f":"IF(journal!AQ75=\"\",\"\",IF(journal!AQ75=\"a\",\"a\",journal!AQ75/journal!AQ$10))","v":""},{"$f":"IF(journal!AR75=\"\",\"\",IF(journal!AR75=\"a\",\"a\",journal!AR75/journal!AR$10))","v":""},"","","",""]
[{"$f":"Saisie!A24","v":0},"S",{"$f":"IF(journal!C76=\"\",\"\",IF(journal!C76=\"a\",\"a\",journal!C76/journal!C$6))","v":""},{"$f":"IF(journal!D76=\"\",\"\",IF(journal!D76=\"a\",\"a\",journal!D76/journal!D$6))","v":""},{"$f":"IF(journal!E76=\"\",\"\",IF(journal!E76=\"a\",\"a\",journal!E76/journal!E$6))","v":""},{"$f":"IF(journal!F76=\"\",\"\",IF(journal!F76=\"a\",\"a\",journal!F76/journal!F$6))","v":""},{"$f":"IF(journal!G76=\"\",\"\",IF(journal!G76=\"a\",\"a\",journal!G76/journal!G$6))","v":""},{"$f":"IF(journal!H76=\"\",\"\",IF(journal!H76=\"a\",\"a\",journal!H76/journal!H$6))","v":""},{"$f":"IF(journal!I76=\"\",\"\",IF(journal!I76=\"a\",\"a\",journal!I76/journal!I$6))","v":""},{"$f":"IF(journal!J76=\"\",\"\",IF(journal!J76=\"a\",\"a\",journal!J76/journal!J$6))","v":""},{"$f":"IF(journal!K76=\"\",\"\",IF(journal!K76=\"a\",\"a\",journal!K76/journal!K$6))","v":""},{"$f":"IF(journal!L76=\"\",\"\",IF(journal!L76=\"a\",\"a\",journal!L76/journal!L$6))","v":""},{"$f":"IF(journal!M76=\"\",\"\",IF(journal!M76=\"a\",\"a\",journal!M76/journal!M$6))","v":""},{"$f":"IF(journal!N76=\"\",\"\",IF(journal!N76=\"a\",\"a\",journal!N76/journal!N$6))","v":""},{"$f":"IF(journal!O76=\"\",\"\",IF(journal!O76=\"a\",\"a\",journal!O76/journal!O$6))","v":""},{"$f":"IF(journal!P76=\"\",\"\",IF(journal!P76=\"a\",\"a\",journal!P76/journal!P$6))","v":""},{"$f":"IF(journal!Q76=\"\",\"\",IF(journal!Q76=\"a\",\"a\",journal!Q76/journal!Q$6))","v":""},{"$f":"IF(journal!R76=\"\",\"\",IF(journal!R76=\"a\",\"a\",journal!R76/journal!R$6))","v":""},{"$f":"IF(journal!S76=\"\",\"\",IF(journal!S76=\"a\",\"a\",journal!S76/journal!S$6))","v":""},{"$f":"IF(journal!T76=\"\",\"\",IF(journal!T76=\"a\",\"a\",journal!T76/journal!T$6))","v":""},{"$f":"IF(journal!U76=\"\",\"\",IF(journal!U76=\"a\",\"a\",journal!U76/journal!U$6))","v":""},{"$f":"IF(journal!V76=\"\",\"\",IF(journal!V76=\"a\",\"a\",journal!V76/journal!V$6))","v":""},{"$f":"IF(journal!W76=\"\",\"\",IF(journal!W76=\"a\",\"a\",journal!W76/journal!W$6))","v":""},{"$f":"IF(journal!X76=\"\",\"\",IF(journal!X76=\"a\",\"a\",journal!X76/journal!X$6))","v":""},{"$f":"IF(journal!Y76=\"\",\"\",IF(journal!Y76=\"a\",\"a\",journal!Y76/journal!Y$6))","v":""},{"$f":"IF(journal!Z76=\"\",\"\",IF(journal!Z76=\"a\",\"a\",journal!Z76/journal!Z$6))","v":""},{"$f":"IF(journal!AA76=\"\",\"\",IF(journal!AA76=\"a\",\"a\",journal!AA76/journal!AA$6))","v":""},{"$f":"IF(journal!AB76=\"\",\"\",IF(journal!AB76=\"a\",\"a\",journal!AB76/journal!AB$6))","v":""},{"$f":"IF(journal!AC76=\"\",\"\",IF(journal!AC76=\"a\",\"a\",journal!AC76/journal!AC$6))","v":""},{"$f":"IF(journal!AD76=\"\",\"\",IF(journal!AD76=\"a\",\"a\",journal!AD76/journal!AD$6))","v":""},{"$f":"IF(journal!AE76=\"\",\"\",IF(journal!AE76=\"a\",\"a\",journal!AE76/journal!AE$6))","v":""},{"$f":"IF(journal!AF76=\"\",\"\",IF(journal!AF76=\"a\",\"a\",journal!AF76/journal!AF$6))","v":""},{"$f":"IF(journal!AG76=\"\",\"\",IF(journal!AG76=\"a\",\"a\",journal!AG76/journal!AG$6))","v":""},{"$f":"IF(journal!AH76=\"\",\"\",IF(journal!AH76=\"a\",\"a\",journal!AH76/journal!AH$6))","v":""},{"$f":"IF(journal!AI76=\"\",\"\",IF(journal!AI76=\"a\",\"a\",journal!AI76/journal!AI$6))","v":""},{"$f":"IF(journal!AJ76=\"\",\"\",IF(journal!AJ76=\"a\",\"a\",journal!AJ76/journal!AJ$6))","v":""},{"$f":"IF(journal!AK76=\"\",\"\",IF(journal!AK76=\"a\",\"a\",journal!AK76/journal!AK$6))","v":""},{"$f":"IF(journal!AL76=\"\",\"\",IF(journal!AL76=\"a\",\"a\",journal!AL76/journal!AL$6))","v":""},{"$f":"IF(journal!AM76=\"\",\"\",IF(journal!AM76=\"a\",\"a\",journal!AM76/journal!AM$6))","v":""},{"$f":"IF(journal!AN76=\"\",\"\",IF(journal!AN76=\"a\",\"a\",journal!AN76/journal!AN$6))","v":""},{"$f":"IF(journal!AO76=\"\",\"\",IF(journal!AO76=\"a\",\"a\",journal!AO76/journal!AO$6))","v":""},{"$f":"IF(journal!AP76=\"\",\"\",IF(journal!AP76=\"a\",\"a\",journal!AP76/journal!AP$6))","v":""},{"$f":"IF(journal!AQ76=\"\",\"\",IF(journal!AQ76=\"a\",\"a\",journal!AQ76/journal!AQ$6))","v":""},{"$f":"IF(journal!AR76=\"\",\"\",IF(journal!AR76=\"a\",\"a\",journal!AR76/journal!AR$6))","v":""},"","","",""]
[null,"A",{"$f":"IF(journal!C77=\"\",\"\",IF(journal!C77=\"a\",\"a\",journal!C77/journal!C$7))","v":""},{"$f":"IF(journal!D77=\"\",\"\",IF(journal!D77=\"a\",\"a\",journal!D77/journal!D$7))","v":""},{"$f":"IF(journal!E77=\"\",\"\",IF(journal!E77=\"a\",\"a\",journal!E77/journal!E$7))","v":""},{"$f":"IF(journal!F77=\"\",\"\",IF(journal!F77=\"a\",\"a\",journal!F77/journal!F$7))","v":""},{"$f":"IF(journal!G77=\"\",\"\",IF(journal!G77=\"a\",\"a\",journal!G77/journal!G$7))","v":""},{"$f":"IF(journal!H77=\"\",\"\",IF(journal!H77=\"a\",\"a\",journal!H77/journal!H$7))","v":""},{"$f":"IF(journal!I77=\"\",\"\",IF(journal!I77=\"a\",\"a\",journal!I77/journal!I$7))","v":""},{"$f":"IF(journal!J77=\"\",\"\",IF(journal!J77=\"a\",\"a\",journal!J77/journal!J$7))","v":""},{"$f":"IF(journal!K77=\"\",\"\",IF(journal!K77=\"a\",\"a\",journal!K77/journal!K$7))","v":""},{"$f":"IF(journal!L77=\"\",\"\",IF(journal!L77=\"a\",\"a\",journal!L77/journal!L$7))","v":""},{"$f":"IF(journal!M77=\"\",\"\",IF(journal!M77=\"a\",\"a\",journal!M77/journal!M$7))","v":""},{"$f":"IF(journal!N77=\"\",\"\",IF(journal!N77=\"a\",\"a\",journal!N77/journal!N$7))","v":""},{"$f":"IF(journal!O77=\"\",\"\",IF(journal!O77=\"a\",\"a\",journal!O77/journal!O$7))","v":""},{"$f":"IF(journal!P77=\"\",\"\",IF(journal!P77=\"a\",\"a\",journal!P77/journal!P$7))","v":""},{"$f":"IF(journal!Q77=\"\",\"\",IF(journal!Q77=\"a\",\"a\",journal!Q77/journal!Q$7))","v":""},{"$f":"IF(journal!R77=\"\",\"\",IF(journal!R77=\"a\",\"a\",journal!R77/journal!R$7))","v":""},{"$f":"IF(journal!S77=\"\",\"\",IF(journal!S77=\"a\",\"a\",journal!S77/journal!S$7))","v":""},{"$f":"IF(journal!T77=\"\",\"\",IF(journal!T77=\"a\",\"a\",journal!T77/journal!T$7))","v":""},{"$f":"IF(journal!U77=\"\",\"\",IF(journal!U77=\"a\",\"a\",journal!U77/journal!U$7))","v":""},{"$f":"IF(journal!V77=\"\",\"\",IF(journal!V77=\"a\",\"a\",journal!V77/journal!V$7))","v":""},{"$f":"IF(journal!W77=\"\",\"\",IF(journal!W77=\"a\",\"a\",journal!W77/journal!W$7))","v":""},{"$f":"IF(journal!X77=\"\",\"\",IF(journal!X77=\"a\",\"a\",journal!X77/journal!X$7))","v":""},{"$f":"IF(journal!Y77=\"\",\"\",IF(journal!Y77=\"a\",\"a\",journal!Y77/journal!Y$7))","v":""},{"$f":"IF(journal!Z77=\"\",\"\",IF(journal!Z77=\"a\",\"a\",journal!Z77/journal!Z$7))","v":""},{"$f":"IF(journal!AA77=\"\",\"\",IF(journal!AA77=\"a\",\"a\",journal!AA77/journal!AA$7))","v":""},{"$f":"IF(journal!AB77=\"\",\"\",IF(journal!AB77=\"a\",\"a\",journal!AB77/journal!AB$7))","v":""},{"$f":"IF(journal!AC77=\"\",\"\",IF(journal!AC77=\"a\",\"a\",journal!AC77/journal!AC$7))","v":""},{"$f":"IF(journal!AD77=\"\",\"\",IF(journal!AD77=\"a\",\"a\",journal!AD77/journal!AD$7))","v":""},{"$f":"IF(journal!AE77=\"\",\"\",IF(journal!AE77=\"a\",\"a\",journal!AE77/journal!AE$7))","v":""},{"$f":"IF(journal!AF77=\"\",\"\",IF(journal!AF77=\"a\",\"a\",journal!AF77/journal!AF$7))","v":""},{"$f":"IF(journal!AG77=\"\",\"\",IF(journal!AG77=\"a\",\"a\",journal!AG77/journal!AG$7))","v":""},{"$f":"IF(journal!AH77=\"\",\"\",IF(journal!AH77=\"a\",\"a\",journal!AH77/journal!AH$7))","v":""},{"$f":"IF(journal!AI77=\"\",\"\",IF(journal!AI77=\"a\",\"a\",journal!AI77/journal!AI$7))","v":""},{"$f":"IF(journal!AJ77=\"\",\"\",IF(journal!AJ77=\"a\",\"a\",journal!AJ77/journal!AJ$7))","v":""},{"$f":"IF(journal!AK77=\"\",\"\",IF(journal!AK77=\"a\",\"a\",journal!AK77/journal!AK$7))","v":""},{"$f":"IF(journal!AL77=\"\",\"\",IF(journal!AL77=\"a\",\"a\",journal!AL77/journal!AL$7))","v":""},{"$f":"IF(journal!AM77=\"\",\"\",IF(journal!AM77=\"a\",\"a\",journal!AM77/journal!AM$7))","v":""},{"$f":"IF(journal!AN77=\"\",\"\",IF(journal!AN77=\"a\",\"a\",journal!AN77/journal!AN$7))","v":""},{"$f":"IF(journal!AO77=\"\",\"\",IF(journal!AO77=\"a\",\"a\",journal!AO77/journal!AO$7))","v":""},{"$f":"IF(journal!AP77=\"\",\"\",IF(journal!AP77=\"a\",\"a\",journal!AP77/journal!AP$7))","v":""},{"$f":"IF(journal!AQ77=\"\",\"\",IF(journal!AQ77=\"a\",\"a\",journal!AQ77/journal!AQ$7))","v":""},{"$f":"IF(journal!AR77=\"\",\"\",IF(journal!AR77=\"a\",\"a\",journal!AR77/journal!AR$7))","v":""},"","","",""]
[null,"R",{"$f":"IF(journal!C78=\"\",\"\",IF(journal!C78=\"a\",\"a\",journal!C78/journal!C$8))","v":""},{"$f":"IF(journal!D78=\"\",\"\",IF(journal!D78=\"a\",\"a\",journal!D78/journal!D$8))","v":""},{"$f":"IF(journal!E78=\"\",\"\",IF(journal!E78=\"a\",\"a\",journal!E78/journal!E$8))","v":""},{"$f":"IF(journal!F78=\"\",\"\",IF(journal!F78=\"a\",\"a\",journal!F78/journal!F$8))","v":""},{"$f":"IF(journal!G78=\"\",\"\",IF(journal!G78=\"a\",\"a\",journal!G78/journal!G$8))","v":""},{"$f":"IF(journal!H78=\"\",\"\",IF(journal!H78=\"a\",\"a\",journal!H78/journal!H$8))","v":""},{"$f":"IF(journal!I78=\"\",\"\",IF(journal!I78=\"a\",\"a\",journal!I78/journal!I$8))","v":""},{"$f":"IF(journal!J78=\"\",\"\",IF(journal!J78=\"a\",\"a\",journal!J78/journal!J$8))","v":""},{"$f":"IF(journal!K78=\"\",\"\",IF(journal!K78=\"a\",\"a\",journal!K78/journal!K$8))","v":""},{"$f":"IF(journal!L78=\"\",\"\",IF(journal!L78=\"a\",\"a\",journal!L78/journal!L$8))","v":""},{"$f":"IF(journal!M78=\"\",\"\",IF(journal!M78=\"a\",\"a\",journal!M78/journal!M$8))","v":""},{"$f":"IF(journal!N78=\"\",\"\",IF(journal!N78=\"a\",\"a\",journal!N78/journal!N$8))","v":""},{"$f":"IF(journal!O78=\"\",\"\",IF(journal!O78=\"a\",\"a\",journal!O78/journal!O$8))","v":""},{"$f":"IF(journal!P78=\"\",\"\",IF(journal!P78=\"a\",\"a\",journal!P78/journal!P$8))","v":""},{"$f":"IF(journal!Q78=\"\",\"\",IF(journal!Q78=\"a\",\"a\",journal!Q78/journal!Q$8))","v":""},{"$f":"IF(journal!R78=\"\",\"\",IF(journal!R78=\"a\",\"a\",journal!R78/journal!R$8))","v":""},{"$f":"IF(journal!S78=\"\",\"\",IF(journal!S78=\"a\",\"a\",journal!S78/journal!S$8))","v":""},{"$f":"IF(journal!T78=\"\",\"\",IF(journal!T78=\"a\",\"a\",journal!T78/journal!T$8))","v":""},{"$f":"IF(journal!U78=\"\",\"\",IF(journal!U78=\"a\",\"a\",journal!U78/journal!U$8))","v":""},{"$f":"IF(journal!V78=\"\",\"\",IF(journal!V78=\"a\",\"a\",journal!V78/journal!V$8))","v":""},{"$f":"IF(journal!W78=\"\",\"\",IF(journal!W78=\"a\",\"a\",journal!W78/journal!W$8))","v":""},{"$f":"IF(journal!X78=\"\",\"\",IF(journal!X78=\"a\",\"a\",journal!X78/journal!X$8))","v":""},{"$f":"IF(journal!Y78=\"\",\"\",IF(journal!Y78=\"a\",\"a\",journal!Y78/journal!Y$8))","v":""},{"$f":"IF(journal!Z78=\"\",\"\",IF(journal!Z78=\"a\",\"a\",journal!Z78/journal!Z$8))","v":""},{"$f":"IF(journal!AA78=\"\",\"\",IF(journal!AA78=\"a\",\"a\",journal!AA78/journal!AA$8))","v":""},{"$f":"IF(journal!AB78=\"\",\"\",IF(journal!AB78=\"a\",\"a\",journal!AB78/journal!AB$8))","v":""},{"$f":"IF(journal!AC78=\"\",\"\",IF(journal!AC78=\"a\",\"a\",journal!AC78/journal!AC$8))","v":""},{"$f":"IF(journal!AD78=\"\",\"\",IF(journal!AD78=\"a\",\"a\",journal!AD78/journal!AD$8))","v":""},{"$f":"IF(journal!AE78=\"\",\"\",IF(journal!AE78=\"a\",\"a\",journal!AE78/journal!AE$8))","v":""},{"$f":"IF(journal!AF78=\"\",\"\",IF(journal!AF78=\"a\",\"a\",journal!AF78/journal!AF$8))","v":""},{"$f":"IF(journal!AG78=\"\",\"\",IF(journal!AG78=\"a\",\"a\",journal!AG78/journal!AG$8))","v":""},{"$f":"IF(journal!AH78=\"\",\"\",IF(journal!AH78=\"a\",\"a\",journal!AH78/journal!AH$8))","v":""},{"$f":"IF(journal!AI78=\"\",\"\",IF(journal!AI78=\"a\",\"a\",journal!AI78/journal!AI$8))","v":""},{"$f":"IF(journal!AJ78=\"\",\"\",IF(journal!AJ78=\"a\",\"a\",journal!AJ78/journal!AJ$8))","v":""},{"$f":"IF(journal!AK78=\"\",\"\",IF(journal!AK78=\"a\",\"a\",journal!AK78/journal!AK$8))","v":""},{"$f":"IF(journal!AL78=\"\",\"\",IF(journal!AL78=\"a\",\"a\",journal!AL78/journal!AL$8))","v":""},{"$f":"IF(journal!AM78=\"\",\"\",IF(journal!AM78=\"a\",\"a\",journal!AM78/journal!AM$8))","v":""},{"$f":"IF(journal!AN78=\"\",\"\",IF(journal!AN78=\"a\",\"a\",journal!AN78/journal!AN$8))","v":""},{"$f":"IF(journal!AO78=\"\",\"\",IF(journal!AO78=\"a\",\"a\",journal!AO78/journal!AO$8))","v":""},{"$f":"IF(journal!AP78=\"\",\"\",IF(journal!AP78=\"a\",\"a\",journal!AP78/journal!AP$8))","v":""},{"$f":"IF(journal!AQ78=\"\",\"\",IF(journal!AQ78=\"a\",\"a\",journal!AQ78/journal!AQ$8))","v":""},{"$f":"IF(journal!AR78=\"\",\"\",IF(journal!AR78=\"a\",\"a\",journal!AR78/journal!AR$8))","v":""},"","","",""]
[null,"V",{"$f":"IF(journal!C79=\"\",\"\",IF(journal!C79=\"a\",\"a\",journal!C79/journal!C$9))","v":""},{"$f":"IF(journal!D79=\"\",\"\",IF(journal!D79=\"a\",\"a\",journal!D79/journal!D$9))","v":""},{"$f":"IF(journal!E79=\"\",\"\",IF(journal!E79=\"a\",\"a\",journal!E79/journal!E$9))","v":""},{"$f":"IF(journal!F79=\"\",\"\",IF(journal!F79=\"a\",\"a\",journal!F79/journal!F$9))","v":""},{"$f":"IF(journal!G79=\"\",\"\",IF(journal!G79=\"a\",\"a\",journal!G79/journal!G$9))","v":""},{"$f":"IF(journal!H79=\"\",\"\",IF(journal!H79=\"a\",\"a\",journal!H79/journal!H$9))","v":""},{"$f":"IF(journal!I79=\"\",\"\",IF(journal!I79=\"a\",\"a\",journal!I79/journal!I$9))","v":""},{"$f":"IF(journal!J79=\"\",\"\",IF(journal!J79=\"a\",\"a\",journal!J79/journal!J$9))","v":""},{"$f":"IF(journal!K79=\"\",\"\",IF(journal!K79=\"a\",\"a\",journal!K79/journal!K$9))","v":""},{"$f":"IF(journal!L79=\"\",\"\",IF(journal!L79=\"a\",\"a\",journal!L79/journal!L$9))","v":""},{"$f":"IF(journal!M79=\"\",\"\",IF(journal!M79=\"a\",\"a\",journal!M79/journal!M$9))","v":""},{"$f":"IF(journal!N79=\"\",\"\",IF(journal!N79=\"a\",\"a\",journal!N79/journal!N$9))","v":""},{"$f":"IF(journal!O79=\"\",\"\",IF(journal!O79=\"a\",\"a\",journal!O79/journal!O$9))","v":""},{"$f":"IF(journal!P79=\"\",\"\",IF(journal!P79=\"a\",\"a\",journal!P79/journal!P$9))","v":""},{"$f":"IF(journal!Q79=\"\",\"\",IF(journal!Q79=\"a\",\"a\",journal!Q79/journal!Q$9))","v":""},{"$f":"IF(journal!R79=\"\",\"\",IF(journal!R79=\"a\",\"a\",journal!R79/journal!R$9))","v":""},{"$f":"IF(journal!S79=\"\",\"\",IF(journal!S79=\"a\",\"a\",journal!S79/journal!S$9))","v":""},{"$f":"IF(journal!T79=\"\",\"\",IF(journal!T79=\"a\",\"a\",journal!T79/journal!T$9))","v":""},{"$f":"IF(journal!U79=\"\",\"\",IF(journal!U79=\"a\",\"a\",journal!U79/journal!U$9))","v":""},{"$f":"IF(journal!V79=\"\",\"\",IF(journal!V79=\"a\",\"a\",journal!V79/journal!V$9))","v":""},{"$f":"IF(journal!W79=\"\",\"\",IF(journal!W79=\"a\",\"a\",journal!W79/journal!W$9))","v":""},{"$f":"IF(journal!X79=\"\",\"\",IF(journal!X79=\"a\",\"a\",journal!X79/journal!X$9))","v":""},{"$f":"IF(journal!Y79=\"\",\"\",IF(journal!Y79=\"a\",\"a\",journal!Y79/journal!Y$9))","v":""},{"$f":"IF(journal!Z79=\"\",\"\",IF(journal!Z79=\"a\",\"a\",journal!Z79/journal!Z$9))","v":""},{"$f":"IF(journal!AA79=\"\",\"\",IF(journal!AA79=\"a\",\"a\",journal!AA79/journal!AA$9))","v":""},{"$f":"IF(journal!AB79=\"\",\"\",IF(journal!AB79=\"a\",\"a\",journal!AB79/journal!AB$9))","v":""},{"$f":"IF(journal!AC79=\"\",\"\",IF(journal!AC79=\"a\",\"a\",journal!AC79/journal!AC$9))","v":""},{"$f":"IF(journal!AD79=\"\",\"\",IF(journal!AD79=\"a\",\"a\",journal!AD79/journal!AD$9))","v":""},{"$f":"IF(journal!AE79=\"\",\"\",IF(journal!AE79=\"a\",\"a\",journal!AE79/journal!AE$9))","v":""},{"$f":"IF(journal!AF79=\"\",\"\",IF(journal!AF79=\"a\",\"a\",journal!AF79/journal!AF$9))","v":""},{"$f":"IF(journal!AG79=\"\",\"\",IF(journal!AG79=\"a\",\"a\",journal!AG79/journal!AG$9))","v":""},{"$f":"IF(journal!AH79=\"\",\"\",IF(journal!AH79=\"a\",\"a\",journal!AH79/journal!AH$9))","v":""},{"$f":"IF(journal!AI79=\"\",\"\",IF(journal!AI79=\"a\",\"a\",journal!AI79/journal!AI$9))","v":""},{"$f":"IF(journal!AJ79=\"\",\"\",IF(journal!AJ79=\"a\",\"a\",journal!AJ79/journal!AJ$9))","v":""},{"$f":"IF(journal!AK79=\"\",\"\",IF(journal!AK79=\"a\",\"a\",journal!AK79/journal!AK$9))","v":""},{"$f":"IF(journal!AL79=\"\",\"\",IF(journal!AL79=\"a\",\"a\",journal!AL79/journal!AL$9))","v":""},{"$f":"IF(journal!AM79=\"\",\"\",IF(journal!AM79=\"a\",\"a\",journal!AM79/journal!AM$9))","v":""},{"$f":"IF(journal!AN79=\"\",\"\",IF(journal!AN79=\"a\",\"a\",journal!AN79/journal!AN$9))","v":""},{"$f":"IF(journal!AO79=\"\",\"\",IF(journal!AO79=\"a\",\"a\",journal!AO79/journal!AO$9))","v":""},{"$f":"IF(journal!AP79=\"\",\"\",IF(journal!AP79=\"a\",\"a\",journal!AP79/journal!AP$9))","v":""},{"$f":"IF(journal!AQ79=\"\",\"\",IF(journal!AQ79=\"a\",\"a\",journal!AQ79/journal!AQ$9))","v":""},{"$f":"IF(journal!AR79=\"\",\"\",IF(journal!AR79=\"a\",\"a\",journal!AR79/journal!AR$9))","v":""},"","","",""]
[null,"C",{"$f":"IF(journal!C80=\"\",\"\",IF(journal!C80=\"a\",\"a\",journal!C80/journal!C$10))","v":""},{"$f":"IF(journal!D80=\"\",\"\",IF(journal!D80=\"a\",\"a\",journal!D80/journal!D$10))","v":""},{"$f":"IF(journal!E80=\"\",\"\",IF(journal!E80=\"a\",\"a\",journal!E80/journal!E$10))","v":""},{"$f":"IF(journal!F80=\"\",\"\",IF(journal!F80=\"a\",\"a\",journal!F80/journal!F$10))","v":""},{"$f":"IF(journal!G80=\"\",\"\",IF(journal!G80=\"a\",\"a\",journal!G80/journal!G$10))","v":""},{"$f":"IF(journal!H80=\"\",\"\",IF(journal!H80=\"a\",\"a\",journal!H80/journal!H$10))","v":""},{"$f":"IF(journal!I80=\"\",\"\",IF(journal!I80=\"a\",\"a\",journal!I80/journal!I$10))","v":""},{"$f":"IF(journal!J80=\"\",\"\",IF(journal!J80=\"a\",\"a\",journal!J80/journal!J$10))","v":""},{"$f":"IF(journal!K80=\"\",\"\",IF(journal!K80=\"a\",\"a\",journal!K80/journal!K$10))","v":""},{"$f":"IF(journal!L80=\"\",\"\",IF(journal!L80=\"a\",\"a\",journal!L80/journal!L$10))","v":""},{"$f":"IF(journal!M80=\"\",\"\",IF(journal!M80=\"a\",\"a\",journal!M80/journal!M$10))","v":""},{"$f":"IF(journal!N80=\"\",\"\",IF(journal!N80=\"a\",\"a\",journal!N80/journal!N$10))","v":""},{"$f":"IF(journal!O80=\"\",\"\",IF(journal!O80=\"a\",\"a\",journal!O80/journal!O$10))","v":""},{"$f":"IF(journal!P80=\"\",\"\",IF(journal!P80=\"a\",\"a\",journal!P80/journal!P$10))","v":""},{"$f":"IF(journal!Q80=\"\",\"\",IF(journal!Q80=\"a\",\"a\",journal!Q80/journal!Q$10))","v":""},{"$f":"IF(journal!R80=\"\",\"\",IF(journal!R80=\"a\",\"a\",journal!R80/journal!R$10))","v":""},{"$f":"IF(journal!S80=\"\",\"\",IF(journal!S80=\"a\",\"a\",journal!S80/journal!S$10))","v":""},{"$f":"IF(journal!T80=\"\",\"\",IF(journal!T80=\"a\",\"a\",journal!T80/journal!T$10))","v":""},{"$f":"IF(journal!U80=\"\",\"\",IF(journal!U80=\"a\",\"a\",journal!U80/journal!U$10))","v":""},{"$f":"IF(journal!V80=\"\",\"\",IF(journal!V80=\"a\",\"a\",journal!V80/journal!V$10))","v":""},{"$f":"IF(journal!W80=\"\",\"\",IF(journal!W80=\"a\",\"a\",journal!W80/journal!W$10))","v":""},{"$f":"IF(journal!X80=\"\",\"\",IF(journal!X80=\"a\",\"a\",journal!X80/journal!X$10))","v":""},{"$f":"IF(journal!Y80=\"\",\"\",IF(journal!Y80=\"a\",\"a\",journal!Y80/journal!Y$10))","v":""},{"$f":"IF(journal!Z80=\"\",\"\",IF(journal!Z80=\"a\",\"a\",journal!Z80/journal!Z$10))","v":""},{"$f":"IF(journal!AA80=\"\",\"\",IF(journal!AA80=\"a\",\"a\",journal!AA80/journal!AA$10))","v":""},{"$f":"IF(journal!AB80=\"\",\"\",IF(journal!AB80=\"a\",\"a\",journal!AB80/journal!AB$10))","v":""},{"$f":"IF(journal!AC80=\"\",\"\",IF(journal!AC80=\"a\",\"a\",journal!AC80/journal!AC$10))","v":""},{"$f":"IF(journal!AD80=\"\",\"\",IF(journal!AD80=\"a\",\"a\",journal!AD80/journal!AD$10))","v":""},{"$f":"IF(journal!AE80=\"\",\"\",IF(journal!AE80=\"a\",\"a\",journal!AE80/journal!AE$10))","v":""},{"$f":"IF(journal!AF80=\"\",\"\",IF(journal!AF80=\"a\",\"a\",journal!AF80/journal!AF$10))","v":""},{"$f":"IF(journal!AG80=\"\",\"\",IF(journal!AG80=\"a\",\"a\",journal!AG80/journal!AG$10))","v":""},{"$f":"IF(journal!AH80=\"\",\"\",IF(journal!AH80=\"a\",\"a\",journal!AH80/journal!AH$10))","v":""},{"$f":"IF(journal!AI80=\"\",\"\",IF(journal!AI80=\"a\",\"a\",journal!AI80/journal!AI$10))","v":""},{"$f":"IF(journal!AJ80=\"\",\"\",IF(journal!AJ80=\"a\",\"a\",journal!AJ80/journal!AJ$10))","v":""},{"$f":"IF(journal!AK80=\"\",\"\",IF(journal!AK80=\"a\",\"a\",journal!AK80/journal!AK$10))","v":""},{"$f":"IF(journal!AL80=\"\",\"\",IF(journal!AL80=\"a\",\"a\",journal!AL80/journal!AL$10))","v":""},{"$f":"IF(journal!AM80=\"\",\"\",IF(journal!AM80=\"a\",\"a\",journal!AM80/journal!AM$10))","v":""},{"$f":"IF(journal!AN80=\"\",\"\",IF(journal!AN80=\"a\",\"a\",journal!AN80/journal!AN$10))","v":""},{"$f":"IF(journal!AO80=\"\",\"\",IF(journal!AO80=\"a\",\"a\",journal!AO80/journal!AO$10))","v":""},{"$f":"IF(journal!AP80=\"\",\"\",IF(journal!AP80=\"a\",\"a\",journal!AP80/journal!AP$10))","v":""},{"$f":"IF(journal!AQ80=\"\",\"\",IF(journal!AQ80=\"a\",\"a\",journal!AQ80/journal!AQ$10))","v":""},{"$f":"IF(journal!AR80=\"\",\"\",IF(journal!AR80=\"a\",\"a\",journal!AR80/journal!AR$10))","v":""},"","","",""]
[{"$f":"Saisie!A25","v":0},"S",{"$f":"IF(journal!C81=\"\",\"\",IF(journal!C81=\"a\",\"a\",journal!C81/journal!C$6))","v":""},{"$f":"IF(journal!D81=\"\",\"\",IF(journal!D81=\"a\",\"a\",journal!D81/journal!D$6))","v":""},{"$f":"IF(journal!E81=\"\",\"\",IF(journal!E81=\"a\",\"a\",journal!E81/journal!E$6))","v":""},{"$f":"IF(journal!F81=\"\",\"\",IF(journal!F81=\"a\",\"a\",journal!F81/journal!F$6))","v":""},{"$f":"IF(journal!G81=\"\",\"\",IF(journal!G81=\"a\",\"a\",journal!G81/journal!G$6))","v":""},{"$f":"IF(journal!H81=\"\",\"\",IF(journal!H81=\"a\",\"a\",journal!H81/journal!H$6))","v":""},{"$f":"IF(journal!I81=\"\",\"\",IF(journal!I81=\"a\",\"a\",journal!I81/journal!I$6))","v":""},{"$f":"IF(journal!J81=\"\",\"\",IF(journal!J81=\"a\",\"a\",journal!J81/journal!J$6))","v":""},{"$f":"IF(journal!K81=\"\",\"\",IF(journal!K81=\"a\",\"a\",journal!K81/journal!K$6))","v":""},{"$f":"IF(journal!L81=\"\",\"\",IF(journal!L81=\"a\",\"a\",journal!L81/journal!L$6))","v":""},{"$f":"IF(journal!M81=\"\",\"\",IF(journal!M81=\"a\",\"a\",journal!M81/journal!M$6))","v":""},{"$f":"IF(journal!N81=\"\",\"\",IF(journal!N81=\"a\",\"a\",journal!N81/journal!N$6))","v":""},{"$f":"IF(journal!O81=\"\",\"\",IF(journal!O81=\"a\",\"a\",journal!O81/journal!O$6))","v":""},{"$f":"IF(journal!P81=\"\",\"\",IF(journal!P81=\"a\",\"a\",journal!P81/journal!P$6))","v":""},{"$f":"IF(journal!Q81=\"\",\"\",IF(journal!Q81=\"a\",\"a\",journal!Q81/journal!Q$6))","v":""},{"$f":"IF(journal!R81=\"\",\"\",IF(journal!R81=\"a\",\"a\",journal!R81/journal!R$6))","v":""},{"$f":"IF(journal!S81=\"\",\"\",IF(journal!S81=\"a\",\"a\",journal!S81/journal!S$6))","v":""},{"$f":"IF(journal!T81=\"\",\"\",IF(journal!T81=\"a\",\"a\",journal!T81/journal!T$6))","v":""},{"$f":"IF(journal!U81=\"\",\"\",IF(journal!U81=\"a\",\"a\",journal!U81/journal!U$6))","v":""},{"$f":"IF(journal!V81=\"\",\"\",IF(journal!V81=\"a\",\"a\",journal!V81/journal!V$6))","v":""},{"$f":"IF(journal!W81=\"\",\"\",IF(journal!W81=\"a\",\"a\",journal!W81/journal!W$6))","v":""},{"$f":"IF(journal!X81=\"\",\"\",IF(journal!X81=\"a\",\"a\",journal!X81/journal!X$6))","v":""},{"$f":"IF(journal!Y81=\"\",\"\",IF(journal!Y81=\"a\",\"a\",journal!Y81/journal!Y$6))","v":""},{"$f":"IF(journal!Z81=\"\",\"\",IF(journal!Z81=\"a\",\"a\",journal!Z81/journal!Z$6))","v":""},{"$f":"IF(journal!AA81=\"\",\"\",IF(journal!AA81=\"a\",\"a\",journal!AA81/journal!AA$6))","v":""},{"$f":"IF(journal!AB81=\"\",\"\",IF(journal!AB81=\"a\",\"a\",journal!AB81/journal!AB$6))","v":""},{"$f":"IF(journal!AC81=\"\",\"\",IF(journal!AC81=\"a\",\"a\",journal!AC81/journal!AC$6))","v":""},{"$f":"IF(journal!AD81=\"\",\"\",IF(journal!AD81=\"a\",\"a\",journal!AD81/journal!AD$6))","v":""},{"$f":"IF(journal!AE81=\"\",\"\",IF(journal!AE81=\"a\",\"a\",journal!AE81/journal!AE$6))","v":""},{"$f":"IF(journal!AF81=\"\",\"\",IF(journal!AF81=\"a\",\"a\",journal!AF81/journal!AF$6))","v":""},{"$f":"IF(journal!AG81=\"\",\"\",IF(journal!AG81=\"a\",\"a\",journal!AG81/journal!AG$6))","v":""},{"$f":"IF(journal!AH81=\"\",\"\",IF(journal!AH81=\"a\",\"a\",journal!AH81/journal!AH$6))","v":""},{"$f":"IF(journal!AI81=\"\",\"\",IF(journal!AI81=\"a\",\"a\",journal!AI81/journal!AI$6))","v":""},{"$f":"IF(journal!AJ81=\"\",\"\",IF(journal!AJ81=\"a\",\"a\",journal!AJ81/journal!AJ$6))","v":""},{"$f":"IF(journal!AK81=\"\",\"\",IF(journal!AK81=\"a\",\"a\",journal!AK81/journal!AK$6))","v":""},{"$f":"IF(journal!AL81=\"\",\"\",IF(journal!AL81=\"a\",\"a\",journal!AL81/journal!AL$6))","v":""},{"$f":"IF(journal!AM81=\"\",\"\",IF(journal!AM81=\"a\",\"a\",journal!AM81/journal!AM$6))","v":""},{"$f":"IF(journal!AN81=\"\",\"\",IF(journal!AN81=\"a\",\"a\",journal!AN81/journal!AN$6))","v":""},{"$f":"IF(journal!AO81=\"\",\"\",IF(journal!AO81=\"a\",\"a\",journal!AO81/journal!AO$6))","v":""},{"$f":"IF(journal!AP81=\"\",\"\",IF(journal!AP81=\"a\",\"a\",journal!AP81/journal!AP$6))","v":""},{"$f":"IF(journal!AQ81=\"\",\"\",IF(journal!AQ81=\"a\",\"a\",journal!AQ81/journal!AQ$6))","v":""},{"$f":"IF(journal!AR81=\"\",\"\",IF(journal!AR81=\"a\",\"a\",journal!AR81/journal!AR$6))","v":""},"",{"$f":"IF(ISERROR(AVERAGEIF($C$3:$AR$3,\"T1\",C81:AR81))=TRUE,\"\",AVERAGEIF($C$3:$AR$3,\"T1\",C81:AR81))","v":""},{"$f":"IF(ISERROR(AVERAGEIF($C$3:$AR$3,\"T2\",C81:AR81))=TRUE,\"\",AVERAGEIF($C$3:$AR$3,\"T2\",C81:AR81))","v":""},{"$f":"IF(ISERROR(AVERAGEIF($C$3:$AR$3,\"T3\",C81:AR81))=TRUE,\"\",AVERAGEIF($C$3:$AR$3,\"T3\",C81:AR81))","v":""}]
[null,"A",{"$f":"IF(journal!C82=\"\",\"\",IF(journal!C82=\"a\",\"a\",journal!C82/journal!C$7))","v":""},{"$f":"IF(journal!D82=\"\",\"\",IF(journal!D82=\"a\",\"a\",journal!D82/journal!D$7))","v":""},{"$f":"IF(journal!E82=\"\",\"\",IF(journal!E82=\"a\",\"a\",journal!E82/journal!E$7))","v":""},{"$f":"IF(journal!F82=\"\",\"\",IF(journal!F82=\"a\",\"a\",journal!F82/journal!F$7))","v":""},{"$f":"IF(journal!G82=\"\",\"\",IF(journal!G82=\"a\",\"a\",journal!G82/journal!G$7))","v":""},{"$f":"IF(journal!H82=\"\",\"\",IF(journal!H82=\"a\",\"a\",journal!H82/journal!H$7))","v":""},{"$f":"IF(journal!I82=\"\",\"\",IF(journal!I82=\"a\",\"a\",journal!I82/journal!I$7))","v":""},{"$f":"IF(journal!J82=\"\",\"\",IF(journal!J82=\"a\",\"a\",journal!J82/journal!J$7))","v":""},{"$f":"IF(journal!K82=\"\",\"\",IF(journal!K82=\"a\",\"a\",journal!K82/journal!K$7))","v":""},{"$f":"IF(journal!L82=\"\",\"\",IF(journal!L82=\"a\",\"a\",journal!L82/journal!L$7))","v":""},{"$f":"IF(journal!M82=\"\",\"\",IF(journal!M82=\"a\",\"a\",journal!M82/journal!M$7))","v":""},{"$f":"IF(journal!N82=\"\",\"\",IF(journal!N82=\"a\",\"a\",journal!N82/journal!N$7))","v":""},{"$f":"IF(journal!O82=\"\",\"\",IF(journal!O82=\"a\",\"a\",journal!O82/journal!O$7))","v":""},{"$f":"IF(journal!P82=\"\",\"\",IF(journal!P82=\"a\",\"a\",journal!P82/journal!P$7))","v":""},{"$f":"IF(journal!Q82=\"\",\"\",IF(journal!Q82=\"a\",\"a\",journal!Q82/journal!Q$7))","v":""},{"$f":"IF(journal!R82=\"\",\"\",IF(journal!R82=\"a\",\"a\",journal!R82/journal!R$7))","v":""},{"$f":"IF(journal!S82=\"\",\"\",IF(journal!S82=\"a\",\"a\",journal!S82/journal!S$7))","v":""},{"$f":"IF(journal!T82=\"\",\"\",IF(journal!T82=\"a\",\"a\",journal!T82/journal!T$7))","v":""},{"$f":"IF(journal!U82=\"\",\"\",IF(journal!U82=\"a\",\"a\",journal!U82/journal!U$7))","v":""},{"$f":"IF(journal!V82=\"\",\"\",IF(journal!V82=\"a\",\"a\",journal!V82/journal!V$7))","v":""},{"$f":"IF(journal!W82=\"\",\"\",IF(journal!W82=\"a\",\"a\",journal!W82/journal!W$7))","v":""},{"$f":"IF(journal!X82=\"\",\"\",IF(journal!X82=\"a\",\"a\",journal!X82/journal!X$7))","v":""},{"$f":"IF(journal!Y82=\"\",\"\",IF(journal!Y82=\"a\",\"a\",journal!Y82/journal!Y$7))","v":""},{"$f":"IF(journal!Z82=\"\",\"\",IF(journal!Z82=\"a\",\"a\",journal!Z82/journal!Z$7))","v":""},{"$f":"IF(journal!AA82=\"\",\"\",IF(journal!AA82=\"a\",\"a\",journal!AA82/journal!AA$7))","v":""},{"$f":"IF(journal!AB82=\"\",\"\",IF(journal!AB82=\"a\",\"a\",journal!AB82/journal!AB$7))","v":""},{"$f":"IF(journal!AC82=\"\",\"\",IF(journal!AC82=\"a\",\"a\",journal!AC82/journal!AC$7))","v":""},{"$f":"IF(journal!AD82=\"\",\"\",IF(journal!AD82=\"a\",\"a\",journal!AD82/journal!AD$7))","v":""},{"$f":"IF(journal!AE82=\"\",\"\",IF(journal!AE82=\"a\",\"a\",journal!AE82/journal!AE$7))","v":""},{"$f":"IF(journal!AF82=\"\",\"\",IF(journal!AF82=\"a\",\"a\",journal!AF82/journal!AF$7))","v":""},{"$f":"IF(journal!AG82=\"\",\"\",IF(journal!AG82=\"a\",\"a\",journal!AG82/journal!AG$7))","v":""},{"$f":"IF(journal!AH82=\"\",\"\",IF(journal!AH82=\"a\",\"a\",journal!AH82/journal!AH$7))","v":""},{"$f":"IF(journal!AI82=\"\",\"\",IF(journal!AI82=\"a\",\"a\",journal!AI82/journal!AI$7))","v":""},{"$f":"IF(journal!AJ82=\"\",\"\",IF(journal!AJ82=\"a\",\"a\",journal!AJ82/journal!AJ$7))","v":""},{"$f":"IF(journal!AK82=\"\",\"\",IF(journal!AK82=\"a\",\"a\",journal!AK82/journal!AK$7))","v":""},{"$f":"IF(journal!AL82=\"\",\"\",IF(journal!AL82=\"a\",\"a\",journal!AL82/journal!AL$7))","v":""},{"$f":"IF(journal!AM82=\"\",\"\",IF(journal!AM82=\"a\",\"a\",journal!AM82/journal!AM$7))","v":""},{"$f":"IF(journal!AN82=\"\",\"\",IF(journal!AN82=\"a\",\"a\",journal!AN82/journal!AN$7))","v":""},{"$f":"IF(journal!AO82=\"\",\"\",IF(journal!AO82=\"a\",\"a\",journal!AO82/journal!AO$7))","v":""},{"$f":"IF(journal!AP82=\"\",\"\",IF(journal!AP82=\"a\",\"a\",journal!AP82/journal!AP$7))","v":""},{"$f":"IF(journal!AQ82=\"\",\"\",IF(journal!AQ82=\"a\",\"a\",journal!AQ82/journal!AQ$7))","v":""},{"$f":"IF(journal!AR82=\"\",\"\",IF(journal!AR82=\"a\",\"a\",journal!AR82/journal!AR$7))","v":""},"","","",""]
[null,"R",{"$f":"IF(journal!C83=\"\",\"\",IF(journal!C83=\"a\",\"a\",journal!C83/journal!C$8))","v":""},{"$f":"IF(journal!D83=\"\",\"\",IF(journal!D83=\"a\",\"a\",journal!D83/journal!D$8))","v":""},{"$f":"IF(journal!E83=\"\",\"\",IF(journal!E83=\"a\",\"a\",journal!E83/journal!E$8))","v":""},{"$f":"IF(journal!F83=\"\",\"\",IF(journal!F83=\"a\",\"a\",journal!F83/journal!F$8))","v":""},{"$f":"IF(journal!G83=\"\",\"\",IF(journal!G83=\"a\",\"a\",journal!G83/journal!G$8))","v":""},{"$f":"IF(journal!H83=\"\",\"\",IF(journal!H83=\"a\",\"a\",journal!H83/journal!H$8))","v":""},{"$f":"IF(journal!I83=\"\",\"\",IF(journal!I83=\"a\",\"a\",journal!I83/journal!I$8))","v":""},{"$f":"IF(journal!J83=\"\",\"\",IF(journal!J83=\"a\",\"a\",journal!J83/journal!J$8))","v":""},{"$f":"IF(journal!K83=\"\",\"\",IF(journal!K83=\"a\",\"a\",journal!K83/journal!K$8))","v":""},{"$f":"IF(journal!L83=\"\",\"\",IF(journal!L83=\"a\",\"a\",journal!L83/journal!L$8))","v":""},{"$f":"IF(journal!M83=\"\",\"\",IF(journal!M83=\"a\",\"a\",journal!M83/journal!M$8))","v":""},{"$f":"IF(journal!N83=\"\",\"\",IF(journal!N83=\"a\",\"a\",journal!N83/journal!N$8))","v":""},{"$f":"IF(journal!O83=\"\",\"\",IF(journal!O83=\"a\",\"a\",journal!O83/journal!O$8))","v":""},{"$f":"IF(journal!P83=\"\",\"\",IF(journal!P83=\"a\",\"a\",journal!P83/journal!P$8))","v":""},{"$f":"IF(journal!Q83=\"\",\"\",IF(journal!Q83=\"a\",\"a\",journal!Q83/journal!Q$8))","v":""},{"$f":"IF(journal!R83=\"\",\"\",IF(journal!R83=\"a\",\"a\",journal!R83/journal!R$8))","v":""},{"$f":"IF(journal!S83=\"\",\"\",IF(journal!S83=\"a\",\"a\",journal!S83/journal!S$8))","v":""},{"$f":"IF(journal!T83=\"\",\"\",IF(journal!T83=\"a\",\"a\",journal!T83/journal!T$8))","v":""},{"$f":"IF(journal!U83=\"\",\"\",IF(journal!U83=\"a\",\"a\",journal!U83/journal!U$8))","v":""},{"$f":"IF(journal!V83=\"\",\"\",IF(journal!V83=\"a\",\"a\",journal!V83/journal!V$8))","v":""},{"$f":"IF(journal!W83=\"\",\"\",IF(journal!W83=\"a\",\"a\",journal!W83/journal!W$8))","v":""},{"$f":"IF(journal!X83=\"\",\"\",IF(journal!X83=\"a\",\"a\",journal!X83/journal!X$8))","v":""},{"$f":"IF(journal!Y83=\"\",\"\",IF(journal!Y83=\"a\",\"a\",journal!Y83/journal!Y$8))","v":""},{"$f":"IF(journal!Z83=\"\",\"\",IF(journal!Z83=\"a\",\"a\",journal!Z83/journal!Z$8))","v":""},{"$f":"IF(journal!AA83=\"\",\"\",IF(journal!AA83=\"a\",\"a\",journal!AA83/journal!AA$8))","v":""},{"$f":"IF(journal!AB83=\"\",\"\",IF(journal!AB83=\"a\",\"a\",journal!AB83/journal!AB$8))","v":""},{"$f":"IF(journal!AC83=\"\",\"\",IF(journal!AC83=\"a\",\"a\",journal!AC83/journal!AC$8))","v":""},{"$f":"IF(journal!AD83=\"\",\"\",IF(journal!AD83=\"a\",\"a\",journal!AD83/journal!AD$8))","v":""},{"$f":"IF(journal!AE83=\"\",\"\",IF(journal!AE83=\"a\",\"a\",journal!AE83/journal!AE$8))","v":""},{"$f":"IF(journal!AF83=\"\",\"\",IF(journal!AF83=\"a\",\"a\",journal!AF83/journal!AF$8))","v":""},{"$f":"IF(journal!AG83=\"\",\"\",IF(journal!AG83=\"a\",\"a\",journal!AG83/journal!AG$8))","v":""},{"$f":"IF(journal!AH83=\"\",\"\",IF(journal!AH83=\"a\",\"a\",journal!AH83/journal!AH$8))","v":""},{"$f":"IF(journal!AI83=\"\",\"\",IF(journal!AI83=\"a\",\"a\",journal!AI83/journal!AI$8))","v":""},{"$f":"IF(journal!AJ83=\"\",\"\",IF(journal!AJ83=\"a\",\"a\",journal!AJ83/journal!AJ$8))","v":""},{"$f":"IF(journal!AK83=\"\",\"\",IF(journal!AK83=\"a\",\"a\",journal!AK83/journal!AK$8))","v":""},{"$f":"IF(journal!AL83=\"\",\"\",IF(journal!AL83=\"a\",\"a\",journal!AL83/journal!AL$8))","v":""},{"$f":"IF(journal!AM83=\"\",\"\",IF(journal!AM83=\"a\",\"a\",journal!AM83/journal!AM$8))","v":""},{"$f":"IF(journal!AN83=\"\",\"\",IF(journal!AN83=\"a\",\"a\",journal!AN83/journal!AN$8))","v":""},{"$f":"IF(journal!AO83=\"\",\"\",IF(journal!AO83=\"a\",\"a\",journal!AO83/journal!AO$8))","v":""},{"$f":"IF(journal!AP83=\"\",\"\",IF(journal!AP83=\"a\",\"a\",journal!AP83/journal!AP$8))","v":""},{"$f":"IF(journal!AQ83=\"\",\"\",IF(journal!AQ83=\"a\",\"a\",journal!AQ83/journal!AQ$8))","v":""},{"$f":"IF(journal!AR83=\"\",\"\",IF(journal!AR83=\"a\",\"a\",journal!AR83/journal!AR$8))","v":""},"","","",""]
[null,"V",{"$f":"IF(journal!C84=\"\",\"\",IF(journal!C84=\"a\",\"a\",journal!C84/journal!C$9))","v":""},{"$f":"IF(journal!D84=\"\",\"\",IF(journal!D84=\"a\",\"a\",journal!D84/journal!D$9))","v":""},{"$f":"IF(journal!E84=\"\",\"\",IF(journal!E84=\"a\",\"a\",journal!E84/journal!E$9))","v":""},{"$f":"IF(journal!F84=\"\",\"\",IF(journal!F84=\"a\",\"a\",journal!F84/journal!F$9))","v":""},{"$f":"IF(journal!G84=\"\",\"\",IF(journal!G84=\"a\",\"a\",journal!G84/journal!G$9))","v":""},{"$f":"IF(journal!H84=\"\",\"\",IF(journal!H84=\"a\",\"a\",journal!H84/journal!H$9))","v":""},{"$f":"IF(journal!I84=\"\",\"\",IF(journal!I84=\"a\",\"a\",journal!I84/journal!I$9))","v":""},{"$f":"IF(journal!J84=\"\",\"\",IF(journal!J84=\"a\",\"a\",journal!J84/journal!J$9))","v":""},{"$f":"IF(journal!K84=\"\",\"\",IF(journal!K84=\"a\",\"a\",journal!K84/journal!K$9))","v":""},{"$f":"IF(journal!L84=\"\",\"\",IF(journal!L84=\"a\",\"a\",journal!L84/journal!L$9))","v":""},{"$f":"IF(journal!M84=\"\",\"\",IF(journal!M84=\"a\",\"a\",journal!M84/journal!M$9))","v":""},{"$f":"IF(journal!N84=\"\",\"\",IF(journal!N84=\"a\",\"a\",journal!N84/journal!N$9))","v":""},{"$f":"IF(journal!O84=\"\",\"\",IF(journal!O84=\"a\",\"a\",journal!O84/journal!O$9))","v":""},{"$f":"IF(journal!P84=\"\",\"\",IF(journal!P84=\"a\",\"a\",journal!P84/journal!P$9))","v":""},{"$f":"IF(journal!Q84=\"\",\"\",IF(journal!Q84=\"a\",\"a\",journal!Q84/journal!Q$9))","v":""},{"$f":"IF(journal!R84=\"\",\"\",IF(journal!R84=\"a\",\"a\",journal!R84/journal!R$9))","v":""},{"$f":"IF(journal!S84=\"\",\"\",IF(journal!S84=\"a\",\"a\",journal!S84/journal!S$9))","v":""},{"$f":"IF(journal!T84=\"\",\"\",IF(journal!T84=\"a\",\"a\",journal!T84/journal!T$9))","v":""},{"$f":"IF(journal!U84=\"\",\"\",IF(journal!U84=\"a\",\"a\",journal!U84/journal!U$9))","v":""},{"$f":"IF(journal!V84=\"\",\"\",IF(journal!V84=\"a\",\"a\",journal!V84/journal!V$9))","v":""},{"$f":"IF(journal!W84=\"\",\"\",IF(journal!W84=\"a\",\"a\",journal!W84/journal!W$9))","v":""},{"$f":"IF(journal!X84=\"\",\"\",IF(journal!X84=\"a\",\"a\",journal!X84/journal!X$9))","v":""},{"$f":"IF(journal!Y84=\"\",\"\",IF(journal!Y84=\"a\",\"a\",journal!Y84/journal!Y$9))","v":""},{"$f":"IF(journal!Z84=\"\",\"\",IF(journal!Z84=\"a\",\"a\",journal!Z84/journal!Z$9))","v":""},{"$f":"IF(journal!AA84=\"\",\"\",IF(journal!AA84=\"a\",\"a\",journal!AA84/journal!AA$9))","v":""},{"$f":"IF(journal!AB84=\"\",\"\",IF(journal!AB84=\"a\",\"a\",journal!AB84/journal!AB$9))","v":""},{"$f":"IF(journal!AC84=\"\",\"\",IF(journal!AC84=\"a\",\"a\",journal!AC84/journal!AC$9))","v":""},{"$f":"IF(journal!AD84=\"\",\"\",IF(journal!AD84=\"a\",\"a\",journal!AD84/journal!AD$9))","v":""},{"$f":"IF(journal!AE84=\"\",\"\",IF(journal!AE84=\"a\",\"a\",journal!AE84/journal!AE$9))","v":""},{"$f":"IF(journal!AF84=\"\",\"\",IF(journal!AF84=\"a\",\"a\",journal!AF84/journal!AF$9))","v":""},{"$f":"IF(journal!AG84=\"\",\"\",IF(journal!AG84=\"a\",\"a\",journal!AG84/journal!AG$9))","v":""},{"$f":"IF(journal!AH84=\"\",\"\",IF(journal!AH84=\"a\",\"a\",journal!AH84/journal!AH$9))","v":""},{"$f":"IF(journal!AI84=\"\",\"\",IF(journal!AI84=\"a\",\"a\",journal!AI84/journal!AI$9))","v":""},{"$f":"IF(journal!AJ84=\"\",\"\",IF(journal!AJ84=\"a\",\"a\",journal!AJ84/journal!AJ$9))","v":""},{"$f":"IF(journal!AK84=\"\",\"\",IF(journal!AK84=\"a\",\"a\",journal!AK84/journal!AK$9))","v":""},{"$f":"IF(journal!AL84=\"\",\"\",IF(journal!AL84=\"a\",\"a\",journal!AL84/journal!AL$9))","v":""},{"$f":"IF(journal!AM84=\"\",\"\",IF(journal!AM84=\"a\",\"a\",journal!AM84/journal!AM$9))","v":""},{"$f":"IF(journal!AN84=\"\",\"\",IF(journal!AN84=\"a\",\"a\",journal!AN84/journal!AN$9))","v":""},{"$f":"IF(journal!AO84=\"\",\"\",IF(journal!AO84=\"a\",\"a\",journal!AO84/journal!AO$9))","v":""},{"$f":"IF(journal!AP84=\"\",\"\",IF(journal!AP84=\"a\",\"a\",journal!AP84/journal!AP$9))","v":""},{"$f":"IF(journal!AQ84=\"\",\"\",IF(journal!AQ84=\"a\",\"a\",journal!AQ84/journal!AQ$9))","v":""},{"$f":"IF(journal!AR84=\"\",\"\",IF(journal!AR84=\"a\",\"a\",journal!AR84/journal!AR$9))","v":""},"","","",""]
[null,"C",{"$f":"IF(journal!C85=\"\",\"\",IF(journal!C85=\"a\",\"a\",journal!C85/journal!C$10))","v":""},{"$f":"IF(journal!D85=\"\",\"\",IF(journal!D85=\"a\",\"a\",journal!D85/journal!D$10))","v":""},{"$f":"IF(journal!E85=\"\",\"\",IF(journal!E85=\"a\",\"a\",journal!E85/journal!E$10))","v":""},{"$f":"IF(journal!F85=\"\",\"\",IF(journal!F85=\"a\",\"a\",journal!F85/journal!F$10))","v":""},{"$f":"IF(journal!G85=\"\",\"\",IF(journal!G85=\"a\",\"a\",journal!G85/journal!G$10))","v":""},{"$f":"IF(journal!H85=\"\",\"\",IF(journal!H85=\"a\",\"a\",journal!H85/journal!H$10))","v":""},{"$f":"IF(journal!I85=\"\",\"\",IF(journal!I85=\"a\",\"a\",journal!I85/journal!I$10))","v":""},{"$f":"IF(journal!J85=\"\",\"\",IF(journal!J85=\"a\",\"a\",journal!J85/journal!J$10))","v":""},{"$f":"IF(journal!K85=\"\",\"\",IF(journal!K85=\"a\",\"a\",journal!K85/journal!K$10))","v":""},{"$f":"IF(journal!L85=\"\",\"\",IF(journal!L85=\"a\",\"a\",journal!L85/journal!L$10))","v":""},{"$f":"IF(journal!M85=\"\",\"\",IF(journal!M85=\"a\",\"a\",journal!M85/journal!M$10))","v":""},{"$f":"IF(journal!N85=\"\",\"\",IF(journal!N85=\"a\",\"a\",journal!N85/journal!N$10))","v":""},{"$f":"IF(journal!O85=\"\",\"\",IF(journal!O85=\"a\",\"a\",journal!O85/journal!O$10))","v":""},{"$f":"IF(journal!P85=\"\",\"\",IF(journal!P85=\"a\",\"a\",journal!P85/journal!P$10))","v":""},{"$f":"IF(journal!Q85=\"\",\"\",IF(journal!Q85=\"a\",\"a\",journal!Q85/journal!Q$10))","v":""},{"$f":"IF(journal!R85=\"\",\"\",IF(journal!R85=\"a\",\"a\",journal!R85/journal!R$10))","v":""},{"$f":"IF(journal!S85=\"\",\"\",IF(journal!S85=\"a\",\"a\",journal!S85/journal!S$10))","v":""},{"$f":"IF(journal!T85=\"\",\"\",IF(journal!T85=\"a\",\"a\",journal!T85/journal!T$10))","v":""},{"$f":"IF(journal!U85=\"\",\"\",IF(journal!U85=\"a\",\"a\",journal!U85/journal!U$10))","v":""},{"$f":"IF(journal!V85=\"\",\"\",IF(journal!V85=\"a\",\"a\",journal!V85/journal!V$10))","v":""},{"$f":"IF(journal!W85=\"\",\"\",IF(journal!W85=\"a\",\"a\",journal!W85/journal!W$10))","v":""},{"$f":"IF(journal!X85=\"\",\"\",IF(journal!X85=\"a\",\"a\",journal!X85/journal!X$10))","v":""},{"$f":"IF(journal!Y85=\"\",\"\",IF(journal!Y85=\"a\",\"a\",journal!Y85/journal!Y$10))","v":""},{"$f":"IF(journal!Z85=\"\",\"\",IF(journal!Z85=\"a\",\"a\",journal!Z85/journal!Z$10))","v":""},{"$f":"IF(journal!AA85=\"\",\"\",IF(journal!AA85=\"a\",\"a\",journal!AA85/journal!AA$10))","v":""},{"$f":"IF(journal!AB85=\"\",\"\",IF(journal!AB85=\"a\",\"a\",journal!AB85/journal!AB$10))","v":""},{"$f":"IF(journal!AC85=\"\",\"\",IF(journal!AC85=\"a\",\"a\",journal!AC85/journal!AC$10))","v":""},{"$f":"IF(journal!AD85=\"\",\"\",IF(journal!AD85=\"a\",\"a\",journal!AD85/journal!AD$10))","v":""},{"$f":"IF(journal!AE85=\"\",\"\",IF(journal!AE85=\"a\",\"a\",journal!AE85/journal!AE$10))","v":""},{"$f":"IF(journal!AF85=\"\",\"\",IF(journal!AF85=\"a\",\"a\",journal!AF85/journal!AF$10))","v":""},{"$f":"IF(journal!AG85=\"\",\"\",IF(journal!AG85=\"a\",\"a\",journal!AG85/journal!AG$10))","v":""},{"$f":"IF(journal!AH85=\"\",\"\",IF(journal!AH85=\"a\",\"a\",journal!AH85/journal!AH$10))","v":""},{"$f":"IF(journal!AI85=\"\",\"\",IF(journal!AI85=\"a\",\"a\",journal!AI85/journal!AI$10))","v":""},{"$f":"IF(journal!AJ85=\"\",\"\",IF(journal!AJ85=\"a\",\"a\",journal!AJ85/journal!AJ$10))","v":""},{"$f":"IF(journal!AK85=\"\",\"\",IF(journal!AK85=\"a\",\"a\",journal!AK85/journal!AK$10))","v":""},{"$f":"IF(journal!AL85=\"\",\"\",IF(journal!AL85=\"a\",\"a\",journal!AL85/journal!AL$10))","v":""},{"$f":"IF(journal!AM85=\"\",\"\",IF(journal!AM85=\"a\",\"a\",journal!AM85/journal!AM$10))","v":""},{"$f":"IF(journal!AN85=\"\",\"\",IF(journal!AN85=\"a\",\"a\",journal!AN85/journal!AN$10))","v":""},{"$f":"IF(journal!AO85=\"\",\"\",IF(journal!AO85=\"a\",\"a\",journal!AO85/journal!AO$10))","v":""},{"$f":"IF(journal!AP85=\"\",\"\",IF(journal!AP85=\"a\",\"a\",journal!AP85/journal!AP$10))","v":""},{"$f":"IF(journal!AQ85=\"\",\"\",IF(journal!AQ85=\"a\",\"a\",journal!AQ85/journal!AQ$10))","v":""},{"$f":"IF(journal!AR85=\"\",\"\",IF(journal!AR85=\"a\",\"a\",journal!AR85/journal!AR$10))","v":""},"","","",""]
[{"$f":"Saisie!A26","v":0},"S",{"$f":"IF(journal!C86=\"\",\"\",IF(journal!C86=\"a\",\"a\",journal!C86/journal!C$6))","v":""},{"$f":"IF(journal!D86=\"\",\"\",IF(journal!D86=\"a\",\"a\",journal!D86/journal!D$6))","v":""},{"$f":"IF(journal!E86=\"\",\"\",IF(journal!E86=\"a\",\"a\",journal!E86/journal!E$6))","v":""},{"$f":"IF(journal!F86=\"\",\"\",IF(journal!F86=\"a\",\"a\",journal!F86/journal!F$6))","v":""},{"$f":"IF(journal!G86=\"\",\"\",IF(journal!G86=\"a\",\"a\",journal!G86/journal!G$6))","v":""},{"$f":"IF(journal!H86=\"\",\"\",IF(journal!H86=\"a\",\"a\",journal!H86/journal!H$6))","v":""},{"$f":"IF(journal!I86=\"\",\"\",IF(journal!I86=\"a\",\"a\",journal!I86/journal!I$6))","v":""},{"$f":"IF(journal!J86=\"\",\"\",IF(journal!J86=\"a\",\"a\",journal!J86/journal!J$6))","v":""},{"$f":"IF(journal!K86=\"\",\"\",IF(journal!K86=\"a\",\"a\",journal!K86/journal!K$6))","v":""},{"$f":"IF(journal!L86=\"\",\"\",IF(journal!L86=\"a\",\"a\",journal!L86/journal!L$6))","v":""},{"$f":"IF(journal!M86=\"\",\"\",IF(journal!M86=\"a\",\"a\",journal!M86/journal!M$6))","v":""},{"$f":"IF(journal!N86=\"\",\"\",IF(journal!N86=\"a\",\"a\",journal!N86/journal!N$6))","v":""},{"$f":"IF(journal!O86=\"\",\"\",IF(journal!O86=\"a\",\"a\",journal!O86/journal!O$6))","v":""},{"$f":"IF(journal!P86=\"\",\"\",IF(journal!P86=\"a\",\"a\",journal!P86/journal!P$6))","v":""},{"$f":"IF(journal!Q86=\"\",\"\",IF(journal!Q86=\"a\",\"a\",journal!Q86/journal!Q$6))","v":""},{"$f":"IF(journal!R86=\"\",\"\",IF(journal!R86=\"a\",\"a\",journal!R86/journal!R$6))","v":""},{"$f":"IF(journal!S86=\"\",\"\",IF(journal!S86=\"a\",\"a\",journal!S86/journal!S$6))","v":""},{"$f":"IF(journal!T86=\"\",\"\",IF(journal!T86=\"a\",\"a\",journal!T86/journal!T$6))","v":""},{"$f":"IF(journal!U86=\"\",\"\",IF(journal!U86=\"a\",\"a\",journal!U86/journal!U$6))","v":""},{"$f":"IF(journal!V86=\"\",\"\",IF(journal!V86=\"a\",\"a\",journal!V86/journal!V$6))","v":""},{"$f":"IF(journal!W86=\"\",\"\",IF(journal!W86=\"a\",\"a\",journal!W86/journal!W$6))","v":""},{"$f":"IF(journal!X86=\"\",\"\",IF(journal!X86=\"a\",\"a\",journal!X86/journal!X$6))","v":""},{"$f":"IF(journal!Y86=\"\",\"\",IF(journal!Y86=\"a\",\"a\",journal!Y86/journal!Y$6))","v":""},{"$f":"IF(journal!Z86=\"\",\"\",IF(journal!Z86=\"a\",\"a\",journal!Z86/journal!Z$6))","v":""},{"$f":"IF(journal!AA86=\"\",\"\",IF(journal!AA86=\"a\",\"a\",journal!AA86/journal!AA$6))","v":""},{"$f":"IF(journal!AB86=\"\",\"\",IF(journal!AB86=\"a\",\"a\",journal!AB86/journal!AB$6))","v":""},{"$f":"IF(journal!AC86=\"\",\"\",IF(journal!AC86=\"a\",\"a\",journal!AC86/journal!AC$6))","v":""},{"$f":"IF(journal!AD86=\"\",\"\",IF(journal!AD86=\"a\",\"a\",journal!AD86/journal!AD$6))","v":""},{"$f":"IF(journal!AE86=\"\",\"\",IF(journal!AE86=\"a\",\"a\",journal!AE86/journal!AE$6))","v":""},{"$f":"IF(journal!AF86=\"\",\"\",IF(journal!AF86=\"a\",\"a\",journal!AF86/journal!AF$6))","v":""},{"$f":"IF(journal!AG86=\"\",\"\",IF(journal!AG86=\"a\",\"a\",journal!AG86/journal!AG$6))","v":""},{"$f":"IF(journal!AH86=\"\",\"\",IF(journal!AH86=\"a\",\"a\",journal!AH86/journal!AH$6))","v":""},{"$f":"IF(journal!AI86=\"\",\"\",IF(journal!AI86=\"a\",\"a\",journal!AI86/journal!AI$6))","v":""},{"$f":"IF(journal!AJ86=\"\",\"\",IF(journal!AJ86=\"a\",\"a\",journal!AJ86/journal!AJ$6))","v":""},{"$f":"IF(journal!AK86=\"\",\"\",IF(journal!AK86=\"a\",\"a\",journal!AK86/journal!AK$6))","v":""},{"$f":"IF(journal!AL86=\"\",\"\",IF(journal!AL86=\"a\",\"a\",journal!AL86/journal!AL$6))","v":""},{"$f":"IF(journal!AM86=\"\",\"\",IF(journal!AM86=\"a\",\"a\",journal!AM86/journal!AM$6))","v":""},{"$f":"IF(journal!AN86=\"\",\"\",IF(journal!AN86=\"a\",\"a\",journal!AN86/journal!AN$6))","v":""},{"$f":"IF(journal!AO86=\"\",\"\",IF(journal!AO86=\"a\",\"a\",journal!AO86/journal!AO$6))","v":""},{"$f":"IF(journal!AP86=\"\",\"\",IF(journal!AP86=\"a\",\"a\",journal!AP86/journal!AP$6))","v":""},{"$f":"IF(journal!AQ86=\"\",\"\",IF(journal!AQ86=\"a\",\"a\",journal!AQ86/journal!AQ$6))","v":""},{"$f":"IF(journal!AR86=\"\",\"\",IF(journal!AR86=\"a\",\"a\",journal!AR86/journal!AR$6))","v":""},"","","",""]
[null,"A",{"$f":"IF(journal!C87=\"\",\"\",IF(journal!C87=\"a\",\"a\",journal!C87/journal!C$7))","v":""},{"$f":"IF(journal!D87=\"\",\"\",IF(journal!D87=\"a\",\"a\",journal!D87/journal!D$7))","v":""},{"$f":"IF(journal!E87=\"\",\"\",IF(journal!E87=\"a\",\"a\",journal!E87/journal!E$7))","v":""},{"$f":"IF(journal!F87=\"\",\"\",IF(journal!F87=\"a\",\"a\",journal!F87/journal!F$7))","v":""},{"$f":"IF(journal!G87=\"\",\"\",IF(journal!G87=\"a\",\"a\",journal!G87/journal!G$7))","v":""},{"$f":"IF(journal!H87=\"\",\"\",IF(journal!H87=\"a\",\"a\",journal!H87/journal!H$7))","v":""},{"$f":"IF(journal!I87=\"\",\"\",IF(journal!I87=\"a\",\"a\",journal!I87/journal!I$7))","v":""},{"$f":"IF(journal!J87=\"\",\"\",IF(journal!J87=\"a\",\"a\",journal!J87/journal!J$7))","v":""},{"$f":"IF(journal!K87=\"\",\"\",IF(journal!K87=\"a\",\"a\",journal!K87/journal!K$7))","v":""},{"$f":"IF(journal!L87=\"\",\"\",IF(journal!L87=\"a\",\"a\",journal!L87/journal!L$7))","v":""},{"$f":"IF(journal!M87=\"\",\"\",IF(journal!M87=\"a\",\"a\",journal!M87/journal!M$7))","v":""},{"$f":"IF(journal!N87=\"\",\"\",IF(journal!N87=\"a\",\"a\",journal!N87/journal!N$7))","v":""},{"$f":"IF(journal!O87=\"\",\"\",IF(journal!O87=\"a\",\"a\",journal!O87/journal!O$7))","v":""},{"$f":"IF(journal!P87=\"\",\"\",IF(journal!P87=\"a\",\"a\",journal!P87/journal!P$7))","v":""},{"$f":"IF(journal!Q87=\"\",\"\",IF(journal!Q87=\"a\",\"a\",journal!Q87/journal!Q$7))","v":""},{"$f":"IF(journal!R87=\"\",\"\",IF(journal!R87=\"a\",\"a\",journal!R87/journal!R$7))","v":""},{"$f":"IF(journal!S87=\"\",\"\",IF(journal!S87=\"a\",\"a\",journal!S87/journal!S$7))","v":""},{"$f":"IF(journal!T87=\"\",\"\",IF(journal!T87=\"a\",\"a\",journal!T87/journal!T$7))","v":""},{"$f":"IF(journal!U87=\"\",\"\",IF(journal!U87=\"a\",\"a\",journal!U87/journal!U$7))","v":""},{"$f":"IF(journal!V87=\"\",\"\",IF(journal!V87=\"a\",\"a\",journal!V87/journal!V$7))","v":""},{"$f":"IF(journal!W87=\"\",\"\",IF(journal!W87=\"a\",\"a\",journal!W87/journal!W$7))","v":""},{"$f":"IF(journal!X87=\"\",\"\",IF(journal!X87=\"a\",\"a\",journal!X87/journal!X$7))","v":""},{"$f":"IF(journal!Y87=\"\",\"\",IF(journal!Y87=\"a\",\"a\",journal!Y87/journal!Y$7))","v":""},{"$f":"IF(journal!Z87=\"\",\"\",IF(journal!Z87=\"a\",\"a\",journal!Z87/journal!Z$7))","v":""},{"$f":"IF(journal!AA87=\"\",\"\",IF(journal!AA87=\"a\",\"a\",journal!AA87/journal!AA$7))","v":""},{"$f":"IF(journal!AB87=\"\",\"\",IF(journal!AB87=\"a\",\"a\",journal!AB87/journal!AB$7))","v":""},{"$f":"IF(journal!AC87=\"\",\"\",IF(journal!AC87=\"a\",\"a\",journal!AC87/journal!AC$7))","v":""},{"$f":"IF(journal!AD87=\"\",\"\",IF(journal!AD87=\"a\",\"a\",journal!AD87/journal!AD$7))","v":""},{"$f":"IF(journal!AE87=\"\",\"\",IF(journal!AE87=\"a\",\"a\",journal!AE87/journal!AE$7))","v":""},{"$f":"IF(journal!AF87=\"\",\"\",IF(journal!AF87=\"a\",\"a\",journal!AF87/journal!AF$7))","v":""},{"$f":"IF(journal!AG87=\"\",\"\",IF(journal!AG87=\"a\",\"a\",journal!AG87/journal!AG$7))","v":""},{"$f":"IF(journal!AH87=\"\",\"\",IF(journal!AH87=\"a\",\"a\",journal!AH87/journal!AH$7))","v":""},{"$f":"IF(journal!AI87=\"\",\"\",IF(journal!AI87=\"a\",\"a\",journal!AI87/journal!AI$7))","v":""},{"$f":"IF(journal!AJ87=\"\",\"\",IF(journal!AJ87=\"a\",\"a\",journal!AJ87/journal!AJ$7))","v":""},{"$f":"IF(journal!AK87=\"\",\"\",IF(journal!AK87=\"a\",\"a\",journal!AK87/journal!AK$7))","v":""},{"$f":"IF(journal!AL87=\"\",\"\",IF(journal!AL87=\"a\",\"a\",journal!AL87/journal!AL$7))","v":""},{"$f":"IF(journal!AM87=\"\",\"\",IF(journal!AM87=\"a\",\"a\",journal!AM87/journal!AM$7))","v":""},{"$f":"IF(journal!AN87=\"\",\"\",IF(journal!AN87=\"a\",\"a\",journal!AN87/journal!AN$7))","v":""},{"$f":"IF(journal!AO87=\"\",\"\",IF(journal!AO87=\"a\",\"a\",journal!AO87/journal!AO$7))","v":""},{"$f":"IF(journal!AP87=\"\",\"\",IF(journal!AP87=\"a\",\"a\",journal!AP87/journal!AP$7))","v":""},{"$f":"IF(journal!AQ87=\"\",\"\",IF(journal!AQ87=\"a\",\"a\",journal!AQ87/journal!AQ$7))","v":""},{"$f":"IF(journal!AR87=\"\",\"\",IF(journal!AR87=\"a\",\"a\",journal!AR87/journal!AR$7))","v":""},"","","",""]
[null,"R",{"$f":"IF(journal!C88=\"\",\"\",IF(journal!C88=\"a\",\"a\",journal!C88/journal!C$8))","v":""},{"$f":"IF(journal!D88=\"\",\"\",IF(journal!D88=\"a\",\"a\",journal!D88/journal!D$8))","v":""},{"$f":"IF(journal!E88=\"\",\"\",IF(journal!E88=\"a\",\"a\",journal!E88/journal!E$8))","v":""},{"$f":"IF(journal!F88=\"\",\"\",IF(journal!F88=\"a\",\"a\",journal!F88/journal!F$8))","v":""},{"$f":"IF(journal!G88=\"\",\"\",IF(journal!G88=\"a\",\"a\",journal!G88/journal!G$8))","v":""},{"$f":"IF(journal!H88=\"\",\"\",IF(journal!H88=\"a\",\"a\",journal!H88/journal!H$8))","v":""},{"$f":"IF(journal!I88=\"\",\"\",IF(journal!I88=\"a\",\"a\",journal!I88/journal!I$8))","v":""},{"$f":"IF(journal!J88=\"\",\"\",IF(journal!J88=\"a\",\"a\",journal!J88/journal!J$8))","v":""},{"$f":"IF(journal!K88=\"\",\"\",IF(journal!K88=\"a\",\"a\",journal!K88/journal!K$8))","v":""},{"$f":"IF(journal!L88=\"\",\"\",IF(journal!L88=\"a\",\"a\",journal!L88/journal!L$8))","v":""},{"$f":"IF(journal!M88=\"\",\"\",IF(journal!M88=\"a\",\"a\",journal!M88/journal!M$8))","v":""},{"$f":"IF(journal!N88=\"\",\"\",IF(journal!N88=\"a\",\"a\",journal!N88/journal!N$8))","v":""},{"$f":"IF(journal!O88=\"\",\"\",IF(journal!O88=\"a\",\"a\",journal!O88/journal!O$8))","v":""},{"$f":"IF(journal!P88=\"\",\"\",IF(journal!P88=\"a\",\"a\",journal!P88/journal!P$8))","v":""},{"$f":"IF(journal!Q88=\"\",\"\",IF(journal!Q88=\"a\",\"a\",journal!Q88/journal!Q$8))","v":""},{"$f":"IF(journal!R88=\"\",\"\",IF(journal!R88=\"a\",\"a\",journal!R88/journal!R$8))","v":""},{"$f":"IF(journal!S88=\"\",\"\",IF(journal!S88=\"a\",\"a\",journal!S88/journal!S$8))","v":""},{"$f":"IF(journal!T88=\"\",\"\",IF(journal!T88=\"a\",\"a\",journal!T88/journal!T$8))","v":""},{"$f":"IF(journal!U88=\"\",\"\",IF(journal!U88=\"a\",\"a\",journal!U88/journal!U$8))","v":""},{"$f":"IF(journal!V88=\"\",\"\",IF(journal!V88=\"a\",\"a\",journal!V88/journal!V$8))","v":""},{"$f":"IF(journal!W88=\"\",\"\",IF(journal!W88=\"a\",\"a\",journal!W88/journal!W$8))","v":""},{"$f":"IF(journal!X88=\"\",\"\",IF(journal!X88=\"a\",\"a\",journal!X88/journal!X$8))","v":""},{"$f":"IF(journal!Y88=\"\",\"\",IF(journal!Y88=\"a\",\"a\",journal!Y88/journal!Y$8))","v":""},{"$f":"IF(journal!Z88=\"\",\"\",IF(journal!Z88=\"a\",\"a\",journal!Z88/journal!Z$8))","v":""},{"$f":"IF(journal!AA88=\"\",\"\",IF(journal!AA88=\"a\",\"a\",journal!AA88/journal!AA$8))","v":""},{"$f":"IF(journal!AB88=\"\",\"\",IF(journal!AB88=\"a\",\"a\",journal!AB88/journal!AB$8))","v":""},{"$f":"IF(journal!AC88=\"\",\"\",IF(journal!AC88=\"a\",\"a\",journal!AC88/journal!AC$8))","v":""},{"$f":"IF(journal!AD88=\"\",\"\",IF(journal!AD88=\"a\",\"a\",journal!AD88/journal!AD$8))","v":""},{"$f":"IF(journal!AE88=\"\",\"\",IF(journal!AE88=\"a\",\"a\",journal!AE88/journal!AE$8))","v":""},{"$f":"IF(journal!AF88=\"\",\"\",IF(journal!AF88=\"a\",\"a\",journal!AF88/journal!AF$8))","v":""},{"$f":"IF(journal!AG88=\"\",\"\",IF(journal!AG88=\"a\",\"a\",journal!AG88/journal!AG$8))","v":""},{"$f":"IF(journal!AH88=\"\",\"\",IF(journal!AH88=\"a\",\"a\",journal!AH88/journal!AH$8))","v":""},{"$f":"IF(journal!AI88=\"\",\"\",IF(journal!AI88=\"a\",\"a\",journal!AI88/journal!AI$8))","v":""},{"$f":"IF(journal!AJ88=\"\",\"\",IF(journal!AJ88=\"a\",\"a\",journal!AJ88/journal!AJ$8))","v":""},{"$f":"IF(journal!AK88=\"\",\"\",IF(journal!AK88=\"a\",\"a\",journal!AK88/journal!AK$8))","v":""},{"$f":"IF(journal!AL88=\"\",\"\",IF(journal!AL88=\"a\",\"a\",journal!AL88/journal!AL$8))","v":""},{"$f":"IF(journal!AM88=\"\",\"\",IF(journal!AM88=\"a\",\"a\",journal!AM88/journal!AM$8))","v":""},{"$f":"IF(journal!AN88=\"\",\"\",IF(journal!AN88=\"a\",\"a\",journal!AN88/journal!AN$8))","v":""},{"$f":"IF(journal!AO88=\"\",\"\",IF(journal!AO88=\"a\",\"a\",journal!AO88/journal!AO$8))","v":""},{"$f":"IF(journal!AP88=\"\",\"\",IF(journal!AP88=\"a\",\"a\",journal!AP88/journal!AP$8))","v":""},{"$f":"IF(journal!AQ88=\"\",\"\",IF(journal!AQ88=\"a\",\"a\",journal!AQ88/journal!AQ$8))","v":""},{"$f":"IF(journal!AR88=\"\",\"\",IF(journal!AR88=\"a\",\"a\",journal!AR88/journal!AR$8))","v":""},"","","",""]
[null,"V",{"$f":"IF(journal!C89=\"\",\"\",IF(journal!C89=\"a\",\"a\",journal!C89/journal!C$9))","v":""},{"$f":"IF(journal!D89=\"\",\"\",IF(journal!D89=\"a\",\"a\",journal!D89/journal!D$9))","v":""},{"$f":"IF(journal!E89=\"\",\"\",IF(journal!E89=\"a\",\"a\",journal!E89/journal!E$9))","v":""},{"$f":"IF(journal!F89=\"\",\"\",IF(journal!F89=\"a\",\"a\",journal!F89/journal!F$9))","v":""},{"$f":"IF(journal!G89=\"\",\"\",IF(journal!G89=\"a\",\"a\",journal!G89/journal!G$9))","v":""},{"$f":"IF(journal!H89=\"\",\"\",IF(journal!H89=\"a\",\"a\",journal!H89/journal!H$9))","v":""},{"$f":"IF(journal!I89=\"\",\"\",IF(journal!I89=\"a\",\"a\",journal!I89/journal!I$9))","v":""},{"$f":"IF(journal!J89=\"\",\"\",IF(journal!J89=\"a\",\"a\",journal!J89/journal!J$9))","v":""},{"$f":"IF(journal!K89=\"\",\"\",IF(journal!K89=\"a\",\"a\",journal!K89/journal!K$9))","v":""},{"$f":"IF(journal!L89=\"\",\"\",IF(journal!L89=\"a\",\"a\",journal!L89/journal!L$9))","v":""},{"$f":"IF(journal!M89=\"\",\"\",IF(journal!M89=\"a\",\"a\",journal!M89/journal!M$9))","v":""},{"$f":"IF(journal!N89=\"\",\"\",IF(journal!N89=\"a\",\"a\",journal!N89/journal!N$9))","v":""},{"$f":"IF(journal!O89=\"\",\"\",IF(journal!O89=\"a\",\"a\",journal!O89/journal!O$9))","v":""},{"$f":"IF(journal!P89=\"\",\"\",IF(journal!P89=\"a\",\"a\",journal!P89/journal!P$9))","v":""},{"$f":"IF(journal!Q89=\"\",\"\",IF(journal!Q89=\"a\",\"a\",journal!Q89/journal!Q$9))","v":""},{"$f":"IF(journal!R89=\"\",\"\",IF(journal!R89=\"a\",\"a\",journal!R89/journal!R$9))","v":""},{"$f":"IF(journal!S89=\"\",\"\",IF(journal!S89=\"a\",\"a\",journal!S89/journal!S$9))","v":""},{"$f":"IF(journal!T89=\"\",\"\",IF(journal!T89=\"a\",\"a\",journal!T89/journal!T$9))","v":""},{"$f":"IF(journal!U89=\"\",\"\",IF(journal!U89=\"a\",\"a\",journal!U89/journal!U$9))","v":""},{"$f":"IF(journal!V89=\"\",\"\",IF(journal!V89=\"a\",\"a\",journal!V89/journal!V$9))","v":""},{"$f":"IF(journal!W89=\"\",\"\",IF(journal!W89=\"a\",\"a\",journal!W89/journal!W$9))","v":""},{"$f":"IF(journal!X89=\"\",\"\",IF(journal!X89=\"a\",\"a\",journal!X89/journal!X$9))","v":""},{"$f":"IF(journal!Y89=\"\",\"\",IF(journal!Y89=\"a\",\"a\",journal!Y89/journal!Y$9))","v":""},{"$f":"IF(journal!Z89=\"\",\"\",IF(journal!Z89=\"a\",\"a\",journal!Z89/journal!Z$9))","v":""},{"$f":"IF(journal!AA89=\"\",\"\",IF(journal!AA89=\"a\",\"a\",journal!AA89/journal!AA$9))","v":""},{"$f":"IF(journal!AB89=\"\",\"\",IF(journal!AB89=\"a\",\"a\",journal!AB89/journal!AB$9))","v":""},{"$f":"IF(journal!AC89=\"\",\"\",IF(journal!AC89=\"a\",\"a\",journal!AC89/journal!AC$9))","v":""},{"$f":"IF(journal!AD89=\"\",\"\",IF(journal!AD89=\"a\",\"a\",journal!AD89/journal!AD$9))","v":""},{"$f":"IF(journal!AE89=\"\",\"\",IF(journal!AE89=\"a\",\"a\",journal!AE89/journal!AE$9))","v":""},{"$f":"IF(journal!AF89=\"\",\"\",IF(journal!AF89=\"a\",\"a\",journal!AF89/journal!AF$9))","v":""},{"$f":"IF(journal!AG89=\"\",\"\",IF(journal!AG89=\"a\",\"a\",journal!AG89/journal!AG$9))","v":""},{"$f":"IF(journal!AH89=\"\",\"\",IF(journal!AH89=\"a\",\"a\",journal!AH89/journal!AH$9))","v":""},{"$f":"IF(journal!AI89=\"\",\"\",IF(journal!AI89=\"a\",\"a\",journal!AI89/journal!AI$9))","v":""},{"$f":"IF(journal!AJ89=\"\",\"\",IF(journal!AJ89=\"a\",\"a\",journal!AJ89/journal!AJ$9))","v":""},{"$f":"IF(journal!AK89=\"\",\"\",IF(journal!AK89=\"a\",\"a\",journal!AK89/journal!AK$9))","v":""},{"$f":"IF(journal!AL89=\"\",\"\",IF(journal!AL89=\"a\",\"a\",journal!AL89/journal!AL$9))","v":""},{"$f":"IF(journal!AM89=\"\",\"\",IF(journal!AM89=\"a\",\"a\",journal!AM89/journal!AM$9))","v":""},{"$f":"IF(journal!AN89=\"\",\"\",IF(journal!AN89=\"a\",\"a\",journal!AN89/journal!AN$9))","v":""},{"$f":"IF(journal!AO89=\"\",\"\",IF(journal!AO89=\"a\",\"a\",journal!AO89/journal!AO$9))","v":""},{"$f":"IF(journal!AP89=\"\",\"\",IF(journal!AP89=\"a\",\"a\",journal!AP89/journal!AP$9))","v":""},{"$f":"IF(journal!AQ89=\"\",\"\",IF(journal!AQ89=\"a\",\"a\",journal!AQ89/journal!AQ$9))","v":""},{"$f":"IF(journal!AR89=\"\",\"\",IF(journal!AR89=\"a\",\"a\",journal!AR89/journal!AR$9))","v":""},"","","",""]
[null,"C",{"$f":"IF(journal!C90=\"\",\"\",IF(journal!C90=\"a\",\"a\",journal!C90/journal!C$10))","v":""},{"$f":"IF(journal!D90=\"\",\"\",IF(journal!D90=\"a\",\"a\",journal!D90/journal!D$10))","v":""},{"$f":"IF(journal!E90=\"\",\"\",IF(journal!E90=\"a\",\"a\",journal!E90/journal!E$10))","v":""},{"$f":"IF(journal!F90=\"\",\"\",IF(journal!F90=\"a\",\"a\",journal!F90/journal!F$10))","v":""},{"$f":"IF(journal!G90=\"\",\"\",IF(journal!G90=\"a\",\"a\",journal!G90/journal!G$10))","v":""},{"$f":"IF(journal!H90=\"\",\"\",IF(journal!H90=\"a\",\"a\",journal!H90/journal!H$10))","v":""},{"$f":"IF(journal!I90=\"\",\"\",IF(journal!I90=\"a\",\"a\",journal!I90/journal!I$10))","v":""},{"$f":"IF(journal!J90=\"\",\"\",IF(journal!J90=\"a\",\"a\",journal!J90/journal!J$10))","v":""},{"$f":"IF(journal!K90=\"\",\"\",IF(journal!K90=\"a\",\"a\",journal!K90/journal!K$10))","v":""},{"$f":"IF(journal!L90=\"\",\"\",IF(journal!L90=\"a\",\"a\",journal!L90/journal!L$10))","v":""},{"$f":"IF(journal!M90=\"\",\"\",IF(journal!M90=\"a\",\"a\",journal!M90/journal!M$10))","v":""},{"$f":"IF(journal!N90=\"\",\"\",IF(journal!N90=\"a\",\"a\",journal!N90/journal!N$10))","v":""},{"$f":"IF(journal!O90=\"\",\"\",IF(journal!O90=\"a\",\"a\",journal!O90/journal!O$10))","v":""},{"$f":"IF(journal!P90=\"\",\"\",IF(journal!P90=\"a\",\"a\",journal!P90/journal!P$10))","v":""},{"$f":"IF(journal!Q90=\"\",\"\",IF(journal!Q90=\"a\",\"a\",journal!Q90/journal!Q$10))","v":""},{"$f":"IF(journal!R90=\"\",\"\",IF(journal!R90=\"a\",\"a\",journal!R90/journal!R$10))","v":""},{"$f":"IF(journal!S90=\"\",\"\",IF(journal!S90=\"a\",\"a\",journal!S90/journal!S$10))","v":""},{"$f":"IF(journal!T90=\"\",\"\",IF(journal!T90=\"a\",\"a\",journal!T90/journal!T$10))","v":""},{"$f":"IF(journal!U90=\"\",\"\",IF(journal!U90=\"a\",\"a\",journal!U90/journal!U$10))","v":""},{"$f":"IF(journal!V90=\"\",\"\",IF(journal!V90=\"a\",\"a\",journal!V90/journal!V$10))","v":""},{"$f":"IF(journal!W90=\"\",\"\",IF(journal!W90=\"a\",\"a\",journal!W90/journal!W$10))","v":""},{"$f":"IF(journal!X90=\"\",\"\",IF(journal!X90=\"a\",\"a\",journal!X90/journal!X$10))","v":""},{"$f":"IF(journal!Y90=\"\",\"\",IF(journal!Y90=\"a\",\"a\",journal!Y90/journal!Y$10))","v":""},{"$f":"IF(journal!Z90=\"\",\"\",IF(journal!Z90=\"a\",\"a\",journal!Z90/journal!Z$10))","v":""},{"$f":"IF(journal!AA90=\"\",\"\",IF(journal!AA90=\"a\",\"a\",journal!AA90/journal!AA$10))","v":""},{"$f":"IF(journal!AB90=\"\",\"\",IF(journal!AB90=\"a\",\"a\",journal!AB90/journal!AB$10))","v":""},{"$f":"IF(journal!AC90=\"\",\"\",IF(journal!AC90=\"a\",\"a\",journal!AC90/journal!AC$10))","v":""},{"$f":"IF(journal!AD90=\"\",\"\",IF(journal!AD90=\"a\",\"a\",journal!AD90/journal!AD$10))","v":""},{"$f":"IF(journal!AE90=\"\",\"\",IF(journal!AE90=\"a\",\"a\",journal!AE90/journal!AE$10))","v":""},{"$f":"IF(journal!AF90=\"\",\"\",IF(journal!AF90=\"a\",\"a\",journal!AF90/journal!AF$10))","v":""},{"$f":"IF(journal!AG90=\"\",\"\",IF(journal!AG90=\"a\",\"a\",journal!AG90/journal!AG$10))","v":""},{"$f":"IF(journal!AH90=\"\",\"\",IF(journal!AH90=\"a\",\"a\",journal!AH90/journal!AH$10))","v":""},{"$f":"IF(journal!AI90=\"\",\"\",IF(journal!AI90=\"a\",\"a\",journal!AI90/journal!AI$10))","v":""},{"$f":"IF(journal!AJ90=\"\",\"\",IF(journal!AJ90=\"a\",\"a\",journal!AJ90/journal!AJ$10))","v":""},{"$f":"IF(journal!AK90=\"\",\"\",IF(journal!AK90=\"a\",\"a\",journal!AK90/journal!AK$10))","v":""},{"$f":"IF(journal!AL90=\"\",\"\",IF(journal!AL90=\"a\",\"a\",journal!AL90/journal!AL$10))","v":""},{"$f":"IF(journal!AM90=\"\",\"\",IF(journal!AM90=\"a\",\"a\",journal!AM90/journal!AM$10))","v":""},{"$f":"IF(journal!AN90=\"\",\"\",IF(journal!AN90=\"a\",\"a\",journal!AN90/journal!AN$10))","v":""},{"$f":"IF(journal!AO90=\"\",\"\",IF(journal!AO90=\"a\",\"a\",journal!AO90/journal!AO$10))","v":""},{"$f":"IF(journal!AP90=\"\",\"\",IF(journal!AP90=\"a\",\"a\",journal!AP90/journal!AP$10))","v":""},{"$f":"IF(journal!AQ90=\"\",\"\",IF(journal!AQ90=\"a\",\"a\",journal!AQ90/journal!AQ$10))","v":""},{"$f":"IF(journal!AR90=\"\",\"\",IF(journal!AR90=\"a\",\"a\",journal!AR90/journal!AR$10))","v":""},"","","",""]
[{"$f":"Saisie!A27","v":0},"S",{"$f":"IF(journal!C91=\"\",\"\",IF(journal!C91=\"a\",\"a\",journal!C91/journal!C$6))","v":""},{"$f":"IF(journal!D91=\"\",\"\",IF(journal!D91=\"a\",\"a\",journal!D91/journal!D$6))","v":""},{"$f":"IF(journal!E91=\"\",\"\",IF(journal!E91=\"a\",\"a\",journal!E91/journal!E$6))","v":""},{"$f":"IF(journal!F91=\"\",\"\",IF(journal!F91=\"a\",\"a\",journal!F91/journal!F$6))","v":""},{"$f":"IF(journal!G91=\"\",\"\",IF(journal!G91=\"a\",\"a\",journal!G91/journal!G$6))","v":""},{"$f":"IF(journal!H91=\"\",\"\",IF(journal!H91=\"a\",\"a\",journal!H91/journal!H$6))","v":""},{"$f":"IF(journal!I91=\"\",\"\",IF(journal!I91=\"a\",\"a\",journal!I91/journal!I$6))","v":""},{"$f":"IF(journal!J91=\"\",\"\",IF(journal!J91=\"a\",\"a\",journal!J91/journal!J$6))","v":""},{"$f":"IF(journal!K91=\"\",\"\",IF(journal!K91=\"a\",\"a\",journal!K91/journal!K$6))","v":""},{"$f":"IF(journal!L91=\"\",\"\",IF(journal!L91=\"a\",\"a\",journal!L91/journal!L$6))","v":""},{"$f":"IF(journal!M91=\"\",\"\",IF(journal!M91=\"a\",\"a\",journal!M91/journal!M$6))","v":""},{"$f":"IF(journal!N91=\"\",\"\",IF(journal!N91=\"a\",\"a\",journal!N91/journal!N$6))","v":""},{"$f":"IF(journal!O91=\"\",\"\",IF(journal!O91=\"a\",\"a\",journal!O91/journal!O$6))","v":""},{"$f":"IF(journal!P91=\"\",\"\",IF(journal!P91=\"a\",\"a\",journal!P91/journal!P$6))","v":""},{"$f":"IF(journal!Q91=\"\",\"\",IF(journal!Q91=\"a\",\"a\",journal!Q91/journal!Q$6))","v":""},{"$f":"IF(journal!R91=\"\",\"\",IF(journal!R91=\"a\",\"a\",journal!R91/journal!R$6))","v":""},{"$f":"IF(journal!S91=\"\",\"\",IF(journal!S91=\"a\",\"a\",journal!S91/journal!S$6))","v":""},{"$f":"IF(journal!T91=\"\",\"\",IF(journal!T91=\"a\",\"a\",journal!T91/journal!T$6))","v":""},{"$f":"IF(journal!U91=\"\",\"\",IF(journal!U91=\"a\",\"a\",journal!U91/journal!U$6))","v":""},{"$f":"IF(journal!V91=\"\",\"\",IF(journal!V91=\"a\",\"a\",journal!V91/journal!V$6))","v":""},{"$f":"IF(journal!W91=\"\",\"\",IF(journal!W91=\"a\",\"a\",journal!W91/journal!W$6))","v":""},{"$f":"IF(journal!X91=\"\",\"\",IF(journal!X91=\"a\",\"a\",journal!X91/journal!X$6))","v":""},{"$f":"IF(journal!Y91=\"\",\"\",IF(journal!Y91=\"a\",\"a\",journal!Y91/journal!Y$6))","v":""},{"$f":"IF(journal!Z91=\"\",\"\",IF(journal!Z91=\"a\",\"a\",journal!Z91/journal!Z$6))","v":""},{"$f":"IF(journal!AA91=\"\",\"\",IF(journal!AA91=\"a\",\"a\",journal!AA91/journal!AA$6))","v":""},{"$f":"IF(journal!AB91=\"\",\"\",IF(journal!AB91=\"a\",\"a\",journal!AB91/journal!AB$6))","v":""},{"$f":"IF(journal!AC91=\"\",\"\",IF(journal!AC91=\"a\",\"a\",journal!AC91/journal!AC$6))","v":""},{"$f":"IF(journal!AD91=\"\",\"\",IF(journal!AD91=\"a\",\"a\",journal!AD91/journal!AD$6))","v":""},{"$f":"IF(journal!AE91=\"\",\"\",IF(journal!AE91=\"a\",\"a\",journal!AE91/journal!AE$6))","v":""},{"$f":"IF(journal!AF91=\"\",\"\",IF(journal!AF91=\"a\",\"a\",journal!AF91/journal!AF$6))","v":""},{"$f":"IF(journal!AG91=\"\",\"\",IF(journal!AG91=\"a\",\"a\",journal!AG91/journal!AG$6))","v":""},{"$f":"IF(journal!AH91=\"\",\"\",IF(journal!AH91=\"a\",\"a\",journal!AH91/journal!AH$6))","v":""},{"$f":"IF(journal!AI91=\"\",\"\",IF(journal!AI91=\"a\",\"a\",journal!AI91/journal!AI$6))","v":""},{"$f":"IF(journal!AJ91=\"\",\"\",IF(journal!AJ91=\"a\",\"a\",journal!AJ91/journal!AJ$6))","v":""},{"$f":"IF(journal!AK91=\"\",\"\",IF(journal!AK91=\"a\",\"a\",journal!AK91/journal!AK$6))","v":""},{"$f":"IF(journal!AL91=\"\",\"\",IF(journal!AL91=\"a\",\"a\",journal!AL91/journal!AL$6))","v":""},{"$f":"IF(journal!AM91=\"\",\"\",IF(journal!AM91=\"a\",\"a\",journal!AM91/journal!AM$6))","v":""},{"$f":"IF(journal!AN91=\"\",\"\",IF(journal!AN91=\"a\",\"a\",journal!AN91/journal!AN$6))","v":""},{"$f":"IF(journal!AO91=\"\",\"\",IF(journal!AO91=\"a\",\"a\",journal!AO91/journal!AO$6))","v":""},{"$f":"IF(journal!AP91=\"\",\"\",IF(journal!AP91=\"a\",\"a\",journal!AP91/journal!AP$6))","v":""},{"$f":"IF(journal!AQ91=\"\",\"\",IF(journal!AQ91=\"a\",\"a\",journal!AQ91/journal!AQ$6))","v":""},{"$f":"IF(journal!AR91=\"\",\"\",IF(journal!AR91=\"a\",\"a\",journal!AR91/journal!AR$6))","v":""},"","","",""]
[null,"A",{"$f":"IF(journal!C92=\"\",\"\",IF(journal!C92=\"a\",\"a\",journal!C92/journal!C$7))","v":""},{"$f":"IF(journal!D92=\"\",\"\",IF(journal!D92=\"a\",\"a\",journal!D92/journal!D$7))","v":""},{"$f":"IF(journal!E92=\"\",\"\",IF(journal!E92=\"a\",\"a\",journal!E92/journal!E$7))","v":""},{"$f":"IF(journal!F92=\"\",\"\",IF(journal!F92=\"a\",\"a\",journal!F92/journal!F$7))","v":""},{"$f":"IF(journal!G92=\"\",\"\",IF(journal!G92=\"a\",\"a\",journal!G92/journal!G$7))","v":""},{"$f":"IF(journal!H92=\"\",\"\",IF(journal!H92=\"a\",\"a\",journal!H92/journal!H$7))","v":""},{"$f":"IF(journal!I92=\"\",\"\",IF(journal!I92=\"a\",\"a\",journal!I92/journal!I$7))","v":""},{"$f":"IF(journal!J92=\"\",\"\",IF(journal!J92=\"a\",\"a\",journal!J92/journal!J$7))","v":""},{"$f":"IF(journal!K92=\"\",\"\",IF(journal!K92=\"a\",\"a\",journal!K92/journal!K$7))","v":""},{"$f":"IF(journal!L92=\"\",\"\",IF(journal!L92=\"a\",\"a\",journal!L92/journal!L$7))","v":""},{"$f":"IF(journal!M92=\"\",\"\",IF(journal!M92=\"a\",\"a\",journal!M92/journal!M$7))","v":""},{"$f":"IF(journal!N92=\"\",\"\",IF(journal!N92=\"a\",\"a\",journal!N92/journal!N$7))","v":""},{"$f":"IF(journal!O92=\"\",\"\",IF(journal!O92=\"a\",\"a\",journal!O92/journal!O$7))","v":""},{"$f":"IF(journal!P92=\"\",\"\",IF(journal!P92=\"a\",\"a\",journal!P92/journal!P$7))","v":""},{"$f":"IF(journal!Q92=\"\",\"\",IF(journal!Q92=\"a\",\"a\",journal!Q92/journal!Q$7))","v":""},{"$f":"IF(journal!R92=\"\",\"\",IF(journal!R92=\"a\",\"a\",journal!R92/journal!R$7))","v":""},{"$f":"IF(journal!S92=\"\",\"\",IF(journal!S92=\"a\",\"a\",journal!S92/journal!S$7))","v":""},{"$f":"IF(journal!T92=\"\",\"\",IF(journal!T92=\"a\",\"a\",journal!T92/journal!T$7))","v":""},{"$f":"IF(journal!U92=\"\",\"\",IF(journal!U92=\"a\",\"a\",journal!U92/journal!U$7))","v":""},{"$f":"IF(journal!V92=\"\",\"\",IF(journal!V92=\"a\",\"a\",journal!V92/journal!V$7))","v":""},{"$f":"IF(journal!W92=\"\",\"\",IF(journal!W92=\"a\",\"a\",journal!W92/journal!W$7))","v":""},{"$f":"IF(journal!X92=\"\",\"\",IF(journal!X92=\"a\",\"a\",journal!X92/journal!X$7))","v":""},{"$f":"IF(journal!Y92=\"\",\"\",IF(journal!Y92=\"a\",\"a\",journal!Y92/journal!Y$7))","v":""},{"$f":"IF(journal!Z92=\"\",\"\",IF(journal!Z92=\"a\",\"a\",journal!Z92/journal!Z$7))","v":""},{"$f":"IF(journal!AA92=\"\",\"\",IF(journal!AA92=\"a\",\"a\",journal!AA92/journal!AA$7))","v":""},{"$f":"IF(journal!AB92=\"\",\"\",IF(journal!AB92=\"a\",\"a\",journal!AB92/journal!AB$7))","v":""},{"$f":"IF(journal!AC92=\"\",\"\",IF(journal!AC92=\"a\",\"a\",journal!AC92/journal!AC$7))","v":""},{"$f":"IF(journal!AD92=\"\",\"\",IF(journal!AD92=\"a\",\"a\",journal!AD92/journal!AD$7))","v":""},{"$f":"IF(journal!AE92=\"\",\"\",IF(journal!AE92=\"a\",\"a\",journal!AE92/journal!AE$7))","v":""},{"$f":"IF(journal!AF92=\"\",\"\",IF(journal!AF92=\"a\",\"a\",journal!AF92/journal!AF$7))","v":""},{"$f":"IF(journal!AG92=\"\",\"\",IF(journal!AG92=\"a\",\"a\",journal!AG92/journal!AG$7))","v":""},{"$f":"IF(journal!AH92=\"\",\"\",IF(journal!AH92=\"a\",\"a\",journal!AH92/journal!AH$7))","v":""},{"$f":"IF(journal!AI92=\"\",\"\",IF(journal!AI92=\"a\",\"a\",journal!AI92/journal!AI$7))","v":""},{"$f":"IF(journal!AJ92=\"\",\"\",IF(journal!AJ92=\"a\",\"a\",journal!AJ92/journal!AJ$7))","v":""},{"$f":"IF(journal!AK92=\"\",\"\",IF(journal!AK92=\"a\",\"a\",journal!AK92/journal!AK$7))","v":""},{"$f":"IF(journal!AL92=\"\",\"\",IF(journal!AL92=\"a\",\"a\",journal!AL92/journal!AL$7))","v":""},{"$f":"IF(journal!AM92=\"\",\"\",IF(journal!AM92=\"a\",\"a\",journal!AM92/journal!AM$7))","v":""},{"$f":"IF(journal!AN92=\"\",\"\",IF(journal!AN92=\"a\",\"a\",journal!AN92/journal!AN$7))","v":""},{"$f":"IF(journal!AO92=\"\",\"\",IF(journal!AO92=\"a\",\"a\",journal!AO92/journal!AO$7))","v":""},{"$f":"IF(journal!AP92=\"\",\"\",IF(journal!AP92=\"a\",\"a\",journal!AP92/journal!AP$7))","v":""},{"$f":"IF(journal!AQ92=\"\",\"\",IF(journal!AQ92=\"a\",\"a\",journal!AQ92/journal!AQ$7))","v":""},{"$f":"IF(journal!AR92=\"\",\"\",IF(journal!AR92=\"a\",\"a\",journal!AR92/journal!AR$7))","v":""},"","","",""]
[null,"R",{"$f":"IF(journal!C93=\"\",\"\",IF(journal!C93=\"a\",\"a\",journal!C93/journal!C$8))","v":""},{"$f":"IF(journal!D93=\"\",\"\",IF(journal!D93=\"a\",\"a\",journal!D93/journal!D$8))","v":""},{"$f":"IF(journal!E93=\"\",\"\",IF(journal!E93=\"a\",\"a\",journal!E93/journal!E$8))","v":""},{"$f":"IF(journal!F93=\"\",\"\",IF(journal!F93=\"a\",\"a\",journal!F93/journal!F$8))","v":""},{"$f":"IF(journal!G93=\"\",\"\",IF(journal!G93=\"a\",\"a\",journal!G93/journal!G$8))","v":""},{"$f":"IF(journal!H93=\"\",\"\",IF(journal!H93=\"a\",\"a\",journal!H93/journal!H$8))","v":""},{"$f":"IF(journal!I93=\"\",\"\",IF(journal!I93=\"a\",\"a\",journal!I93/journal!I$8))","v":""},{"$f":"IF(journal!J93=\"\",\"\",IF(journal!J93=\"a\",\"a\",journal!J93/journal!J$8))","v":""},{"$f":"IF(journal!K93=\"\",\"\",IF(journal!K93=\"a\",\"a\",journal!K93/journal!K$8))","v":""},{"$f":"IF(journal!L93=\"\",\"\",IF(journal!L93=\"a\",\"a\",journal!L93/journal!L$8))","v":""},{"$f":"IF(journal!M93=\"\",\"\",IF(journal!M93=\"a\",\"a\",journal!M93/journal!M$8))","v":""},{"$f":"IF(journal!N93=\"\",\"\",IF(journal!N93=\"a\",\"a\",journal!N93/journal!N$8))","v":""},{"$f":"IF(journal!O93=\"\",\"\",IF(journal!O93=\"a\",\"a\",journal!O93/journal!O$8))","v":""},{"$f":"IF(journal!P93=\"\",\"\",IF(journal!P93=\"a\",\"a\",journal!P93/journal!P$8))","v":""},{"$f":"IF(journal!Q93=\"\",\"\",IF(journal!Q93=\"a\",\"a\",journal!Q93/journal!Q$8))","v":""},{"$f":"IF(journal!R93=\"\",\"\",IF(journal!R93=\"a\",\"a\",journal!R93/journal!R$8))","v":""},{"$f":"IF(journal!S93=\"\",\"\",IF(journal!S93=\"a\",\"a\",journal!S93/journal!S$8))","v":""},{"$f":"IF(journal!T93=\"\",\"\",IF(journal!T93=\"a\",\"a\",journal!T93/journal!T$8))","v":""},{"$f":"IF(journal!U93=\"\",\"\",IF(journal!U93=\"a\",\"a\",journal!U93/journal!U$8))","v":""},{"$f":"IF(journal!V93=\"\",\"\",IF(journal!V93=\"a\",\"a\",journal!V93/journal!V$8))","v":""},{"$f":"IF(journal!W93=\"\",\"\",IF(journal!W93=\"a\",\"a\",journal!W93/journal!W$8))","v":""},{"$f":"IF(journal!X93=\"\",\"\",IF(journal!X93=\"a\",\"a\",journal!X93/journal!X$8))","v":""},{"$f":"IF(journal!Y93=\"\",\"\",IF(journal!Y93=\"a\",\"a\",journal!Y93/journal!Y$8))","v":""},{"$f":"IF(journal!Z93=\"\",\"\",IF(journal!Z93=\"a\",\"a\",journal!Z93/journal!Z$8))","v":""},{"$f":"IF(journal!AA93=\"\",\"\",IF(journal!AA93=\"a\",\"a\",journal!AA93/journal!AA$8))","v":""},{"$f":"IF(journal!AB93=\"\",\"\",IF(journal!AB93=\"a\",\"a\",journal!AB93/journal!AB$8))","v":""},{"$f":"IF(journal!AC93=\"\",\"\",IF(journal!AC93=\"a\",\"a\",journal!AC93/journal!AC$8))","v":""},{"$f":"IF(journal!AD93=\"\",\"\",IF(journal!AD93=\"a\",\"a\",journal!AD93/journal!AD$8))","v":""},{"$f":"IF(journal!AE93=\"\",\"\",IF(journal!AE93=\"a\",\"a\",journal!AE93/journal!AE$8))","v":""},{"$f":"IF(journal!AF93=\"\",\"\",IF(journal!AF93=\"a\",\"a\",journal!AF93/journal!AF$8))","v":""},{"$f":"IF(journal!AG93=\"\",\"\",IF(journal!AG93=\"a\",\"a\",journal!AG93/journal!AG$8))","v":""},{"$f":"IF(journal!AH93=\"\",\"\",IF(journal!AH93=\"a\",\"a\",journal!AH93/journal!AH$8))","v":""},{"$f":"IF(journal!AI93=\"\",\"\",IF(journal!AI93=\"a\",\"a\",journal!AI93/journal!AI$8))","v":""},{"$f":"IF(journal!AJ93=\"\",\"\",IF(journal!AJ93=\"a\",\"a\",journal!AJ93/journal!AJ$8))","v":""},{"$f":"IF(journal!AK93=\"\",\"\",IF(journal!AK93=\"a\",\"a\",journal!AK93/journal!AK$8))","v":""},{"$f":"IF(journal!AL93=\"\",\"\",IF(journal!AL93=\"a\",\"a\",journal!AL93/journal!AL$8))","v":""},{"$f":"IF(journal!AM93=\"\",\"\",IF(journal!AM93=\"a\",\"a\",journal!AM93/journal!AM$8))","v":""},{"$f":"IF(journal!AN93=\"\",\"\",IF(journal!AN93=\"a\",\"a\",journal!AN93/journal!AN$8))","v":""},{"$f":"IF(journal!AO93=\"\",\"\",IF(journal!AO93=\"a\",\"a\",journal!AO93/journal!AO$8))","v":""},{"$f":"IF(journal!AP93=\"\",\"\",IF(journal!AP93=\"a\",\"a\",journal!AP93/journal!AP$8))","v":""},{"$f":"IF(journal!AQ93=\"\",\"\",IF(journal!AQ93=\"a\",\"a\",journal!AQ93/journal!AQ$8))","v":""},{"$f":"IF(journal!AR93=\"\",\"\",IF(journal!AR93=\"a\",\"a\",journal!AR93/journal!AR$8))","v":""},"","","",""]
[null,"V",{"$f":"IF(journal!C94=\"\",\"\",IF(journal!C94=\"a\",\"a\",journal!C94/journal!C$9))","v":""},{"$f":"IF(journal!D94=\"\",\"\",IF(journal!D94=\"a\",\"a\",journal!D94/journal!D$9))","v":""},{"$f":"IF(journal!E94=\"\",\"\",IF(journal!E94=\"a\",\"a\",journal!E94/journal!E$9))","v":""},{"$f":"IF(journal!F94=\"\",\"\",IF(journal!F94=\"a\",\"a\",journal!F94/journal!F$9))","v":""},{"$f":"IF(journal!G94=\"\",\"\",IF(journal!G94=\"a\",\"a\",journal!G94/journal!G$9))","v":""},{"$f":"IF(journal!H94=\"\",\"\",IF(journal!H94=\"a\",\"a\",journal!H94/journal!H$9))","v":""},{"$f":"IF(journal!I94=\"\",\"\",IF(journal!I94=\"a\",\"a\",journal!I94/journal!I$9))","v":""},{"$f":"IF(journal!J94=\"\",\"\",IF(journal!J94=\"a\",\"a\",journal!J94/journal!J$9))","v":""},{"$f":"IF(journal!K94=\"\",\"\",IF(journal!K94=\"a\",\"a\",journal!K94/journal!K$9))","v":""},{"$f":"IF(journal!L94=\"\",\"\",IF(journal!L94=\"a\",\"a\",journal!L94/journal!L$9))","v":""},{"$f":"IF(journal!M94=\"\",\"\",IF(journal!M94=\"a\",\"a\",journal!M94/journal!M$9))","v":""},{"$f":"IF(journal!N94=\"\",\"\",IF(journal!N94=\"a\",\"a\",journal!N94/journal!N$9))","v":""},{"$f":"IF(journal!O94=\"\",\"\",IF(journal!O94=\"a\",\"a\",journal!O94/journal!O$9))","v":""},{"$f":"IF(journal!P94=\"\",\"\",IF(journal!P94=\"a\",\"a\",journal!P94/journal!P$9))","v":""},{"$f":"IF(journal!Q94=\"\",\"\",IF(journal!Q94=\"a\",\"a\",journal!Q94/journal!Q$9))","v":""},{"$f":"IF(journal!R94=\"\",\"\",IF(journal!R94=\"a\",\"a\",journal!R94/journal!R$9))","v":""},{"$f":"IF(journal!S94=\"\",\"\",IF(journal!S94=\"a\",\"a\",journal!S94/journal!S$9))","v":""},{"$f":"IF(journal!T94=\"\",\"\",IF(journal!T94=\"a\",\"a\",journal!T94/journal!T$9))","v":""},{"$f":"IF(journal!U94=\"\",\"\",IF(journal!U94=\"a\",\"a\",journal!U94/journal!U$9))","v":""},{"$f":"IF(journal!V94=\"\",\"\",IF(journal!V94=\"a\",\"a\",journal!V94/journal!V$9))","v":""},{"$f":"IF(journal!W94=\"\",\"\",IF(journal!W94=\"a\",\"a\",journal!W94/journal!W$9))","v":""},{"$f":"IF(journal!X94=\"\",\"\",IF(journal!X94=\"a\",\"a\",journal!X94/journal!X$9))","v":""},{"$f":"IF(journal!Y94=\"\",\"\",IF(journal!Y94=\"a\",\"a\",journal!Y94/journal!Y$9))","v":""},{"$f":"IF(journal!Z94=\"\",\"\",IF(journal!Z94=\"a\",\"a\",journal!Z94/journal!Z$9))","v":""},{"$f":"IF(journal!AA94=\"\",\"\",IF(journal!AA94=\"a\",\"a\",journal!AA94/journal!AA$9))","v":""},{"$f":"IF(journal!AB94=\"\",\"\",IF(journal!AB94=\"a\",\"a\",journal!AB94/journal!AB$9))","v":""},{"$f":"IF(journal!AC94=\"\",\"\",IF(journal!AC94=\"a\",\"a\",journal!AC94/journal!AC$9))","v":""},{"$f":"IF(journal!AD94=\"\",\"\",IF(journal!AD94=\"a\",\"a\",journal!AD94/journal!AD$9))","v":""},{"$f":"IF(journal!AE94=\"\",\"\",IF(journal!AE94=\"a\",\"a\",journal!AE94/journal!AE$9))","v":""},{"$f":"IF(journal!AF94=\"\",\"\",IF(journal!AF94=\"a\",\"a\",journal!AF94/journal!AF$9))","v":""},{"$f":"IF(journal!AG94=\"\",\"\",IF(journal!AG94=\"a\",\"a\",journal!AG94/journal!AG$9))","v":""},{"$f":"IF(journal!AH94=\"\",\"\",IF(journal!AH94=\"a\",\"a\",journal!AH94/journal!AH$9))","v":""},{"$f":"IF(journal!AI94=\"\",\"\",IF(journal!AI94=\"a\",\"a\",journal!AI94/journal!AI$9))","v":""},{"$f":"IF(journal!AJ94=\"\",\"\",IF(journal!AJ94=\"a\",\"a\",journal!AJ94/journal!AJ$9))","v":""},{"$f":"IF(journal!AK94=\"\",\"\",IF(journal!AK94=\"a\",\"a\",journal!AK94/journal!AK$9))","v":""},{"$f":"IF(journal!AL94=\"\",\"\",IF(journal!AL94=\"a\",\"a\",journal!AL94/journal!AL$9))","v":""},{"$f":"IF(journal!AM94=\"\",\"\",IF(journal!AM94=\"a\",\"a\",journal!AM94/journal!AM$9))","v":""},{"$f":"IF(journal!AN94=\"\",\"\",IF(journal!AN94=\"a\",\"a\",journal!AN94/journal!AN$9))","v":""},{"$f":"IF(journal!AO94=\"\",\"\",IF(journal!AO94=\"a\",\"a\",journal!AO94/journal!AO$9))","v":""},{"$f":"IF(journal!AP94=\"\",\"\",IF(journal!AP94=\"a\",\"a\",journal!AP94/journal!AP$9))","v":""},{"$f":"IF(journal!AQ94=\"\",\"\",IF(journal!AQ94=\"a\",\"a\",journal!AQ94/journal!AQ$9))","v":""},{"$f":"IF(journal!AR94=\"\",\"\",IF(journal!AR94=\"a\",\"a\",journal!AR94/journal!AR$9))","v":""},"","","",""]
[null,"C",{"$f":"IF(journal!C95=\"\",\"\",IF(journal!C95=\"a\",\"a\",journal!C95/journal!C$10))","v":""},{"$f":"IF(journal!D95=\"\",\"\",IF(journal!D95=\"a\",\"a\",journal!D95/journal!D$10))","v":""},{"$f":"IF(journal!E95=\"\",\"\",IF(journal!E95=\"a\",\"a\",journal!E95/journal!E$10))","v":""},{"$f":"IF(journal!F95=\"\",\"\",IF(journal!F95=\"a\",\"a\",journal!F95/journal!F$10))","v":""},{"$f":"IF(journal!G95=\"\",\"\",IF(journal!G95=\"a\",\"a\",journal!G95/journal!G$10))","v":""},{"$f":"IF(journal!H95=\"\",\"\",IF(journal!H95=\"a\",\"a\",journal!H95/journal!H$10))","v":""},{"$f":"IF(journal!I95=\"\",\"\",IF(journal!I95=\"a\",\"a\",journal!I95/journal!I$10))","v":""},{"$f":"IF(journal!J95=\"\",\"\",IF(journal!J95=\"a\",\"a\",journal!J95/journal!J$10))","v":""},{"$f":"IF(journal!K95=\"\",\"\",IF(journal!K95=\"a\",\"a\",journal!K95/journal!K$10))","v":""},{"$f":"IF(journal!L95=\"\",\"\",IF(journal!L95=\"a\",\"a\",journal!L95/journal!L$10))","v":""},{"$f":"IF(journal!M95=\"\",\"\",IF(journal!M95=\"a\",\"a\",journal!M95/journal!M$10))","v":""},{"$f":"IF(journal!N95=\"\",\"\",IF(journal!N95=\"a\",\"a\",journal!N95/journal!N$10))","v":""},{"$f":"IF(journal!O95=\"\",\"\",IF(journal!O95=\"a\",\"a\",journal!O95/journal!O$10))","v":""},{"$f":"IF(journal!P95=\"\",\"\",IF(journal!P95=\"a\",\"a\",journal!P95/journal!P$10))","v":""},{"$f":"IF(journal!Q95=\"\",\"\",IF(journal!Q95=\"a\",\"a\",journal!Q95/journal!Q$10))","v":""},{"$f":"IF(journal!R95=\"\",\"\",IF(journal!R95=\"a\",\"a\",journal!R95/journal!R$10))","v":""},{"$f":"IF(journal!S95=\"\",\"\",IF(journal!S95=\"a\",\"a\",journal!S95/journal!S$10))","v":""},{"$f":"IF(journal!T95=\"\",\"\",IF(journal!T95=\"a\",\"a\",journal!T95/journal!T$10))","v":""},{"$f":"IF(journal!U95=\"\",\"\",IF(journal!U95=\"a\",\"a\",journal!U95/journal!U$10))","v":""},{"$f":"IF(journal!V95=\"\",\"\",IF(journal!V95=\"a\",\"a\",journal!V95/journal!V$10))","v":""},{"$f":"IF(journal!W95=\"\",\"\",IF(journal!W95=\"a\",\"a\",journal!W95/journal!W$10))","v":""},{"$f":"IF(journal!X95=\"\",\"\",IF(journal!X95=\"a\",\"a\",journal!X95/journal!X$10))","v":""},{"$f":"IF(journal!Y95=\"\",\"\",IF(journal!Y95=\"a\",\"a\",journal!Y95/journal!Y$10))","v":""},{"$f":"IF(journal!Z95=\"\",\"\",IF(journal!Z95=\"a\",\"a\",journal!Z95/journal!Z$10))","v":""},{"$f":"IF(journal!AA95=\"\",\"\",IF(journal!AA95=\"a\",\"a\",journal!AA95/journal!AA$10))","v":""},{"$f":"IF(journal!AB95=\"\",\"\",IF(journal!AB95=\"a\",\"a\",journal!AB95/journal!AB$10))","v":""},{"$f":"IF(journal!AC95=\"\",\"\",IF(journal!AC95=\"a\",\"a\",journal!AC95/journal!AC$10))","v":""},{"$f":"IF(journal!AD95=\"\",\"\",IF(journal!AD95=\"a\",\"a\",journal!AD95/journal!AD$10))","v":""},{"$f":"IF(journal!AE95=\"\",\"\",IF(journal!AE95=\"a\",\"a\",journal!AE95/journal!AE$10))","v":""},{"$f":"IF(journal!AF95=\"\",\"\",IF(journal!AF95=\"a\",\"a\",journal!AF95/journal!AF$10))","v":""},{"$f":"IF(journal!AG95=\"\",\"\",IF(journal!AG95=\"a\",\"a\",journal!AG95/journal!AG$10))","v":""},{"$f":"IF(journal!AH95=\"\",\"\",IF(journal!AH95=\"a\",\"a\",journal!AH95/journal!AH$10))","v":""},{"$f":"IF(journal!AI95=\"\",\"\",IF(journal!AI95=\"a\",\"a\",journal!AI95/journal!AI$10))","v":""},{"$f":"IF(journal!AJ95=\"\",\"\",IF(journal!AJ95=\"a\",\"a\",journal!AJ95/journal!AJ$10))","v":""},{"$f":"IF(journal!AK95=\"\",\"\",IF(journal!AK95=\"a\",\"a\",journal!AK95/journal!AK$10))","v":""},{"$f":"IF(journal!AL95=\"\",\"\",IF(journal!AL95=\"a\",\"a\",journal!AL95/journal!AL$10))","v":""},{"$f":"IF(journal!AM95=\"\",\"\",IF(journal!AM95=\"a\",\"a\",journal!AM95/journal!AM$10))","v":""},{"$f":"IF(journal!AN95=\"\",\"\",IF(journal!AN95=\"a\",\"a\",journal!AN95/journal!AN$10))","v":""},{"$f":"IF(journal!AO95=\"\",\"\",IF(journal!AO95=\"a\",\"a\",journal!AO95/journal!AO$10))","v":""},{"$f":"IF(journal!AP95=\"\",\"\",IF(journal!AP95=\"a\",\"a\",journal!AP95/journal!AP$10))","v":""},{"$f":"IF(journal!AQ95=\"\",\"\",IF(journal!AQ95=\"a\",\"a\",journal!AQ95/journal!AQ$10))","v":""},{"$f":"IF(journal!AR95=\"\",\"\",IF(journal!AR95=\"a\",\"a\",journal!AR95/journal!AR$10))","v":""},"","","",""]
[{"$f":"Saisie!A28","v":0},"S",{"$f":"IF(journal!C96=\"\",\"\",IF(journal!C96=\"a\",\"a\",journal!C96/journal!C$6))","v":""},{"$f":"IF(journal!D96=\"\",\"\",IF(journal!D96=\"a\",\"a\",journal!D96/journal!D$6))","v":""},{"$f":"IF(journal!E96=\"\",\"\",IF(journal!E96=\"a\",\"a\",journal!E96/journal!E$6))","v":""},{"$f":"IF(journal!F96=\"\",\"\",IF(journal!F96=\"a\",\"a\",journal!F96/journal!F$6))","v":""},{"$f":"IF(journal!G96=\"\",\"\",IF(journal!G96=\"a\",\"a\",journal!G96/journal!G$6))","v":""},{"$f":"IF(journal!H96=\"\",\"\",IF(journal!H96=\"a\",\"a\",journal!H96/journal!H$6))","v":""},{"$f":"IF(journal!I96=\"\",\"\",IF(journal!I96=\"a\",\"a\",journal!I96/journal!I$6))","v":""},{"$f":"IF(journal!J96=\"\",\"\",IF(journal!J96=\"a\",\"a\",journal!J96/journal!J$6))","v":""},{"$f":"IF(journal!K96=\"\",\"\",IF(journal!K96=\"a\",\"a\",journal!K96/journal!K$6))","v":""},{"$f":"IF(journal!L96=\"\",\"\",IF(journal!L96=\"a\",\"a\",journal!L96/journal!L$6))","v":""},{"$f":"IF(journal!M96=\"\",\"\",IF(journal!M96=\"a\",\"a\",journal!M96/journal!M$6))","v":""},{"$f":"IF(journal!N96=\"\",\"\",IF(journal!N96=\"a\",\"a\",journal!N96/journal!N$6))","v":""},{"$f":"IF(journal!O96=\"\",\"\",IF(journal!O96=\"a\",\"a\",journal!O96/journal!O$6))","v":""},{"$f":"IF(journal!P96=\"\",\"\",IF(journal!P96=\"a\",\"a\",journal!P96/journal!P$6))","v":""},{"$f":"IF(journal!Q96=\"\",\"\",IF(journal!Q96=\"a\",\"a\",journal!Q96/journal!Q$6))","v":""},{"$f":"IF(journal!R96=\"\",\"\",IF(journal!R96=\"a\",\"a\",journal!R96/journal!R$6))","v":""},{"$f":"IF(journal!S96=\"\",\"\",IF(journal!S96=\"a\",\"a\",journal!S96/journal!S$6))","v":""},{"$f":"IF(journal!T96=\"\",\"\",IF(journal!T96=\"a\",\"a\",journal!T96/journal!T$6))","v":""},{"$f":"IF(journal!U96=\"\",\"\",IF(journal!U96=\"a\",\"a\",journal!U96/journal!U$6))","v":""},{"$f":"IF(journal!V96=\"\",\"\",IF(journal!V96=\"a\",\"a\",journal!V96/journal!V$6))","v":""},{"$f":"IF(journal!W96=\"\",\"\",IF(journal!W96=\"a\",\"a\",journal!W96/journal!W$6))","v":""},{"$f":"IF(journal!X96=\"\",\"\",IF(journal!X96=\"a\",\"a\",journal!X96/journal!X$6))","v":""},{"$f":"IF(journal!Y96=\"\",\"\",IF(journal!Y96=\"a\",\"a\",journal!Y96/journal!Y$6))","v":""},{"$f":"IF(journal!Z96=\"\",\"\",IF(journal!Z96=\"a\",\"a\",journal!Z96/journal!Z$6))","v":""},{"$f":"IF(journal!AA96=\"\",\"\",IF(journal!AA96=\"a\",\"a\",journal!AA96/journal!AA$6))","v":""},{"$f":"IF(journal!AB96=\"\",\"\",IF(journal!AB96=\"a\",\"a\",journal!AB96/journal!AB$6))","v":""},{"$f":"IF(journal!AC96=\"\",\"\",IF(journal!AC96=\"a\",\"a\",journal!AC96/journal!AC$6))","v":""},{"$f":"IF(journal!AD96=\"\",\"\",IF(journal!AD96=\"a\",\"a\",journal!AD96/journal!AD$6))","v":""},{"$f":"IF(journal!AE96=\"\",\"\",IF(journal!AE96=\"a\",\"a\",journal!AE96/journal!AE$6))","v":""},{"$f":"IF(journal!AF96=\"\",\"\",IF(journal!AF96=\"a\",\"a\",journal!AF96/journal!AF$6))","v":""},{"$f":"IF(journal!AG96=\"\",\"\",IF(journal!AG96=\"a\",\"a\",journal!AG96/journal!AG$6))","v":""},{"$f":"IF(journal!AH96=\"\",\"\",IF(journal!AH96=\"a\",\"a\",journal!AH96/journal!AH$6))","v":""},{"$f":"IF(journal!AI96=\"\",\"\",IF(journal!AI96=\"a\",\"a\",journal!AI96/journal!AI$6))","v":""},{"$f":"IF(journal!AJ96=\"\",\"\",IF(journal!AJ96=\"a\",\"a\",journal!AJ96/journal!AJ$6))","v":""},{"$f":"IF(journal!AK96=\"\",\"\",IF(journal!AK96=\"a\",\"a\",journal!AK96/journal!AK$6))","v":""},{"$f":"IF(journal!AL96=\"\",\"\",IF(journal!AL96=\"a\",\"a\",journal!AL96/journal!AL$6))","v":""},{"$f":"IF(journal!AM96=\"\",\"\",IF(journal!AM96=\"a\",\"a\",journal!AM96/journal!AM$6))","v":""},{"$f":"IF(journal!AN96=\"\",\"\",IF(journal!AN96=\"a\",\"a\",journal!AN96/journal!AN$6))","v":""},{"$f":"IF(journal!AO96=\"\",\"\",IF(journal!AO96=\"a\",\"a\",journal!AO96/journal!AO$6))","v":""},{"$f":"IF(journal!AP96=\"\",\"\",IF(journal!AP96=\"a\",\"a\",journal!AP96/journal!AP$6))","v":""},{"$f":"IF(journal!AQ96=\"\",\"\",IF(journal!AQ96=\"a\",\"a\",journal!AQ96/journal!AQ$6))","v":""},{"$f":"IF(journal!AR96=\"\",\"\",IF(journal!AR96=\"a\",\"a\",journal!AR96/journal!AR$6))","v":""},"","","",""]
[null,"A",{"$f":"IF(journal!C97=\"\",\"\",IF(journal!C97=\"a\",\"a\",journal!C97/journal!C$7))","v":""},{"$f":"IF(journal!D97=\"\",\"\",IF(journal!D97=\"a\",\"a\",journal!D97/journal!D$7))","v":""},{"$f":"IF(journal!E97=\"\",\"\",IF(journal!E97=\"a\",\"a\",journal!E97/journal!E$7))","v":""},{"$f":"IF(journal!F97=\"\",\"\",IF(journal!F97=\"a\",\"a\",journal!F97/journal!F$7))","v":""},{"$f":"IF(journal!G97=\"\",\"\",IF(journal!G97=\"a\",\"a\",journal!G97/journal!G$7))","v":""},{"$f":"IF(journal!H97=\"\",\"\",IF(journal!H97=\"a\",\"a\",journal!H97/journal!H$7))","v":""},{"$f":"IF(journal!I97=\"\",\"\",IF(journal!I97=\"a\",\"a\",journal!I97/journal!I$7))","v":""},{"$f":"IF(journal!J97=\"\",\"\",IF(journal!J97=\"a\",\"a\",journal!J97/journal!J$7))","v":""},{"$f":"IF(journal!K97=\"\",\"\",IF(journal!K97=\"a\",\"a\",journal!K97/journal!K$7))","v":""},{"$f":"IF(journal!L97=\"\",\"\",IF(journal!L97=\"a\",\"a\",journal!L97/journal!L$7))","v":""},{"$f":"IF(journal!M97=\"\",\"\",IF(journal!M97=\"a\",\"a\",journal!M97/journal!M$7))","v":""},{"$f":"IF(journal!N97=\"\",\"\",IF(journal!N97=\"a\",\"a\",journal!N97/journal!N$7))","v":""},{"$f":"IF(journal!O97=\"\",\"\",IF(journal!O97=\"a\",\"a\",journal!O97/journal!O$7))","v":""},{"$f":"IF(journal!P97=\"\",\"\",IF(journal!P97=\"a\",\"a\",journal!P97/journal!P$7))","v":""},{"$f":"IF(journal!Q97=\"\",\"\",IF(journal!Q97=\"a\",\"a\",journal!Q97/journal!Q$7))","v":""},{"$f":"IF(journal!R97=\"\",\"\",IF(journal!R97=\"a\",\"a\",journal!R97/journal!R$7))","v":""},{"$f":"IF(journal!S97=\"\",\"\",IF(journal!S97=\"a\",\"a\",journal!S97/journal!S$7))","v":""},{"$f":"IF(journal!T97=\"\",\"\",IF(journal!T97=\"a\",\"a\",journal!T97/journal!T$7))","v":""},{"$f":"IF(journal!U97=\"\",\"\",IF(journal!U97=\"a\",\"a\",journal!U97/journal!U$7))","v":""},{"$f":"IF(journal!V97=\"\",\"\",IF(journal!V97=\"a\",\"a\",journal!V97/journal!V$7))","v":""},{"$f":"IF(journal!W97=\"\",\"\",IF(journal!W97=\"a\",\"a\",journal!W97/journal!W$7))","v":""},{"$f":"IF(journal!X97=\"\",\"\",IF(journal!X97=\"a\",\"a\",journal!X97/journal!X$7))","v":""},{"$f":"IF(journal!Y97=\"\",\"\",IF(journal!Y97=\"a\",\"a\",journal!Y97/journal!Y$7))","v":""},{"$f":"IF(journal!Z97=\"\",\"\",IF(journal!Z97=\"a\",\"a\",journal!Z97/journal!Z$7))","v":""},{"$f":"IF(journal!AA97=\"\",\"\",IF(journal!AA97=\"a\",\"a\",journal!AA97/journal!AA$7))","v":""},{"$f":"IF(journal!AB97=\"\",\"\",IF(journal!AB97=\"a\",\"a\",journal!AB97/journal!AB$7))","v":""},{"$f":"IF(journal!AC97=\"\",\"\",IF(journal!AC97=\"a\",\"a\",journal!AC97/journal!AC$7))","v":""},{"$f":"IF(journal!AD97=\"\",\"\",IF(journal!AD97=\"a\",\"a\",journal!AD97/journal!AD$7))","v":""},{"$f":"IF(journal!AE97=\"\",\"\",IF(journal!AE97=\"a\",\"a\",journal!AE97/journal!AE$7))","v":""},{"$f":"IF(journal!AF97=\"\",\"\",IF(journal!AF97=\"a\",\"a\",journal!AF97/journal!AF$7))","v":""},{"$f":"IF(journal!AG97=\"\",\"\",IF(journal!AG97=\"a\",\"a\",journal!AG97/journal!AG$7))","v":""},{"$f":"IF(journal!AH97=\"\",\"\",IF(journal!AH97=\"a\",\"a\",journal!AH97/journal!AH$7))","v":""},{"$f":"IF(journal!AI97=\"\",\"\",IF(journal!AI97=\"a\",\"a\",journal!AI97/journal!AI$7))","v":""},{"$f":"IF(journal!AJ97=\"\",\"\",IF(journal!AJ97=\"a\",\"a\",journal!AJ97/journal!AJ$7))","v":""},{"$f":"IF(journal!AK97=\"\",\"\",IF(journal!AK97=\"a\",\"a\",journal!AK97/journal!AK$7))","v":""},{"$f":"IF(journal!AL97=\"\",\"\",IF(journal!AL97=\"a\",\"a\",journal!AL97/journal!AL$7))","v":""},{"$f":"IF(journal!AM97=\"\",\"\",IF(journal!AM97=\"a\",\"a\",journal!AM97/journal!AM$7))","v":""},{"$f":"IF(journal!AN97=\"\",\"\",IF(journal!AN97=\"a\",\"a\",journal!AN97/journal!AN$7))","v":""},{"$f":"IF(journal!AO97=\"\",\"\",IF(journal!AO97=\"a\",\"a\",journal!AO97/journal!AO$7))","v":""},{"$f":"IF(journal!AP97=\"\",\"\",IF(journal!AP97=\"a\",\"a\",journal!AP97/journal!AP$7))","v":""},{"$f":"IF(journal!AQ97=\"\",\"\",IF(journal!AQ97=\"a\",\"a\",journal!AQ97/journal!AQ$7))","v":""},{"$f":"IF(journal!AR97=\"\",\"\",IF(journal!AR97=\"a\",\"a\",journal!AR97/journal!AR$7))","v":""},"","","",""]
[null,"R",{"$f":"IF(journal!C98=\"\",\"\",IF(journal!C98=\"a\",\"a\",journal!C98/journal!C$8))","v":""},{"$f":"IF(journal!D98=\"\",\"\",IF(journal!D98=\"a\",\"a\",journal!D98/journal!D$8))","v":""},{"$f":"IF(journal!E98=\"\",\"\",IF(journal!E98=\"a\",\"a\",journal!E98/journal!E$8))","v":""},{"$f":"IF(journal!F98=\"\",\"\",IF(journal!F98=\"a\",\"a\",journal!F98/journal!F$8))","v":""},{"$f":"IF(journal!G98=\"\",\"\",IF(journal!G98=\"a\",\"a\",journal!G98/journal!G$8))","v":""},{"$f":"IF(journal!H98=\"\",\"\",IF(journal!H98=\"a\",\"a\",journal!H98/journal!H$8))","v":""},{"$f":"IF(journal!I98=\"\",\"\",IF(journal!I98=\"a\",\"a\",journal!I98/journal!I$8))","v":""},{"$f":"IF(journal!J98=\"\",\"\",IF(journal!J98=\"a\",\"a\",journal!J98/journal!J$8))","v":""},{"$f":"IF(journal!K98=\"\",\"\",IF(journal!K98=\"a\",\"a\",journal!K98/journal!K$8))","v":""},{"$f":"IF(journal!L98=\"\",\"\",IF(journal!L98=\"a\",\"a\",journal!L98/journal!L$8))","v":""},{"$f":"IF(journal!M98=\"\",\"\",IF(journal!M98=\"a\",\"a\",journal!M98/journal!M$8))","v":""},{"$f":"IF(journal!N98=\"\",\"\",IF(journal!N98=\"a\",\"a\",journal!N98/journal!N$8))","v":""},{"$f":"IF(journal!O98=\"\",\"\",IF(journal!O98=\"a\",\"a\",journal!O98/journal!O$8))","v":""},{"$f":"IF(journal!P98=\"\",\"\",IF(journal!P98=\"a\",\"a\",journal!P98/journal!P$8))","v":""},{"$f":"IF(journal!Q98=\"\",\"\",IF(journal!Q98=\"a\",\"a\",journal!Q98/journal!Q$8))","v":""},{"$f":"IF(journal!R98=\"\",\"\",IF(journal!R98=\"a\",\"a\",journal!R98/journal!R$8))","v":""},{"$f":"IF(journal!S98=\"\",\"\",IF(journal!S98=\"a\",\"a\",journal!S98/journal!S$8))","v":""},{"$f":"IF(journal!T98=\"\",\"\",IF(journal!T98=\"a\",\"a\",journal!T98/journal!T$8))","v":""},{"$f":"IF(journal!U98=\"\",\"\",IF(journal!U98=\"a\",\"a\",journal!U98/journal!U$8))","v":""},{"$f":"IF(journal!V98=\"\",\"\",IF(journal!V98=\"a\",\"a\",journal!V98/journal!V$8))","v":""},{"$f":"IF(journal!W98=\"\",\"\",IF(journal!W98=\"a\",\"a\",journal!W98/journal!W$8))","v":""},{"$f":"IF(journal!X98=\"\",\"\",IF(journal!X98=\"a\",\"a\",journal!X98/journal!X$8))","v":""},{"$f":"IF(journal!Y98=\"\",\"\",IF(journal!Y98=\"a\",\"a\",journal!Y98/journal!Y$8))","v":""},{"$f":"IF(journal!Z98=\"\",\"\",IF(journal!Z98=\"a\",\"a\",journal!Z98/journal!Z$8))","v":""},{"$f":"IF(journal!AA98=\"\",\"\",IF(journal!AA98=\"a\",\"a\",journal!AA98/journal!AA$8))","v":""},{"$f":"IF(journal!AB98=\"\",\"\",IF(journal!AB98=\"a\",\"a\",journal!AB98/journal!AB$8))","v":""},{"$f":"IF(journal!AC98=\"\",\"\",IF(journal!AC98=\"a\",\"a\",journal!AC98/journal!AC$8))","v":""},{"$f":"IF(journal!AD98=\"\",\"\",IF(journal!AD98=\"a\",\"a\",journal!AD98/journal!AD$8))","v":""},{"$f":"IF(journal!AE98=\"\",\"\",IF(journal!AE98=\"a\",\"a\",journal!AE98/journal!AE$8))","v":""},{"$f":"IF(journal!AF98=\"\",\"\",IF(journal!AF98=\"a\",\"a\",journal!AF98/journal!AF$8))","v":""},{"$f":"IF(journal!AG98=\"\",\"\",IF(journal!AG98=\"a\",\"a\",journal!AG98/journal!AG$8))","v":""},{"$f":"IF(journal!AH98=\"\",\"\",IF(journal!AH98=\"a\",\"a\",journal!AH98/journal!AH$8))","v":""},{"$f":"IF(journal!AI98=\"\",\"\",IF(journal!AI98=\"a\",\"a\",journal!AI98/journal!AI$8))","v":""},{"$f":"IF(journal!AJ98=\"\",\"\",IF(journal!AJ98=\"a\",\"a\",journal!AJ98/journal!AJ$8))","v":""},{"$f":"IF(journal!AK98=\"\",\"\",IF(journal!AK98=\"a\",\"a\",journal!AK98/journal!AK$8))","v":""},{"$f":"IF(journal!AL98=\"\",\"\",IF(journal!AL98=\"a\",\"a\",journal!AL98/journal!AL$8))","v":""},{"$f":"IF(journal!AM98=\"\",\"\",IF(journal!AM98=\"a\",\"a\",journal!AM98/journal!AM$8))","v":""},{"$f":"IF(journal!AN98=\"\",\"\",IF(journal!AN98=\"a\",\"a\",journal!AN98/journal!AN$8))","v":""},{"$f":"IF(journal!AO98=\"\",\"\",IF(journal!AO98=\"a\",\"a\",journal!AO98/journal!AO$8))","v":""},{"$f":"IF(journal!AP98=\"\",\"\",IF(journal!AP98=\"a\",\"a\",journal!AP98/journal!AP$8))","v":""},{"$f":"IF(journal!AQ98=\"\",\"\",IF(journal!AQ98=\"a\",\"a\",journal!AQ98/journal!AQ$8))","v":""},{"$f":"IF(journal!AR98=\"\",\"\",IF(journal!AR98=\"a\",\"a\",journal!AR98/journal!AR$8))","v":""},"","","",""]
[null,"V",{"$f":"IF(journal!C99=\"\",\"\",IF(journal!C99=\"a\",\"a\",journal!C99/journal!C$9))","v":""},{"$f":"IF(journal!D99=\"\",\"\",IF(journal!D99=\"a\",\"a\",journal!D99/journal!D$9))","v":""},{"$f":"IF(journal!E99=\"\",\"\",IF(journal!E99=\"a\",\"a\",journal!E99/journal!E$9))","v":""},{"$f":"IF(journal!F99=\"\",\"\",IF(journal!F99=\"a\",\"a\",journal!F99/journal!F$9))","v":""},{"$f":"IF(journal!G99=\"\",\"\",IF(journal!G99=\"a\",\"a\",journal!G99/journal!G$9))","v":""},{"$f":"IF(journal!H99=\"\",\"\",IF(journal!H99=\"a\",\"a\",journal!H99/journal!H$9))","v":""},{"$f":"IF(journal!I99=\"\",\"\",IF(journal!I99=\"a\",\"a\",journal!I99/journal!I$9))","v":""},{"$f":"IF(journal!J99=\"\",\"\",IF(journal!J99=\"a\",\"a\",journal!J99/journal!J$9))","v":""},{"$f":"IF(journal!K99=\"\",\"\",IF(journal!K99=\"a\",\"a\",journal!K99/journal!K$9))","v":""},{"$f":"IF(journal!L99=\"\",\"\",IF(journal!L99=\"a\",\"a\",journal!L99/journal!L$9))","v":""},{"$f":"IF(journal!M99=\"\",\"\",IF(journal!M99=\"a\",\"a\",journal!M99/journal!M$9))","v":""},{"$f":"IF(journal!N99=\"\",\"\",IF(journal!N99=\"a\",\"a\",journal!N99/journal!N$9))","v":""},{"$f":"IF(journal!O99=\"\",\"\",IF(journal!O99=\"a\",\"a\",journal!O99/journal!O$9))","v":""},{"$f":"IF(journal!P99=\"\",\"\",IF(journal!P99=\"a\",\"a\",journal!P99/journal!P$9))","v":""},{"$f":"IF(journal!Q99=\"\",\"\",IF(journal!Q99=\"a\",\"a\",journal!Q99/journal!Q$9))","v":""},{"$f":"IF(journal!R99=\"\",\"\",IF(journal!R99=\"a\",\"a\",journal!R99/journal!R$9))","v":""},{"$f":"IF(journal!S99=\"\",\"\",IF(journal!S99=\"a\",\"a\",journal!S99/journal!S$9))","v":""},{"$f":"IF(journal!T99=\"\",\"\",IF(journal!T99=\"a\",\"a\",journal!T99/journal!T$9))","v":""},{"$f":"IF(journal!U99=\"\",\"\",IF(journal!U99=\"a\",\"a\",journal!U99/journal!U$9))","v":""},{"$f":"IF(journal!V99=\"\",\"\",IF(journal!V99=\"a\",\"a\",journal!V99/journal!V$9))","v":""},{"$f":"IF(journal!W99=\"\",\"\",IF(journal!W99=\"a\",\"a\",journal!W99/journal!W$9))","v":""},{"$f":"IF(journal!X99=\"\",\"\",IF(journal!X99=\"a\",\"a\",journal!X99/journal!X$9))","v":""},{"$f":"IF(journal!Y99=\"\",\"\",IF(journal!Y99=\"a\",\"a\",journal!Y99/journal!Y$9))","v":""},{"$f":"IF(journal!Z99=\"\",\"\",IF(journal!Z99=\"a\",\"a\",journal!Z99/journal!Z$9))","v":""},{"$f":"IF(journal!AA99=\"\",\"\",IF(journal!AA99=\"a\",\"a\",journal!AA99/journal!AA$9))","v":""},{"$f":"IF(journal!AB99=\"\",\"\",IF(journal!AB99=\"a\",\"a\",journal!AB99/journal!AB$9))","v":""},{"$f":"IF(journal!AC99=\"\",\"\",IF(journal!AC99=\"a\",\"a\",journal!AC99/journal!AC$9))","v":""},{"$f":"IF(journal!AD99=\"\",\"\",IF(journal!AD99=\"a\",\"a\",journal!AD99/journal!AD$9))","v":""},{"$f":"IF(journal!AE99=\"\",\"\",IF(journal!AE99=\"a\",\"a\",journal!AE99/journal!AE$9))","v":""},{"$f":"IF(journal!AF99=\"\",\"\",IF(journal!AF99=\"a\",\"a\",journal!AF99/journal!AF$9))","v":""},{"$f":"IF(journal!AG99=\"\",\"\",IF(journal!AG99=\"a\",\"a\",journal!AG99/journal!AG$9))","v":""},{"$f":"IF(journal!AH99=\"\",\"\",IF(journal!AH99=\"a\",\"a\",journal!AH99/journal!AH$9))","v":""},{"$f":"IF(journal!AI99=\"\",\"\",IF(journal!AI99=\"a\",\"a\",journal!AI99/journal!AI$9))","v":""},{"$f":"IF(journal!AJ99=\"\",\"\",IF(journal!AJ99=\"a\",\"a\",journal!AJ99/journal!AJ$9))","v":""},{"$f":"IF(journal!AK99=\"\",\"\",IF(journal!AK99=\"a\",\"a\",journal!AK99/journal!AK$9))","v":""},{"$f":"IF(journal!AL99=\"\",\"\",IF(journal!AL99=\"a\",\"a\",journal!AL99/journal!AL$9))","v":""},{"$f":"IF(journal!AM99=\"\",\"\",IF(journal!AM99=\"a\",\"a\",journal!AM99/journal!AM$9))","v":""},{"$f":"IF(journal!AN99=\"\",\"\",IF(journal!AN99=\"a\",\"a\",journal!AN99/journal!AN$9))","v":""},{"$f":"IF(journal!AO99=\"\",\"\",IF(journal!AO99=\"a\",\"a\",journal!AO99/journal!AO$9))","v":""},{"$f":"IF(journal!AP99=\"\",\"\",IF(journal!AP99=\"a\",\"a\",journal!AP99/journal!AP$9))","v":""},{"$f":"IF(journal!AQ99=\"\",\"\",IF(journal!AQ99=\"a\",\"a\",journal!AQ99/journal!AQ$9))","v":""},{"$f":"IF(journal!AR99=\"\",\"\",IF(journal!AR99=\"a\",\"a\",journal!AR99/journal!AR$9))","v":""},"","","",""]
[null,"C",{"$f":"IF(journal!C100=\"\",\"\",IF(journal!C100=\"a\",\"a\",journal!C100/journal!C$10))","v":""},{"$f":"IF(journal!D100=\"\",\"\",IF(journal!D100=\"a\",\"a\",journal!D100/journal!D$10))","v":""},{"$f":"IF(journal!E100=\"\",\"\",IF(journal!E100=\"a\",\"a\",journal!E100/journal!E$10))","v":""},{"$f":"IF(journal!F100=\"\",\"\",IF(journal!F100=\"a\",\"a\",journal!F100/journal!F$10))","v":""},{"$f":"IF(journal!G100=\"\",\"\",IF(journal!G100=\"a\",\"a\",journal!G100/journal!G$10))","v":""},{"$f":"IF(journal!H100=\"\",\"\",IF(journal!H100=\"a\",\"a\",journal!H100/journal!H$10))","v":""},{"$f":"IF(journal!I100=\"\",\"\",IF(journal!I100=\"a\",\"a\",journal!I100/journal!I$10))","v":""},{"$f":"IF(journal!J100=\"\",\"\",IF(journal!J100=\"a\",\"a\",journal!J100/journal!J$10))","v":""},{"$f":"IF(journal!K100=\"\",\"\",IF(journal!K100=\"a\",\"a\",journal!K100/journal!K$10))","v":""},{"$f":"IF(journal!L100=\"\",\"\",IF(journal!L100=\"a\",\"a\",journal!L100/journal!L$10))","v":""},{"$f":"IF(journal!M100=\"\",\"\",IF(journal!M100=\"a\",\"a\",journal!M100/journal!M$10))","v":""},{"$f":"IF(journal!N100=\"\",\"\",IF(journal!N100=\"a\",\"a\",journal!N100/journal!N$10))","v":""},{"$f":"IF(journal!O100=\"\",\"\",IF(journal!O100=\"a\",\"a\",journal!O100/journal!O$10))","v":""},{"$f":"IF(journal!P100=\"\",\"\",IF(journal!P100=\"a\",\"a\",journal!P100/journal!P$10))","v":""},{"$f":"IF(journal!Q100=\"\",\"\",IF(journal!Q100=\"a\",\"a\",journal!Q100/journal!Q$10))","v":""},{"$f":"IF(journal!R100=\"\",\"\",IF(journal!R100=\"a\",\"a\",journal!R100/journal!R$10))","v":""},{"$f":"IF(journal!S100=\"\",\"\",IF(journal!S100=\"a\",\"a\",journal!S100/journal!S$10))","v":""},{"$f":"IF(journal!T100=\"\",\"\",IF(journal!T100=\"a\",\"a\",journal!T100/journal!T$10))","v":""},{"$f":"IF(journal!U100=\"\",\"\",IF(journal!U100=\"a\",\"a\",journal!U100/journal!U$10))","v":""},{"$f":"IF(journal!V100=\"\",\"\",IF(journal!V100=\"a\",\"a\",journal!V100/journal!V$10))","v":""},{"$f":"IF(journal!W100=\"\",\"\",IF(journal!W100=\"a\",\"a\",journal!W100/journal!W$10))","v":""},{"$f":"IF(journal!X100=\"\",\"\",IF(journal!X100=\"a\",\"a\",journal!X100/journal!X$10))","v":""},{"$f":"IF(journal!Y100=\"\",\"\",IF(journal!Y100=\"a\",\"a\",journal!Y100/journal!Y$10))","v":""},{"$f":"IF(journal!Z100=\"\",\"\",IF(journal!Z100=\"a\",\"a\",journal!Z100/journal!Z$10))","v":""},{"$f":"IF(journal!AA100=\"\",\"\",IF(journal!AA100=\"a\",\"a\",journal!AA100/journal!AA$10))","v":""},{"$f":"IF(journal!AB100=\"\",\"\",IF(journal!AB100=\"a\",\"a\",journal!AB100/journal!AB$10))","v":""},{"$f":"IF(journal!AC100=\"\",\"\",IF(journal!AC100=\"a\",\"a\",journal!AC100/journal!AC$10))","v":""},{"$f":"IF(journal!AD100=\"\",\"\",IF(journal!AD100=\"a\",\"a\",journal!AD100/journal!AD$10))","v":""},{"$f":"IF(journal!AE100=\"\",\"\",IF(journal!AE100=\"a\",\"a\",journal!AE100/journal!AE$10))","v":""},{"$f":"IF(journal!AF100=\"\",\"\",IF(journal!AF100=\"a\",\"a\",journal!AF100/journal!AF$10))","v":""},{"$f":"IF(journal!AG100=\"\",\"\",IF(journal!AG100=\"a\",\"a\",journal!AG100/journal!AG$10))","v":""},{"$f":"IF(journal!AH100=\"\",\"\",IF(journal!AH100=\"a\",\"a\",journal!AH100/journal!AH$10))","v":""},{"$f":"IF(journal!AI100=\"\",\"\",IF(journal!AI100=\"a\",\"a\",journal!AI100/journal!AI$10))","v":""},{"$f":"IF(journal!AJ100=\"\",\"\",IF(journal!AJ100=\"a\",\"a\",journal!AJ100/journal!AJ$10))","v":""},{"$f":"IF(journal!AK100=\"\",\"\",IF(journal!AK100=\"a\",\"a\",journal!AK100/journal!AK$10))","v":""},{"$f":"IF(journal!AL100=\"\",\"\",IF(journal!AL100=\"a\",\"a\",journal!AL100/journal!AL$10))","v":""},{"$f":"IF(journal!AM100=\"\",\"\",IF(journal!AM100=\"a\",\"a\",journal!AM100/journal!AM$10))","v":""},{"$f":"IF(journal!AN100=\"\",\"\",IF(journal!AN100=\"a\",\"a\",journal!AN100/journal!AN$10))","v":""},{"$f":"IF(journal!AO100=\"\",\"\",IF(journal!AO100=\"a\",\"a\",journal!AO100/journal!AO$10))","v":""},{"$f":"IF(journal!AP100=\"\",\"\",IF(journal!AP100=\"a\",\"a\",journal!AP100/journal!AP$10))","v":""},{"$f":"IF(journal!AQ100=\"\",\"\",IF(journal!AQ100=\"a\",\"a\",journal!AQ100/journal!AQ$10))","v":""},{"$f":"IF(journal!AR100=\"\",\"\",IF(journal!AR100=\"a\",\"a\",journal!AR100/journal!AR$10))","v":""},"","","",""]
[{"$f":"Saisie!A29","v":0},"S",{"$f":"IF(journal!C101=\"\",\"\",IF(journal!C101=\"a\",\"a\",journal!C101/journal!C$6))","v":""},{"$f":"IF(journal!D101=\"\",\"\",IF(journal!D101=\"a\",\"a\",journal!D101/journal!D$6))","v":""},{"$f":"IF(journal!E101=\"\",\"\",IF(journal!E101=\"a\",\"a\",journal!E101/journal!E$6))","v":""},{"$f":"IF(journal!F101=\"\",\"\",IF(journal!F101=\"a\",\"a\",journal!F101/journal!F$6))","v":""},{"$f":"IF(journal!G101=\"\",\"\",IF(journal!G101=\"a\",\"a\",journal!G101/journal!G$6))","v":""},{"$f":"IF(journal!H101=\"\",\"\",IF(journal!H101=\"a\",\"a\",journal!H101/journal!H$6))","v":""},{"$f":"IF(journal!I101=\"\",\"\",IF(journal!I101=\"a\",\"a\",journal!I101/journal!I$6))","v":""},{"$f":"IF(journal!J101=\"\",\"\",IF(journal!J101=\"a\",\"a\",journal!J101/journal!J$6))","v":""},{"$f":"IF(journal!K101=\"\",\"\",IF(journal!K101=\"a\",\"a\",journal!K101/journal!K$6))","v":""},{"$f":"IF(journal!L101=\"\",\"\",IF(journal!L101=\"a\",\"a\",journal!L101/journal!L$6))","v":""},{"$f":"IF(journal!M101=\"\",\"\",IF(journal!M101=\"a\",\"a\",journal!M101/journal!M$6))","v":""},{"$f":"IF(journal!N101=\"\",\"\",IF(journal!N101=\"a\",\"a\",journal!N101/journal!N$6))","v":""},{"$f":"IF(journal!O101=\"\",\"\",IF(journal!O101=\"a\",\"a\",journal!O101/journal!O$6))","v":""},{"$f":"IF(journal!P101=\"\",\"\",IF(journal!P101=\"a\",\"a\",journal!P101/journal!P$6))","v":""},{"$f":"IF(journal!Q101=\"\",\"\",IF(journal!Q101=\"a\",\"a\",journal!Q101/journal!Q$6))","v":""},{"$f":"IF(journal!R101=\"\",\"\",IF(journal!R101=\"a\",\"a\",journal!R101/journal!R$6))","v":""},{"$f":"IF(journal!S101=\"\",\"\",IF(journal!S101=\"a\",\"a\",journal!S101/journal!S$6))","v":""},{"$f":"IF(journal!T101=\"\",\"\",IF(journal!T101=\"a\",\"a\",journal!T101/journal!T$6))","v":""},{"$f":"IF(journal!U101=\"\",\"\",IF(journal!U101=\"a\",\"a\",journal!U101/journal!U$6))","v":""},{"$f":"IF(journal!V101=\"\",\"\",IF(journal!V101=\"a\",\"a\",journal!V101/journal!V$6))","v":""},{"$f":"IF(journal!W101=\"\",\"\",IF(journal!W101=\"a\",\"a\",journal!W101/journal!W$6))","v":""},{"$f":"IF(journal!X101=\"\",\"\",IF(journal!X101=\"a\",\"a\",journal!X101/journal!X$6))","v":""},{"$f":"IF(journal!Y101=\"\",\"\",IF(journal!Y101=\"a\",\"a\",journal!Y101/journal!Y$6))","v":""},{"$f":"IF(journal!Z101=\"\",\"\",IF(journal!Z101=\"a\",\"a\",journal!Z101/journal!Z$6))","v":""},{"$f":"IF(journal!AA101=\"\",\"\",IF(journal!AA101=\"a\",\"a\",journal!AA101/journal!AA$6))","v":""},{"$f":"IF(journal!AB101=\"\",\"\",IF(journal!AB101=\"a\",\"a\",journal!AB101/journal!AB$6))","v":""},{"$f":"IF(journal!AC101=\"\",\"\",IF(journal!AC101=\"a\",\"a\",journal!AC101/journal!AC$6))","v":""},{"$f":"IF(journal!AD101=\"\",\"\",IF(journal!AD101=\"a\",\"a\",journal!AD101/journal!AD$6))","v":""},{"$f":"IF(journal!AE101=\"\",\"\",IF(journal!AE101=\"a\",\"a\",journal!AE101/journal!AE$6))","v":""},{"$f":"IF(journal!AF101=\"\",\"\",IF(journal!AF101=\"a\",\"a\",journal!AF101/journal!AF$6))","v":""},{"$f":"IF(journal!AG101=\"\",\"\",IF(journal!AG101=\"a\",\"a\",journal!AG101/journal!AG$6))","v":""},{"$f":"IF(journal!AH101=\"\",\"\",IF(journal!AH101=\"a\",\"a\",journal!AH101/journal!AH$6))","v":""},{"$f":"IF(journal!AI101=\"\",\"\",IF(journal!AI101=\"a\",\"a\",journal!AI101/journal!AI$6))","v":""},{"$f":"IF(journal!AJ101=\"\",\"\",IF(journal!AJ101=\"a\",\"a\",journal!AJ101/journal!AJ$6))","v":""},{"$f":"IF(journal!AK101=\"\",\"\",IF(journal!AK101=\"a\",\"a\",journal!AK101/journal!AK$6))","v":""},{"$f":"IF(journal!AL101=\"\",\"\",IF(journal!AL101=\"a\",\"a\",journal!AL101/journal!AL$6))","v":""},{"$f":"IF(journal!AM101=\"\",\"\",IF(journal!AM101=\"a\",\"a\",journal!AM101/journal!AM$6))","v":""},{"$f":"IF(journal!AN101=\"\",\"\",IF(journal!AN101=\"a\",\"a\",journal!AN101/journal!AN$6))","v":""},{"$f":"IF(journal!AO101=\"\",\"\",IF(journal!AO101=\"a\",\"a\",journal!AO101/journal!AO$6))","v":""},{"$f":"IF(journal!AP101=\"\",\"\",IF(journal!AP101=\"a\",\"a\",journal!AP101/journal!AP$6))","v":""},{"$f":"IF(journal!AQ101=\"\",\"\",IF(journal!AQ101=\"a\",\"a\",journal!AQ101/journal!AQ$6))","v":""},{"$f":"IF(journal!AR101=\"\",\"\",IF(journal!AR101=\"a\",\"a\",journal!AR101/journal!AR$6))","v":""},"","","",""]
[null,"A",{"$f":"IF(journal!C102=\"\",\"\",IF(journal!C102=\"a\",\"a\",journal!C102/journal!C$7))","v":""},{"$f":"IF(journal!D102=\"\",\"\",IF(journal!D102=\"a\",\"a\",journal!D102/journal!D$7))","v":""},{"$f":"IF(journal!E102=\"\",\"\",IF(journal!E102=\"a\",\"a\",journal!E102/journal!E$7))","v":""},{"$f":"IF(journal!F102=\"\",\"\",IF(journal!F102=\"a\",\"a\",journal!F102/journal!F$7))","v":""},{"$f":"IF(journal!G102=\"\",\"\",IF(journal!G102=\"a\",\"a\",journal!G102/journal!G$7))","v":""},{"$f":"IF(journal!H102=\"\",\"\",IF(journal!H102=\"a\",\"a\",journal!H102/journal!H$7))","v":""},{"$f":"IF(journal!I102=\"\",\"\",IF(journal!I102=\"a\",\"a\",journal!I102/journal!I$7))","v":""},{"$f":"IF(journal!J102=\"\",\"\",IF(journal!J102=\"a\",\"a\",journal!J102/journal!J$7))","v":""},{"$f":"IF(journal!K102=\"\",\"\",IF(journal!K102=\"a\",\"a\",journal!K102/journal!K$7))","v":""},{"$f":"IF(journal!L102=\"\",\"\",IF(journal!L102=\"a\",\"a\",journal!L102/journal!L$7))","v":""},{"$f":"IF(journal!M102=\"\",\"\",IF(journal!M102=\"a\",\"a\",journal!M102/journal!M$7))","v":""},{"$f":"IF(journal!N102=\"\",\"\",IF(journal!N102=\"a\",\"a\",journal!N102/journal!N$7))","v":""},{"$f":"IF(journal!O102=\"\",\"\",IF(journal!O102=\"a\",\"a\",journal!O102/journal!O$7))","v":""},{"$f":"IF(journal!P102=\"\",\"\",IF(journal!P102=\"a\",\"a\",journal!P102/journal!P$7))","v":""},{"$f":"IF(journal!Q102=\"\",\"\",IF(journal!Q102=\"a\",\"a\",journal!Q102/journal!Q$7))","v":""},{"$f":"IF(journal!R102=\"\",\"\",IF(journal!R102=\"a\",\"a\",journal!R102/journal!R$7))","v":""},{"$f":"IF(journal!S102=\"\",\"\",IF(journal!S102=\"a\",\"a\",journal!S102/journal!S$7))","v":""},{"$f":"IF(journal!T102=\"\",\"\",IF(journal!T102=\"a\",\"a\",journal!T102/journal!T$7))","v":""},{"$f":"IF(journal!U102=\"\",\"\",IF(journal!U102=\"a\",\"a\",journal!U102/journal!U$7))","v":""},{"$f":"IF(journal!V102=\"\",\"\",IF(journal!V102=\"a\",\"a\",journal!V102/journal!V$7))","v":""},{"$f":"IF(journal!W102=\"\",\"\",IF(journal!W102=\"a\",\"a\",journal!W102/journal!W$7))","v":""},{"$f":"IF(journal!X102=\"\",\"\",IF(journal!X102=\"a\",\"a\",journal!X102/journal!X$7))","v":""},{"$f":"IF(journal!Y102=\"\",\"\",IF(journal!Y102=\"a\",\"a\",journal!Y102/journal!Y$7))","v":""},{"$f":"IF(journal!Z102=\"\",\"\",IF(journal!Z102=\"a\",\"a\",journal!Z102/journal!Z$7))","v":""},{"$f":"IF(journal!AA102=\"\",\"\",IF(journal!AA102=\"a\",\"a\",journal!AA102/journal!AA$7))","v":""},{"$f":"IF(journal!AB102=\"\",\"\",IF(journal!AB102=\"a\",\"a\",journal!AB102/journal!AB$7))","v":""},{"$f":"IF(journal!AC102=\"\",\"\",IF(journal!AC102=\"a\",\"a\",journal!AC102/journal!AC$7))","v":""},{"$f":"IF(journal!AD102=\"\",\"\",IF(journal!AD102=\"a\",\"a\",journal!AD102/journal!AD$7))","v":""},{"$f":"IF(journal!AE102=\"\",\"\",IF(journal!AE102=\"a\",\"a\",journal!AE102/journal!AE$7))","v":""},{"$f":"IF(journal!AF102=\"\",\"\",IF(journal!AF102=\"a\",\"a\",journal!AF102/journal!AF$7))","v":""},{"$f":"IF(journal!AG102=\"\",\"\",IF(journal!AG102=\"a\",\"a\",journal!AG102/journal!AG$7))","v":""},{"$f":"IF(journal!AH102=\"\",\"\",IF(journal!AH102=\"a\",\"a\",journal!AH102/journal!AH$7))","v":""},{"$f":"IF(journal!AI102=\"\",\"\",IF(journal!AI102=\"a\",\"a\",journal!AI102/journal!AI$7))","v":""},{"$f":"IF(journal!AJ102=\"\",\"\",IF(journal!AJ102=\"a\",\"a\",journal!AJ102/journal!AJ$7))","v":""},{"$f":"IF(journal!AK102=\"\",\"\",IF(journal!AK102=\"a\",\"a\",journal!AK102/journal!AK$7))","v":""},{"$f":"IF(journal!AL102=\"\",\"\",IF(journal!AL102=\"a\",\"a\",journal!AL102/journal!AL$7))","v":""},{"$f":"IF(journal!AM102=\"\",\"\",IF(journal!AM102=\"a\",\"a\",journal!AM102/journal!AM$7))","v":""},{"$f":"IF(journal!AN102=\"\",\"\",IF(journal!AN102=\"a\",\"a\",journal!AN102/journal!AN$7))","v":""},{"$f":"IF(journal!AO102=\"\",\"\",IF(journal!AO102=\"a\",\"a\",journal!AO102/journal!AO$7))","v":""},{"$f":"IF(journal!AP102=\"\",\"\",IF(journal!AP102=\"a\",\"a\",journal!AP102/journal!AP$7))","v":""},{"$f":"IF(journal!AQ102=\"\",\"\",IF(journal!AQ102=\"a\",\"a\",journal!AQ102/journal!AQ$7))","v":""},{"$f":"IF(journal!AR102=\"\",\"\",IF(journal!AR102=\"a\",\"a\",journal!AR102/journal!AR$7))","v":""},"","","",""]
[null,"R",{"$f":"IF(journal!C103=\"\",\"\",IF(journal!C103=\"a\",\"a\",journal!C103/journal!C$8))","v":""},{"$f":"IF(journal!D103=\"\",\"\",IF(journal!D103=\"a\",\"a\",journal!D103/journal!D$8))","v":""},{"$f":"IF(journal!E103=\"\",\"\",IF(journal!E103=\"a\",\"a\",journal!E103/journal!E$8))","v":""},{"$f":"IF(journal!F103=\"\",\"\",IF(journal!F103=\"a\",\"a\",journal!F103/journal!F$8))","v":""},{"$f":"IF(journal!G103=\"\",\"\",IF(journal!G103=\"a\",\"a\",journal!G103/journal!G$8))","v":""},{"$f":"IF(journal!H103=\"\",\"\",IF(journal!H103=\"a\",\"a\",journal!H103/journal!H$8))","v":""},{"$f":"IF(journal!I103=\"\",\"\",IF(journal!I103=\"a\",\"a\",journal!I103/journal!I$8))","v":""},{"$f":"IF(journal!J103=\"\",\"\",IF(journal!J103=\"a\",\"a\",journal!J103/journal!J$8))","v":""},{"$f":"IF(journal!K103=\"\",\"\",IF(journal!K103=\"a\",\"a\",journal!K103/journal!K$8))","v":""},{"$f":"IF(journal!L103=\"\",\"\",IF(journal!L103=\"a\",\"a\",journal!L103/journal!L$8))","v":""},{"$f":"IF(journal!M103=\"\",\"\",IF(journal!M103=\"a\",\"a\",journal!M103/journal!M$8))","v":""},{"$f":"IF(journal!N103=\"\",\"\",IF(journal!N103=\"a\",\"a\",journal!N103/journal!N$8))","v":""},{"$f":"IF(journal!O103=\"\",\"\",IF(journal!O103=\"a\",\"a\",journal!O103/journal!O$8))","v":""},{"$f":"IF(journal!P103=\"\",\"\",IF(journal!P103=\"a\",\"a\",journal!P103/journal!P$8))","v":""},{"$f":"IF(journal!Q103=\"\",\"\",IF(journal!Q103=\"a\",\"a\",journal!Q103/journal!Q$8))","v":""},{"$f":"IF(journal!R103=\"\",\"\",IF(journal!R103=\"a\",\"a\",journal!R103/journal!R$8))","v":""},{"$f":"IF(journal!S103=\"\",\"\",IF(journal!S103=\"a\",\"a\",journal!S103/journal!S$8))","v":""},{"$f":"IF(journal!T103=\"\",\"\",IF(journal!T103=\"a\",\"a\",journal!T103/journal!T$8))","v":""},{"$f":"IF(journal!U103=\"\",\"\",IF(journal!U103=\"a\",\"a\",journal!U103/journal!U$8))","v":""},{"$f":"IF(journal!V103=\"\",\"\",IF(journal!V103=\"a\",\"a\",journal!V103/journal!V$8))","v":""},{"$f":"IF(journal!W103=\"\",\"\",IF(journal!W103=\"a\",\"a\",journal!W103/journal!W$8))","v":""},{"$f":"IF(journal!X103=\"\",\"\",IF(journal!X103=\"a\",\"a\",journal!X103/journal!X$8))","v":""},{"$f":"IF(journal!Y103=\"\",\"\",IF(journal!Y103=\"a\",\"a\",journal!Y103/journal!Y$8))","v":""},{"$f":"IF(journal!Z103=\"\",\"\",IF(journal!Z103=\"a\",\"a\",journal!Z103/journal!Z$8))","v":""},{"$f":"IF(journal!AA103=\"\",\"\",IF(journal!AA103=\"a\",\"a\",journal!AA103/journal!AA$8))","v":""},{"$f":"IF(journal!AB103=\"\",\"\",IF(journal!AB103=\"a\",\"a\",journal!AB103/journal!AB$8))","v":""},{"$f":"IF(journal!AC103=\"\",\"\",IF(journal!AC103=\"a\",\"a\",journal!AC103/journal!AC$8))","v":""},{"$f":"IF(journal!AD103=\"\",\"\",IF(journal!AD103=\"a\",\"a\",journal!AD103/journal!AD$8))","v":""},{"$f":"IF(journal!AE103=\"\",\"\",IF(journal!AE103=\"a\",\"a\",journal!AE103/journal!AE$8))","v":""},{"$f":"IF(journal!AF103=\"\",\"\",IF(journal!AF103=\"a\",\"a\",journal!AF103/journal!AF$8))","v":""},{"$f":"IF(journal!AG103=\"\",\"\",IF(journal!AG103=\"a\",\"a\",journal!AG103/journal!AG$8))","v":""},{"$f":"IF(journal!AH103=\"\",\"\",IF(journal!AH103=\"a\",\"a\",journal!AH103/journal!AH$8))","v":""},{"$f":"IF(journal!AI103=\"\",\"\",IF(journal!AI103=\"a\",\"a\",journal!AI103/journal!AI$8))","v":""},{"$f":"IF(journal!AJ103=\"\",\"\",IF(journal!AJ103=\"a\",\"a\",journal!AJ103/journal!AJ$8))","v":""},{"$f":"IF(journal!AK103=\"\",\"\",IF(journal!AK103=\"a\",\"a\",journal!AK103/journal!AK$8))","v":""},{"$f":"IF(journal!AL103=\"\",\"\",IF(journal!AL103=\"a\",\"a\",journal!AL103/journal!AL$8))","v":""},{"$f":"IF(journal!AM103=\"\",\"\",IF(journal!AM103=\"a\",\"a\",journal!AM103/journal!AM$8))","v":""},{"$f":"IF(journal!AN103=\"\",\"\",IF(journal!AN103=\"a\",\"a\",journal!AN103/journal!AN$8))","v":""},{"$f":"IF(journal!AO103=\"\",\"\",IF(journal!AO103=\"a\",\"a\",journal!AO103/journal!AO$8))","v":""},{"$f":"IF(journal!AP103=\"\",\"\",IF(journal!AP103=\"a\",\"a\",journal!AP103/journal!AP$8))","v":""},{"$f":"IF(journal!AQ103=\"\",\"\",IF(journal!AQ103=\"a\",\"a\",journal!AQ103/journal!AQ$8))","v":""},{"$f":"IF(journal!AR103=\"\",\"\",IF(journal!AR103=\"a\",\"a\",journal!AR103/journal!AR$8))","v":""},"","","",""]
[null,"V",{"$f":"IF(journal!C104=\"\",\"\",IF(journal!C104=\"a\",\"a\",journal!C104/journal!C$9))","v":""},{"$f":"IF(journal!D104=\"\",\"\",IF(journal!D104=\"a\",\"a\",journal!D104/journal!D$9))","v":""},{"$f":"IF(journal!E104=\"\",\"\",IF(journal!E104=\"a\",\"a\",journal!E104/journal!E$9))","v":""},{"$f":"IF(journal!F104=\"\",\"\",IF(journal!F104=\"a\",\"a\",journal!F104/journal!F$9))","v":""},{"$f":"IF(journal!G104=\"\",\"\",IF(journal!G104=\"a\",\"a\",journal!G104/journal!G$9))","v":""},{"$f":"IF(journal!H104=\"\",\"\",IF(journal!H104=\"a\",\"a\",journal!H104/journal!H$9))","v":""},{"$f":"IF(journal!I104=\"\",\"\",IF(journal!I104=\"a\",\"a\",journal!I104/journal!I$9))","v":""},{"$f":"IF(journal!J104=\"\",\"\",IF(journal!J104=\"a\",\"a\",journal!J104/journal!J$9))","v":""},{"$f":"IF(journal!K104=\"\",\"\",IF(journal!K104=\"a\",\"a\",journal!K104/journal!K$9))","v":""},{"$f":"IF(journal!L104=\"\",\"\",IF(journal!L104=\"a\",\"a\",journal!L104/journal!L$9))","v":""},{"$f":"IF(journal!M104=\"\",\"\",IF(journal!M104=\"a\",\"a\",journal!M104/journal!M$9))","v":""},{"$f":"IF(journal!N104=\"\",\"\",IF(journal!N104=\"a\",\"a\",journal!N104/journal!N$9))","v":""},{"$f":"IF(journal!O104=\"\",\"\",IF(journal!O104=\"a\",\"a\",journal!O104/journal!O$9))","v":""},{"$f":"IF(journal!P104=\"\",\"\",IF(journal!P104=\"a\",\"a\",journal!P104/journal!P$9))","v":""},{"$f":"IF(journal!Q104=\"\",\"\",IF(journal!Q104=\"a\",\"a\",journal!Q104/journal!Q$9))","v":""},{"$f":"IF(journal!R104=\"\",\"\",IF(journal!R104=\"a\",\"a\",journal!R104/journal!R$9))","v":""},{"$f":"IF(journal!S104=\"\",\"\",IF(journal!S104=\"a\",\"a\",journal!S104/journal!S$9))","v":""},{"$f":"IF(journal!T104=\"\",\"\",IF(journal!T104=\"a\",\"a\",journal!T104/journal!T$9))","v":""},{"$f":"IF(journal!U104=\"\",\"\",IF(journal!U104=\"a\",\"a\",journal!U104/journal!U$9))","v":""},{"$f":"IF(journal!V104=\"\",\"\",IF(journal!V104=\"a\",\"a\",journal!V104/journal!V$9))","v":""},{"$f":"IF(journal!W104=\"\",\"\",IF(journal!W104=\"a\",\"a\",journal!W104/journal!W$9))","v":""},{"$f":"IF(journal!X104=\"\",\"\",IF(journal!X104=\"a\",\"a\",journal!X104/journal!X$9))","v":""},{"$f":"IF(journal!Y104=\"\",\"\",IF(journal!Y104=\"a\",\"a\",journal!Y104/journal!Y$9))","v":""},{"$f":"IF(journal!Z104=\"\",\"\",IF(journal!Z104=\"a\",\"a\",journal!Z104/journal!Z$9))","v":""},{"$f":"IF(journal!AA104=\"\",\"\",IF(journal!AA104=\"a\",\"a\",journal!AA104/journal!AA$9))","v":""},{"$f":"IF(journal!AB104=\"\",\"\",IF(journal!AB104=\"a\",\"a\",journal!AB104/journal!AB$9))","v":""},{"$f":"IF(journal!AC104=\"\",\"\",IF(journal!AC104=\"a\",\"a\",journal!AC104/journal!AC$9))","v":""},{"$f":"IF(journal!AD104=\"\",\"\",IF(journal!AD104=\"a\",\"a\",journal!AD104/journal!AD$9))","v":""},{"$f":"IF(journal!AE104=\"\",\"\",IF(journal!AE104=\"a\",\"a\",journal!AE104/journal!AE$9))","v":""},{"$f":"IF(journal!AF104=\"\",\"\",IF(journal!AF104=\"a\",\"a\",journal!AF104/journal!AF$9))","v":""},{"$f":"IF(journal!AG104=\"\",\"\",IF(journal!AG104=\"a\",\"a\",journal!AG104/journal!AG$9))","v":""},{"$f":"IF(journal!AH104=\"\",\"\",IF(journal!AH104=\"a\",\"a\",journal!AH104/journal!AH$9))","v":""},{"$f":"IF(journal!AI104=\"\",\"\",IF(journal!AI104=\"a\",\"a\",journal!AI104/journal!AI$9))","v":""},{"$f":"IF(journal!AJ104=\"\",\"\",IF(journal!AJ104=\"a\",\"a\",journal!AJ104/journal!AJ$9))","v":""},{"$f":"IF(journal!AK104=\"\",\"\",IF(journal!AK104=\"a\",\"a\",journal!AK104/journal!AK$9))","v":""},{"$f":"IF(journal!AL104=\"\",\"\",IF(journal!AL104=\"a\",\"a\",journal!AL104/journal!AL$9))","v":""},{"$f":"IF(journal!AM104=\"\",\"\",IF(journal!AM104=\"a\",\"a\",journal!AM104/journal!AM$9))","v":""},{"$f":"IF(journal!AN104=\"\",\"\",IF(journal!AN104=\"a\",\"a\",journal!AN104/journal!AN$9))","v":""},{"$f":"IF(journal!AO104=\"\",\"\",IF(journal!AO104=\"a\",\"a\",journal!AO104/journal!AO$9))","v":""},{"$f":"IF(journal!AP104=\"\",\"\",IF(journal!AP104=\"a\",\"a\",journal!AP104/journal!AP$9))","v":""},{"$f":"IF(journal!AQ104=\"\",\"\",IF(journal!AQ104=\"a\",\"a\",journal!AQ104/journal!AQ$9))","v":""},{"$f":"IF(journal!AR104=\"\",\"\",IF(journal!AR104=\"a\",\"a\",journal!AR104/journal!AR$9))","v":""},"","","",""]
[null,"C",{"$f":"IF(journal!C105=\"\",\"\",IF(journal!C105=\"a\",\"a\",journal!C105/journal!C$10))","v":""},{"$f":"IF(journal!D105=\"\",\"\",IF(journal!D105=\"a\",\"a\",journal!D105/journal!D$10))","v":""},{"$f":"IF(journal!E105=\"\",\"\",IF(journal!E105=\"a\",\"a\",journal!E105/journal!E$10))","v":""},{"$f":"IF(journal!F105=\"\",\"\",IF(journal!F105=\"a\",\"a\",journal!F105/journal!F$10))","v":""},{"$f":"IF(journal!G105=\"\",\"\",IF(journal!G105=\"a\",\"a\",journal!G105/journal!G$10))","v":""},{"$f":"IF(journal!H105=\"\",\"\",IF(journal!H105=\"a\",\"a\",journal!H105/journal!H$10))","v":""},{"$f":"IF(journal!I105=\"\",\"\",IF(journal!I105=\"a\",\"a\",journal!I105/journal!I$10))","v":""},{"$f":"IF(journal!J105=\"\",\"\",IF(journal!J105=\"a\",\"a\",journal!J105/journal!J$10))","v":""},{"$f":"IF(journal!K105=\"\",\"\",IF(journal!K105=\"a\",\"a\",journal!K105/journal!K$10))","v":""},{"$f":"IF(journal!L105=\"\",\"\",IF(journal!L105=\"a\",\"a\",journal!L105/journal!L$10))","v":""},{"$f":"IF(journal!M105=\"\",\"\",IF(journal!M105=\"a\",\"a\",journal!M105/journal!M$10))","v":""},{"$f":"IF(journal!N105=\"\",\"\",IF(journal!N105=\"a\",\"a\",journal!N105/journal!N$10))","v":""},{"$f":"IF(journal!O105=\"\",\"\",IF(journal!O105=\"a\",\"a\",journal!O105/journal!O$10))","v":""},{"$f":"IF(journal!P105=\"\",\"\",IF(journal!P105=\"a\",\"a\",journal!P105/journal!P$10))","v":""},{"$f":"IF(journal!Q105=\"\",\"\",IF(journal!Q105=\"a\",\"a\",journal!Q105/journal!Q$10))","v":""},{"$f":"IF(journal!R105=\"\",\"\",IF(journal!R105=\"a\",\"a\",journal!R105/journal!R$10))","v":""},{"$f":"IF(journal!S105=\"\",\"\",IF(journal!S105=\"a\",\"a\",journal!S105/journal!S$10))","v":""},{"$f":"IF(journal!T105=\"\",\"\",IF(journal!T105=\"a\",\"a\",journal!T105/journal!T$10))","v":""},{"$f":"IF(journal!U105=\"\",\"\",IF(journal!U105=\"a\",\"a\",journal!U105/journal!U$10))","v":""},{"$f":"IF(journal!V105=\"\",\"\",IF(journal!V105=\"a\",\"a\",journal!V105/journal!V$10))","v":""},{"$f":"IF(journal!W105=\"\",\"\",IF(journal!W105=\"a\",\"a\",journal!W105/journal!W$10))","v":""},{"$f":"IF(journal!X105=\"\",\"\",IF(journal!X105=\"a\",\"a\",journal!X105/journal!X$10))","v":""},{"$f":"IF(journal!Y105=\"\",\"\",IF(journal!Y105=\"a\",\"a\",journal!Y105/journal!Y$10))","v":""},{"$f":"IF(journal!Z105=\"\",\"\",IF(journal!Z105=\"a\",\"a\",journal!Z105/journal!Z$10))","v":""},{"$f":"IF(journal!AA105=\"\",\"\",IF(journal!AA105=\"a\",\"a\",journal!AA105/journal!AA$10))","v":""},{"$f":"IF(journal!AB105=\"\",\"\",IF(journal!AB105=\"a\",\"a\",journal!AB105/journal!AB$10))","v":""},{"$f":"IF(journal!AC105=\"\",\"\",IF(journal!AC105=\"a\",\"a\",journal!AC105/journal!AC$10))","v":""},{"$f":"IF(journal!AD105=\"\",\"\",IF(journal!AD105=\"a\",\"a\",journal!AD105/journal!AD$10))","v":""},{"$f":"IF(journal!AE105=\"\",\"\",IF(journal!AE105=\"a\",\"a\",journal!AE105/journal!AE$10))","v":""},{"$f":"IF(journal!AF105=\"\",\"\",IF(journal!AF105=\"a\",\"a\",journal!AF105/journal!AF$10))","v":""},{"$f":"IF(journal!AG105=\"\",\"\",IF(journal!AG105=\"a\",\"a\",journal!AG105/journal!AG$10))","v":""},{"$f":"IF(journal!AH105=\"\",\"\",IF(journal!AH105=\"a\",\"a\",journal!AH105/journal!AH$10))","v":""},{"$f":"IF(journal!AI105=\"\",\"\",IF(journal!AI105=\"a\",\"a\",journal!AI105/journal!AI$10))","v":""},{"$f":"IF(journal!AJ105=\"\",\"\",IF(journal!AJ105=\"a\",\"a\",journal!AJ105/journal!AJ$10))","v":""},{"$f":"IF(journal!AK105=\"\",\"\",IF(journal!AK105=\"a\",\"a\",journal!AK105/journal!AK$10))","v":""},{"$f":"IF(journal!AL105=\"\",\"\",IF(journal!AL105=\"a\",\"a\",journal!AL105/journal!AL$10))","v":""},{"$f":"IF(journal!AM105=\"\",\"\",IF(journal!AM105=\"a\",\"a\",journal!AM105/journal!AM$10))","v":""},{"$f":"IF(journal!AN105=\"\",\"\",IF(journal!AN105=\"a\",\"a\",journal!AN105/journal!AN$10))","v":""},{"$f":"IF(journal!AO105=\"\",\"\",IF(journal!AO105=\"a\",\"a\",journal!AO105/journal!AO$10))","v":""},{"$f":"IF(journal!AP105=\"\",\"\",IF(journal!AP105=\"a\",\"a\",journal!AP105/journal!AP$10))","v":""},{"$f":"IF(journal!AQ105=\"\",\"\",IF(journal!AQ105=\"a\",\"a\",journal!AQ105/journal!AQ$10))","v":""},{"$f":"IF(journal!AR105=\"\",\"\",IF(journal!AR105=\"a\",\"a\",journal!AR105/journal!AR$10))","v":""},"","","",""]
[{"$f":"Saisie!A30","v":0},"S",{"$f":"IF(journal!C106=\"\",\"\",IF(journal!C106=\"a\",\"a\",journal!C106/journal!C$6))","v":""},{"$f":"IF(journal!D106=\"\",\"\",IF(journal!D106=\"a\",\"a\",journal!D106/journal!D$6))","v":""},{"$f":"IF(journal!E106=\"\",\"\",IF(journal!E106=\"a\",\"a\",journal!E106/journal!E$6))","v":""},{"$f":"IF(journal!F106=\"\",\"\",IF(journal!F106=\"a\",\"a\",journal!F106/journal!F$6))","v":""},{"$f":"IF(journal!G106=\"\",\"\",IF(journal!G106=\"a\",\"a\",journal!G106/journal!G$6))","v":""},{"$f":"IF(journal!H106=\"\",\"\",IF(journal!H106=\"a\",\"a\",journal!H106/journal!H$6))","v":""},{"$f":"IF(journal!I106=\"\",\"\",IF(journal!I106=\"a\",\"a\",journal!I106/journal!I$6))","v":""},{"$f":"IF(journal!J106=\"\",\"\",IF(journal!J106=\"a\",\"a\",journal!J106/journal!J$6))","v":""},{"$f":"IF(journal!K106=\"\",\"\",IF(journal!K106=\"a\",\"a\",journal!K106/journal!K$6))","v":""},{"$f":"IF(journal!L106=\"\",\"\",IF(journal!L106=\"a\",\"a\",journal!L106/journal!L$6))","v":""},{"$f":"IF(journal!M106=\"\",\"\",IF(journal!M106=\"a\",\"a\",journal!M106/journal!M$6))","v":""},{"$f":"IF(journal!N106=\"\",\"\",IF(journal!N106=\"a\",\"a\",journal!N106/journal!N$6))","v":""},{"$f":"IF(journal!O106=\"\",\"\",IF(journal!O106=\"a\",\"a\",journal!O106/journal!O$6))","v":""},{"$f":"IF(journal!P106=\"\",\"\",IF(journal!P106=\"a\",\"a\",journal!P106/journal!P$6))","v":""},{"$f":"IF(journal!Q106=\"\",\"\",IF(journal!Q106=\"a\",\"a\",journal!Q106/journal!Q$6))","v":""},{"$f":"IF(journal!R106=\"\",\"\",IF(journal!R106=\"a\",\"a\",journal!R106/journal!R$6))","v":""},{"$f":"IF(journal!S106=\"\",\"\",IF(journal!S106=\"a\",\"a\",journal!S106/journal!S$6))","v":""},{"$f":"IF(journal!T106=\"\",\"\",IF(journal!T106=\"a\",\"a\",journal!T106/journal!T$6))","v":""},{"$f":"IF(journal!U106=\"\",\"\",IF(journal!U106=\"a\",\"a\",journal!U106/journal!U$6))","v":""},{"$f":"IF(journal!V106=\"\",\"\",IF(journal!V106=\"a\",\"a\",journal!V106/journal!V$6))","v":""},{"$f":"IF(journal!W106=\"\",\"\",IF(journal!W106=\"a\",\"a\",journal!W106/journal!W$6))","v":""},{"$f":"IF(journal!X106=\"\",\"\",IF(journal!X106=\"a\",\"a\",journal!X106/journal!X$6))","v":""},{"$f":"IF(journal!Y106=\"\",\"\",IF(journal!Y106=\"a\",\"a\",journal!Y106/journal!Y$6))","v":""},{"$f":"IF(journal!Z106=\"\",\"\",IF(journal!Z106=\"a\",\"a\",journal!Z106/journal!Z$6))","v":""},{"$f":"IF(journal!AA106=\"\",\"\",IF(journal!AA106=\"a\",\"a\",journal!AA106/journal!AA$6))","v":""},{"$f":"IF(journal!AB106=\"\",\"\",IF(journal!AB106=\"a\",\"a\",journal!AB106/journal!AB$6))","v":""},{"$f":"IF(journal!AC106=\"\",\"\",IF(journal!AC106=\"a\",\"a\",journal!AC106/journal!AC$6))","v":""},{"$f":"IF(journal!AD106=\"\",\"\",IF(journal!AD106=\"a\",\"a\",journal!AD106/journal!AD$6))","v":""},{"$f":"IF(journal!AE106=\"\",\"\",IF(journal!AE106=\"a\",\"a\",journal!AE106/journal!AE$6))","v":""},{"$f":"IF(journal!AF106=\"\",\"\",IF(journal!AF106=\"a\",\"a\",journal!AF106/journal!AF$6))","v":""},{"$f":"IF(journal!AG106=\"\",\"\",IF(journal!AG106=\"a\",\"a\",journal!AG106/journal!AG$6))","v":""},{"$f":"IF(journal!AH106=\"\",\"\",IF(journal!AH106=\"a\",\"a\",journal!AH106/journal!AH$6))","v":""},{"$f":"IF(journal!AI106=\"\",\"\",IF(journal!AI106=\"a\",\"a\",journal!AI106/journal!AI$6))","v":""},{"$f":"IF(journal!AJ106=\"\",\"\",IF(journal!AJ106=\"a\",\"a\",journal!AJ106/journal!AJ$6))","v":""},{"$f":"IF(journal!AK106=\"\",\"\",IF(journal!AK106=\"a\",\"a\",journal!AK106/journal!AK$6))","v":""},{"$f":"IF(journal!AL106=\"\",\"\",IF(journal!AL106=\"a\",\"a\",journal!AL106/journal!AL$6))","v":""},{"$f":"IF(journal!AM106=\"\",\"\",IF(journal!AM106=\"a\",\"a\",journal!AM106/journal!AM$6))","v":""},{"$f":"IF(journal!AN106=\"\",\"\",IF(journal!AN106=\"a\",\"a\",journal!AN106/journal!AN$6))","v":""},{"$f":"IF(journal!AO106=\"\",\"\",IF(journal!AO106=\"a\",\"a\",journal!AO106/journal!AO$6))","v":""},{"$f":"IF(journal!AP106=\"\",\"\",IF(journal!AP106=\"a\",\"a\",journal!AP106/journal!AP$6))","v":""},{"$f":"IF(journal!AQ106=\"\",\"\",IF(journal!AQ106=\"a\",\"a\",journal!AQ106/journal!AQ$6))","v":""},{"$f":"IF(journal!AR106=\"\",\"\",IF(journal!AR106=\"a\",\"a\",journal!AR106/journal!AR$6))","v":""},"","","",""]
[null,"A",{"$f":"IF(journal!C107=\"\",\"\",IF(journal!C107=\"a\",\"a\",journal!C107/journal!C$7))","v":""},{"$f":"IF(journal!D107=\"\",\"\",IF(journal!D107=\"a\",\"a\",journal!D107/journal!D$7))","v":""},{"$f":"IF(journal!E107=\"\",\"\",IF(journal!E107=\"a\",\"a\",journal!E107/journal!E$7))","v":""},{"$f":"IF(journal!F107=\"\",\"\",IF(journal!F107=\"a\",\"a\",journal!F107/journal!F$7))","v":""},{"$f":"IF(journal!G107=\"\",\"\",IF(journal!G107=\"a\",\"a\",journal!G107/journal!G$7))","v":""},{"$f":"IF(journal!H107=\"\",\"\",IF(journal!H107=\"a\",\"a\",journal!H107/journal!H$7))","v":""},{"$f":"IF(journal!I107=\"\",\"\",IF(journal!I107=\"a\",\"a\",journal!I107/journal!I$7))","v":""},{"$f":"IF(journal!J107=\"\",\"\",IF(journal!J107=\"a\",\"a\",journal!J107/journal!J$7))","v":""},{"$f":"IF(journal!K107=\"\",\"\",IF(journal!K107=\"a\",\"a\",journal!K107/journal!K$7))","v":""},{"$f":"IF(journal!L107=\"\",\"\",IF(journal!L107=\"a\",\"a\",journal!L107/journal!L$7))","v":""},{"$f":"IF(journal!M107=\"\",\"\",IF(journal!M107=\"a\",\"a\",journal!M107/journal!M$7))","v":""},{"$f":"IF(journal!N107=\"\",\"\",IF(journal!N107=\"a\",\"a\",journal!N107/journal!N$7))","v":""},{"$f":"IF(journal!O107=\"\",\"\",IF(journal!O107=\"a\",\"a\",journal!O107/journal!O$7))","v":""},{"$f":"IF(journal!P107=\"\",\"\",IF(journal!P107=\"a\",\"a\",journal!P107/journal!P$7))","v":""},{"$f":"IF(journal!Q107=\"\",\"\",IF(journal!Q107=\"a\",\"a\",journal!Q107/journal!Q$7))","v":""},{"$f":"IF(journal!R107=\"\",\"\",IF(journal!R107=\"a\",\"a\",journal!R107/journal!R$7))","v":""},{"$f":"IF(journal!S107=\"\",\"\",IF(journal!S107=\"a\",\"a\",journal!S107/journal!S$7))","v":""},{"$f":"IF(journal!T107=\"\",\"\",IF(journal!T107=\"a\",\"a\",journal!T107/journal!T$7))","v":""},{"$f":"IF(journal!U107=\"\",\"\",IF(journal!U107=\"a\",\"a\",journal!U107/journal!U$7))","v":""},{"$f":"IF(journal!V107=\"\",\"\",IF(journal!V107=\"a\",\"a\",journal!V107/journal!V$7))","v":""},{"$f":"IF(journal!W107=\"\",\"\",IF(journal!W107=\"a\",\"a\",journal!W107/journal!W$7))","v":""},{"$f":"IF(journal!X107=\"\",\"\",IF(journal!X107=\"a\",\"a\",journal!X107/journal!X$7))","v":""},{"$f":"IF(journal!Y107=\"\",\"\",IF(journal!Y107=\"a\",\"a\",journal!Y107/journal!Y$7))","v":""},{"$f":"IF(journal!Z107=\"\",\"\",IF(journal!Z107=\"a\",\"a\",journal!Z107/journal!Z$7))","v":""},{"$f":"IF(journal!AA107=\"\",\"\",IF(journal!AA107=\"a\",\"a\",journal!AA107/journal!AA$7))","v":""},{"$f":"IF(journal!AB107=\"\",\"\",IF(journal!AB107=\"a\",\"a\",journal!AB107/journal!AB$7))","v":""},{"$f":"IF(journal!AC107=\"\",\"\",IF(journal!AC107=\"a\",\"a\",journal!AC107/journal!AC$7))","v":""},{"$f":"IF(journal!AD107=\"\",\"\",IF(journal!AD107=\"a\",\"a\",journal!AD107/journal!AD$7))","v":""},{"$f":"IF(journal!AE107=\"\",\"\",IF(journal!AE107=\"a\",\"a\",journal!AE107/journal!AE$7))","v":""},{"$f":"IF(journal!AF107=\"\",\"\",IF(journal!AF107=\"a\",\"a\",journal!AF107/journal!AF$7))","v":""},{"$f":"IF(journal!AG107=\"\",\"\",IF(journal!AG107=\"a\",\"a\",journal!AG107/journal!AG$7))","v":""},{"$f":"IF(journal!AH107=\"\",\"\",IF(journal!AH107=\"a\",\"a\",journal!AH107/journal!AH$7))","v":""},{"$f":"IF(journal!AI107=\"\",\"\",IF(journal!AI107=\"a\",\"a\",journal!AI107/journal!AI$7))","v":""},{"$f":"IF(journal!AJ107=\"\",\"\",IF(journal!AJ107=\"a\",\"a\",journal!AJ107/journal!AJ$7))","v":""},{"$f":"IF(journal!AK107=\"\",\"\",IF(journal!AK107=\"a\",\"a\",journal!AK107/journal!AK$7))","v":""},{"$f":"IF(journal!AL107=\"\",\"\",IF(journal!AL107=\"a\",\"a\",journal!AL107/journal!AL$7))","v":""},{"$f":"IF(journal!AM107=\"\",\"\",IF(journal!AM107=\"a\",\"a\",journal!AM107/journal!AM$7))","v":""},{"$f":"IF(journal!AN107=\"\",\"\",IF(journal!AN107=\"a\",\"a\",journal!AN107/journal!AN$7))","v":""},{"$f":"IF(journal!AO107=\"\",\"\",IF(journal!AO107=\"a\",\"a\",journal!AO107/journal!AO$7))","v":""},{"$f":"IF(journal!AP107=\"\",\"\",IF(journal!AP107=\"a\",\"a\",journal!AP107/journal!AP$7))","v":""},{"$f":"IF(journal!AQ107=\"\",\"\",IF(journal!AQ107=\"a\",\"a\",journal!AQ107/journal!AQ$7))","v":""},{"$f":"IF(journal!AR107=\"\",\"\",IF(journal!AR107=\"a\",\"a\",journal!AR107/journal!AR$7))","v":""},"","","",""]
[null,"R",{"$f":"IF(journal!C108=\"\",\"\",IF(journal!C108=\"a\",\"a\",journal!C108/journal!C$8))","v":""},{"$f":"IF(journal!D108=\"\",\"\",IF(journal!D108=\"a\",\"a\",journal!D108/journal!D$8))","v":""},{"$f":"IF(journal!E108=\"\",\"\",IF(journal!E108=\"a\",\"a\",journal!E108/journal!E$8))","v":""},{"$f":"IF(journal!F108=\"\",\"\",IF(journal!F108=\"a\",\"a\",journal!F108/journal!F$8))","v":""},{"$f":"IF(journal!G108=\"\",\"\",IF(journal!G108=\"a\",\"a\",journal!G108/journal!G$8))","v":""},{"$f":"IF(journal!H108=\"\",\"\",IF(journal!H108=\"a\",\"a\",journal!H108/journal!H$8))","v":""},{"$f":"IF(journal!I108=\"\",\"\",IF(journal!I108=\"a\",\"a\",journal!I108/journal!I$8))","v":""},{"$f":"IF(journal!J108=\"\",\"\",IF(journal!J108=\"a\",\"a\",journal!J108/journal!J$8))","v":""},{"$f":"IF(journal!K108=\"\",\"\",IF(journal!K108=\"a\",\"a\",journal!K108/journal!K$8))","v":""},{"$f":"IF(journal!L108=\"\",\"\",IF(journal!L108=\"a\",\"a\",journal!L108/journal!L$8))","v":""},{"$f":"IF(journal!M108=\"\",\"\",IF(journal!M108=\"a\",\"a\",journal!M108/journal!M$8))","v":""},{"$f":"IF(journal!N108=\"\",\"\",IF(journal!N108=\"a\",\"a\",journal!N108/journal!N$8))","v":""},{"$f":"IF(journal!O108=\"\",\"\",IF(journal!O108=\"a\",\"a\",journal!O108/journal!O$8))","v":""},{"$f":"IF(journal!P108=\"\",\"\",IF(journal!P108=\"a\",\"a\",journal!P108/journal!P$8))","v":""},{"$f":"IF(journal!Q108=\"\",\"\",IF(journal!Q108=\"a\",\"a\",journal!Q108/journal!Q$8))","v":""},{"$f":"IF(journal!R108=\"\",\"\",IF(journal!R108=\"a\",\"a\",journal!R108/journal!R$8))","v":""},{"$f":"IF(journal!S108=\"\",\"\",IF(journal!S108=\"a\",\"a\",journal!S108/journal!S$8))","v":""},{"$f":"IF(journal!T108=\"\",\"\",IF(journal!T108=\"a\",\"a\",journal!T108/journal!T$8))","v":""},{"$f":"IF(journal!U108=\"\",\"\",IF(journal!U108=\"a\",\"a\",journal!U108/journal!U$8))","v":""},{"$f":"IF(journal!V108=\"\",\"\",IF(journal!V108=\"a\",\"a\",journal!V108/journal!V$8))","v":""},{"$f":"IF(journal!W108=\"\",\"\",IF(journal!W108=\"a\",\"a\",journal!W108/journal!W$8))","v":""},{"$f":"IF(journal!X108=\"\",\"\",IF(journal!X108=\"a\",\"a\",journal!X108/journal!X$8))","v":""},{"$f":"IF(journal!Y108=\"\",\"\",IF(journal!Y108=\"a\",\"a\",journal!Y108/journal!Y$8))","v":""},{"$f":"IF(journal!Z108=\"\",\"\",IF(journal!Z108=\"a\",\"a\",journal!Z108/journal!Z$8))","v":""},{"$f":"IF(journal!AA108=\"\",\"\",IF(journal!AA108=\"a\",\"a\",journal!AA108/journal!AA$8))","v":""},{"$f":"IF(journal!AB108=\"\",\"\",IF(journal!AB108=\"a\",\"a\",journal!AB108/journal!AB$8))","v":""},{"$f":"IF(journal!AC108=\"\",\"\",IF(journal!AC108=\"a\",\"a\",journal!AC108/journal!AC$8))","v":""},{"$f":"IF(journal!AD108=\"\",\"\",IF(journal!AD108=\"a\",\"a\",journal!AD108/journal!AD$8))","v":""},{"$f":"IF(journal!AE108=\"\",\"\",IF(journal!AE108=\"a\",\"a\",journal!AE108/journal!AE$8))","v":""},{"$f":"IF(journal!AF108=\"\",\"\",IF(journal!AF108=\"a\",\"a\",journal!AF108/journal!AF$8))","v":""},{"$f":"IF(journal!AG108=\"\",\"\",IF(journal!AG108=\"a\",\"a\",journal!AG108/journal!AG$8))","v":""},{"$f":"IF(journal!AH108=\"\",\"\",IF(journal!AH108=\"a\",\"a\",journal!AH108/journal!AH$8))","v":""},{"$f":"IF(journal!AI108=\"\",\"\",IF(journal!AI108=\"a\",\"a\",journal!AI108/journal!AI$8))","v":""},{"$f":"IF(journal!AJ108=\"\",\"\",IF(journal!AJ108=\"a\",\"a\",journal!AJ108/journal!AJ$8))","v":""},{"$f":"IF(journal!AK108=\"\",\"\",IF(journal!AK108=\"a\",\"a\",journal!AK108/journal!AK$8))","v":""},{"$f":"IF(journal!AL108=\"\",\"\",IF(journal!AL108=\"a\",\"a\",journal!AL108/journal!AL$8))","v":""},{"$f":"IF(journal!AM108=\"\",\"\",IF(journal!AM108=\"a\",\"a\",journal!AM108/journal!AM$8))","v":""},{"$f":"IF(journal!AN108=\"\",\"\",IF(journal!AN108=\"a\",\"a\",journal!AN108/journal!AN$8))","v":""},{"$f":"IF(journal!AO108=\"\",\"\",IF(journal!AO108=\"a\",\"a\",journal!AO108/journal!AO$8))","v":""},{"$f":"IF(journal!AP108=\"\",\"\",IF(journal!AP108=\"a\",\"a\",journal!AP108/journal!AP$8))","v":""},{"$f":"IF(journal!AQ108=\"\",\"\",IF(journal!AQ108=\"a\",\"a\",journal!AQ108/journal!AQ$8))","v":""},{"$f":"IF(journal!AR108=\"\",\"\",IF(journal!AR108=\"a\",\"a\",journal!AR108/journal!AR$8))","v":""},"","","",""]
[null,"V",{"$f":"IF(journal!C109=\"\",\"\",IF(journal!C109=\"a\",\"a\",journal!C109/journal!C$9))","v":""},{"$f":"IF(journal!D109=\"\",\"\",IF(journal!D109=\"a\",\"a\",journal!D109/journal!D$9))","v":""},{"$f":"IF(journal!E109=\"\",\"\",IF(journal!E109=\"a\",\"a\",journal!E109/journal!E$9))","v":""},{"$f":"IF(journal!F109=\"\",\"\",IF(journal!F109=\"a\",\"a\",journal!F109/journal!F$9))","v":""},{"$f":"IF(journal!G109=\"\",\"\",IF(journal!G109=\"a\",\"a\",journal!G109/journal!G$9))","v":""},{"$f":"IF(journal!H109=\"\",\"\",IF(journal!H109=\"a\",\"a\",journal!H109/journal!H$9))","v":""},{"$f":"IF(journal!I109=\"\",\"\",IF(journal!I109=\"a\",\"a\",journal!I109/journal!I$9))","v":""},{"$f":"IF(journal!J109=\"\",\"\",IF(journal!J109=\"a\",\"a\",journal!J109/journal!J$9))","v":""},{"$f":"IF(journal!K109=\"\",\"\",IF(journal!K109=\"a\",\"a\",journal!K109/journal!K$9))","v":""},{"$f":"IF(journal!L109=\"\",\"\",IF(journal!L109=\"a\",\"a\",journal!L109/journal!L$9))","v":""},{"$f":"IF(journal!M109=\"\",\"\",IF(journal!M109=\"a\",\"a\",journal!M109/journal!M$9))","v":""},{"$f":"IF(journal!N109=\"\",\"\",IF(journal!N109=\"a\",\"a\",journal!N109/journal!N$9))","v":""},{"$f":"IF(journal!O109=\"\",\"\",IF(journal!O109=\"a\",\"a\",journal!O109/journal!O$9))","v":""},{"$f":"IF(journal!P109=\"\",\"\",IF(journal!P109=\"a\",\"a\",journal!P109/journal!P$9))","v":""},{"$f":"IF(journal!Q109=\"\",\"\",IF(journal!Q109=\"a\",\"a\",journal!Q109/journal!Q$9))","v":""},{"$f":"IF(journal!R109=\"\",\"\",IF(journal!R109=\"a\",\"a\",journal!R109/journal!R$9))","v":""},{"$f":"IF(journal!S109=\"\",\"\",IF(journal!S109=\"a\",\"a\",journal!S109/journal!S$9))","v":""},{"$f":"IF(journal!T109=\"\",\"\",IF(journal!T109=\"a\",\"a\",journal!T109/journal!T$9))","v":""},{"$f":"IF(journal!U109=\"\",\"\",IF(journal!U109=\"a\",\"a\",journal!U109/journal!U$9))","v":""},{"$f":"IF(journal!V109=\"\",\"\",IF(journal!V109=\"a\",\"a\",journal!V109/journal!V$9))","v":""},{"$f":"IF(journal!W109=\"\",\"\",IF(journal!W109=\"a\",\"a\",journal!W109/journal!W$9))","v":""},{"$f":"IF(journal!X109=\"\",\"\",IF(journal!X109=\"a\",\"a\",journal!X109/journal!X$9))","v":""},{"$f":"IF(journal!Y109=\"\",\"\",IF(journal!Y109=\"a\",\"a\",journal!Y109/journal!Y$9))","v":""},{"$f":"IF(journal!Z109=\"\",\"\",IF(journal!Z109=\"a\",\"a\",journal!Z109/journal!Z$9))","v":""},{"$f":"IF(journal!AA109=\"\",\"\",IF(journal!AA109=\"a\",\"a\",journal!AA109/journal!AA$9))","v":""},{"$f":"IF(journal!AB109=\"\",\"\",IF(journal!AB109=\"a\",\"a\",journal!AB109/journal!AB$9))","v":""},{"$f":"IF(journal!AC109=\"\",\"\",IF(journal!AC109=\"a\",\"a\",journal!AC109/journal!AC$9))","v":""},{"$f":"IF(journal!AD109=\"\",\"\",IF(journal!AD109=\"a\",\"a\",journal!AD109/journal!AD$9))","v":""},{"$f":"IF(journal!AE109=\"\",\"\",IF(journal!AE109=\"a\",\"a\",journal!AE109/journal!AE$9))","v":""},{"$f":"IF(journal!AF109=\"\",\"\",IF(journal!AF109=\"a\",\"a\",journal!AF109/journal!AF$9))","v":""},{"$f":"IF(journal!AG109=\"\",\"\",IF(journal!AG109=\"a\",\"a\",journal!AG109/journal!AG$9))","v":""},{"$f":"IF(journal!AH109=\"\",\"\",IF(journal!AH109=\"a\",\"a\",journal!AH109/journal!AH$9))","v":""},{"$f":"IF(journal!AI109=\"\",\"\",IF(journal!AI109=\"a\",\"a\",journal!AI109/journal!AI$9))","v":""},{"$f":"IF(journal!AJ109=\"\",\"\",IF(journal!AJ109=\"a\",\"a\",journal!AJ109/journal!AJ$9))","v":""},{"$f":"IF(journal!AK109=\"\",\"\",IF(journal!AK109=\"a\",\"a\",journal!AK109/journal!AK$9))","v":""},{"$f":"IF(journal!AL109=\"\",\"\",IF(journal!AL109=\"a\",\"a\",journal!AL109/journal!AL$9))","v":""},{"$f":"IF(journal!AM109=\"\",\"\",IF(journal!AM109=\"a\",\"a\",journal!AM109/journal!AM$9))","v":""},{"$f":"IF(journal!AN109=\"\",\"\",IF(journal!AN109=\"a\",\"a\",journal!AN109/journal!AN$9))","v":""},{"$f":"IF(journal!AO109=\"\",\"\",IF(journal!AO109=\"a\",\"a\",journal!AO109/journal!AO$9))","v":""},{"$f":"IF(journal!AP109=\"\",\"\",IF(journal!AP109=\"a\",\"a\",journal!AP109/journal!AP$9))","v":""},{"$f":"IF(journal!AQ109=\"\",\"\",IF(journal!AQ109=\"a\",\"a\",journal!AQ109/journal!AQ$9))","v":""},{"$f":"IF(journal!AR109=\"\",\"\",IF(journal!AR109=\"a\",\"a\",journal!AR109/journal!AR$9))","v":""},"","","",""]
[null,"C",{"$f":"IF(journal!C110=\"\",\"\",IF(journal!C110=\"a\",\"a\",journal!C110/journal!C$10))","v":""},{"$f":"IF(journal!D110=\"\",\"\",IF(journal!D110=\"a\",\"a\",journal!D110/journal!D$10))","v":""},{"$f":"IF(journal!E110=\"\",\"\",IF(journal!E110=\"a\",\"a\",journal!E110/journal!E$10))","v":""},{"$f":"IF(journal!F110=\"\",\"\",IF(journal!F110=\"a\",\"a\",journal!F110/journal!F$10))","v":""},{"$f":"IF(journal!G110=\"\",\"\",IF(journal!G110=\"a\",\"a\",journal!G110/journal!G$10))","v":""},{"$f":"IF(journal!H110=\"\",\"\",IF(journal!H110=\"a\",\"a\",journal!H110/journal!H$10))","v":""},{"$f":"IF(journal!I110=\"\",\"\",IF(journal!I110=\"a\",\"a\",journal!I110/journal!I$10))","v":""},{"$f":"IF(journal!J110=\"\",\"\",IF(journal!J110=\"a\",\"a\",journal!J110/journal!J$10))","v":""},{"$f":"IF(journal!K110=\"\",\"\",IF(journal!K110=\"a\",\"a\",journal!K110/journal!K$10))","v":""},{"$f":"IF(journal!L110=\"\",\"\",IF(journal!L110=\"a\",\"a\",journal!L110/journal!L$10))","v":""},{"$f":"IF(journal!M110=\"\",\"\",IF(journal!M110=\"a\",\"a\",journal!M110/journal!M$10))","v":""},{"$f":"IF(journal!N110=\"\",\"\",IF(journal!N110=\"a\",\"a\",journal!N110/journal!N$10))","v":""},{"$f":"IF(journal!O110=\"\",\"\",IF(journal!O110=\"a\",\"a\",journal!O110/journal!O$10))","v":""},{"$f":"IF(journal!P110=\"\",\"\",IF(journal!P110=\"a\",\"a\",journal!P110/journal!P$10))","v":""},{"$f":"IF(journal!Q110=\"\",\"\",IF(journal!Q110=\"a\",\"a\",journal!Q110/journal!Q$10))","v":""},{"$f":"IF(journal!R110=\"\",\"\",IF(journal!R110=\"a\",\"a\",journal!R110/journal!R$10))","v":""},{"$f":"IF(journal!S110=\"\",\"\",IF(journal!S110=\"a\",\"a\",journal!S110/journal!S$10))","v":""},{"$f":"IF(journal!T110=\"\",\"\",IF(journal!T110=\"a\",\"a\",journal!T110/journal!T$10))","v":""},{"$f":"IF(journal!U110=\"\",\"\",IF(journal!U110=\"a\",\"a\",journal!U110/journal!U$10))","v":""},{"$f":"IF(journal!V110=\"\",\"\",IF(journal!V110=\"a\",\"a\",journal!V110/journal!V$10))","v":""},{"$f":"IF(journal!W110=\"\",\"\",IF(journal!W110=\"a\",\"a\",journal!W110/journal!W$10))","v":""},{"$f":"IF(journal!X110=\"\",\"\",IF(journal!X110=\"a\",\"a\",journal!X110/journal!X$10))","v":""},{"$f":"IF(journal!Y110=\"\",\"\",IF(journal!Y110=\"a\",\"a\",journal!Y110/journal!Y$10))","v":""},{"$f":"IF(journal!Z110=\"\",\"\",IF(journal!Z110=\"a\",\"a\",journal!Z110/journal!Z$10))","v":""},{"$f":"IF(journal!AA110=\"\",\"\",IF(journal!AA110=\"a\",\"a\",journal!AA110/journal!AA$10))","v":""},{"$f":"IF(journal!AB110=\"\",\"\",IF(journal!AB110=\"a\",\"a\",journal!AB110/journal!AB$10))","v":""},{"$f":"IF(journal!AC110=\"\",\"\",IF(journal!AC110=\"a\",\"a\",journal!AC110/journal!AC$10))","v":""},{"$f":"IF(journal!AD110=\"\",\"\",IF(journal!AD110=\"a\",\"a\",journal!AD110/journal!AD$10))","v":""},{"$f":"IF(journal!AE110=\"\",\"\",IF(journal!AE110=\"a\",\"a\",journal!AE110/journal!AE$10))","v":""},{"$f":"IF(journal!AF110=\"\",\"\",IF(journal!AF110=\"a\",\"a\",journal!AF110/journal!AF$10))","v":""},{"$f":"IF(journal!AG110=\"\",\"\",IF(journal!AG110=\"a\",\"a\",journal!AG110/journal!AG$10))","v":""},{"$f":"IF(journal!AH110=\"\",\"\",IF(journal!AH110=\"a\",\"a\",journal!AH110/journal!AH$10))","v":""},{"$f":"IF(journal!AI110=\"\",\"\",IF(journal!AI110=\"a\",\"a\",journal!AI110/journal!AI$10))","v":""},{"$f":"IF(journal!AJ110=\"\",\"\",IF(journal!AJ110=\"a\",\"a\",journal!AJ110/journal!AJ$10))","v":""},{"$f":"IF(journal!AK110=\"\",\"\",IF(journal!AK110=\"a\",\"a\",journal!AK110/journal!AK$10))","v":""},{"$f":"IF(journal!AL110=\"\",\"\",IF(journal!AL110=\"a\",\"a\",journal!AL110/journal!AL$10))","v":""},{"$f":"IF(journal!AM110=\"\",\"\",IF(journal!AM110=\"a\",\"a\",journal!AM110/journal!AM$10))","v":""},{"$f":"IF(journal!AN110=\"\",\"\",IF(journal!AN110=\"a\",\"a\",journal!AN110/journal!AN$10))","v":""},{"$f":"IF(journal!AO110=\"\",\"\",IF(journal!AO110=\"a\",\"a\",journal!AO110/journal!AO$10))","v":""},{"$f":"IF(journal!AP110=\"\",\"\",IF(journal!AP110=\"a\",\"a\",journal!AP110/journal!AP$10))","v":""},{"$f":"IF(journal!AQ110=\"\",\"\",IF(journal!AQ110=\"a\",\"a\",journal!AQ110/journal!AQ$10))","v":""},{"$f":"IF(journal!AR110=\"\",\"\",IF(journal!AR110=\"a\",\"a\",journal!AR110/journal!AR$10))","v":""},"","","",""]
[{"$f":"Saisie!A31","v":0},"S",{"$f":"IF(journal!C111=\"\",\"\",IF(journal!C111=\"a\",\"a\",journal!C111/journal!C$6))","v":""},{"$f":"IF(journal!D111=\"\",\"\",IF(journal!D111=\"a\",\"a\",journal!D111/journal!D$6))","v":""},{"$f":"IF(journal!E111=\"\",\"\",IF(journal!E111=\"a\",\"a\",journal!E111/journal!E$6))","v":""},{"$f":"IF(journal!F111=\"\",\"\",IF(journal!F111=\"a\",\"a\",journal!F111/journal!F$6))","v":""},{"$f":"IF(journal!G111=\"\",\"\",IF(journal!G111=\"a\",\"a\",journal!G111/journal!G$6))","v":""},{"$f":"IF(journal!H111=\"\",\"\",IF(journal!H111=\"a\",\"a\",journal!H111/journal!H$6))","v":""},{"$f":"IF(journal!I111=\"\",\"\",IF(journal!I111=\"a\",\"a\",journal!I111/journal!I$6))","v":""},{"$f":"IF(journal!J111=\"\",\"\",IF(journal!J111=\"a\",\"a\",journal!J111/journal!J$6))","v":""},{"$f":"IF(journal!K111=\"\",\"\",IF(journal!K111=\"a\",\"a\",journal!K111/journal!K$6))","v":""},{"$f":"IF(journal!L111=\"\",\"\",IF(journal!L111=\"a\",\"a\",journal!L111/journal!L$6))","v":""},{"$f":"IF(journal!M111=\"\",\"\",IF(journal!M111=\"a\",\"a\",journal!M111/journal!M$6))","v":""},{"$f":"IF(journal!N111=\"\",\"\",IF(journal!N111=\"a\",\"a\",journal!N111/journal!N$6))","v":""},{"$f":"IF(journal!O111=\"\",\"\",IF(journal!O111=\"a\",\"a\",journal!O111/journal!O$6))","v":""},{"$f":"IF(journal!P111=\"\",\"\",IF(journal!P111=\"a\",\"a\",journal!P111/journal!P$6))","v":""},{"$f":"IF(journal!Q111=\"\",\"\",IF(journal!Q111=\"a\",\"a\",journal!Q111/journal!Q$6))","v":""},{"$f":"IF(journal!R111=\"\",\"\",IF(journal!R111=\"a\",\"a\",journal!R111/journal!R$6))","v":""},{"$f":"IF(journal!S111=\"\",\"\",IF(journal!S111=\"a\",\"a\",journal!S111/journal!S$6))","v":""},{"$f":"IF(journal!T111=\"\",\"\",IF(journal!T111=\"a\",\"a\",journal!T111/journal!T$6))","v":""},{"$f":"IF(journal!U111=\"\",\"\",IF(journal!U111=\"a\",\"a\",journal!U111/journal!U$6))","v":""},{"$f":"IF(journal!V111=\"\",\"\",IF(journal!V111=\"a\",\"a\",journal!V111/journal!V$6))","v":""},{"$f":"IF(journal!W111=\"\",\"\",IF(journal!W111=\"a\",\"a\",journal!W111/journal!W$6))","v":""},{"$f":"IF(journal!X111=\"\",\"\",IF(journal!X111=\"a\",\"a\",journal!X111/journal!X$6))","v":""},{"$f":"IF(journal!Y111=\"\",\"\",IF(journal!Y111=\"a\",\"a\",journal!Y111/journal!Y$6))","v":""},{"$f":"IF(journal!Z111=\"\",\"\",IF(journal!Z111=\"a\",\"a\",journal!Z111/journal!Z$6))","v":""},{"$f":"IF(journal!AA111=\"\",\"\",IF(journal!AA111=\"a\",\"a\",journal!AA111/journal!AA$6))","v":""},{"$f":"IF(journal!AB111=\"\",\"\",IF(journal!AB111=\"a\",\"a\",journal!AB111/journal!AB$6))","v":""},{"$f":"IF(journal!AC111=\"\",\"\",IF(journal!AC111=\"a\",\"a\",journal!AC111/journal!AC$6))","v":""},{"$f":"IF(journal!AD111=\"\",\"\",IF(journal!AD111=\"a\",\"a\",journal!AD111/journal!AD$6))","v":""},{"$f":"IF(journal!AE111=\"\",\"\",IF(journal!AE111=\"a\",\"a\",journal!AE111/journal!AE$6))","v":""},{"$f":"IF(journal!AF111=\"\",\"\",IF(journal!AF111=\"a\",\"a\",journal!AF111/journal!AF$6))","v":""},{"$f":"IF(journal!AG111=\"\",\"\",IF(journal!AG111=\"a\",\"a\",journal!AG111/journal!AG$6))","v":""},{"$f":"IF(journal!AH111=\"\",\"\",IF(journal!AH111=\"a\",\"a\",journal!AH111/journal!AH$6))","v":""},{"$f":"IF(journal!AI111=\"\",\"\",IF(journal!AI111=\"a\",\"a\",journal!AI111/journal!AI$6))","v":""},{"$f":"IF(journal!AJ111=\"\",\"\",IF(journal!AJ111=\"a\",\"a\",journal!AJ111/journal!AJ$6))","v":""},{"$f":"IF(journal!AK111=\"\",\"\",IF(journal!AK111=\"a\",\"a\",journal!AK111/journal!AK$6))","v":""},{"$f":"IF(journal!AL111=\"\",\"\",IF(journal!AL111=\"a\",\"a\",journal!AL111/journal!AL$6))","v":""},{"$f":"IF(journal!AM111=\"\",\"\",IF(journal!AM111=\"a\",\"a\",journal!AM111/journal!AM$6))","v":""},{"$f":"IF(journal!AN111=\"\",\"\",IF(journal!AN111=\"a\",\"a\",journal!AN111/journal!AN$6))","v":""},{"$f":"IF(journal!AO111=\"\",\"\",IF(journal!AO111=\"a\",\"a\",journal!AO111/journal!AO$6))","v":""},{"$f":"IF(journal!AP111=\"\",\"\",IF(journal!AP111=\"a\",\"a\",journal!AP111/journal!AP$6))","v":""},{"$f":"IF(journal!AQ111=\"\",\"\",IF(journal!AQ111=\"a\",\"a\",journal!AQ111/journal!AQ$6))","v":""},{"$f":"IF(journal!AR111=\"\",\"\",IF(journal!AR111=\"a\",\"a\",journal!AR111/journal!AR$6))","v":""},"","","",""]
[null,"A",{"$f":"IF(journal!C112=\"\",\"\",IF(journal!C112=\"a\",\"a\",journal!C112/journal!C$7))","v":""},{"$f":"IF(journal!D112=\"\",\"\",IF(journal!D112=\"a\",\"a\",journal!D112/journal!D$7))","v":""},{"$f":"IF(journal!E112=\"\",\"\",IF(journal!E112=\"a\",\"a\",journal!E112/journal!E$7))","v":""},{"$f":"IF(journal!F112=\"\",\"\",IF(journal!F112=\"a\",\"a\",journal!F112/journal!F$7))","v":""},{"$f":"IF(journal!G112=\"\",\"\",IF(journal!G112=\"a\",\"a\",journal!G112/journal!G$7))","v":""},{"$f":"IF(journal!H112=\"\",\"\",IF(journal!H112=\"a\",\"a\",journal!H112/journal!H$7))","v":""},{"$f":"IF(journal!I112=\"\",\"\",IF(journal!I112=\"a\",\"a\",journal!I112/journal!I$7))","v":""},{"$f":"IF(journal!J112=\"\",\"\",IF(journal!J112=\"a\",\"a\",journal!J112/journal!J$7))","v":""},{"$f":"IF(journal!K112=\"\",\"\",IF(journal!K112=\"a\",\"a\",journal!K112/journal!K$7))","v":""},{"$f":"IF(journal!L112=\"\",\"\",IF(journal!L112=\"a\",\"a\",journal!L112/journal!L$7))","v":""},{"$f":"IF(journal!M112=\"\",\"\",IF(journal!M112=\"a\",\"a\",journal!M112/journal!M$7))","v":""},{"$f":"IF(journal!N112=\"\",\"\",IF(journal!N112=\"a\",\"a\",journal!N112/journal!N$7))","v":""},{"$f":"IF(journal!O112=\"\",\"\",IF(journal!O112=\"a\",\"a\",journal!O112/journal!O$7))","v":""},{"$f":"IF(journal!P112=\"\",\"\",IF(journal!P112=\"a\",\"a\",journal!P112/journal!P$7))","v":""},{"$f":"IF(journal!Q112=\"\",\"\",IF(journal!Q112=\"a\",\"a\",journal!Q112/journal!Q$7))","v":""},{"$f":"IF(journal!R112=\"\",\"\",IF(journal!R112=\"a\",\"a\",journal!R112/journal!R$7))","v":""},{"$f":"IF(journal!S112=\"\",\"\",IF(journal!S112=\"a\",\"a\",journal!S112/journal!S$7))","v":""},{"$f":"IF(journal!T112=\"\",\"\",IF(journal!T112=\"a\",\"a\",journal!T112/journal!T$7))","v":""},{"$f":"IF(journal!U112=\"\",\"\",IF(journal!U112=\"a\",\"a\",journal!U112/journal!U$7))","v":""},{"$f":"IF(journal!V112=\"\",\"\",IF(journal!V112=\"a\",\"a\",journal!V112/journal!V$7))","v":""},{"$f":"IF(journal!W112=\"\",\"\",IF(journal!W112=\"a\",\"a\",journal!W112/journal!W$7))","v":""},{"$f":"IF(journal!X112=\"\",\"\",IF(journal!X112=\"a\",\"a\",journal!X112/journal!X$7))","v":""},{"$f":"IF(journal!Y112=\"\",\"\",IF(journal!Y112=\"a\",\"a\",journal!Y112/journal!Y$7))","v":""},{"$f":"IF(journal!Z112=\"\",\"\",IF(journal!Z112=\"a\",\"a\",journal!Z112/journal!Z$7))","v":""},{"$f":"IF(journal!AA112=\"\",\"\",IF(journal!AA112=\"a\",\"a\",journal!AA112/journal!AA$7))","v":""},{"$f":"IF(journal!AB112=\"\",\"\",IF(journal!AB112=\"a\",\"a\",journal!AB112/journal!AB$7))","v":""},{"$f":"IF(journal!AC112=\"\",\"\",IF(journal!AC112=\"a\",\"a\",journal!AC112/journal!AC$7))","v":""},{"$f":"IF(journal!AD112=\"\",\"\",IF(journal!AD112=\"a\",\"a\",journal!AD112/journal!AD$7))","v":""},{"$f":"IF(journal!AE112=\"\",\"\",IF(journal!AE112=\"a\",\"a\",journal!AE112/journal!AE$7))","v":""},{"$f":"IF(journal!AF112=\"\",\"\",IF(journal!AF112=\"a\",\"a\",journal!AF112/journal!AF$7))","v":""},{"$f":"IF(journal!AG112=\"\",\"\",IF(journal!AG112=\"a\",\"a\",journal!AG112/journal!AG$7))","v":""},{"$f":"IF(journal!AH112=\"\",\"\",IF(journal!AH112=\"a\",\"a\",journal!AH112/journal!AH$7))","v":""},{"$f":"IF(journal!AI112=\"\",\"\",IF(journal!AI112=\"a\",\"a\",journal!AI112/journal!AI$7))","v":""},{"$f":"IF(journal!AJ112=\"\",\"\",IF(journal!AJ112=\"a\",\"a\",journal!AJ112/journal!AJ$7))","v":""},{"$f":"IF(journal!AK112=\"\",\"\",IF(journal!AK112=\"a\",\"a\",journal!AK112/journal!AK$7))","v":""},{"$f":"IF(journal!AL112=\"\",\"\",IF(journal!AL112=\"a\",\"a\",journal!AL112/journal!AL$7))","v":""},{"$f":"IF(journal!AM112=\"\",\"\",IF(journal!AM112=\"a\",\"a\",journal!AM112/journal!AM$7))","v":""},{"$f":"IF(journal!AN112=\"\",\"\",IF(journal!AN112=\"a\",\"a\",journal!AN112/journal!AN$7))","v":""},{"$f":"IF(journal!AO112=\"\",\"\",IF(journal!AO112=\"a\",\"a\",journal!AO112/journal!AO$7))","v":""},{"$f":"IF(journal!AP112=\"\",\"\",IF(journal!AP112=\"a\",\"a\",journal!AP112/journal!AP$7))","v":""},{"$f":"IF(journal!AQ112=\"\",\"\",IF(journal!AQ112=\"a\",\"a\",journal!AQ112/journal!AQ$7))","v":""},{"$f":"IF(journal!AR112=\"\",\"\",IF(journal!AR112=\"a\",\"a\",journal!AR112/journal!AR$7))","v":""},"","","",""]
[null,"R",{"$f":"IF(journal!C113=\"\",\"\",IF(journal!C113=\"a\",\"a\",journal!C113/journal!C$8))","v":""},{"$f":"IF(journal!D113=\"\",\"\",IF(journal!D113=\"a\",\"a\",journal!D113/journal!D$8))","v":""},{"$f":"IF(journal!E113=\"\",\"\",IF(journal!E113=\"a\",\"a\",journal!E113/journal!E$8))","v":""},{"$f":"IF(journal!F113=\"\",\"\",IF(journal!F113=\"a\",\"a\",journal!F113/journal!F$8))","v":""},{"$f":"IF(journal!G113=\"\",\"\",IF(journal!G113=\"a\",\"a\",journal!G113/journal!G$8))","v":""},{"$f":"IF(journal!H113=\"\",\"\",IF(journal!H113=\"a\",\"a\",journal!H113/journal!H$8))","v":""},{"$f":"IF(journal!I113=\"\",\"\",IF(journal!I113=\"a\",\"a\",journal!I113/journal!I$8))","v":""},{"$f":"IF(journal!J113=\"\",\"\",IF(journal!J113=\"a\",\"a\",journal!J113/journal!J$8))","v":""},{"$f":"IF(journal!K113=\"\",\"\",IF(journal!K113=\"a\",\"a\",journal!K113/journal!K$8))","v":""},{"$f":"IF(journal!L113=\"\",\"\",IF(journal!L113=\"a\",\"a\",journal!L113/journal!L$8))","v":""},{"$f":"IF(journal!M113=\"\",\"\",IF(journal!M113=\"a\",\"a\",journal!M113/journal!M$8))","v":""},{"$f":"IF(journal!N113=\"\",\"\",IF(journal!N113=\"a\",\"a\",journal!N113/journal!N$8))","v":""},{"$f":"IF(journal!O113=\"\",\"\",IF(journal!O113=\"a\",\"a\",journal!O113/journal!O$8))","v":""},{"$f":"IF(journal!P113=\"\",\"\",IF(journal!P113=\"a\",\"a\",journal!P113/journal!P$8))","v":""},{"$f":"IF(journal!Q113=\"\",\"\",IF(journal!Q113=\"a\",\"a\",journal!Q113/journal!Q$8))","v":""},{"$f":"IF(journal!R113=\"\",\"\",IF(journal!R113=\"a\",\"a\",journal!R113/journal!R$8))","v":""},{"$f":"IF(journal!S113=\"\",\"\",IF(journal!S113=\"a\",\"a\",journal!S113/journal!S$8))","v":""},{"$f":"IF(journal!T113=\"\",\"\",IF(journal!T113=\"a\",\"a\",journal!T113/journal!T$8))","v":""},{"$f":"IF(journal!U113=\"\",\"\",IF(journal!U113=\"a\",\"a\",journal!U113/journal!U$8))","v":""},{"$f":"IF(journal!V113=\"\",\"\",IF(journal!V113=\"a\",\"a\",journal!V113/journal!V$8))","v":""},{"$f":"IF(journal!W113=\"\",\"\",IF(journal!W113=\"a\",\"a\",journal!W113/journal!W$8))","v":""},{"$f":"IF(journal!X113=\"\",\"\",IF(journal!X113=\"a\",\"a\",journal!X113/journal!X$8))","v":""},{"$f":"IF(journal!Y113=\"\",\"\",IF(journal!Y113=\"a\",\"a\",journal!Y113/journal!Y$8))","v":""},{"$f":"IF(journal!Z113=\"\",\"\",IF(journal!Z113=\"a\",\"a\",journal!Z113/journal!Z$8))","v":""},{"$f":"IF(journal!AA113=\"\",\"\",IF(journal!AA113=\"a\",\"a\",journal!AA113/journal!AA$8))","v":""},{"$f":"IF(journal!AB113=\"\",\"\",IF(journal!AB113=\"a\",\"a\",journal!AB113/journal!AB$8))","v":""},{"$f":"IF(journal!AC113=\"\",\"\",IF(journal!AC113=\"a\",\"a\",journal!AC113/journal!AC$8))","v":""},{"$f":"IF(journal!AD113=\"\",\"\",IF(journal!AD113=\"a\",\"a\",journal!AD113/journal!AD$8))","v":""},{"$f":"IF(journal!AE113=\"\",\"\",IF(journal!AE113=\"a\",\"a\",journal!AE113/journal!AE$8))","v":""},{"$f":"IF(journal!AF113=\"\",\"\",IF(journal!AF113=\"a\",\"a\",journal!AF113/journal!AF$8))","v":""},{"$f":"IF(journal!AG113=\"\",\"\",IF(journal!AG113=\"a\",\"a\",journal!AG113/journal!AG$8))","v":""},{"$f":"IF(journal!AH113=\"\",\"\",IF(journal!AH113=\"a\",\"a\",journal!AH113/journal!AH$8))","v":""},{"$f":"IF(journal!AI113=\"\",\"\",IF(journal!AI113=\"a\",\"a\",journal!AI113/journal!AI$8))","v":""},{"$f":"IF(journal!AJ113=\"\",\"\",IF(journal!AJ113=\"a\",\"a\",journal!AJ113/journal!AJ$8))","v":""},{"$f":"IF(journal!AK113=\"\",\"\",IF(journal!AK113=\"a\",\"a\",journal!AK113/journal!AK$8))","v":""},{"$f":"IF(journal!AL113=\"\",\"\",IF(journal!AL113=\"a\",\"a\",journal!AL113/journal!AL$8))","v":""},{"$f":"IF(journal!AM113=\"\",\"\",IF(journal!AM113=\"a\",\"a\",journal!AM113/journal!AM$8))","v":""},{"$f":"IF(journal!AN113=\"\",\"\",IF(journal!AN113=\"a\",\"a\",journal!AN113/journal!AN$8))","v":""},{"$f":"IF(journal!AO113=\"\",\"\",IF(journal!AO113=\"a\",\"a\",journal!AO113/journal!AO$8))","v":""},{"$f":"IF(journal!AP113=\"\",\"\",IF(journal!AP113=\"a\",\"a\",journal!AP113/journal!AP$8))","v":""},{"$f":"IF(journal!AQ113=\"\",\"\",IF(journal!AQ113=\"a\",\"a\",journal!AQ113/journal!AQ$8))","v":""},{"$f":"IF(journal!AR113=\"\",\"\",IF(journal!AR113=\"a\",\"a\",journal!AR113/journal!AR$8))","v":""},"","","",""]
[null,"V",{"$f":"IF(journal!C114=\"\",\"\",IF(journal!C114=\"a\",\"a\",journal!C114/journal!C$9))","v":""},{"$f":"IF(journal!D114=\"\",\"\",IF(journal!D114=\"a\",\"a\",journal!D114/journal!D$9))","v":""},{"$f":"IF(journal!E114=\"\",\"\",IF(journal!E114=\"a\",\"a\",journal!E114/journal!E$9))","v":""},{"$f":"IF(journal!F114=\"\",\"\",IF(journal!F114=\"a\",\"a\",journal!F114/journal!F$9))","v":""},{"$f":"IF(journal!G114=\"\",\"\",IF(journal!G114=\"a\",\"a\",journal!G114/journal!G$9))","v":""},{"$f":"IF(journal!H114=\"\",\"\",IF(journal!H114=\"a\",\"a\",journal!H114/journal!H$9))","v":""},{"$f":"IF(journal!I114=\"\",\"\",IF(journal!I114=\"a\",\"a\",journal!I114/journal!I$9))","v":""},{"$f":"IF(journal!J114=\"\",\"\",IF(journal!J114=\"a\",\"a\",journal!J114/journal!J$9))","v":""},{"$f":"IF(journal!K114=\"\",\"\",IF(journal!K114=\"a\",\"a\",journal!K114/journal!K$9))","v":""},{"$f":"IF(journal!L114=\"\",\"\",IF(journal!L114=\"a\",\"a\",journal!L114/journal!L$9))","v":""},{"$f":"IF(journal!M114=\"\",\"\",IF(journal!M114=\"a\",\"a\",journal!M114/journal!M$9))","v":""},{"$f":"IF(journal!N114=\"\",\"\",IF(journal!N114=\"a\",\"a\",journal!N114/journal!N$9))","v":""},{"$f":"IF(journal!O114=\"\",\"\",IF(journal!O114=\"a\",\"a\",journal!O114/journal!O$9))","v":""},{"$f":"IF(journal!P114=\"\",\"\",IF(journal!P114=\"a\",\"a\",journal!P114/journal!P$9))","v":""},{"$f":"IF(journal!Q114=\"\",\"\",IF(journal!Q114=\"a\",\"a\",journal!Q114/journal!Q$9))","v":""},{"$f":"IF(journal!R114=\"\",\"\",IF(journal!R114=\"a\",\"a\",journal!R114/journal!R$9))","v":""},{"$f":"IF(journal!S114=\"\",\"\",IF(journal!S114=\"a\",\"a\",journal!S114/journal!S$9))","v":""},{"$f":"IF(journal!T114=\"\",\"\",IF(journal!T114=\"a\",\"a\",journal!T114/journal!T$9))","v":""},{"$f":"IF(journal!U114=\"\",\"\",IF(journal!U114=\"a\",\"a\",journal!U114/journal!U$9))","v":""},{"$f":"IF(journal!V114=\"\",\"\",IF(journal!V114=\"a\",\"a\",journal!V114/journal!V$9))","v":""},{"$f":"IF(journal!W114=\"\",\"\",IF(journal!W114=\"a\",\"a\",journal!W114/journal!W$9))","v":""},{"$f":"IF(journal!X114=\"\",\"\",IF(journal!X114=\"a\",\"a\",journal!X114/journal!X$9))","v":""},{"$f":"IF(journal!Y114=\"\",\"\",IF(journal!Y114=\"a\",\"a\",journal!Y114/journal!Y$9))","v":""},{"$f":"IF(journal!Z114=\"\",\"\",IF(journal!Z114=\"a\",\"a\",journal!Z114/journal!Z$9))","v":""},{"$f":"IF(journal!AA114=\"\",\"\",IF(journal!AA114=\"a\",\"a\",journal!AA114/journal!AA$9))","v":""},{"$f":"IF(journal!AB114=\"\",\"\",IF(journal!AB114=\"a\",\"a\",journal!AB114/journal!AB$9))","v":""},{"$f":"IF(journal!AC114=\"\",\"\",IF(journal!AC114=\"a\",\"a\",journal!AC114/journal!AC$9))","v":""},{"$f":"IF(journal!AD114=\"\",\"\",IF(journal!AD114=\"a\",\"a\",journal!AD114/journal!AD$9))","v":""},{"$f":"IF(journal!AE114=\"\",\"\",IF(journal!AE114=\"a\",\"a\",journal!AE114/journal!AE$9))","v":""},{"$f":"IF(journal!AF114=\"\",\"\",IF(journal!AF114=\"a\",\"a\",journal!AF114/journal!AF$9))","v":""},{"$f":"IF(journal!AG114=\"\",\"\",IF(journal!AG114=\"a\",\"a\",journal!AG114/journal!AG$9))","v":""},{"$f":"IF(journal!AH114=\"\",\"\",IF(journal!AH114=\"a\",\"a\",journal!AH114/journal!AH$9))","v":""},{"$f":"IF(journal!AI114=\"\",\"\",IF(journal!AI114=\"a\",\"a\",journal!AI114/journal!AI$9))","v":""},{"$f":"IF(journal!AJ114=\"\",\"\",IF(journal!AJ114=\"a\",\"a\",journal!AJ114/journal!AJ$9))","v":""},{"$f":"IF(journal!AK114=\"\",\"\",IF(journal!AK114=\"a\",\"a\",journal!AK114/journal!AK$9))","v":""},{"$f":"IF(journal!AL114=\"\",\"\",IF(journal!AL114=\"a\",\"a\",journal!AL114/journal!AL$9))","v":""},{"$f":"IF(journal!AM114=\"\",\"\",IF(journal!AM114=\"a\",\"a\",journal!AM114/journal!AM$9))","v":""},{"$f":"IF(journal!AN114=\"\",\"\",IF(journal!AN114=\"a\",\"a\",journal!AN114/journal!AN$9))","v":""},{"$f":"IF(journal!AO114=\"\",\"\",IF(journal!AO114=\"a\",\"a\",journal!AO114/journal!AO$9))","v":""},{"$f":"IF(journal!AP114=\"\",\"\",IF(journal!AP114=\"a\",\"a\",journal!AP114/journal!AP$9))","v":""},{"$f":"IF(journal!AQ114=\"\",\"\",IF(journal!AQ114=\"a\",\"a\",journal!AQ114/journal!AQ$9))","v":""},{"$f":"IF(journal!AR114=\"\",\"\",IF(journal!AR114=\"a\",\"a\",journal!AR114/journal!AR$9))","v":""},"","","",""]
[null,"C",{"$f":"IF(journal!C115=\"\",\"\",IF(journal!C115=\"a\",\"a\",journal!C115/journal!C$10))","v":""},{"$f":"IF(journal!D115=\"\",\"\",IF(journal!D115=\"a\",\"a\",journal!D115/journal!D$10))","v":""},{"$f":"IF(journal!E115=\"\",\"\",IF(journal!E115=\"a\",\"a\",journal!E115/journal!E$10))","v":""},{"$f":"IF(journal!F115=\"\",\"\",IF(journal!F115=\"a\",\"a\",journal!F115/journal!F$10))","v":""},{"$f":"IF(journal!G115=\"\",\"\",IF(journal!G115=\"a\",\"a\",journal!G115/journal!G$10))","v":""},{"$f":"IF(journal!H115=\"\",\"\",IF(journal!H115=\"a\",\"a\",journal!H115/journal!H$10))","v":""},{"$f":"IF(journal!I115=\"\",\"\",IF(journal!I115=\"a\",\"a\",journal!I115/journal!I$10))","v":""},{"$f":"IF(journal!J115=\"\",\"\",IF(journal!J115=\"a\",\"a\",journal!J115/journal!J$10))","v":""},{"$f":"IF(journal!K115=\"\",\"\",IF(journal!K115=\"a\",\"a\",journal!K115/journal!K$10))","v":""},{"$f":"IF(journal!L115=\"\",\"\",IF(journal!L115=\"a\",\"a\",journal!L115/journal!L$10))","v":""},{"$f":"IF(journal!M115=\"\",\"\",IF(journal!M115=\"a\",\"a\",journal!M115/journal!M$10))","v":""},{"$f":"IF(journal!N115=\"\",\"\",IF(journal!N115=\"a\",\"a\",journal!N115/journal!N$10))","v":""},{"$f":"IF(journal!O115=\"\",\"\",IF(journal!O115=\"a\",\"a\",journal!O115/journal!O$10))","v":""},{"$f":"IF(journal!P115=\"\",\"\",IF(journal!P115=\"a\",\"a\",journal!P115/journal!P$10))","v":""},{"$f":"IF(journal!Q115=\"\",\"\",IF(journal!Q115=\"a\",\"a\",journal!Q115/journal!Q$10))","v":""},{"$f":"IF(journal!R115=\"\",\"\",IF(journal!R115=\"a\",\"a\",journal!R115/journal!R$10))","v":""},{"$f":"IF(journal!S115=\"\",\"\",IF(journal!S115=\"a\",\"a\",journal!S115/journal!S$10))","v":""},{"$f":"IF(journal!T115=\"\",\"\",IF(journal!T115=\"a\",\"a\",journal!T115/journal!T$10))","v":""},{"$f":"IF(journal!U115=\"\",\"\",IF(journal!U115=\"a\",\"a\",journal!U115/journal!U$10))","v":""},{"$f":"IF(journal!V115=\"\",\"\",IF(journal!V115=\"a\",\"a\",journal!V115/journal!V$10))","v":""},{"$f":"IF(journal!W115=\"\",\"\",IF(journal!W115=\"a\",\"a\",journal!W115/journal!W$10))","v":""},{"$f":"IF(journal!X115=\"\",\"\",IF(journal!X115=\"a\",\"a\",journal!X115/journal!X$10))","v":""},{"$f":"IF(journal!Y115=\"\",\"\",IF(journal!Y115=\"a\",\"a\",journal!Y115/journal!Y$10))","v":""},{"$f":"IF(journal!Z115=\"\",\"\",IF(journal!Z115=\"a\",\"a\",journal!Z115/journal!Z$10))","v":""},{"$f":"IF(journal!AA115=\"\",\"\",IF(journal!AA115=\"a\",\"a\",journal!AA115/journal!AA$10))","v":""},{"$f":"IF(journal!AB115=\"\",\"\",IF(journal!AB115=\"a\",\"a\",journal!AB115/journal!AB$10))","v":""},{"$f":"IF(journal!AC115=\"\",\"\",IF(journal!AC115=\"a\",\"a\",journal!AC115/journal!AC$10))","v":""},{"$f":"IF(journal!AD115=\"\",\"\",IF(journal!AD115=\"a\",\"a\",journal!AD115/journal!AD$10))","v":""},{"$f":"IF(journal!AE115=\"\",\"\",IF(journal!AE115=\"a\",\"a\",journal!AE115/journal!AE$10))","v":""},{"$f":"IF(journal!AF115=\"\",\"\",IF(journal!AF115=\"a\",\"a\",journal!AF115/journal!AF$10))","v":""},{"$f":"IF(journal!AG115=\"\",\"\",IF(journal!AG115=\"a\",\"a\",journal!AG115/journal!AG$10))","v":""},{"$f":"IF(journal!AH115=\"\",\"\",IF(journal!AH115=\"a\",\"a\",journal!AH115/journal!AH$10))","v":""},{"$f":"IF(journal!AI115=\"\",\"\",IF(journal!AI115=\"a\",\"a\",journal!AI115/journal!AI$10))","v":""},{"$f":"IF(journal!AJ115=\"\",\"\",IF(journal!AJ115=\"a\",\"a\",journal!AJ115/journal!AJ$10))","v":""},{"$f":"IF(journal!AK115=\"\",\"\",IF(journal!AK115=\"a\",\"a\",journal!AK115/journal!AK$10))","v":""},{"$f":"IF(journal!AL115=\"\",\"\",IF(journal!AL115=\"a\",\"a\",journal!AL115/journal!AL$10))","v":""},{"$f":"IF(journal!AM115=\"\",\"\",IF(journal!AM115=\"a\",\"a\",journal!AM115/journal!AM$10))","v":""},{"$f":"IF(journal!AN115=\"\",\"\",IF(journal!AN115=\"a\",\"a\",journal!AN115/journal!AN$10))","v":""},{"$f":"IF(journal!AO115=\"\",\"\",IF(journal!AO115=\"a\",\"a\",journal!AO115/journal!AO$10))","v":""},{"$f":"IF(journal!AP115=\"\",\"\",IF(journal!AP115=\"a\",\"a\",journal!AP115/journal!AP$10))","v":""},{"$f":"IF(journal!AQ115=\"\",\"\",IF(journal!AQ115=\"a\",\"a\",journal!AQ115/journal!AQ$10))","v":""},{"$f":"IF(journal!AR115=\"\",\"\",IF(journal!AR115=\"a\",\"a\",journal!AR115/journal!AR$10))","v":""},"","","",""]
[{"$f":"Saisie!A32","v":0},"S",{"$f":"IF(journal!C116=\"\",\"\",IF(journal!C116=\"a\",\"a\",journal!C116/journal!C$6))","v":""},{"$f":"IF(journal!D116=\"\",\"\",IF(journal!D116=\"a\",\"a\",journal!D116/journal!D$6))","v":""},{"$f":"IF(journal!E116=\"\",\"\",IF(journal!E116=\"a\",\"a\",journal!E116/journal!E$6))","v":""},{"$f":"IF(journal!F116=\"\",\"\",IF(journal!F116=\"a\",\"a\",journal!F116/journal!F$6))","v":""},{"$f":"IF(journal!G116=\"\",\"\",IF(journal!G116=\"a\",\"a\",journal!G116/journal!G$6))","v":""},{"$f":"IF(journal!H116=\"\",\"\",IF(journal!H116=\"a\",\"a\",journal!H116/journal!H$6))","v":""},{"$f":"IF(journal!I116=\"\",\"\",IF(journal!I116=\"a\",\"a\",journal!I116/journal!I$6))","v":""},{"$f":"IF(journal!J116=\"\",\"\",IF(journal!J116=\"a\",\"a\",journal!J116/journal!J$6))","v":""},{"$f":"IF(journal!K116=\"\",\"\",IF(journal!K116=\"a\",\"a\",journal!K116/journal!K$6))","v":""},{"$f":"IF(journal!L116=\"\",\"\",IF(journal!L116=\"a\",\"a\",journal!L116/journal!L$6))","v":""},{"$f":"IF(journal!M116=\"\",\"\",IF(journal!M116=\"a\",\"a\",journal!M116/journal!M$6))","v":""},{"$f":"IF(journal!N116=\"\",\"\",IF(journal!N116=\"a\",\"a\",journal!N116/journal!N$6))","v":""},{"$f":"IF(journal!O116=\"\",\"\",IF(journal!O116=\"a\",\"a\",journal!O116/journal!O$6))","v":""},{"$f":"IF(journal!P116=\"\",\"\",IF(journal!P116=\"a\",\"a\",journal!P116/journal!P$6))","v":""},{"$f":"IF(journal!Q116=\"\",\"\",IF(journal!Q116=\"a\",\"a\",journal!Q116/journal!Q$6))","v":""},{"$f":"IF(journal!R116=\"\",\"\",IF(journal!R116=\"a\",\"a\",journal!R116/journal!R$6))","v":""},{"$f":"IF(journal!S116=\"\",\"\",IF(journal!S116=\"a\",\"a\",journal!S116/journal!S$6))","v":""},{"$f":"IF(journal!T116=\"\",\"\",IF(journal!T116=\"a\",\"a\",journal!T116/journal!T$6))","v":""},{"$f":"IF(journal!U116=\"\",\"\",IF(journal!U116=\"a\",\"a\",journal!U116/journal!U$6))","v":""},{"$f":"IF(journal!V116=\"\",\"\",IF(journal!V116=\"a\",\"a\",journal!V116/journal!V$6))","v":""},{"$f":"IF(journal!W116=\"\",\"\",IF(journal!W116=\"a\",\"a\",journal!W116/journal!W$6))","v":""},{"$f":"IF(journal!X116=\"\",\"\",IF(journal!X116=\"a\",\"a\",journal!X116/journal!X$6))","v":""},{"$f":"IF(journal!Y116=\"\",\"\",IF(journal!Y116=\"a\",\"a\",journal!Y116/journal!Y$6))","v":""},{"$f":"IF(journal!Z116=\"\",\"\",IF(journal!Z116=\"a\",\"a\",journal!Z116/journal!Z$6))","v":""},{"$f":"IF(journal!AA116=\"\",\"\",IF(journal!AA116=\"a\",\"a\",journal!AA116/journal!AA$6))","v":""},{"$f":"IF(journal!AB116=\"\",\"\",IF(journal!AB116=\"a\",\"a\",journal!AB116/journal!AB$6))","v":""},{"$f":"IF(journal!AC116=\"\",\"\",IF(journal!AC116=\"a\",\"a\",journal!AC116/journal!AC$6))","v":""},{"$f":"IF(journal!AD116=\"\",\"\",IF(journal!AD116=\"a\",\"a\",journal!AD116/journal!AD$6))","v":""},{"$f":"IF(journal!AE116=\"\",\"\",IF(journal!AE116=\"a\",\"a\",journal!AE116/journal!AE$6))","v":""},{"$f":"IF(journal!AF116=\"\",\"\",IF(journal!AF116=\"a\",\"a\",journal!AF116/journal!AF$6))","v":""},{"$f":"IF(journal!AG116=\"\",\"\",IF(journal!AG116=\"a\",\"a\",journal!AG116/journal!AG$6))","v":""},{"$f":"IF(journal!AH116=\"\",\"\",IF(journal!AH116=\"a\",\"a\",journal!AH116/journal!AH$6))","v":""},{"$f":"IF(journal!AI116=\"\",\"\",IF(journal!AI116=\"a\",\"a\",journal!AI116/journal!AI$6))","v":""},{"$f":"IF(journal!AJ116=\"\",\"\",IF(journal!AJ116=\"a\",\"a\",journal!AJ116/journal!AJ$6))","v":""},{"$f":"IF(journal!AK116=\"\",\"\",IF(journal!AK116=\"a\",\"a\",journal!AK116/journal!AK$6))","v":""},{"$f":"IF(journal!AL116=\"\",\"\",IF(journal!AL116=\"a\",\"a\",journal!AL116/journal!AL$6))","v":""},{"$f":"IF(journal!AM116=\"\",\"\",IF(journal!AM116=\"a\",\"a\",journal!AM116/journal!AM$6))","v":""},{"$f":"IF(journal!AN116=\"\",\"\",IF(journal!AN116=\"a\",\"a\",journal!AN116/journal!AN$6))","v":""},{"$f":"IF(journal!AO116=\"\",\"\",IF(journal!AO116=\"a\",\"a\",journal!AO116/journal!AO$6))","v":""},{"$f":"IF(journal!AP116=\"\",\"\",IF(journal!AP116=\"a\",\"a\",journal!AP116/journal!AP$6))","v":""},{"$f":"IF(journal!AQ116=\"\",\"\",IF(journal!AQ116=\"a\",\"a\",journal!AQ116/journal!AQ$6))","v":""},{"$f":"IF(journal!AR116=\"\",\"\",IF(journal!AR116=\"a\",\"a\",journal!AR116/journal!AR$6))","v":""},"","","",""]
[null,"A",{"$f":"IF(journal!C117=\"\",\"\",IF(journal!C117=\"a\",\"a\",journal!C117/journal!C$7))","v":""},{"$f":"IF(journal!D117=\"\",\"\",IF(journal!D117=\"a\",\"a\",journal!D117/journal!D$7))","v":""},{"$f":"IF(journal!E117=\"\",\"\",IF(journal!E117=\"a\",\"a\",journal!E117/journal!E$7))","v":""},{"$f":"IF(journal!F117=\"\",\"\",IF(journal!F117=\"a\",\"a\",journal!F117/journal!F$7))","v":""},{"$f":"IF(journal!G117=\"\",\"\",IF(journal!G117=\"a\",\"a\",journal!G117/journal!G$7))","v":""},{"$f":"IF(journal!H117=\"\",\"\",IF(journal!H117=\"a\",\"a\",journal!H117/journal!H$7))","v":""},{"$f":"IF(journal!I117=\"\",\"\",IF(journal!I117=\"a\",\"a\",journal!I117/journal!I$7))","v":""},{"$f":"IF(journal!J117=\"\",\"\",IF(journal!J117=\"a\",\"a\",journal!J117/journal!J$7))","v":""},{"$f":"IF(journal!K117=\"\",\"\",IF(journal!K117=\"a\",\"a\",journal!K117/journal!K$7))","v":""},{"$f":"IF(journal!L117=\"\",\"\",IF(journal!L117=\"a\",\"a\",journal!L117/journal!L$7))","v":""},{"$f":"IF(journal!M117=\"\",\"\",IF(journal!M117=\"a\",\"a\",journal!M117/journal!M$7))","v":""},{"$f":"IF(journal!N117=\"\",\"\",IF(journal!N117=\"a\",\"a\",journal!N117/journal!N$7))","v":""},{"$f":"IF(journal!O117=\"\",\"\",IF(journal!O117=\"a\",\"a\",journal!O117/journal!O$7))","v":""},{"$f":"IF(journal!P117=\"\",\"\",IF(journal!P117=\"a\",\"a\",journal!P117/journal!P$7))","v":""},{"$f":"IF(journal!Q117=\"\",\"\",IF(journal!Q117=\"a\",\"a\",journal!Q117/journal!Q$7))","v":""},{"$f":"IF(journal!R117=\"\",\"\",IF(journal!R117=\"a\",\"a\",journal!R117/journal!R$7))","v":""},{"$f":"IF(journal!S117=\"\",\"\",IF(journal!S117=\"a\",\"a\",journal!S117/journal!S$7))","v":""},{"$f":"IF(journal!T117=\"\",\"\",IF(journal!T117=\"a\",\"a\",journal!T117/journal!T$7))","v":""},{"$f":"IF(journal!U117=\"\",\"\",IF(journal!U117=\"a\",\"a\",journal!U117/journal!U$7))","v":""},{"$f":"IF(journal!V117=\"\",\"\",IF(journal!V117=\"a\",\"a\",journal!V117/journal!V$7))","v":""},{"$f":"IF(journal!W117=\"\",\"\",IF(journal!W117=\"a\",\"a\",journal!W117/journal!W$7))","v":""},{"$f":"IF(journal!X117=\"\",\"\",IF(journal!X117=\"a\",\"a\",journal!X117/journal!X$7))","v":""},{"$f":"IF(journal!Y117=\"\",\"\",IF(journal!Y117=\"a\",\"a\",journal!Y117/journal!Y$7))","v":""},{"$f":"IF(journal!Z117=\"\",\"\",IF(journal!Z117=\"a\",\"a\",journal!Z117/journal!Z$7))","v":""},{"$f":"IF(journal!AA117=\"\",\"\",IF(journal!AA117=\"a\",\"a\",journal!AA117/journal!AA$7))","v":""},{"$f":"IF(journal!AB117=\"\",\"\",IF(journal!AB117=\"a\",\"a\",journal!AB117/journal!AB$7))","v":""},{"$f":"IF(journal!AC117=\"\",\"\",IF(journal!AC117=\"a\",\"a\",journal!AC117/journal!AC$7))","v":""},{"$f":"IF(journal!AD117=\"\",\"\",IF(journal!AD117=\"a\",\"a\",journal!AD117/journal!AD$7))","v":""},{"$f":"IF(journal!AE117=\"\",\"\",IF(journal!AE117=\"a\",\"a\",journal!AE117/journal!AE$7))","v":""},{"$f":"IF(journal!AF117=\"\",\"\",IF(journal!AF117=\"a\",\"a\",journal!AF117/journal!AF$7))","v":""},{"$f":"IF(journal!AG117=\"\",\"\",IF(journal!AG117=\"a\",\"a\",journal!AG117/journal!AG$7))","v":""},{"$f":"IF(journal!AH117=\"\",\"\",IF(journal!AH117=\"a\",\"a\",journal!AH117/journal!AH$7))","v":""},{"$f":"IF(journal!AI117=\"\",\"\",IF(journal!AI117=\"a\",\"a\",journal!AI117/journal!AI$7))","v":""},{"$f":"IF(journal!AJ117=\"\",\"\",IF(journal!AJ117=\"a\",\"a\",journal!AJ117/journal!AJ$7))","v":""},{"$f":"IF(journal!AK117=\"\",\"\",IF(journal!AK117=\"a\",\"a\",journal!AK117/journal!AK$7))","v":""},{"$f":"IF(journal!AL117=\"\",\"\",IF(journal!AL117=\"a\",\"a\",journal!AL117/journal!AL$7))","v":""},{"$f":"IF(journal!AM117=\"\",\"\",IF(journal!AM117=\"a\",\"a\",journal!AM117/journal!AM$7))","v":""},{"$f":"IF(journal!AN117=\"\",\"\",IF(journal!AN117=\"a\",\"a\",journal!AN117/journal!AN$7))","v":""},{"$f":"IF(journal!AO117=\"\",\"\",IF(journal!AO117=\"a\",\"a\",journal!AO117/journal!AO$7))","v":""},{"$f":"IF(journal!AP117=\"\",\"\",IF(journal!AP117=\"a\",\"a\",journal!AP117/journal!AP$7))","v":""},{"$f":"IF(journal!AQ117=\"\",\"\",IF(journal!AQ117=\"a\",\"a\",journal!AQ117/journal!AQ$7))","v":""},{"$f":"IF(journal!AR117=\"\",\"\",IF(journal!AR117=\"a\",\"a\",journal!AR117/journal!AR$7))","v":""},"","","",""]
[null,"R",{"$f":"IF(journal!C118=\"\",\"\",IF(journal!C118=\"a\",\"a\",journal!C118/journal!C$8))","v":""},{"$f":"IF(journal!D118=\"\",\"\",IF(journal!D118=\"a\",\"a\",journal!D118/journal!D$8))","v":""},{"$f":"IF(journal!E118=\"\",\"\",IF(journal!E118=\"a\",\"a\",journal!E118/journal!E$8))","v":""},{"$f":"IF(journal!F118=\"\",\"\",IF(journal!F118=\"a\",\"a\",journal!F118/journal!F$8))","v":""},{"$f":"IF(journal!G118=\"\",\"\",IF(journal!G118=\"a\",\"a\",journal!G118/journal!G$8))","v":""},{"$f":"IF(journal!H118=\"\",\"\",IF(journal!H118=\"a\",\"a\",journal!H118/journal!H$8))","v":""},{"$f":"IF(journal!I118=\"\",\"\",IF(journal!I118=\"a\",\"a\",journal!I118/journal!I$8))","v":""},{"$f":"IF(journal!J118=\"\",\"\",IF(journal!J118=\"a\",\"a\",journal!J118/journal!J$8))","v":""},{"$f":"IF(journal!K118=\"\",\"\",IF(journal!K118=\"a\",\"a\",journal!K118/journal!K$8))","v":""},{"$f":"IF(journal!L118=\"\",\"\",IF(journal!L118=\"a\",\"a\",journal!L118/journal!L$8))","v":""},{"$f":"IF(journal!M118=\"\",\"\",IF(journal!M118=\"a\",\"a\",journal!M118/journal!M$8))","v":""},{"$f":"IF(journal!N118=\"\",\"\",IF(journal!N118=\"a\",\"a\",journal!N118/journal!N$8))","v":""},{"$f":"IF(journal!O118=\"\",\"\",IF(journal!O118=\"a\",\"a\",journal!O118/journal!O$8))","v":""},{"$f":"IF(journal!P118=\"\",\"\",IF(journal!P118=\"a\",\"a\",journal!P118/journal!P$8))","v":""},{"$f":"IF(journal!Q118=\"\",\"\",IF(journal!Q118=\"a\",\"a\",journal!Q118/journal!Q$8))","v":""},{"$f":"IF(journal!R118=\"\",\"\",IF(journal!R118=\"a\",\"a\",journal!R118/journal!R$8))","v":""},{"$f":"IF(journal!S118=\"\",\"\",IF(journal!S118=\"a\",\"a\",journal!S118/journal!S$8))","v":""},{"$f":"IF(journal!T118=\"\",\"\",IF(journal!T118=\"a\",\"a\",journal!T118/journal!T$8))","v":""},{"$f":"IF(journal!U118=\"\",\"\",IF(journal!U118=\"a\",\"a\",journal!U118/journal!U$8))","v":""},{"$f":"IF(journal!V118=\"\",\"\",IF(journal!V118=\"a\",\"a\",journal!V118/journal!V$8))","v":""},{"$f":"IF(journal!W118=\"\",\"\",IF(journal!W118=\"a\",\"a\",journal!W118/journal!W$8))","v":""},{"$f":"IF(journal!X118=\"\",\"\",IF(journal!X118=\"a\",\"a\",journal!X118/journal!X$8))","v":""},{"$f":"IF(journal!Y118=\"\",\"\",IF(journal!Y118=\"a\",\"a\",journal!Y118/journal!Y$8))","v":""},{"$f":"IF(journal!Z118=\"\",\"\",IF(journal!Z118=\"a\",\"a\",journal!Z118/journal!Z$8))","v":""},{"$f":"IF(journal!AA118=\"\",\"\",IF(journal!AA118=\"a\",\"a\",journal!AA118/journal!AA$8))","v":""},{"$f":"IF(journal!AB118=\"\",\"\",IF(journal!AB118=\"a\",\"a\",journal!AB118/journal!AB$8))","v":""},{"$f":"IF(journal!AC118=\"\",\"\",IF(journal!AC118=\"a\",\"a\",journal!AC118/journal!AC$8))","v":""},{"$f":"IF(journal!AD118=\"\",\"\",IF(journal!AD118=\"a\",\"a\",journal!AD118/journal!AD$8))","v":""},{"$f":"IF(journal!AE118=\"\",\"\",IF(journal!AE118=\"a\",\"a\",journal!AE118/journal!AE$8))","v":""},{"$f":"IF(journal!AF118=\"\",\"\",IF(journal!AF118=\"a\",\"a\",journal!AF118/journal!AF$8))","v":""},{"$f":"IF(journal!AG118=\"\",\"\",IF(journal!AG118=\"a\",\"a\",journal!AG118/journal!AG$8))","v":""},{"$f":"IF(journal!AH118=\"\",\"\",IF(journal!AH118=\"a\",\"a\",journal!AH118/journal!AH$8))","v":""},{"$f":"IF(journal!AI118=\"\",\"\",IF(journal!AI118=\"a\",\"a\",journal!AI118/journal!AI$8))","v":""},{"$f":"IF(journal!AJ118=\"\",\"\",IF(journal!AJ118=\"a\",\"a\",journal!AJ118/journal!AJ$8))","v":""},{"$f":"IF(journal!AK118=\"\",\"\",IF(journal!AK118=\"a\",\"a\",journal!AK118/journal!AK$8))","v":""},{"$f":"IF(journal!AL118=\"\",\"\",IF(journal!AL118=\"a\",\"a\",journal!AL118/journal!AL$8))","v":""},{"$f":"IF(journal!AM118=\"\",\"\",IF(journal!AM118=\"a\",\"a\",journal!AM118/journal!AM$8))","v":""},{"$f":"IF(journal!AN118=\"\",\"\",IF(journal!AN118=\"a\",\"a\",journal!AN118/journal!AN$8))","v":""},{"$f":"IF(journal!AO118=\"\",\"\",IF(journal!AO118=\"a\",\"a\",journal!AO118/journal!AO$8))","v":""},{"$f":"IF(journal!AP118=\"\",\"\",IF(journal!AP118=\"a\",\"a\",journal!AP118/journal!AP$8))","v":""},{"$f":"IF(journal!AQ118=\"\",\"\",IF(journal!AQ118=\"a\",\"a\",journal!AQ118/journal!AQ$8))","v":""},{"$f":"IF(journal!AR118=\"\",\"\",IF(journal!AR118=\"a\",\"a\",journal!AR118/journal!AR$8))","v":""},"","","",""]
[null,"V",{"$f":"IF(journal!C119=\"\",\"\",IF(journal!C119=\"a\",\"a\",journal!C119/journal!C$9))","v":""},{"$f":"IF(journal!D119=\"\",\"\",IF(journal!D119=\"a\",\"a\",journal!D119/journal!D$9))","v":""},{"$f":"IF(journal!E119=\"\",\"\",IF(journal!E119=\"a\",\"a\",journal!E119/journal!E$9))","v":""},{"$f":"IF(journal!F119=\"\",\"\",IF(journal!F119=\"a\",\"a\",journal!F119/journal!F$9))","v":""},{"$f":"IF(journal!G119=\"\",\"\",IF(journal!G119=\"a\",\"a\",journal!G119/journal!G$9))","v":""},{"$f":"IF(journal!H119=\"\",\"\",IF(journal!H119=\"a\",\"a\",journal!H119/journal!H$9))","v":""},{"$f":"IF(journal!I119=\"\",\"\",IF(journal!I119=\"a\",\"a\",journal!I119/journal!I$9))","v":""},{"$f":"IF(journal!J119=\"\",\"\",IF(journal!J119=\"a\",\"a\",journal!J119/journal!J$9))","v":""},{"$f":"IF(journal!K119=\"\",\"\",IF(journal!K119=\"a\",\"a\",journal!K119/journal!K$9))","v":""},{"$f":"IF(journal!L119=\"\",\"\",IF(journal!L119=\"a\",\"a\",journal!L119/journal!L$9))","v":""},{"$f":"IF(journal!M119=\"\",\"\",IF(journal!M119=\"a\",\"a\",journal!M119/journal!M$9))","v":""},{"$f":"IF(journal!N119=\"\",\"\",IF(journal!N119=\"a\",\"a\",journal!N119/journal!N$9))","v":""},{"$f":"IF(journal!O119=\"\",\"\",IF(journal!O119=\"a\",\"a\",journal!O119/journal!O$9))","v":""},{"$f":"IF(journal!P119=\"\",\"\",IF(journal!P119=\"a\",\"a\",journal!P119/journal!P$9))","v":""},{"$f":"IF(journal!Q119=\"\",\"\",IF(journal!Q119=\"a\",\"a\",journal!Q119/journal!Q$9))","v":""},{"$f":"IF(journal!R119=\"\",\"\",IF(journal!R119=\"a\",\"a\",journal!R119/journal!R$9))","v":""},{"$f":"IF(journal!S119=\"\",\"\",IF(journal!S119=\"a\",\"a\",journal!S119/journal!S$9))","v":""},{"$f":"IF(journal!T119=\"\",\"\",IF(journal!T119=\"a\",\"a\",journal!T119/journal!T$9))","v":""},{"$f":"IF(journal!U119=\"\",\"\",IF(journal!U119=\"a\",\"a\",journal!U119/journal!U$9))","v":""},{"$f":"IF(journal!V119=\"\",\"\",IF(journal!V119=\"a\",\"a\",journal!V119/journal!V$9))","v":""},{"$f":"IF(journal!W119=\"\",\"\",IF(journal!W119=\"a\",\"a\",journal!W119/journal!W$9))","v":""},{"$f":"IF(journal!X119=\"\",\"\",IF(journal!X119=\"a\",\"a\",journal!X119/journal!X$9))","v":""},{"$f":"IF(journal!Y119=\"\",\"\",IF(journal!Y119=\"a\",\"a\",journal!Y119/journal!Y$9))","v":""},{"$f":"IF(journal!Z119=\"\",\"\",IF(journal!Z119=\"a\",\"a\",journal!Z119/journal!Z$9))","v":""},{"$f":"IF(journal!AA119=\"\",\"\",IF(journal!AA119=\"a\",\"a\",journal!AA119/journal!AA$9))","v":""},{"$f":"IF(journal!AB119=\"\",\"\",IF(journal!AB119=\"a\",\"a\",journal!AB119/journal!AB$9))","v":""},{"$f":"IF(journal!AC119=\"\",\"\",IF(journal!AC119=\"a\",\"a\",journal!AC119/journal!AC$9))","v":""},{"$f":"IF(journal!AD119=\"\",\"\",IF(journal!AD119=\"a\",\"a\",journal!AD119/journal!AD$9))","v":""},{"$f":"IF(journal!AE119=\"\",\"\",IF(journal!AE119=\"a\",\"a\",journal!AE119/journal!AE$9))","v":""},{"$f":"IF(journal!AF119=\"\",\"\",IF(journal!AF119=\"a\",\"a\",journal!AF119/journal!AF$9))","v":""},{"$f":"IF(journal!AG119=\"\",\"\",IF(journal!AG119=\"a\",\"a\",journal!AG119/journal!AG$9))","v":""},{"$f":"IF(journal!AH119=\"\",\"\",IF(journal!AH119=\"a\",\"a\",journal!AH119/journal!AH$9))","v":""},{"$f":"IF(journal!AI119=\"\",\"\",IF(journal!AI119=\"a\",\"a\",journal!AI119/journal!AI$9))","v":""},{"$f":"IF(journal!AJ119=\"\",\"\",IF(journal!AJ119=\"a\",\"a\",journal!AJ119/journal!AJ$9))","v":""},{"$f":"IF(journal!AK119=\"\",\"\",IF(journal!AK119=\"a\",\"a\",journal!AK119/journal!AK$9))","v":""},{"$f":"IF(journal!AL119=\"\",\"\",IF(journal!AL119=\"a\",\"a\",journal!AL119/journal!AL$9))","v":""},{"$f":"IF(journal!AM119=\"\",\"\",IF(journal!AM119=\"a\",\"a\",journal!AM119/journal!AM$9))","v":""},{"$f":"IF(journal!AN119=\"\",\"\",IF(journal!AN119=\"a\",\"a\",journal!AN119/journal!AN$9))","v":""},{"$f":"IF(journal!AO119=\"\",\"\",IF(journal!AO119=\"a\",\"a\",journal!AO119/journal!AO$9))","v":""},{"$f":"IF(journal!AP119=\"\",\"\",IF(journal!AP119=\"a\",\"a\",journal!AP119/journal!AP$9))","v":""},{"$f":"IF(journal!AQ119=\"\",\"\",IF(journal!AQ119=\"a\",\"a\",journal!AQ119/journal!AQ$9))","v":""},{"$f":"IF(journal!AR119=\"\",\"\",IF(journal!AR119=\"a\",\"a\",journal!AR119/journal!AR$9))","v":""},"","","",""]
[null,"C",{"$f":"IF(journal!C120=\"\",\"\",IF(journal!C120=\"a\",\"a\",journal!C120/journal!C$10))","v":""},{"$f":"IF(journal!D120=\"\",\"\",IF(journal!D120=\"a\",\"a\",journal!D120/journal!D$10))","v":""},{"$f":"IF(journal!E120=\"\",\"\",IF(journal!E120=\"a\",\"a\",journal!E120/journal!E$10))","v":""},{"$f":"IF(journal!F120=\"\",\"\",IF(journal!F120=\"a\",\"a\",journal!F120/journal!F$10))","v":""},{"$f":"IF(journal!G120=\"\",\"\",IF(journal!G120=\"a\",\"a\",journal!G120/journal!G$10))","v":""},{"$f":"IF(journal!H120=\"\",\"\",IF(journal!H120=\"a\",\"a\",journal!H120/journal!H$10))","v":""},{"$f":"IF(journal!I120=\"\",\"\",IF(journal!I120=\"a\",\"a\",journal!I120/journal!I$10))","v":""},{"$f":"IF(journal!J120=\"\",\"\",IF(journal!J120=\"a\",\"a\",journal!J120/journal!J$10))","v":""},{"$f":"IF(journal!K120=\"\",\"\",IF(journal!K120=\"a\",\"a\",journal!K120/journal!K$10))","v":""},{"$f":"IF(journal!L120=\"\",\"\",IF(journal!L120=\"a\",\"a\",journal!L120/journal!L$10))","v":""},{"$f":"IF(journal!M120=\"\",\"\",IF(journal!M120=\"a\",\"a\",journal!M120/journal!M$10))","v":""},{"$f":"IF(journal!N120=\"\",\"\",IF(journal!N120=\"a\",\"a\",journal!N120/journal!N$10))","v":""},{"$f":"IF(journal!O120=\"\",\"\",IF(journal!O120=\"a\",\"a\",journal!O120/journal!O$10))","v":""},{"$f":"IF(journal!P120=\"\",\"\",IF(journal!P120=\"a\",\"a\",journal!P120/journal!P$10))","v":""},{"$f":"IF(journal!Q120=\"\",\"\",IF(journal!Q120=\"a\",\"a\",journal!Q120/journal!Q$10))","v":""},{"$f":"IF(journal!R120=\"\",\"\",IF(journal!R120=\"a\",\"a\",journal!R120/journal!R$10))","v":""},{"$f":"IF(journal!S120=\"\",\"\",IF(journal!S120=\"a\",\"a\",journal!S120/journal!S$10))","v":""},{"$f":"IF(journal!T120=\"\",\"\",IF(journal!T120=\"a\",\"a\",journal!T120/journal!T$10))","v":""},{"$f":"IF(journal!U120=\"\",\"\",IF(journal!U120=\"a\",\"a\",journal!U120/journal!U$10))","v":""},{"$f":"IF(journal!V120=\"\",\"\",IF(journal!V120=\"a\",\"a\",journal!V120/journal!V$10))","v":""},{"$f":"IF(journal!W120=\"\",\"\",IF(journal!W120=\"a\",\"a\",journal!W120/journal!W$10))","v":""},{"$f":"IF(journal!X120=\"\",\"\",IF(journal!X120=\"a\",\"a\",journal!X120/journal!X$10))","v":""},{"$f":"IF(journal!Y120=\"\",\"\",IF(journal!Y120=\"a\",\"a\",journal!Y120/journal!Y$10))","v":""},{"$f":"IF(journal!Z120=\"\",\"\",IF(journal!Z120=\"a\",\"a\",journal!Z120/journal!Z$10))","v":""},{"$f":"IF(journal!AA120=\"\",\"\",IF(journal!AA120=\"a\",\"a\",journal!AA120/journal!AA$10))","v":""},{"$f":"IF(journal!AB120=\"\",\"\",IF(journal!AB120=\"a\",\"a\",journal!AB120/journal!AB$10))","v":""},{"$f":"IF(journal!AC120=\"\",\"\",IF(journal!AC120=\"a\",\"a\",journal!AC120/journal!AC$10))","v":""},{"$f":"IF(journal!AD120=\"\",\"\",IF(journal!AD120=\"a\",\"a\",journal!AD120/journal!AD$10))","v":""},{"$f":"IF(journal!AE120=\"\",\"\",IF(journal!AE120=\"a\",\"a\",journal!AE120/journal!AE$10))","v":""},{"$f":"IF(journal!AF120=\"\",\"\",IF(journal!AF120=\"a\",\"a\",journal!AF120/journal!AF$10))","v":""},{"$f":"IF(journal!AG120=\"\",\"\",IF(journal!AG120=\"a\",\"a\",journal!AG120/journal!AG$10))","v":""},{"$f":"IF(journal!AH120=\"\",\"\",IF(journal!AH120=\"a\",\"a\",journal!AH120/journal!AH$10))","v":""},{"$f":"IF(journal!AI120=\"\",\"\",IF(journal!AI120=\"a\",\"a\",journal!AI120/journal!AI$10))","v":""},{"$f":"IF(journal!AJ120=\"\",\"\",IF(journal!AJ120=\"a\",\"a\",journal!AJ120/journal!AJ$10))","v":""},{"$f":"IF(journal!AK120=\"\",\"\",IF(journal!AK120=\"a\",\"a\",journal!AK120/journal!AK$10))","v":""},{"$f":"IF(journal!AL120=\"\",\"\",IF(journal!AL120=\"a\",\"a\",journal!AL120/journal!AL$10))","v":""},{"$f":"IF(journal!AM120=\"\",\"\",IF(journal!AM120=\"a\",\"a\",journal!AM120/journal!AM$10))","v":""},{"$f":"IF(journal!AN120=\"\",\"\",IF(journal!AN120=\"a\",\"a\",journal!AN120/journal!AN$10))","v":""},{"$f":"IF(journal!AO120=\"\",\"\",IF(journal!AO120=\"a\",\"a\",journal!AO120/journal!AO$10))","v":""},{"$f":"IF(journal!AP120=\"\",\"\",IF(journal!AP120=\"a\",\"a\",journal!AP120/journal!AP$10))","v":""},{"$f":"IF(journal!AQ120=\"\",\"\",IF(journal!AQ120=\"a\",\"a\",journal!AQ120/journal!AQ$10))","v":""},{"$f":"IF(journal!AR120=\"\",\"\",IF(journal!AR120=\"a\",\"a\",journal!AR120/journal!AR$10))","v":""},"","","",""]
[{"$f":"Saisie!A33","v":0},"S",{"$f":"IF(journal!C121=\"\",\"\",IF(journal!C121=\"a\",\"a\",journal!C121/journal!C$6))","v":""},{"$f":"IF(journal!D121=\"\",\"\",IF(journal!D121=\"a\",\"a\",journal!D121/journal!D$6))","v":""},{"$f":"IF(journal!E121=\"\",\"\",IF(journal!E121=\"a\",\"a\",journal!E121/journal!E$6))","v":""},{"$f":"IF(journal!F121=\"\",\"\",IF(journal!F121=\"a\",\"a\",journal!F121/journal!F$6))","v":""},{"$f":"IF(journal!G121=\"\",\"\",IF(journal!G121=\"a\",\"a\",journal!G121/journal!G$6))","v":""},{"$f":"IF(journal!H121=\"\",\"\",IF(journal!H121=\"a\",\"a\",journal!H121/journal!H$6))","v":""},{"$f":"IF(journal!I121=\"\",\"\",IF(journal!I121=\"a\",\"a\",journal!I121/journal!I$6))","v":""},{"$f":"IF(journal!J121=\"\",\"\",IF(journal!J121=\"a\",\"a\",journal!J121/journal!J$6))","v":""},{"$f":"IF(journal!K121=\"\",\"\",IF(journal!K121=\"a\",\"a\",journal!K121/journal!K$6))","v":""},{"$f":"IF(journal!L121=\"\",\"\",IF(journal!L121=\"a\",\"a\",journal!L121/journal!L$6))","v":""},{"$f":"IF(journal!M121=\"\",\"\",IF(journal!M121=\"a\",\"a\",journal!M121/journal!M$6))","v":""},{"$f":"IF(journal!N121=\"\",\"\",IF(journal!N121=\"a\",\"a\",journal!N121/journal!N$6))","v":""},{"$f":"IF(journal!O121=\"\",\"\",IF(journal!O121=\"a\",\"a\",journal!O121/journal!O$6))","v":""},{"$f":"IF(journal!P121=\"\",\"\",IF(journal!P121=\"a\",\"a\",journal!P121/journal!P$6))","v":""},{"$f":"IF(journal!Q121=\"\",\"\",IF(journal!Q121=\"a\",\"a\",journal!Q121/journal!Q$6))","v":""},{"$f":"IF(journal!R121=\"\",\"\",IF(journal!R121=\"a\",\"a\",journal!R121/journal!R$6))","v":""},{"$f":"IF(journal!S121=\"\",\"\",IF(journal!S121=\"a\",\"a\",journal!S121/journal!S$6))","v":""},{"$f":"IF(journal!T121=\"\",\"\",IF(journal!T121=\"a\",\"a\",journal!T121/journal!T$6))","v":""},{"$f":"IF(journal!U121=\"\",\"\",IF(journal!U121=\"a\",\"a\",journal!U121/journal!U$6))","v":""},{"$f":"IF(journal!V121=\"\",\"\",IF(journal!V121=\"a\",\"a\",journal!V121/journal!V$6))","v":""},{"$f":"IF(journal!W121=\"\",\"\",IF(journal!W121=\"a\",\"a\",journal!W121/journal!W$6))","v":""},{"$f":"IF(journal!X121=\"\",\"\",IF(journal!X121=\"a\",\"a\",journal!X121/journal!X$6))","v":""},{"$f":"IF(journal!Y121=\"\",\"\",IF(journal!Y121=\"a\",\"a\",journal!Y121/journal!Y$6))","v":""},{"$f":"IF(journal!Z121=\"\",\"\",IF(journal!Z121=\"a\",\"a\",journal!Z121/journal!Z$6))","v":""},{"$f":"IF(journal!AA121=\"\",\"\",IF(journal!AA121=\"a\",\"a\",journal!AA121/journal!AA$6))","v":""},{"$f":"IF(journal!AB121=\"\",\"\",IF(journal!AB121=\"a\",\"a\",journal!AB121/journal!AB$6))","v":""},{"$f":"IF(journal!AC121=\"\",\"\",IF(journal!AC121=\"a\",\"a\",journal!AC121/journal!AC$6))","v":""},{"$f":"IF(journal!AD121=\"\",\"\",IF(journal!AD121=\"a\",\"a\",journal!AD121/journal!AD$6))","v":""},{"$f":"IF(journal!AE121=\"\",\"\",IF(journal!AE121=\"a\",\"a\",journal!AE121/journal!AE$6))","v":""},{"$f":"IF(journal!AF121=\"\",\"\",IF(journal!AF121=\"a\",\"a\",journal!AF121/journal!AF$6))","v":""},{"$f":"IF(journal!AG121=\"\",\"\",IF(journal!AG121=\"a\",\"a\",journal!AG121/journal!AG$6))","v":""},{"$f":"IF(journal!AH121=\"\",\"\",IF(journal!AH121=\"a\",\"a\",journal!AH121/journal!AH$6))","v":""},{"$f":"IF(journal!AI121=\"\",\"\",IF(journal!AI121=\"a\",\"a\",journal!AI121/journal!AI$6))","v":""},{"$f":"IF(journal!AJ121=\"\",\"\",IF(journal!AJ121=\"a\",\"a\",journal!AJ121/journal!AJ$6))","v":""},{"$f":"IF(journal!AK121=\"\",\"\",IF(journal!AK121=\"a\",\"a\",journal!AK121/journal!AK$6))","v":""},{"$f":"IF(journal!AL121=\"\",\"\",IF(journal!AL121=\"a\",\"a\",journal!AL121/journal!AL$6))","v":""},{"$f":"IF(journal!AM121=\"\",\"\",IF(journal!AM121=\"a\",\"a\",journal!AM121/journal!AM$6))","v":""},{"$f":"IF(journal!AN121=\"\",\"\",IF(journal!AN121=\"a\",\"a\",journal!AN121/journal!AN$6))","v":""},{"$f":"IF(journal!AO121=\"\",\"\",IF(journal!AO121=\"a\",\"a\",journal!AO121/journal!AO$6))","v":""},{"$f":"IF(journal!AP121=\"\",\"\",IF(journal!AP121=\"a\",\"a\",journal!AP121/journal!AP$6))","v":""},{"$f":"IF(journal!AQ121=\"\",\"\",IF(journal!AQ121=\"a\",\"a\",journal!AQ121/journal!AQ$6))","v":""},{"$f":"IF(journal!AR121=\"\",\"\",IF(journal!AR121=\"a\",\"a\",journal!AR121/journal!AR$6))","v":""},"","","",""]
[null,"A",{"$f":"IF(journal!C122=\"\",\"\",IF(journal!C122=\"a\",\"a\",journal!C122/journal!C$7))","v":""},{"$f":"IF(journal!D122=\"\",\"\",IF(journal!D122=\"a\",\"a\",journal!D122/journal!D$7))","v":""},{"$f":"IF(journal!E122=\"\",\"\",IF(journal!E122=\"a\",\"a\",journal!E122/journal!E$7))","v":""},{"$f":"IF(journal!F122=\"\",\"\",IF(journal!F122=\"a\",\"a\",journal!F122/journal!F$7))","v":""},{"$f":"IF(journal!G122=\"\",\"\",IF(journal!G122=\"a\",\"a\",journal!G122/journal!G$7))","v":""},{"$f":"IF(journal!H122=\"\",\"\",IF(journal!H122=\"a\",\"a\",journal!H122/journal!H$7))","v":""},{"$f":"IF(journal!I122=\"\",\"\",IF(journal!I122=\"a\",\"a\",journal!I122/journal!I$7))","v":""},{"$f":"IF(journal!J122=\"\",\"\",IF(journal!J122=\"a\",\"a\",journal!J122/journal!J$7))","v":""},{"$f":"IF(journal!K122=\"\",\"\",IF(journal!K122=\"a\",\"a\",journal!K122/journal!K$7))","v":""},{"$f":"IF(journal!L122=\"\",\"\",IF(journal!L122=\"a\",\"a\",journal!L122/journal!L$7))","v":""},{"$f":"IF(journal!M122=\"\",\"\",IF(journal!M122=\"a\",\"a\",journal!M122/journal!M$7))","v":""},{"$f":"IF(journal!N122=\"\",\"\",IF(journal!N122=\"a\",\"a\",journal!N122/journal!N$7))","v":""},{"$f":"IF(journal!O122=\"\",\"\",IF(journal!O122=\"a\",\"a\",journal!O122/journal!O$7))","v":""},{"$f":"IF(journal!P122=\"\",\"\",IF(journal!P122=\"a\",\"a\",journal!P122/journal!P$7))","v":""},{"$f":"IF(journal!Q122=\"\",\"\",IF(journal!Q122=\"a\",\"a\",journal!Q122/journal!Q$7))","v":""},{"$f":"IF(journal!R122=\"\",\"\",IF(journal!R122=\"a\",\"a\",journal!R122/journal!R$7))","v":""},{"$f":"IF(journal!S122=\"\",\"\",IF(journal!S122=\"a\",\"a\",journal!S122/journal!S$7))","v":""},{"$f":"IF(journal!T122=\"\",\"\",IF(journal!T122=\"a\",\"a\",journal!T122/journal!T$7))","v":""},{"$f":"IF(journal!U122=\"\",\"\",IF(journal!U122=\"a\",\"a\",journal!U122/journal!U$7))","v":""},{"$f":"IF(journal!V122=\"\",\"\",IF(journal!V122=\"a\",\"a\",journal!V122/journal!V$7))","v":""},{"$f":"IF(journal!W122=\"\",\"\",IF(journal!W122=\"a\",\"a\",journal!W122/journal!W$7))","v":""},{"$f":"IF(journal!X122=\"\",\"\",IF(journal!X122=\"a\",\"a\",journal!X122/journal!X$7))","v":""},{"$f":"IF(journal!Y122=\"\",\"\",IF(journal!Y122=\"a\",\"a\",journal!Y122/journal!Y$7))","v":""},{"$f":"IF(journal!Z122=\"\",\"\",IF(journal!Z122=\"a\",\"a\",journal!Z122/journal!Z$7))","v":""},{"$f":"IF(journal!AA122=\"\",\"\",IF(journal!AA122=\"a\",\"a\",journal!AA122/journal!AA$7))","v":""},{"$f":"IF(journal!AB122=\"\",\"\",IF(journal!AB122=\"a\",\"a\",journal!AB122/journal!AB$7))","v":""},{"$f":"IF(journal!AC122=\"\",\"\",IF(journal!AC122=\"a\",\"a\",journal!AC122/journal!AC$7))","v":""},{"$f":"IF(journal!AD122=\"\",\"\",IF(journal!AD122=\"a\",\"a\",journal!AD122/journal!AD$7))","v":""},{"$f":"IF(journal!AE122=\"\",\"\",IF(journal!AE122=\"a\",\"a\",journal!AE122/journal!AE$7))","v":""},{"$f":"IF(journal!AF122=\"\",\"\",IF(journal!AF122=\"a\",\"a\",journal!AF122/journal!AF$7))","v":""},{"$f":"IF(journal!AG122=\"\",\"\",IF(journal!AG122=\"a\",\"a\",journal!AG122/journal!AG$7))","v":""},{"$f":"IF(journal!AH122=\"\",\"\",IF(journal!AH122=\"a\",\"a\",journal!AH122/journal!AH$7))","v":""},{"$f":"IF(journal!AI122=\"\",\"\",IF(journal!AI122=\"a\",\"a\",journal!AI122/journal!AI$7))","v":""},{"$f":"IF(journal!AJ122=\"\",\"\",IF(journal!AJ122=\"a\",\"a\",journal!AJ122/journal!AJ$7))","v":""},{"$f":"IF(journal!AK122=\"\",\"\",IF(journal!AK122=\"a\",\"a\",journal!AK122/journal!AK$7))","v":""},{"$f":"IF(journal!AL122=\"\",\"\",IF(journal!AL122=\"a\",\"a\",journal!AL122/journal!AL$7))","v":""},{"$f":"IF(journal!AM122=\"\",\"\",IF(journal!AM122=\"a\",\"a\",journal!AM122/journal!AM$7))","v":""},{"$f":"IF(journal!AN122=\"\",\"\",IF(journal!AN122=\"a\",\"a\",journal!AN122/journal!AN$7))","v":""},{"$f":"IF(journal!AO122=\"\",\"\",IF(journal!AO122=\"a\",\"a\",journal!AO122/journal!AO$7))","v":""},{"$f":"IF(journal!AP122=\"\",\"\",IF(journal!AP122=\"a\",\"a\",journal!AP122/journal!AP$7))","v":""},{"$f":"IF(journal!AQ122=\"\",\"\",IF(journal!AQ122=\"a\",\"a\",journal!AQ122/journal!AQ$7))","v":""},{"$f":"IF(journal!AR122=\"\",\"\",IF(journal!AR122=\"a\",\"a\",journal!AR122/journal!AR$7))","v":""},"","","",""]
[null,"R",{"$f":"IF(journal!C123=\"\",\"\",IF(journal!C123=\"a\",\"a\",journal!C123/journal!C$8))","v":""},{"$f":"IF(journal!D123=\"\",\"\",IF(journal!D123=\"a\",\"a\",journal!D123/journal!D$8))","v":""},{"$f":"IF(journal!E123=\"\",\"\",IF(journal!E123=\"a\",\"a\",journal!E123/journal!E$8))","v":""},{"$f":"IF(journal!F123=\"\",\"\",IF(journal!F123=\"a\",\"a\",journal!F123/journal!F$8))","v":""},{"$f":"IF(journal!G123=\"\",\"\",IF(journal!G123=\"a\",\"a\",journal!G123/journal!G$8))","v":""},{"$f":"IF(journal!H123=\"\",\"\",IF(journal!H123=\"a\",\"a\",journal!H123/journal!H$8))","v":""},{"$f":"IF(journal!I123=\"\",\"\",IF(journal!I123=\"a\",\"a\",journal!I123/journal!I$8))","v":""},{"$f":"IF(journal!J123=\"\",\"\",IF(journal!J123=\"a\",\"a\",journal!J123/journal!J$8))","v":""},{"$f":"IF(journal!K123=\"\",\"\",IF(journal!K123=\"a\",\"a\",journal!K123/journal!K$8))","v":""},{"$f":"IF(journal!L123=\"\",\"\",IF(journal!L123=\"a\",\"a\",journal!L123/journal!L$8))","v":""},{"$f":"IF(journal!M123=\"\",\"\",IF(journal!M123=\"a\",\"a\",journal!M123/journal!M$8))","v":""},{"$f":"IF(journal!N123=\"\",\"\",IF(journal!N123=\"a\",\"a\",journal!N123/journal!N$8))","v":""},{"$f":"IF(journal!O123=\"\",\"\",IF(journal!O123=\"a\",\"a\",journal!O123/journal!O$8))","v":""},{"$f":"IF(journal!P123=\"\",\"\",IF(journal!P123=\"a\",\"a\",journal!P123/journal!P$8))","v":""},{"$f":"IF(journal!Q123=\"\",\"\",IF(journal!Q123=\"a\",\"a\",journal!Q123/journal!Q$8))","v":""},{"$f":"IF(journal!R123=\"\",\"\",IF(journal!R123=\"a\",\"a\",journal!R123/journal!R$8))","v":""},{"$f":"IF(journal!S123=\"\",\"\",IF(journal!S123=\"a\",\"a\",journal!S123/journal!S$8))","v":""},{"$f":"IF(journal!T123=\"\",\"\",IF(journal!T123=\"a\",\"a\",journal!T123/journal!T$8))","v":""},{"$f":"IF(journal!U123=\"\",\"\",IF(journal!U123=\"a\",\"a\",journal!U123/journal!U$8))","v":""},{"$f":"IF(journal!V123=\"\",\"\",IF(journal!V123=\"a\",\"a\",journal!V123/journal!V$8))","v":""},{"$f":"IF(journal!W123=\"\",\"\",IF(journal!W123=\"a\",\"a\",journal!W123/journal!W$8))","v":""},{"$f":"IF(journal!X123=\"\",\"\",IF(journal!X123=\"a\",\"a\",journal!X123/journal!X$8))","v":""},{"$f":"IF(journal!Y123=\"\",\"\",IF(journal!Y123=\"a\",\"a\",journal!Y123/journal!Y$8))","v":""},{"$f":"IF(journal!Z123=\"\",\"\",IF(journal!Z123=\"a\",\"a\",journal!Z123/journal!Z$8))","v":""},{"$f":"IF(journal!AA123=\"\",\"\",IF(journal!AA123=\"a\",\"a\",journal!AA123/journal!AA$8))","v":""},{"$f":"IF(journal!AB123=\"\",\"\",IF(journal!AB123=\"a\",\"a\",journal!AB123/journal!AB$8))","v":""},{"$f":"IF(journal!AC123=\"\",\"\",IF(journal!AC123=\"a\",\"a\",journal!AC123/journal!AC$8))","v":""},{"$f":"IF(journal!AD123=\"\",\"\",IF(journal!AD123=\"a\",\"a\",journal!AD123/journal!AD$8))","v":""},{"$f":"IF(journal!AE123=\"\",\"\",IF(journal!AE123=\"a\",\"a\",journal!AE123/journal!AE$8))","v":""},{"$f":"IF(journal!AF123=\"\",\"\",IF(journal!AF123=\"a\",\"a\",journal!AF123/journal!AF$8))","v":""},{"$f":"IF(journal!AG123=\"\",\"\",IF(journal!AG123=\"a\",\"a\",journal!AG123/journal!AG$8))","v":""},{"$f":"IF(journal!AH123=\"\",\"\",IF(journal!AH123=\"a\",\"a\",journal!AH123/journal!AH$8))","v":""},{"$f":"IF(journal!AI123=\"\",\"\",IF(journal!AI123=\"a\",\"a\",journal!AI123/journal!AI$8))","v":""},{"$f":"IF(journal!AJ123=\"\",\"\",IF(journal!AJ123=\"a\",\"a\",journal!AJ123/journal!AJ$8))","v":""},{"$f":"IF(journal!AK123=\"\",\"\",IF(journal!AK123=\"a\",\"a\",journal!AK123/journal!AK$8))","v":""},{"$f":"IF(journal!AL123=\"\",\"\",IF(journal!AL123=\"a\",\"a\",journal!AL123/journal!AL$8))","v":""},{"$f":"IF(journal!AM123=\"\",\"\",IF(journal!AM123=\"a\",\"a\",journal!AM123/journal!AM$8))","v":""},{"$f":"IF(journal!AN123=\"\",\"\",IF(journal!AN123=\"a\",\"a\",journal!AN123/journal!AN$8))","v":""},{"$f":"IF(journal!AO123=\"\",\"\",IF(journal!AO123=\"a\",\"a\",journal!AO123/journal!AO$8))","v":""},{"$f":"IF(journal!AP123=\"\",\"\",IF(journal!AP123=\"a\",\"a\",journal!AP123/journal!AP$8))","v":""},{"$f":"IF(journal!AQ123=\"\",\"\",IF(journal!AQ123=\"a\",\"a\",journal!AQ123/journal!AQ$8))","v":""},{"$f":"IF(journal!AR123=\"\",\"\",IF(journal!AR123=\"a\",\"a\",journal!AR123/journal!AR$8))","v":""},"","","",""]
[null,"V",{"$f":"IF(journal!C124=\"\",\"\",IF(journal!C124=\"a\",\"a\",journal!C124/journal!C$9))","v":""},{"$f":"IF(journal!D124=\"\",\"\",IF(journal!D124=\"a\",\"a\",journal!D124/journal!D$9))","v":""},{"$f":"IF(journal!E124=\"\",\"\",IF(journal!E124=\"a\",\"a\",journal!E124/journal!E$9))","v":""},{"$f":"IF(journal!F124=\"\",\"\",IF(journal!F124=\"a\",\"a\",journal!F124/journal!F$9))","v":""},{"$f":"IF(journal!G124=\"\",\"\",IF(journal!G124=\"a\",\"a\",journal!G124/journal!G$9))","v":""},{"$f":"IF(journal!H124=\"\",\"\",IF(journal!H124=\"a\",\"a\",journal!H124/journal!H$9))","v":""},{"$f":"IF(journal!I124=\"\",\"\",IF(journal!I124=\"a\",\"a\",journal!I124/journal!I$9))","v":""},{"$f":"IF(journal!J124=\"\",\"\",IF(journal!J124=\"a\",\"a\",journal!J124/journal!J$9))","v":""},{"$f":"IF(journal!K124=\"\",\"\",IF(journal!K124=\"a\",\"a\",journal!K124/journal!K$9))","v":""},{"$f":"IF(journal!L124=\"\",\"\",IF(journal!L124=\"a\",\"a\",journal!L124/journal!L$9))","v":""},{"$f":"IF(journal!M124=\"\",\"\",IF(journal!M124=\"a\",\"a\",journal!M124/journal!M$9))","v":""},{"$f":"IF(journal!N124=\"\",\"\",IF(journal!N124=\"a\",\"a\",journal!N124/journal!N$9))","v":""},{"$f":"IF(journal!O124=\"\",\"\",IF(journal!O124=\"a\",\"a\",journal!O124/journal!O$9))","v":""},{"$f":"IF(journal!P124=\"\",\"\",IF(journal!P124=\"a\",\"a\",journal!P124/journal!P$9))","v":""},{"$f":"IF(journal!Q124=\"\",\"\",IF(journal!Q124=\"a\",\"a\",journal!Q124/journal!Q$9))","v":""},{"$f":"IF(journal!R124=\"\",\"\",IF(journal!R124=\"a\",\"a\",journal!R124/journal!R$9))","v":""},{"$f":"IF(journal!S124=\"\",\"\",IF(journal!S124=\"a\",\"a\",journal!S124/journal!S$9))","v":""},{"$f":"IF(journal!T124=\"\",\"\",IF(journal!T124=\"a\",\"a\",journal!T124/journal!T$9))","v":""},{"$f":"IF(journal!U124=\"\",\"\",IF(journal!U124=\"a\",\"a\",journal!U124/journal!U$9))","v":""},{"$f":"IF(journal!V124=\"\",\"\",IF(journal!V124=\"a\",\"a\",journal!V124/journal!V$9))","v":""},{"$f":"IF(journal!W124=\"\",\"\",IF(journal!W124=\"a\",\"a\",journal!W124/journal!W$9))","v":""},{"$f":"IF(journal!X124=\"\",\"\",IF(journal!X124=\"a\",\"a\",journal!X124/journal!X$9))","v":""},{"$f":"IF(journal!Y124=\"\",\"\",IF(journal!Y124=\"a\",\"a\",journal!Y124/journal!Y$9))","v":""},{"$f":"IF(journal!Z124=\"\",\"\",IF(journal!Z124=\"a\",\"a\",journal!Z124/journal!Z$9))","v":""},{"$f":"IF(journal!AA124=\"\",\"\",IF(journal!AA124=\"a\",\"a\",journal!AA124/journal!AA$9))","v":""},{"$f":"IF(journal!AB124=\"\",\"\",IF(journal!AB124=\"a\",\"a\",journal!AB124/journal!AB$9))","v":""},{"$f":"IF(journal!AC124=\"\",\"\",IF(journal!AC124=\"a\",\"a\",journal!AC124/journal!AC$9))","v":""},{"$f":"IF(journal!AD124=\"\",\"\",IF(journal!AD124=\"a\",\"a\",journal!AD124/journal!AD$9))","v":""},{"$f":"IF(journal!AE124=\"\",\"\",IF(journal!AE124=\"a\",\"a\",journal!AE124/journal!AE$9))","v":""},{"$f":"IF(journal!AF124=\"\",\"\",IF(journal!AF124=\"a\",\"a\",journal!AF124/journal!AF$9))","v":""},{"$f":"IF(journal!AG124=\"\",\"\",IF(journal!AG124=\"a\",\"a\",journal!AG124/journal!AG$9))","v":""},{"$f":"IF(journal!AH124=\"\",\"\",IF(journal!AH124=\"a\",\"a\",journal!AH124/journal!AH$9))","v":""},{"$f":"IF(journal!AI124=\"\",\"\",IF(journal!AI124=\"a\",\"a\",journal!AI124/journal!AI$9))","v":""},{"$f":"IF(journal!AJ124=\"\",\"\",IF(journal!AJ124=\"a\",\"a\",journal!AJ124/journal!AJ$9))","v":""},{"$f":"IF(journal!AK124=\"\",\"\",IF(journal!AK124=\"a\",\"a\",journal!AK124/journal!AK$9))","v":""},{"$f":"IF(journal!AL124=\"\",\"\",IF(journal!AL124=\"a\",\"a\",journal!AL124/journal!AL$9))","v":""},{"$f":"IF(journal!AM124=\"\",\"\",IF(journal!AM124=\"a\",\"a\",journal!AM124/journal!AM$9))","v":""},{"$f":"IF(journal!AN124=\"\",\"\",IF(journal!AN124=\"a\",\"a\",journal!AN124/journal!AN$9))","v":""},{"$f":"IF(journal!AO124=\"\",\"\",IF(journal!AO124=\"a\",\"a\",journal!AO124/journal!AO$9))","v":""},{"$f":"IF(journal!AP124=\"\",\"\",IF(journal!AP124=\"a\",\"a\",journal!AP124/journal!AP$9))","v":""},{"$f":"IF(journal!AQ124=\"\",\"\",IF(journal!AQ124=\"a\",\"a\",journal!AQ124/journal!AQ$9))","v":""},{"$f":"IF(journal!AR124=\"\",\"\",IF(journal!AR124=\"a\",\"a\",journal!AR124/journal!AR$9))","v":""},"","","",""]
[null,"C",{"$f":"IF(journal!C125=\"\",\"\",IF(journal!C125=\"a\",\"a\",journal!C125/journal!C$10))","v":""},{"$f":"IF(journal!D125=\"\",\"\",IF(journal!D125=\"a\",\"a\",journal!D125/journal!D$10))","v":""},{"$f":"IF(journal!E125=\"\",\"\",IF(journal!E125=\"a\",\"a\",journal!E125/journal!E$10))","v":""},{"$f":"IF(journal!F125=\"\",\"\",IF(journal!F125=\"a\",\"a\",journal!F125/journal!F$10))","v":""},{"$f":"IF(journal!G125=\"\",\"\",IF(journal!G125=\"a\",\"a\",journal!G125/journal!G$10))","v":""},{"$f":"IF(journal!H125=\"\",\"\",IF(journal!H125=\"a\",\"a\",journal!H125/journal!H$10))","v":""},{"$f":"IF(journal!I125=\"\",\"\",IF(journal!I125=\"a\",\"a\",journal!I125/journal!I$10))","v":""},{"$f":"IF(journal!J125=\"\",\"\",IF(journal!J125=\"a\",\"a\",journal!J125/journal!J$10))","v":""},{"$f":"IF(journal!K125=\"\",\"\",IF(journal!K125=\"a\",\"a\",journal!K125/journal!K$10))","v":""},{"$f":"IF(journal!L125=\"\",\"\",IF(journal!L125=\"a\",\"a\",journal!L125/journal!L$10))","v":""},{"$f":"IF(journal!M125=\"\",\"\",IF(journal!M125=\"a\",\"a\",journal!M125/journal!M$10))","v":""},{"$f":"IF(journal!N125=\"\",\"\",IF(journal!N125=\"a\",\"a\",journal!N125/journal!N$10))","v":""},{"$f":"IF(journal!O125=\"\",\"\",IF(journal!O125=\"a\",\"a\",journal!O125/journal!O$10))","v":""},{"$f":"IF(journal!P125=\"\",\"\",IF(journal!P125=\"a\",\"a\",journal!P125/journal!P$10))","v":""},{"$f":"IF(journal!Q125=\"\",\"\",IF(journal!Q125=\"a\",\"a\",journal!Q125/journal!Q$10))","v":""},{"$f":"IF(journal!R125=\"\",\"\",IF(journal!R125=\"a\",\"a\",journal!R125/journal!R$10))","v":""},{"$f":"IF(journal!S125=\"\",\"\",IF(journal!S125=\"a\",\"a\",journal!S125/journal!S$10))","v":""},{"$f":"IF(journal!T125=\"\",\"\",IF(journal!T125=\"a\",\"a\",journal!T125/journal!T$10))","v":""},{"$f":"IF(journal!U125=\"\",\"\",IF(journal!U125=\"a\",\"a\",journal!U125/journal!U$10))","v":""},{"$f":"IF(journal!V125=\"\",\"\",IF(journal!V125=\"a\",\"a\",journal!V125/journal!V$10))","v":""},{"$f":"IF(journal!W125=\"\",\"\",IF(journal!W125=\"a\",\"a\",journal!W125/journal!W$10))","v":""},{"$f":"IF(journal!X125=\"\",\"\",IF(journal!X125=\"a\",\"a\",journal!X125/journal!X$10))","v":""},{"$f":"IF(journal!Y125=\"\",\"\",IF(journal!Y125=\"a\",\"a\",journal!Y125/journal!Y$10))","v":""},{"$f":"IF(journal!Z125=\"\",\"\",IF(journal!Z125=\"a\",\"a\",journal!Z125/journal!Z$10))","v":""},{"$f":"IF(journal!AA125=\"\",\"\",IF(journal!AA125=\"a\",\"a\",journal!AA125/journal!AA$10))","v":""},{"$f":"IF(journal!AB125=\"\",\"\",IF(journal!AB125=\"a\",\"a\",journal!AB125/journal!AB$10))","v":""},{"$f":"IF(journal!AC125=\"\",\"\",IF(journal!AC125=\"a\",\"a\",journal!AC125/journal!AC$10))","v":""},{"$f":"IF(journal!AD125=\"\",\"\",IF(journal!AD125=\"a\",\"a\",journal!AD125/journal!AD$10))","v":""},{"$f":"IF(journal!AE125=\"\",\"\",IF(journal!AE125=\"a\",\"a\",journal!AE125/journal!AE$10))","v":""},{"$f":"IF(journal!AF125=\"\",\"\",IF(journal!AF125=\"a\",\"a\",journal!AF125/journal!AF$10))","v":""},{"$f":"IF(journal!AG125=\"\",\"\",IF(journal!AG125=\"a\",\"a\",journal!AG125/journal!AG$10))","v":""},{"$f":"IF(journal!AH125=\"\",\"\",IF(journal!AH125=\"a\",\"a\",journal!AH125/journal!AH$10))","v":""},{"$f":"IF(journal!AI125=\"\",\"\",IF(journal!AI125=\"a\",\"a\",journal!AI125/journal!AI$10))","v":""},{"$f":"IF(journal!AJ125=\"\",\"\",IF(journal!AJ125=\"a\",\"a\",journal!AJ125/journal!AJ$10))","v":""},{"$f":"IF(journal!AK125=\"\",\"\",IF(journal!AK125=\"a\",\"a\",journal!AK125/journal!AK$10))","v":""},{"$f":"IF(journal!AL125=\"\",\"\",IF(journal!AL125=\"a\",\"a\",journal!AL125/journal!AL$10))","v":""},{"$f":"IF(journal!AM125=\"\",\"\",IF(journal!AM125=\"a\",\"a\",journal!AM125/journal!AM$10))","v":""},{"$f":"IF(journal!AN125=\"\",\"\",IF(journal!AN125=\"a\",\"a\",journal!AN125/journal!AN$10))","v":""},{"$f":"IF(journal!AO125=\"\",\"\",IF(journal!AO125=\"a\",\"a\",journal!AO125/journal!AO$10))","v":""},{"$f":"IF(journal!AP125=\"\",\"\",IF(journal!AP125=\"a\",\"a\",journal!AP125/journal!AP$10))","v":""},{"$f":"IF(journal!AQ125=\"\",\"\",IF(journal!AQ125=\"a\",\"a\",journal!AQ125/journal!AQ$10))","v":""},{"$f":"IF(journal!AR125=\"\",\"\",IF(journal!AR125=\"a\",\"a\",journal!AR125/journal!AR$10))","v":""},"","","",""]
[{"$f":"Saisie!A34","v":0},"S",{"$f":"IF(journal!C126=\"\",\"\",IF(journal!C126=\"a\",\"a\",journal!C126/journal!C$6))","v":""},{"$f":"IF(journal!D126=\"\",\"\",IF(journal!D126=\"a\",\"a\",journal!D126/journal!D$6))","v":""},{"$f":"IF(journal!E126=\"\",\"\",IF(journal!E126=\"a\",\"a\",journal!E126/journal!E$6))","v":""},{"$f":"IF(journal!F126=\"\",\"\",IF(journal!F126=\"a\",\"a\",journal!F126/journal!F$6))","v":""},{"$f":"IF(journal!G126=\"\",\"\",IF(journal!G126=\"a\",\"a\",journal!G126/journal!G$6))","v":""},{"$f":"IF(journal!H126=\"\",\"\",IF(journal!H126=\"a\",\"a\",journal!H126/journal!H$6))","v":""},{"$f":"IF(journal!I126=\"\",\"\",IF(journal!I126=\"a\",\"a\",journal!I126/journal!I$6))","v":""},{"$f":"IF(journal!J126=\"\",\"\",IF(journal!J126=\"a\",\"a\",journal!J126/journal!J$6))","v":""},{"$f":"IF(journal!K126=\"\",\"\",IF(journal!K126=\"a\",\"a\",journal!K126/journal!K$6))","v":""},{"$f":"IF(journal!L126=\"\",\"\",IF(journal!L126=\"a\",\"a\",journal!L126/journal!L$6))","v":""},{"$f":"IF(journal!M126=\"\",\"\",IF(journal!M126=\"a\",\"a\",journal!M126/journal!M$6))","v":""},{"$f":"IF(journal!N126=\"\",\"\",IF(journal!N126=\"a\",\"a\",journal!N126/journal!N$6))","v":""},{"$f":"IF(journal!O126=\"\",\"\",IF(journal!O126=\"a\",\"a\",journal!O126/journal!O$6))","v":""},{"$f":"IF(journal!P126=\"\",\"\",IF(journal!P126=\"a\",\"a\",journal!P126/journal!P$6))","v":""},{"$f":"IF(journal!Q126=\"\",\"\",IF(journal!Q126=\"a\",\"a\",journal!Q126/journal!Q$6))","v":""},{"$f":"IF(journal!R126=\"\",\"\",IF(journal!R126=\"a\",\"a\",journal!R126/journal!R$6))","v":""},{"$f":"IF(journal!S126=\"\",\"\",IF(journal!S126=\"a\",\"a\",journal!S126/journal!S$6))","v":""},{"$f":"IF(journal!T126=\"\",\"\",IF(journal!T126=\"a\",\"a\",journal!T126/journal!T$6))","v":""},{"$f":"IF(journal!U126=\"\",\"\",IF(journal!U126=\"a\",\"a\",journal!U126/journal!U$6))","v":""},{"$f":"IF(journal!V126=\"\",\"\",IF(journal!V126=\"a\",\"a\",journal!V126/journal!V$6))","v":""},{"$f":"IF(journal!W126=\"\",\"\",IF(journal!W126=\"a\",\"a\",journal!W126/journal!W$6))","v":""},{"$f":"IF(journal!X126=\"\",\"\",IF(journal!X126=\"a\",\"a\",journal!X126/journal!X$6))","v":""},{"$f":"IF(journal!Y126=\"\",\"\",IF(journal!Y126=\"a\",\"a\",journal!Y126/journal!Y$6))","v":""},{"$f":"IF(journal!Z126=\"\",\"\",IF(journal!Z126=\"a\",\"a\",journal!Z126/journal!Z$6))","v":""},{"$f":"IF(journal!AA126=\"\",\"\",IF(journal!AA126=\"a\",\"a\",journal!AA126/journal!AA$6))","v":""},{"$f":"IF(journal!AB126=\"\",\"\",IF(journal!AB126=\"a\",\"a\",journal!AB126/journal!AB$6))","v":""},{"$f":"IF(journal!AC126=\"\",\"\",IF(journal!AC126=\"a\",\"a\",journal!AC126/journal!AC$6))","v":""},{"$f":"IF(journal!AD126=\"\",\"\",IF(journal!AD126=\"a\",\"a\",journal!AD126/journal!AD$6))","v":""},{"$f":"IF(journal!AE126=\"\",\"\",IF(journal!AE126=\"a\",\"a\",journal!AE126/journal!AE$6))","v":""},{"$f":"IF(journal!AF126=\"\",\"\",IF(journal!AF126=\"a\",\"a\",journal!AF126/journal!AF$6))","v":""},{"$f":"IF(journal!AG126=\"\",\"\",IF(journal!AG126=\"a\",\"a\",journal!AG126/journal!AG$6))","v":""},{"$f":"IF(journal!AH126=\"\",\"\",IF(journal!AH126=\"a\",\"a\",journal!AH126/journal!AH$6))","v":""},{"$f":"IF(journal!AI126=\"\",\"\",IF(journal!AI126=\"a\",\"a\",journal!AI126/journal!AI$6))","v":""},{"$f":"IF(journal!AJ126=\"\",\"\",IF(journal!AJ126=\"a\",\"a\",journal!AJ126/journal!AJ$6))","v":""},{"$f":"IF(journal!AK126=\"\",\"\",IF(journal!AK126=\"a\",\"a\",journal!AK126/journal!AK$6))","v":""},{"$f":"IF(journal!AL126=\"\",\"\",IF(journal!AL126=\"a\",\"a\",journal!AL126/journal!AL$6))","v":""},{"$f":"IF(journal!AM126=\"\",\"\",IF(journal!AM126=\"a\",\"a\",journal!AM126/journal!AM$6))","v":""},{"$f":"IF(journal!AN126=\"\",\"\",IF(journal!AN126=\"a\",\"a\",journal!AN126/journal!AN$6))","v":""},{"$f":"IF(journal!AO126=\"\",\"\",IF(journal!AO126=\"a\",\"a\",journal!AO126/journal!AO$6))","v":""},{"$f":"IF(journal!AP126=\"\",\"\",IF(journal!AP126=\"a\",\"a\",journal!AP126/journal!AP$6))","v":""},{"$f":"IF(journal!AQ126=\"\",\"\",IF(journal!AQ126=\"a\",\"a\",journal!AQ126/journal!AQ$6))","v":""},{"$f":"IF(journal!AR126=\"\",\"\",IF(journal!AR126=\"a\",\"a\",journal!AR126/journal!AR$6))","v":""},"","","",""]
[null,"A",{"$f":"IF(journal!C127=\"\",\"\",IF(journal!C127=\"a\",\"a\",journal!C127/journal!C$7))","v":""},{"$f":"IF(journal!D127=\"\",\"\",IF(journal!D127=\"a\",\"a\",journal!D127/journal!D$7))","v":""},{"$f":"IF(journal!E127=\"\",\"\",IF(journal!E127=\"a\",\"a\",journal!E127/journal!E$7))","v":""},{"$f":"IF(journal!F127=\"\",\"\",IF(journal!F127=\"a\",\"a\",journal!F127/journal!F$7))","v":""},{"$f":"IF(journal!G127=\"\",\"\",IF(journal!G127=\"a\",\"a\",journal!G127/journal!G$7))","v":""},{"$f":"IF(journal!H127=\"\",\"\",IF(journal!H127=\"a\",\"a\",journal!H127/journal!H$7))","v":""},{"$f":"IF(journal!I127=\"\",\"\",IF(journal!I127=\"a\",\"a\",journal!I127/journal!I$7))","v":""},{"$f":"IF(journal!J127=\"\",\"\",IF(journal!J127=\"a\",\"a\",journal!J127/journal!J$7))","v":""},{"$f":"IF(journal!K127=\"\",\"\",IF(journal!K127=\"a\",\"a\",journal!K127/journal!K$7))","v":""},{"$f":"IF(journal!L127=\"\",\"\",IF(journal!L127=\"a\",\"a\",journal!L127/journal!L$7))","v":""},{"$f":"IF(journal!M127=\"\",\"\",IF(journal!M127=\"a\",\"a\",journal!M127/journal!M$7))","v":""},{"$f":"IF(journal!N127=\"\",\"\",IF(journal!N127=\"a\",\"a\",journal!N127/journal!N$7))","v":""},{"$f":"IF(journal!O127=\"\",\"\",IF(journal!O127=\"a\",\"a\",journal!O127/journal!O$7))","v":""},{"$f":"IF(journal!P127=\"\",\"\",IF(journal!P127=\"a\",\"a\",journal!P127/journal!P$7))","v":""},{"$f":"IF(journal!Q127=\"\",\"\",IF(journal!Q127=\"a\",\"a\",journal!Q127/journal!Q$7))","v":""},{"$f":"IF(journal!R127=\"\",\"\",IF(journal!R127=\"a\",\"a\",journal!R127/journal!R$7))","v":""},{"$f":"IF(journal!S127=\"\",\"\",IF(journal!S127=\"a\",\"a\",journal!S127/journal!S$7))","v":""},{"$f":"IF(journal!T127=\"\",\"\",IF(journal!T127=\"a\",\"a\",journal!T127/journal!T$7))","v":""},{"$f":"IF(journal!U127=\"\",\"\",IF(journal!U127=\"a\",\"a\",journal!U127/journal!U$7))","v":""},{"$f":"IF(journal!V127=\"\",\"\",IF(journal!V127=\"a\",\"a\",journal!V127/journal!V$7))","v":""},{"$f":"IF(journal!W127=\"\",\"\",IF(journal!W127=\"a\",\"a\",journal!W127/journal!W$7))","v":""},{"$f":"IF(journal!X127=\"\",\"\",IF(journal!X127=\"a\",\"a\",journal!X127/journal!X$7))","v":""},{"$f":"IF(journal!Y127=\"\",\"\",IF(journal!Y127=\"a\",\"a\",journal!Y127/journal!Y$7))","v":""},{"$f":"IF(journal!Z127=\"\",\"\",IF(journal!Z127=\"a\",\"a\",journal!Z127/journal!Z$7))","v":""},{"$f":"IF(journal!AA127=\"\",\"\",IF(journal!AA127=\"a\",\"a\",journal!AA127/journal!AA$7))","v":""},{"$f":"IF(journal!AB127=\"\",\"\",IF(journal!AB127=\"a\",\"a\",journal!AB127/journal!AB$7))","v":""},{"$f":"IF(journal!AC127=\"\",\"\",IF(journal!AC127=\"a\",\"a\",journal!AC127/journal!AC$7))","v":""},{"$f":"IF(journal!AD127=\"\",\"\",IF(journal!AD127=\"a\",\"a\",journal!AD127/journal!AD$7))","v":""},{"$f":"IF(journal!AE127=\"\",\"\",IF(journal!AE127=\"a\",\"a\",journal!AE127/journal!AE$7))","v":""},{"$f":"IF(journal!AF127=\"\",\"\",IF(journal!AF127=\"a\",\"a\",journal!AF127/journal!AF$7))","v":""},{"$f":"IF(journal!AG127=\"\",\"\",IF(journal!AG127=\"a\",\"a\",journal!AG127/journal!AG$7))","v":""},{"$f":"IF(journal!AH127=\"\",\"\",IF(journal!AH127=\"a\",\"a\",journal!AH127/journal!AH$7))","v":""},{"$f":"IF(journal!AI127=\"\",\"\",IF(journal!AI127=\"a\",\"a\",journal!AI127/journal!AI$7))","v":""},{"$f":"IF(journal!AJ127=\"\",\"\",IF(journal!AJ127=\"a\",\"a\",journal!AJ127/journal!AJ$7))","v":""},{"$f":"IF(journal!AK127=\"\",\"\",IF(journal!AK127=\"a\",\"a\",journal!AK127/journal!AK$7))","v":""},{"$f":"IF(journal!AL127=\"\",\"\",IF(journal!AL127=\"a\",\"a\",journal!AL127/journal!AL$7))","v":""},{"$f":"IF(journal!AM127=\"\",\"\",IF(journal!AM127=\"a\",\"a\",journal!AM127/journal!AM$7))","v":""},{"$f":"IF(journal!AN127=\"\",\"\",IF(journal!AN127=\"a\",\"a\",journal!AN127/journal!AN$7))","v":""},{"$f":"IF(journal!AO127=\"\",\"\",IF(journal!AO127=\"a\",\"a\",journal!AO127/journal!AO$7))","v":""},{"$f":"IF(journal!AP127=\"\",\"\",IF(journal!AP127=\"a\",\"a\",journal!AP127/journal!AP$7))","v":""},{"$f":"IF(journal!AQ127=\"\",\"\",IF(journal!AQ127=\"a\",\"a\",journal!AQ127/journal!AQ$7))","v":""},{"$f":"IF(journal!AR127=\"\",\"\",IF(journal!AR127=\"a\",\"a\",journal!AR127/journal!AR$7))","v":""},"","","",""]
[null,"R",{"$f":"IF(journal!C128=\"\",\"\",IF(journal!C128=\"a\",\"a\",journal!C128/journal!C$8))","v":""},{"$f":"IF(journal!D128=\"\",\"\",IF(journal!D128=\"a\",\"a\",journal!D128/journal!D$8))","v":""},{"$f":"IF(journal!E128=\"\",\"\",IF(journal!E128=\"a\",\"a\",journal!E128/journal!E$8))","v":""},{"$f":"IF(journal!F128=\"\",\"\",IF(journal!F128=\"a\",\"a\",journal!F128/journal!F$8))","v":""},{"$f":"IF(journal!G128=\"\",\"\",IF(journal!G128=\"a\",\"a\",journal!G128/journal!G$8))","v":""},{"$f":"IF(journal!H128=\"\",\"\",IF(journal!H128=\"a\",\"a\",journal!H128/journal!H$8))","v":""},{"$f":"IF(journal!I128=\"\",\"\",IF(journal!I128=\"a\",\"a\",journal!I128/journal!I$8))","v":""},{"$f":"IF(journal!J128=\"\",\"\",IF(journal!J128=\"a\",\"a\",journal!J128/journal!J$8))","v":""},{"$f":"IF(journal!K128=\"\",\"\",IF(journal!K128=\"a\",\"a\",journal!K128/journal!K$8))","v":""},{"$f":"IF(journal!L128=\"\",\"\",IF(journal!L128=\"a\",\"a\",journal!L128/journal!L$8))","v":""},{"$f":"IF(journal!M128=\"\",\"\",IF(journal!M128=\"a\",\"a\",journal!M128/journal!M$8))","v":""},{"$f":"IF(journal!N128=\"\",\"\",IF(journal!N128=\"a\",\"a\",journal!N128/journal!N$8))","v":""},{"$f":"IF(journal!O128=\"\",\"\",IF(journal!O128=\"a\",\"a\",journal!O128/journal!O$8))","v":""},{"$f":"IF(journal!P128=\"\",\"\",IF(journal!P128=\"a\",\"a\",journal!P128/journal!P$8))","v":""},{"$f":"IF(journal!Q128=\"\",\"\",IF(journal!Q128=\"a\",\"a\",journal!Q128/journal!Q$8))","v":""},{"$f":"IF(journal!R128=\"\",\"\",IF(journal!R128=\"a\",\"a\",journal!R128/journal!R$8))","v":""},{"$f":"IF(journal!S128=\"\",\"\",IF(journal!S128=\"a\",\"a\",journal!S128/journal!S$8))","v":""},{"$f":"IF(journal!T128=\"\",\"\",IF(journal!T128=\"a\",\"a\",journal!T128/journal!T$8))","v":""},{"$f":"IF(journal!U128=\"\",\"\",IF(journal!U128=\"a\",\"a\",journal!U128/journal!U$8))","v":""},{"$f":"IF(journal!V128=\"\",\"\",IF(journal!V128=\"a\",\"a\",journal!V128/journal!V$8))","v":""},{"$f":"IF(journal!W128=\"\",\"\",IF(journal!W128=\"a\",\"a\",journal!W128/journal!W$8))","v":""},{"$f":"IF(journal!X128=\"\",\"\",IF(journal!X128=\"a\",\"a\",journal!X128/journal!X$8))","v":""},{"$f":"IF(journal!Y128=\"\",\"\",IF(journal!Y128=\"a\",\"a\",journal!Y128/journal!Y$8))","v":""},{"$f":"IF(journal!Z128=\"\",\"\",IF(journal!Z128=\"a\",\"a\",journal!Z128/journal!Z$8))","v":""},{"$f":"IF(journal!AA128=\"\",\"\",IF(journal!AA128=\"a\",\"a\",journal!AA128/journal!AA$8))","v":""},{"$f":"IF(journal!AB128=\"\",\"\",IF(journal!AB128=\"a\",\"a\",journal!AB128/journal!AB$8))","v":""},{"$f":"IF(journal!AC128=\"\",\"\",IF(journal!AC128=\"a\",\"a\",journal!AC128/journal!AC$8))","v":""},{"$f":"IF(journal!AD128=\"\",\"\",IF(journal!AD128=\"a\",\"a\",journal!AD128/journal!AD$8))","v":""},{"$f":"IF(journal!AE128=\"\",\"\",IF(journal!AE128=\"a\",\"a\",journal!AE128/journal!AE$8))","v":""},{"$f":"IF(journal!AF128=\"\",\"\",IF(journal!AF128=\"a\",\"a\",journal!AF128/journal!AF$8))","v":""},{"$f":"IF(journal!AG128=\"\",\"\",IF(journal!AG128=\"a\",\"a\",journal!AG128/journal!AG$8))","v":""},{"$f":"IF(journal!AH128=\"\",\"\",IF(journal!AH128=\"a\",\"a\",journal!AH128/journal!AH$8))","v":""},{"$f":"IF(journal!AI128=\"\",\"\",IF(journal!AI128=\"a\",\"a\",journal!AI128/journal!AI$8))","v":""},{"$f":"IF(journal!AJ128=\"\",\"\",IF(journal!AJ128=\"a\",\"a\",journal!AJ128/journal!AJ$8))","v":""},{"$f":"IF(journal!AK128=\"\",\"\",IF(journal!AK128=\"a\",\"a\",journal!AK128/journal!AK$8))","v":""},{"$f":"IF(journal!AL128=\"\",\"\",IF(journal!AL128=\"a\",\"a\",journal!AL128/journal!AL$8))","v":""},{"$f":"IF(journal!AM128=\"\",\"\",IF(journal!AM128=\"a\",\"a\",journal!AM128/journal!AM$8))","v":""},{"$f":"IF(journal!AN128=\"\",\"\",IF(journal!AN128=\"a\",\"a\",journal!AN128/journal!AN$8))","v":""},{"$f":"IF(journal!AO128=\"\",\"\",IF(journal!AO128=\"a\",\"a\",journal!AO128/journal!AO$8))","v":""},{"$f":"IF(journal!AP128=\"\",\"\",IF(journal!AP128=\"a\",\"a\",journal!AP128/journal!AP$8))","v":""},{"$f":"IF(journal!AQ128=\"\",\"\",IF(journal!AQ128=\"a\",\"a\",journal!AQ128/journal!AQ$8))","v":""},{"$f":"IF(journal!AR128=\"\",\"\",IF(journal!AR128=\"a\",\"a\",journal!AR128/journal!AR$8))","v":""},"","","",""]
[null,"V",{"$f":"IF(journal!C129=\"\",\"\",IF(journal!C129=\"a\",\"a\",journal!C129/journal!C$9))","v":""},{"$f":"IF(journal!D129=\"\",\"\",IF(journal!D129=\"a\",\"a\",journal!D129/journal!D$9))","v":""},{"$f":"IF(journal!E129=\"\",\"\",IF(journal!E129=\"a\",\"a\",journal!E129/journal!E$9))","v":""},{"$f":"IF(journal!F129=\"\",\"\",IF(journal!F129=\"a\",\"a\",journal!F129/journal!F$9))","v":""},{"$f":"IF(journal!G129=\"\",\"\",IF(journal!G129=\"a\",\"a\",journal!G129/journal!G$9))","v":""},{"$f":"IF(journal!H129=\"\",\"\",IF(journal!H129=\"a\",\"a\",journal!H129/journal!H$9))","v":""},{"$f":"IF(journal!I129=\"\",\"\",IF(journal!I129=\"a\",\"a\",journal!I129/journal!I$9))","v":""},{"$f":"IF(journal!J129=\"\",\"\",IF(journal!J129=\"a\",\"a\",journal!J129/journal!J$9))","v":""},{"$f":"IF(journal!K129=\"\",\"\",IF(journal!K129=\"a\",\"a\",journal!K129/journal!K$9))","v":""},{"$f":"IF(journal!L129=\"\",\"\",IF(journal!L129=\"a\",\"a\",journal!L129/journal!L$9))","v":""},{"$f":"IF(journal!M129=\"\",\"\",IF(journal!M129=\"a\",\"a\",journal!M129/journal!M$9))","v":""},{"$f":"IF(journal!N129=\"\",\"\",IF(journal!N129=\"a\",\"a\",journal!N129/journal!N$9))","v":""},{"$f":"IF(journal!O129=\"\",\"\",IF(journal!O129=\"a\",\"a\",journal!O129/journal!O$9))","v":""},{"$f":"IF(journal!P129=\"\",\"\",IF(journal!P129=\"a\",\"a\",journal!P129/journal!P$9))","v":""},{"$f":"IF(journal!Q129=\"\",\"\",IF(journal!Q129=\"a\",\"a\",journal!Q129/journal!Q$9))","v":""},{"$f":"IF(journal!R129=\"\",\"\",IF(journal!R129=\"a\",\"a\",journal!R129/journal!R$9))","v":""},{"$f":"IF(journal!S129=\"\",\"\",IF(journal!S129=\"a\",\"a\",journal!S129/journal!S$9))","v":""},{"$f":"IF(journal!T129=\"\",\"\",IF(journal!T129=\"a\",\"a\",journal!T129/journal!T$9))","v":""},{"$f":"IF(journal!U129=\"\",\"\",IF(journal!U129=\"a\",\"a\",journal!U129/journal!U$9))","v":""},{"$f":"IF(journal!V129=\"\",\"\",IF(journal!V129=\"a\",\"a\",journal!V129/journal!V$9))","v":""},{"$f":"IF(journal!W129=\"\",\"\",IF(journal!W129=\"a\",\"a\",journal!W129/journal!W$9))","v":""},{"$f":"IF(journal!X129=\"\",\"\",IF(journal!X129=\"a\",\"a\",journal!X129/journal!X$9))","v":""},{"$f":"IF(journal!Y129=\"\",\"\",IF(journal!Y129=\"a\",\"a\",journal!Y129/journal!Y$9))","v":""},{"$f":"IF(journal!Z129=\"\",\"\",IF(journal!Z129=\"a\",\"a\",journal!Z129/journal!Z$9))","v":""},{"$f":"IF(journal!AA129=\"\",\"\",IF(journal!AA129=\"a\",\"a\",journal!AA129/journal!AA$9))","v":""},{"$f":"IF(journal!AB129=\"\",\"\",IF(journal!AB129=\"a\",\"a\",journal!AB129/journal!AB$9))","v":""},{"$f":"IF(journal!AC129=\"\",\"\",IF(journal!AC129=\"a\",\"a\",journal!AC129/journal!AC$9))","v":""},{"$f":"IF(journal!AD129=\"\",\"\",IF(journal!AD129=\"a\",\"a\",journal!AD129/journal!AD$9))","v":""},{"$f":"IF(journal!AE129=\"\",\"\",IF(journal!AE129=\"a\",\"a\",journal!AE129/journal!AE$9))","v":""},{"$f":"IF(journal!AF129=\"\",\"\",IF(journal!AF129=\"a\",\"a\",journal!AF129/journal!AF$9))","v":""},{"$f":"IF(journal!AG129=\"\",\"\",IF(journal!AG129=\"a\",\"a\",journal!AG129/journal!AG$9))","v":""},{"$f":"IF(journal!AH129=\"\",\"\",IF(journal!AH129=\"a\",\"a\",journal!AH129/journal!AH$9))","v":""},{"$f":"IF(journal!AI129=\"\",\"\",IF(journal!AI129=\"a\",\"a\",journal!AI129/journal!AI$9))","v":""},{"$f":"IF(journal!AJ129=\"\",\"\",IF(journal!AJ129=\"a\",\"a\",journal!AJ129/journal!AJ$9))","v":""},{"$f":"IF(journal!AK129=\"\",\"\",IF(journal!AK129=\"a\",\"a\",journal!AK129/journal!AK$9))","v":""},{"$f":"IF(journal!AL129=\"\",\"\",IF(journal!AL129=\"a\",\"a\",journal!AL129/journal!AL$9))","v":""},{"$f":"IF(journal!AM129=\"\",\"\",IF(journal!AM129=\"a\",\"a\",journal!AM129/journal!AM$9))","v":""},{"$f":"IF(journal!AN129=\"\",\"\",IF(journal!AN129=\"a\",\"a\",journal!AN129/journal!AN$9))","v":""},{"$f":"IF(journal!AO129=\"\",\"\",IF(journal!AO129=\"a\",\"a\",journal!AO129/journal!AO$9))","v":""},{"$f":"IF(journal!AP129=\"\",\"\",IF(journal!AP129=\"a\",\"a\",journal!AP129/journal!AP$9))","v":""},{"$f":"IF(journal!AQ129=\"\",\"\",IF(journal!AQ129=\"a\",\"a\",journal!AQ129/journal!AQ$9))","v":""},{"$f":"IF(journal!AR129=\"\",\"\",IF(journal!AR129=\"a\",\"a\",journal!AR129/journal!AR$9))","v":""},"","","",""]
[null,"C",{"$f":"IF(journal!C130=\"\",\"\",IF(journal!C130=\"a\",\"a\",journal!C130/journal!C$10))","v":""},{"$f":"IF(journal!D130=\"\",\"\",IF(journal!D130=\"a\",\"a\",journal!D130/journal!D$10))","v":""},{"$f":"IF(journal!E130=\"\",\"\",IF(journal!E130=\"a\",\"a\",journal!E130/journal!E$10))","v":""},{"$f":"IF(journal!F130=\"\",\"\",IF(journal!F130=\"a\",\"a\",journal!F130/journal!F$10))","v":""},{"$f":"IF(journal!G130=\"\",\"\",IF(journal!G130=\"a\",\"a\",journal!G130/journal!G$10))","v":""},{"$f":"IF(journal!H130=\"\",\"\",IF(journal!H130=\"a\",\"a\",journal!H130/journal!H$10))","v":""},{"$f":"IF(journal!I130=\"\",\"\",IF(journal!I130=\"a\",\"a\",journal!I130/journal!I$10))","v":""},{"$f":"IF(journal!J130=\"\",\"\",IF(journal!J130=\"a\",\"a\",journal!J130/journal!J$10))","v":""},{"$f":"IF(journal!K130=\"\",\"\",IF(journal!K130=\"a\",\"a\",journal!K130/journal!K$10))","v":""},{"$f":"IF(journal!L130=\"\",\"\",IF(journal!L130=\"a\",\"a\",journal!L130/journal!L$10))","v":""},{"$f":"IF(journal!M130=\"\",\"\",IF(journal!M130=\"a\",\"a\",journal!M130/journal!M$10))","v":""},{"$f":"IF(journal!N130=\"\",\"\",IF(journal!N130=\"a\",\"a\",journal!N130/journal!N$10))","v":""},{"$f":"IF(journal!O130=\"\",\"\",IF(journal!O130=\"a\",\"a\",journal!O130/journal!O$10))","v":""},{"$f":"IF(journal!P130=\"\",\"\",IF(journal!P130=\"a\",\"a\",journal!P130/journal!P$10))","v":""},{"$f":"IF(journal!Q130=\"\",\"\",IF(journal!Q130=\"a\",\"a\",journal!Q130/journal!Q$10))","v":""},{"$f":"IF(journal!R130=\"\",\"\",IF(journal!R130=\"a\",\"a\",journal!R130/journal!R$10))","v":""},{"$f":"IF(journal!S130=\"\",\"\",IF(journal!S130=\"a\",\"a\",journal!S130/journal!S$10))","v":""},{"$f":"IF(journal!T130=\"\",\"\",IF(journal!T130=\"a\",\"a\",journal!T130/journal!T$10))","v":""},{"$f":"IF(journal!U130=\"\",\"\",IF(journal!U130=\"a\",\"a\",journal!U130/journal!U$10))","v":""},{"$f":"IF(journal!V130=\"\",\"\",IF(journal!V130=\"a\",\"a\",journal!V130/journal!V$10))","v":""},{"$f":"IF(journal!W130=\"\",\"\",IF(journal!W130=\"a\",\"a\",journal!W130/journal!W$10))","v":""},{"$f":"IF(journal!X130=\"\",\"\",IF(journal!X130=\"a\",\"a\",journal!X130/journal!X$10))","v":""},{"$f":"IF(journal!Y130=\"\",\"\",IF(journal!Y130=\"a\",\"a\",journal!Y130/journal!Y$10))","v":""},{"$f":"IF(journal!Z130=\"\",\"\",IF(journal!Z130=\"a\",\"a\",journal!Z130/journal!Z$10))","v":""},{"$f":"IF(journal!AA130=\"\",\"\",IF(journal!AA130=\"a\",\"a\",journal!AA130/journal!AA$10))","v":""},{"$f":"IF(journal!AB130=\"\",\"\",IF(journal!AB130=\"a\",\"a\",journal!AB130/journal!AB$10))","v":""},{"$f":"IF(journal!AC130=\"\",\"\",IF(journal!AC130=\"a\",\"a\",journal!AC130/journal!AC$10))","v":""},{"$f":"IF(journal!AD130=\"\",\"\",IF(journal!AD130=\"a\",\"a\",journal!AD130/journal!AD$10))","v":""},{"$f":"IF(journal!AE130=\"\",\"\",IF(journal!AE130=\"a\",\"a\",journal!AE130/journal!AE$10))","v":""},{"$f":"IF(journal!AF130=\"\",\"\",IF(journal!AF130=\"a\",\"a\",journal!AF130/journal!AF$10))","v":""},{"$f":"IF(journal!AG130=\"\",\"\",IF(journal!AG130=\"a\",\"a\",journal!AG130/journal!AG$10))","v":""},{"$f":"IF(journal!AH130=\"\",\"\",IF(journal!AH130=\"a\",\"a\",journal!AH130/journal!AH$10))","v":""},{"$f":"IF(journal!AI130=\"\",\"\",IF(journal!AI130=\"a\",\"a\",journal!AI130/journal!AI$10))","v":""},{"$f":"IF(journal!AJ130=\"\",\"\",IF(journal!AJ130=\"a\",\"a\",journal!AJ130/journal!AJ$10))","v":""},{"$f":"IF(journal!AK130=\"\",\"\",IF(journal!AK130=\"a\",\"a\",journal!AK130/journal!AK$10))","v":""},{"$f":"IF(journal!AL130=\"\",\"\",IF(journal!AL130=\"a\",\"a\",journal!AL130/journal!AL$10))","v":""},{"$f":"IF(journal!AM130=\"\",\"\",IF(journal!AM130=\"a\",\"a\",journal!AM130/journal!AM$10))","v":""},{"$f":"IF(journal!AN130=\"\",\"\",IF(journal!AN130=\"a\",\"a\",journal!AN130/journal!AN$10))","v":""},{"$f":"IF(journal!AO130=\"\",\"\",IF(journal!AO130=\"a\",\"a\",journal!AO130/journal!AO$10))","v":""},{"$f":"IF(journal!AP130=\"\",\"\",IF(journal!AP130=\"a\",\"a\",journal!AP130/journal!AP$10))","v":""},{"$f":"IF(journal!AQ130=\"\",\"\",IF(journal!AQ130=\"a\",\"a\",journal!AQ130/journal!AQ$10))","v":""},{"$f":"IF(journal!AR130=\"\",\"\",IF(journal!AR130=\"a\",\"a\",journal!AR130/journal!AR$10))","v":""},"","","",""]
[{"$f":"Saisie!A35","v":0},"S",{"$f":"IF(journal!C131=\"\",\"\",IF(journal!C131=\"a\",\"a\",journal!C131/journal!C$6))","v":""},{"$f":"IF(journal!D131=\"\",\"\",IF(journal!D131=\"a\",\"a\",journal!D131/journal!D$6))","v":""},{"$f":"IF(journal!E131=\"\",\"\",IF(journal!E131=\"a\",\"a\",journal!E131/journal!E$6))","v":""},{"$f":"IF(journal!F131=\"\",\"\",IF(journal!F131=\"a\",\"a\",journal!F131/journal!F$6))","v":""},{"$f":"IF(journal!G131=\"\",\"\",IF(journal!G131=\"a\",\"a\",journal!G131/journal!G$6))","v":""},{"$f":"IF(journal!H131=\"\",\"\",IF(journal!H131=\"a\",\"a\",journal!H131/journal!H$6))","v":""},{"$f":"IF(journal!I131=\"\",\"\",IF(journal!I131=\"a\",\"a\",journal!I131/journal!I$6))","v":""},{"$f":"IF(journal!J131=\"\",\"\",IF(journal!J131=\"a\",\"a\",journal!J131/journal!J$6))","v":""},{"$f":"IF(journal!K131=\"\",\"\",IF(journal!K131=\"a\",\"a\",journal!K131/journal!K$6))","v":""},{"$f":"IF(journal!L131=\"\",\"\",IF(journal!L131=\"a\",\"a\",journal!L131/journal!L$6))","v":""},{"$f":"IF(journal!M131=\"\",\"\",IF(journal!M131=\"a\",\"a\",journal!M131/journal!M$6))","v":""},{"$f":"IF(journal!N131=\"\",\"\",IF(journal!N131=\"a\",\"a\",journal!N131/journal!N$6))","v":""},{"$f":"IF(journal!O131=\"\",\"\",IF(journal!O131=\"a\",\"a\",journal!O131/journal!O$6))","v":""},{"$f":"IF(journal!P131=\"\",\"\",IF(journal!P131=\"a\",\"a\",journal!P131/journal!P$6))","v":""},{"$f":"IF(journal!Q131=\"\",\"\",IF(journal!Q131=\"a\",\"a\",journal!Q131/journal!Q$6))","v":""},{"$f":"IF(journal!R131=\"\",\"\",IF(journal!R131=\"a\",\"a\",journal!R131/journal!R$6))","v":""},{"$f":"IF(journal!S131=\"\",\"\",IF(journal!S131=\"a\",\"a\",journal!S131/journal!S$6))","v":""},{"$f":"IF(journal!T131=\"\",\"\",IF(journal!T131=\"a\",\"a\",journal!T131/journal!T$6))","v":""},{"$f":"IF(journal!U131=\"\",\"\",IF(journal!U131=\"a\",\"a\",journal!U131/journal!U$6))","v":""},{"$f":"IF(journal!V131=\"\",\"\",IF(journal!V131=\"a\",\"a\",journal!V131/journal!V$6))","v":""},{"$f":"IF(journal!W131=\"\",\"\",IF(journal!W131=\"a\",\"a\",journal!W131/journal!W$6))","v":""},{"$f":"IF(journal!X131=\"\",\"\",IF(journal!X131=\"a\",\"a\",journal!X131/journal!X$6))","v":""},{"$f":"IF(journal!Y131=\"\",\"\",IF(journal!Y131=\"a\",\"a\",journal!Y131/journal!Y$6))","v":""},{"$f":"IF(journal!Z131=\"\",\"\",IF(journal!Z131=\"a\",\"a\",journal!Z131/journal!Z$6))","v":""},{"$f":"IF(journal!AA131=\"\",\"\",IF(journal!AA131=\"a\",\"a\",journal!AA131/journal!AA$6))","v":""},{"$f":"IF(journal!AB131=\"\",\"\",IF(journal!AB131=\"a\",\"a\",journal!AB131/journal!AB$6))","v":""},{"$f":"IF(journal!AC131=\"\",\"\",IF(journal!AC131=\"a\",\"a\",journal!AC131/journal!AC$6))","v":""},{"$f":"IF(journal!AD131=\"\",\"\",IF(journal!AD131=\"a\",\"a\",journal!AD131/journal!AD$6))","v":""},{"$f":"IF(journal!AE131=\"\",\"\",IF(journal!AE131=\"a\",\"a\",journal!AE131/journal!AE$6))","v":""},{"$f":"IF(journal!AF131=\"\",\"\",IF(journal!AF131=\"a\",\"a\",journal!AF131/journal!AF$6))","v":""},{"$f":"IF(journal!AG131=\"\",\"\",IF(journal!AG131=\"a\",\"a\",journal!AG131/journal!AG$6))","v":""},{"$f":"IF(journal!AH131=\"\",\"\",IF(journal!AH131=\"a\",\"a\",journal!AH131/journal!AH$6))","v":""},{"$f":"IF(journal!AI131=\"\",\"\",IF(journal!AI131=\"a\",\"a\",journal!AI131/journal!AI$6))","v":""},{"$f":"IF(journal!AJ131=\"\",\"\",IF(journal!AJ131=\"a\",\"a\",journal!AJ131/journal!AJ$6))","v":""},{"$f":"IF(journal!AK131=\"\",\"\",IF(journal!AK131=\"a\",\"a\",journal!AK131/journal!AK$6))","v":""},{"$f":"IF(journal!AL131=\"\",\"\",IF(journal!AL131=\"a\",\"a\",journal!AL131/journal!AL$6))","v":""},{"$f":"IF(journal!AM131=\"\",\"\",IF(journal!AM131=\"a\",\"a\",journal!AM131/journal!AM$6))","v":""},{"$f":"IF(journal!AN131=\"\",\"\",IF(journal!AN131=\"a\",\"a\",journal!AN131/journal!AN$6))","v":""},{"$f":"IF(journal!AO131=\"\",\"\",IF(journal!AO131=\"a\",\"a\",journal!AO131/journal!AO$6))","v":""},{"$f":"IF(journal!AP131=\"\",\"\",IF(journal!AP131=\"a\",\"a\",journal!AP131/journal!AP$6))","v":""},{"$f":"IF(journal!AQ131=\"\",\"\",IF(journal!AQ131=\"a\",\"a\",journal!AQ131/journal!AQ$6))","v":""},{"$f":"IF(journal!AR131=\"\",\"\",IF(journal!AR131=\"a\",\"a\",journal!AR131/journal!AR$6))","v":""},"","","",""]
[null,"A",{"$f":"IF(journal!C132=\"\",\"\",IF(journal!C132=\"a\",\"a\",journal!C132/journal!C$7))","v":""},{"$f":"IF(journal!D132=\"\",\"\",IF(journal!D132=\"a\",\"a\",journal!D132/journal!D$7))","v":""},{"$f":"IF(journal!E132=\"\",\"\",IF(journal!E132=\"a\",\"a\",journal!E132/journal!E$7))","v":""},{"$f":"IF(journal!F132=\"\",\"\",IF(journal!F132=\"a\",\"a\",journal!F132/journal!F$7))","v":""},{"$f":"IF(journal!G132=\"\",\"\",IF(journal!G132=\"a\",\"a\",journal!G132/journal!G$7))","v":""},{"$f":"IF(journal!H132=\"\",\"\",IF(journal!H132=\"a\",\"a\",journal!H132/journal!H$7))","v":""},{"$f":"IF(journal!I132=\"\",\"\",IF(journal!I132=\"a\",\"a\",journal!I132/journal!I$7))","v":""},{"$f":"IF(journal!J132=\"\",\"\",IF(journal!J132=\"a\",\"a\",journal!J132/journal!J$7))","v":""},{"$f":"IF(journal!K132=\"\",\"\",IF(journal!K132=\"a\",\"a\",journal!K132/journal!K$7))","v":""},{"$f":"IF(journal!L132=\"\",\"\",IF(journal!L132=\"a\",\"a\",journal!L132/journal!L$7))","v":""},{"$f":"IF(journal!M132=\"\",\"\",IF(journal!M132=\"a\",\"a\",journal!M132/journal!M$7))","v":""},{"$f":"IF(journal!N132=\"\",\"\",IF(journal!N132=\"a\",\"a\",journal!N132/journal!N$7))","v":""},{"$f":"IF(journal!O132=\"\",\"\",IF(journal!O132=\"a\",\"a\",journal!O132/journal!O$7))","v":""},{"$f":"IF(journal!P132=\"\",\"\",IF(journal!P132=\"a\",\"a\",journal!P132/journal!P$7))","v":""},{"$f":"IF(journal!Q132=\"\",\"\",IF(journal!Q132=\"a\",\"a\",journal!Q132/journal!Q$7))","v":""},{"$f":"IF(journal!R132=\"\",\"\",IF(journal!R132=\"a\",\"a\",journal!R132/journal!R$7))","v":""},{"$f":"IF(journal!S132=\"\",\"\",IF(journal!S132=\"a\",\"a\",journal!S132/journal!S$7))","v":""},{"$f":"IF(journal!T132=\"\",\"\",IF(journal!T132=\"a\",\"a\",journal!T132/journal!T$7))","v":""},{"$f":"IF(journal!U132=\"\",\"\",IF(journal!U132=\"a\",\"a\",journal!U132/journal!U$7))","v":""},{"$f":"IF(journal!V132=\"\",\"\",IF(journal!V132=\"a\",\"a\",journal!V132/journal!V$7))","v":""},{"$f":"IF(journal!W132=\"\",\"\",IF(journal!W132=\"a\",\"a\",journal!W132/journal!W$7))","v":""},{"$f":"IF(journal!X132=\"\",\"\",IF(journal!X132=\"a\",\"a\",journal!X132/journal!X$7))","v":""},{"$f":"IF(journal!Y132=\"\",\"\",IF(journal!Y132=\"a\",\"a\",journal!Y132/journal!Y$7))","v":""},{"$f":"IF(journal!Z132=\"\",\"\",IF(journal!Z132=\"a\",\"a\",journal!Z132/journal!Z$7))","v":""},{"$f":"IF(journal!AA132=\"\",\"\",IF(journal!AA132=\"a\",\"a\",journal!AA132/journal!AA$7))","v":""},{"$f":"IF(journal!AB132=\"\",\"\",IF(journal!AB132=\"a\",\"a\",journal!AB132/journal!AB$7))","v":""},{"$f":"IF(journal!AC132=\"\",\"\",IF(journal!AC132=\"a\",\"a\",journal!AC132/journal!AC$7))","v":""},{"$f":"IF(journal!AD132=\"\",\"\",IF(journal!AD132=\"a\",\"a\",journal!AD132/journal!AD$7))","v":""},{"$f":"IF(journal!AE132=\"\",\"\",IF(journal!AE132=\"a\",\"a\",journal!AE132/journal!AE$7))","v":""},{"$f":"IF(journal!AF132=\"\",\"\",IF(journal!AF132=\"a\",\"a\",journal!AF132/journal!AF$7))","v":""},{"$f":"IF(journal!AG132=\"\",\"\",IF(journal!AG132=\"a\",\"a\",journal!AG132/journal!AG$7))","v":""},{"$f":"IF(journal!AH132=\"\",\"\",IF(journal!AH132=\"a\",\"a\",journal!AH132/journal!AH$7))","v":""},{"$f":"IF(journal!AI132=\"\",\"\",IF(journal!AI132=\"a\",\"a\",journal!AI132/journal!AI$7))","v":""},{"$f":"IF(journal!AJ132=\"\",\"\",IF(journal!AJ132=\"a\",\"a\",journal!AJ132/journal!AJ$7))","v":""},{"$f":"IF(journal!AK132=\"\",\"\",IF(journal!AK132=\"a\",\"a\",journal!AK132/journal!AK$7))","v":""},{"$f":"IF(journal!AL132=\"\",\"\",IF(journal!AL132=\"a\",\"a\",journal!AL132/journal!AL$7))","v":""},{"$f":"IF(journal!AM132=\"\",\"\",IF(journal!AM132=\"a\",\"a\",journal!AM132/journal!AM$7))","v":""},{"$f":"IF(journal!AN132=\"\",\"\",IF(journal!AN132=\"a\",\"a\",journal!AN132/journal!AN$7))","v":""},{"$f":"IF(journal!AO132=\"\",\"\",IF(journal!AO132=\"a\",\"a\",journal!AO132/journal!AO$7))","v":""},{"$f":"IF(journal!AP132=\"\",\"\",IF(journal!AP132=\"a\",\"a\",journal!AP132/journal!AP$7))","v":""},{"$f":"IF(journal!AQ132=\"\",\"\",IF(journal!AQ132=\"a\",\"a\",journal!AQ132/journal!AQ$7))","v":""},{"$f":"IF(journal!AR132=\"\",\"\",IF(journal!AR132=\"a\",\"a\",journal!AR132/journal!AR$7))","v":""},"","","",""]
[null,"R",{"$f":"IF(journal!C133=\"\",\"\",IF(journal!C133=\"a\",\"a\",journal!C133/journal!C$8))","v":""},{"$f":"IF(journal!D133=\"\",\"\",IF(journal!D133=\"a\",\"a\",journal!D133/journal!D$8))","v":""},{"$f":"IF(journal!E133=\"\",\"\",IF(journal!E133=\"a\",\"a\",journal!E133/journal!E$8))","v":""},{"$f":"IF(journal!F133=\"\",\"\",IF(journal!F133=\"a\",\"a\",journal!F133/journal!F$8))","v":""},{"$f":"IF(journal!G133=\"\",\"\",IF(journal!G133=\"a\",\"a\",journal!G133/journal!G$8))","v":""},{"$f":"IF(journal!H133=\"\",\"\",IF(journal!H133=\"a\",\"a\",journal!H133/journal!H$8))","v":""},{"$f":"IF(journal!I133=\"\",\"\",IF(journal!I133=\"a\",\"a\",journal!I133/journal!I$8))","v":""},{"$f":"IF(journal!J133=\"\",\"\",IF(journal!J133=\"a\",\"a\",journal!J133/journal!J$8))","v":""},{"$f":"IF(journal!K133=\"\",\"\",IF(journal!K133=\"a\",\"a\",journal!K133/journal!K$8))","v":""},{"$f":"IF(journal!L133=\"\",\"\",IF(journal!L133=\"a\",\"a\",journal!L133/journal!L$8))","v":""},{"$f":"IF(journal!M133=\"\",\"\",IF(journal!M133=\"a\",\"a\",journal!M133/journal!M$8))","v":""},{"$f":"IF(journal!N133=\"\",\"\",IF(journal!N133=\"a\",\"a\",journal!N133/journal!N$8))","v":""},{"$f":"IF(journal!O133=\"\",\"\",IF(journal!O133=\"a\",\"a\",journal!O133/journal!O$8))","v":""},{"$f":"IF(journal!P133=\"\",\"\",IF(journal!P133=\"a\",\"a\",journal!P133/journal!P$8))","v":""},{"$f":"IF(journal!Q133=\"\",\"\",IF(journal!Q133=\"a\",\"a\",journal!Q133/journal!Q$8))","v":""},{"$f":"IF(journal!R133=\"\",\"\",IF(journal!R133=\"a\",\"a\",journal!R133/journal!R$8))","v":""},{"$f":"IF(journal!S133=\"\",\"\",IF(journal!S133=\"a\",\"a\",journal!S133/journal!S$8))","v":""},{"$f":"IF(journal!T133=\"\",\"\",IF(journal!T133=\"a\",\"a\",journal!T133/journal!T$8))","v":""},{"$f":"IF(journal!U133=\"\",\"\",IF(journal!U133=\"a\",\"a\",journal!U133/journal!U$8))","v":""},{"$f":"IF(journal!V133=\"\",\"\",IF(journal!V133=\"a\",\"a\",journal!V133/journal!V$8))","v":""},{"$f":"IF(journal!W133=\"\",\"\",IF(journal!W133=\"a\",\"a\",journal!W133/journal!W$8))","v":""},{"$f":"IF(journal!X133=\"\",\"\",IF(journal!X133=\"a\",\"a\",journal!X133/journal!X$8))","v":""},{"$f":"IF(journal!Y133=\"\",\"\",IF(journal!Y133=\"a\",\"a\",journal!Y133/journal!Y$8))","v":""},{"$f":"IF(journal!Z133=\"\",\"\",IF(journal!Z133=\"a\",\"a\",journal!Z133/journal!Z$8))","v":""},{"$f":"IF(journal!AA133=\"\",\"\",IF(journal!AA133=\"a\",\"a\",journal!AA133/journal!AA$8))","v":""},{"$f":"IF(journal!AB133=\"\",\"\",IF(journal!AB133=\"a\",\"a\",journal!AB133/journal!AB$8))","v":""},{"$f":"IF(journal!AC133=\"\",\"\",IF(journal!AC133=\"a\",\"a\",journal!AC133/journal!AC$8))","v":""},{"$f":"IF(journal!AD133=\"\",\"\",IF(journal!AD133=\"a\",\"a\",journal!AD133/journal!AD$8))","v":""},{"$f":"IF(journal!AE133=\"\",\"\",IF(journal!AE133=\"a\",\"a\",journal!AE133/journal!AE$8))","v":""},{"$f":"IF(journal!AF133=\"\",\"\",IF(journal!AF133=\"a\",\"a\",journal!AF133/journal!AF$8))","v":""},{"$f":"IF(journal!AG133=\"\",\"\",IF(journal!AG133=\"a\",\"a\",journal!AG133/journal!AG$8))","v":""},{"$f":"IF(journal!AH133=\"\",\"\",IF(journal!AH133=\"a\",\"a\",journal!AH133/journal!AH$8))","v":""},{"$f":"IF(journal!AI133=\"\",\"\",IF(journal!AI133=\"a\",\"a\",journal!AI133/journal!AI$8))","v":""},{"$f":"IF(journal!AJ133=\"\",\"\",IF(journal!AJ133=\"a\",\"a\",journal!AJ133/journal!AJ$8))","v":""},{"$f":"IF(journal!AK133=\"\",\"\",IF(journal!AK133=\"a\",\"a\",journal!AK133/journal!AK$8))","v":""},{"$f":"IF(journal!AL133=\"\",\"\",IF(journal!AL133=\"a\",\"a\",journal!AL133/journal!AL$8))","v":""},{"$f":"IF(journal!AM133=\"\",\"\",IF(journal!AM133=\"a\",\"a\",journal!AM133/journal!AM$8))","v":""},{"$f":"IF(journal!AN133=\"\",\"\",IF(journal!AN133=\"a\",\"a\",journal!AN133/journal!AN$8))","v":""},{"$f":"IF(journal!AO133=\"\",\"\",IF(journal!AO133=\"a\",\"a\",journal!AO133/journal!AO$8))","v":""},{"$f":"IF(journal!AP133=\"\",\"\",IF(journal!AP133=\"a\",\"a\",journal!AP133/journal!AP$8))","v":""},{"$f":"IF(journal!AQ133=\"\",\"\",IF(journal!AQ133=\"a\",\"a\",journal!AQ133/journal!AQ$8))","v":""},{"$f":"IF(journal!AR133=\"\",\"\",IF(journal!AR133=\"a\",\"a\",journal!AR133/journal!AR$8))","v":""},"","","",""]
[null,"V",{"$f":"IF(journal!C134=\"\",\"\",IF(journal!C134=\"a\",\"a\",journal!C134/journal!C$9))","v":""},{"$f":"IF(journal!D134=\"\",\"\",IF(journal!D134=\"a\",\"a\",journal!D134/journal!D$9))","v":""},{"$f":"IF(journal!E134=\"\",\"\",IF(journal!E134=\"a\",\"a\",journal!E134/journal!E$9))","v":""},{"$f":"IF(journal!F134=\"\",\"\",IF(journal!F134=\"a\",\"a\",journal!F134/journal!F$9))","v":""},{"$f":"IF(journal!G134=\"\",\"\",IF(journal!G134=\"a\",\"a\",journal!G134/journal!G$9))","v":""},{"$f":"IF(journal!H134=\"\",\"\",IF(journal!H134=\"a\",\"a\",journal!H134/journal!H$9))","v":""},{"$f":"IF(journal!I134=\"\",\"\",IF(journal!I134=\"a\",\"a\",journal!I134/journal!I$9))","v":""},{"$f":"IF(journal!J134=\"\",\"\",IF(journal!J134=\"a\",\"a\",journal!J134/journal!J$9))","v":""},{"$f":"IF(journal!K134=\"\",\"\",IF(journal!K134=\"a\",\"a\",journal!K134/journal!K$9))","v":""},{"$f":"IF(journal!L134=\"\",\"\",IF(journal!L134=\"a\",\"a\",journal!L134/journal!L$9))","v":""},{"$f":"IF(journal!M134=\"\",\"\",IF(journal!M134=\"a\",\"a\",journal!M134/journal!M$9))","v":""},{"$f":"IF(journal!N134=\"\",\"\",IF(journal!N134=\"a\",\"a\",journal!N134/journal!N$9))","v":""},{"$f":"IF(journal!O134=\"\",\"\",IF(journal!O134=\"a\",\"a\",journal!O134/journal!O$9))","v":""},{"$f":"IF(journal!P134=\"\",\"\",IF(journal!P134=\"a\",\"a\",journal!P134/journal!P$9))","v":""},{"$f":"IF(journal!Q134=\"\",\"\",IF(journal!Q134=\"a\",\"a\",journal!Q134/journal!Q$9))","v":""},{"$f":"IF(journal!R134=\"\",\"\",IF(journal!R134=\"a\",\"a\",journal!R134/journal!R$9))","v":""},{"$f":"IF(journal!S134=\"\",\"\",IF(journal!S134=\"a\",\"a\",journal!S134/journal!S$9))","v":""},{"$f":"IF(journal!T134=\"\",\"\",IF(journal!T134=\"a\",\"a\",journal!T134/journal!T$9))","v":""},{"$f":"IF(journal!U134=\"\",\"\",IF(journal!U134=\"a\",\"a\",journal!U134/journal!U$9))","v":""},{"$f":"IF(journal!V134=\"\",\"\",IF(journal!V134=\"a\",\"a\",journal!V134/journal!V$9))","v":""},{"$f":"IF(journal!W134=\"\",\"\",IF(journal!W134=\"a\",\"a\",journal!W134/journal!W$9))","v":""},{"$f":"IF(journal!X134=\"\",\"\",IF(journal!X134=\"a\",\"a\",journal!X134/journal!X$9))","v":""},{"$f":"IF(journal!Y134=\"\",\"\",IF(journal!Y134=\"a\",\"a\",journal!Y134/journal!Y$9))","v":""},{"$f":"IF(journal!Z134=\"\",\"\",IF(journal!Z134=\"a\",\"a\",journal!Z134/journal!Z$9))","v":""},{"$f":"IF(journal!AA134=\"\",\"\",IF(journal!AA134=\"a\",\"a\",journal!AA134/journal!AA$9))","v":""},{"$f":"IF(journal!AB134=\"\",\"\",IF(journal!AB134=\"a\",\"a\",journal!AB134/journal!AB$9))","v":""},{"$f":"IF(journal!AC134=\"\",\"\",IF(journal!AC134=\"a\",\"a\",journal!AC134/journal!AC$9))","v":""},{"$f":"IF(journal!AD134=\"\",\"\",IF(journal!AD134=\"a\",\"a\",journal!AD134/journal!AD$9))","v":""},{"$f":"IF(journal!AE134=\"\",\"\",IF(journal!AE134=\"a\",\"a\",journal!AE134/journal!AE$9))","v":""},{"$f":"IF(journal!AF134=\"\",\"\",IF(journal!AF134=\"a\",\"a\",journal!AF134/journal!AF$9))","v":""},{"$f":"IF(journal!AG134=\"\",\"\",IF(journal!AG134=\"a\",\"a\",journal!AG134/journal!AG$9))","v":""},{"$f":"IF(journal!AH134=\"\",\"\",IF(journal!AH134=\"a\",\"a\",journal!AH134/journal!AH$9))","v":""},{"$f":"IF(journal!AI134=\"\",\"\",IF(journal!AI134=\"a\",\"a\",journal!AI134/journal!AI$9))","v":""},{"$f":"IF(journal!AJ134=\"\",\"\",IF(journal!AJ134=\"a\",\"a\",journal!AJ134/journal!AJ$9))","v":""},{"$f":"IF(journal!AK134=\"\",\"\",IF(journal!AK134=\"a\",\"a\",journal!AK134/journal!AK$9))","v":""},{"$f":"IF(journal!AL134=\"\",\"\",IF(journal!AL134=\"a\",\"a\",journal!AL134/journal!AL$9))","v":""},{"$f":"IF(journal!AM134=\"\",\"\",IF(journal!AM134=\"a\",\"a\",journal!AM134/journal!AM$9))","v":""},{"$f":"IF(journal!AN134=\"\",\"\",IF(journal!AN134=\"a\",\"a\",journal!AN134/journal!AN$9))","v":""},{"$f":"IF(journal!AO134=\"\",\"\",IF(journal!AO134=\"a\",\"a\",journal!AO134/journal!AO$9))","v":""},{"$f":"IF(journal!AP134=\"\",\"\",IF(journal!AP134=\"a\",\"a\",journal!AP134/journal!AP$9))","v":""},{"$f":"IF(journal!AQ134=\"\",\"\",IF(journal!AQ134=\"a\",\"a\",journal!AQ134/journal!AQ$9))","v":""},{"$f":"IF(journal!AR134=\"\",\"\",IF(journal!AR134=\"a\",\"a\",journal!AR134/journal!AR$9))","v":""},{"$f":"IF(ISERROR(AVERAGE(C134:AR134)),\"\",AVERAGE(C134:AR134))","v":""},"","",""]
[null,"C",{"$f":"IF(journal!C135=\"\",\"\",IF(journal!C135=\"a\",\"a\",journal!C135/journal!C$10))","v":""},{"$f":"IF(journal!D135=\"\",\"\",IF(journal!D135=\"a\",\"a\",journal!D135/journal!D$10))","v":""},{"$f":"IF(journal!E135=\"\",\"\",IF(journal!E135=\"a\",\"a\",journal!E135/journal!E$10))","v":""},{"$f":"IF(journal!F135=\"\",\"\",IF(journal!F135=\"a\",\"a\",journal!F135/journal!F$10))","v":""},{"$f":"IF(journal!G135=\"\",\"\",IF(journal!G135=\"a\",\"a\",journal!G135/journal!G$10))","v":""},{"$f":"IF(journal!H135=\"\",\"\",IF(journal!H135=\"a\",\"a\",journal!H135/journal!H$10))","v":""},{"$f":"IF(journal!I135=\"\",\"\",IF(journal!I135=\"a\",\"a\",journal!I135/journal!I$10))","v":""},{"$f":"IF(journal!J135=\"\",\"\",IF(journal!J135=\"a\",\"a\",journal!J135/journal!J$10))","v":""},{"$f":"IF(journal!K135=\"\",\"\",IF(journal!K135=\"a\",\"a\",journal!K135/journal!K$10))","v":""},{"$f":"IF(journal!L135=\"\",\"\",IF(journal!L135=\"a\",\"a\",journal!L135/journal!L$10))","v":""},{"$f":"IF(journal!M135=\"\",\"\",IF(journal!M135=\"a\",\"a\",journal!M135/journal!M$10))","v":""},{"$f":"IF(journal!N135=\"\",\"\",IF(journal!N135=\"a\",\"a\",journal!N135/journal!N$10))","v":""},{"$f":"IF(journal!O135=\"\",\"\",IF(journal!O135=\"a\",\"a\",journal!O135/journal!O$10))","v":""},{"$f":"IF(journal!P135=\"\",\"\",IF(journal!P135=\"a\",\"a\",journal!P135/journal!P$10))","v":""},{"$f":"IF(journal!Q135=\"\",\"\",IF(journal!Q135=\"a\",\"a\",journal!Q135/journal!Q$10))","v":""},{"$f":"IF(journal!R135=\"\",\"\",IF(journal!R135=\"a\",\"a\",journal!R135/journal!R$10))","v":""},{"$f":"IF(journal!S135=\"\",\"\",IF(journal!S135=\"a\",\"a\",journal!S135/journal!S$10))","v":""},{"$f":"IF(journal!T135=\"\",\"\",IF(journal!T135=\"a\",\"a\",journal!T135/journal!T$10))","v":""},{"$f":"IF(journal!U135=\"\",\"\",IF(journal!U135=\"a\",\"a\",journal!U135/journal!U$10))","v":""},{"$f":"IF(journal!V135=\"\",\"\",IF(journal!V135=\"a\",\"a\",journal!V135/journal!V$10))","v":""},{"$f":"IF(journal!W135=\"\",\"\",IF(journal!W135=\"a\",\"a\",journal!W135/journal!W$10))","v":""},{"$f":"IF(journal!X135=\"\",\"\",IF(journal!X135=\"a\",\"a\",journal!X135/journal!X$10))","v":""},{"$f":"IF(journal!Y135=\"\",\"\",IF(journal!Y135=\"a\",\"a\",journal!Y135/journal!Y$10))","v":""},{"$f":"IF(journal!Z135=\"\",\"\",IF(journal!Z135=\"a\",\"a\",journal!Z135/journal!Z$10))","v":""},{"$f":"IF(journal!AA135=\"\",\"\",IF(journal!AA135=\"a\",\"a\",journal!AA135/journal!AA$10))","v":""},{"$f":"IF(journal!AB135=\"\",\"\",IF(journal!AB135=\"a\",\"a\",journal!AB135/journal!AB$10))","v":""},{"$f":"IF(journal!AC135=\"\",\"\",IF(journal!AC135=\"a\",\"a\",journal!AC135/journal!AC$10))","v":""},{"$f":"IF(journal!AD135=\"\",\"\",IF(journal!AD135=\"a\",\"a\",journal!AD135/journal!AD$10))","v":""},{"$f":"IF(journal!AE135=\"\",\"\",IF(journal!AE135=\"a\",\"a\",journal!AE135/journal!AE$10))","v":""},{"$f":"IF(journal!AF135=\"\",\"\",IF(journal!AF135=\"a\",\"a\",journal!AF135/journal!AF$10))","v":""},{"$f":"IF(journal!AG135=\"\",\"\",IF(journal!AG135=\"a\",\"a\",journal!AG135/journal!AG$10))","v":""},{"$f":"IF(journal!AH135=\"\",\"\",IF(journal!AH135=\"a\",\"a\",journal!AH135/journal!AH$10))","v":""},{"$f":"IF(journal!AI135=\"\",\"\",IF(journal!AI135=\"a\",\"a\",journal!AI135/journal!AI$10))","v":""},{"$f":"IF(journal!AJ135=\"\",\"\",IF(journal!AJ135=\"a\",\"a\",journal!AJ135/journal!AJ$10))","v":""},{"$f":"IF(journal!AK135=\"\",\"\",IF(journal!AK135=\"a\",\"a\",journal!AK135/journal!AK$10))","v":""},{"$f":"IF(journal!AL135=\"\",\"\",IF(journal!AL135=\"a\",\"a\",journal!AL135/journal!AL$10))","v":""},{"$f":"IF(journal!AM135=\"\",\"\",IF(journal!AM135=\"a\",\"a\",journal!AM135/journal!AM$10))","v":""},{"$f":"IF(journal!AN135=\"\",\"\",IF(journal!AN135=\"a\",\"a\",journal!AN135/journal!AN$10))","v":""},{"$f":"IF(journal!AO135=\"\",\"\",IF(journal!AO135=\"a\",\"a\",journal!AO135/journal!AO$10))","v":""},{"$f":"IF(journal!AP135=\"\",\"\",IF(journal!AP135=\"a\",\"a\",journal!AP135/journal!AP$10))","v":""},{"$f":"IF(journal!AQ135=\"\",\"\",IF(journal!AQ135=\"a\",\"a\",journal!AQ135/journal!AQ$10))","v":""},{"$f":"IF(journal!AR135=\"\",\"\",IF(journal!AR135=\"a\",\"a\",journal!AR135/journal!AR$10))","v":""},"","","",""]
[{"$f":"Saisie!A36","v":0},"S",{"$f":"IF(journal!C136=\"\",\"\",IF(journal!C136=\"a\",\"a\",journal!C136/journal!C$6))","v":""},{"$f":"IF(journal!D136=\"\",\"\",IF(journal!D136=\"a\",\"a\",journal!D136/journal!D$6))","v":""},{"$f":"IF(journal!E136=\"\",\"\",IF(journal!E136=\"a\",\"a\",journal!E136/journal!E$6))","v":""},{"$f":"IF(journal!F136=\"\",\"\",IF(journal!F136=\"a\",\"a\",journal!F136/journal!F$6))","v":""},{"$f":"IF(journal!G136=\"\",\"\",IF(journal!G136=\"a\",\"a\",journal!G136/journal!G$6))","v":""},{"$f":"IF(journal!H136=\"\",\"\",IF(journal!H136=\"a\",\"a\",journal!H136/journal!H$6))","v":""},{"$f":"IF(journal!I136=\"\",\"\",IF(journal!I136=\"a\",\"a\",journal!I136/journal!I$6))","v":""},{"$f":"IF(journal!J136=\"\",\"\",IF(journal!J136=\"a\",\"a\",journal!J136/journal!J$6))","v":""},{"$f":"IF(journal!K136=\"\",\"\",IF(journal!K136=\"a\",\"a\",journal!K136/journal!K$6))","v":""},{"$f":"IF(journal!L136=\"\",\"\",IF(journal!L136=\"a\",\"a\",journal!L136/journal!L$6))","v":""},{"$f":"IF(journal!M136=\"\",\"\",IF(journal!M136=\"a\",\"a\",journal!M136/journal!M$6))","v":""},{"$f":"IF(journal!N136=\"\",\"\",IF(journal!N136=\"a\",\"a\",journal!N136/journal!N$6))","v":""},{"$f":"IF(journal!O136=\"\",\"\",IF(journal!O136=\"a\",\"a\",journal!O136/journal!O$6))","v":""},{"$f":"IF(journal!P136=\"\",\"\",IF(journal!P136=\"a\",\"a\",journal!P136/journal!P$6))","v":""},{"$f":"IF(journal!Q136=\"\",\"\",IF(journal!Q136=\"a\",\"a\",journal!Q136/journal!Q$6))","v":""},{"$f":"IF(journal!R136=\"\",\"\",IF(journal!R136=\"a\",\"a\",journal!R136/journal!R$6))","v":""},{"$f":"IF(journal!S136=\"\",\"\",IF(journal!S136=\"a\",\"a\",journal!S136/journal!S$6))","v":""},{"$f":"IF(journal!T136=\"\",\"\",IF(journal!T136=\"a\",\"a\",journal!T136/journal!T$6))","v":""},{"$f":"IF(journal!U136=\"\",\"\",IF(journal!U136=\"a\",\"a\",journal!U136/journal!U$6))","v":""},{"$f":"IF(journal!V136=\"\",\"\",IF(journal!V136=\"a\",\"a\",journal!V136/journal!V$6))","v":""},{"$f":"IF(journal!W136=\"\",\"\",IF(journal!W136=\"a\",\"a\",journal!W136/journal!W$6))","v":""},{"$f":"IF(journal!X136=\"\",\"\",IF(journal!X136=\"a\",\"a\",journal!X136/journal!X$6))","v":""},{"$f":"IF(journal!Y136=\"\",\"\",IF(journal!Y136=\"a\",\"a\",journal!Y136/journal!Y$6))","v":""},{"$f":"IF(journal!Z136=\"\",\"\",IF(journal!Z136=\"a\",\"a\",journal!Z136/journal!Z$6))","v":""},{"$f":"IF(journal!AA136=\"\",\"\",IF(journal!AA136=\"a\",\"a\",journal!AA136/journal!AA$6))","v":""},{"$f":"IF(journal!AB136=\"\",\"\",IF(journal!AB136=\"a\",\"a\",journal!AB136/journal!AB$6))","v":""},{"$f":"IF(journal!AC136=\"\",\"\",IF(journal!AC136=\"a\",\"a\",journal!AC136/journal!AC$6))","v":""},{"$f":"IF(journal!AD136=\"\",\"\",IF(journal!AD136=\"a\",\"a\",journal!AD136/journal!AD$6))","v":""},{"$f":"IF(journal!AE136=\"\",\"\",IF(journal!AE136=\"a\",\"a\",journal!AE136/journal!AE$6))","v":""},{"$f":"IF(journal!AF136=\"\",\"\",IF(journal!AF136=\"a\",\"a\",journal!AF136/journal!AF$6))","v":""},{"$f":"IF(journal!AG136=\"\",\"\",IF(journal!AG136=\"a\",\"a\",journal!AG136/journal!AG$6))","v":""},{"$f":"IF(journal!AH136=\"\",\"\",IF(journal!AH136=\"a\",\"a\",journal!AH136/journal!AH$6))","v":""},{"$f":"IF(journal!AI136=\"\",\"\",IF(journal!AI136=\"a\",\"a\",journal!AI136/journal!AI$6))","v":""},{"$f":"IF(journal!AJ136=\"\",\"\",IF(journal!AJ136=\"a\",\"a\",journal!AJ136/journal!AJ$6))","v":""},{"$f":"IF(journal!AK136=\"\",\"\",IF(journal!AK136=\"a\",\"a\",journal!AK136/journal!AK$6))","v":""},{"$f":"IF(journal!AL136=\"\",\"\",IF(journal!AL136=\"a\",\"a\",journal!AL136/journal!AL$6))","v":""},{"$f":"IF(journal!AM136=\"\",\"\",IF(journal!AM136=\"a\",\"a\",journal!AM136/journal!AM$6))","v":""},{"$f":"IF(journal!AN136=\"\",\"\",IF(journal!AN136=\"a\",\"a\",journal!AN136/journal!AN$6))","v":""},{"$f":"IF(journal!AO136=\"\",\"\",IF(journal!AO136=\"a\",\"a\",journal!AO136/journal!AO$6))","v":""},{"$f":"IF(journal!AP136=\"\",\"\",IF(journal!AP136=\"a\",\"a\",journal!AP136/journal!AP$6))","v":""},{"$f":"IF(journal!AQ136=\"\",\"\",IF(journal!AQ136=\"a\",\"a\",journal!AQ136/journal!AQ$6))","v":""},{"$f":"IF(journal!AR136=\"\",\"\",IF(journal!AR136=\"a\",\"a\",journal!AR136/journal!AR$6))","v":""},"","","",""]
[null,"A",{"$f":"IF(journal!C137=\"\",\"\",IF(journal!C137=\"a\",\"a\",journal!C137/journal!C$7))","v":""},{"$f":"IF(journal!D137=\"\",\"\",IF(journal!D137=\"a\",\"a\",journal!D137/journal!D$7))","v":""},{"$f":"IF(journal!E137=\"\",\"\",IF(journal!E137=\"a\",\"a\",journal!E137/journal!E$7))","v":""},{"$f":"IF(journal!F137=\"\",\"\",IF(journal!F137=\"a\",\"a\",journal!F137/journal!F$7))","v":""},{"$f":"IF(journal!G137=\"\",\"\",IF(journal!G137=\"a\",\"a\",journal!G137/journal!G$7))","v":""},{"$f":"IF(journal!H137=\"\",\"\",IF(journal!H137=\"a\",\"a\",journal!H137/journal!H$7))","v":""},{"$f":"IF(journal!I137=\"\",\"\",IF(journal!I137=\"a\",\"a\",journal!I137/journal!I$7))","v":""},{"$f":"IF(journal!J137=\"\",\"\",IF(journal!J137=\"a\",\"a\",journal!J137/journal!J$7))","v":""},{"$f":"IF(journal!K137=\"\",\"\",IF(journal!K137=\"a\",\"a\",journal!K137/journal!K$7))","v":""},{"$f":"IF(journal!L137=\"\",\"\",IF(journal!L137=\"a\",\"a\",journal!L137/journal!L$7))","v":""},{"$f":"IF(journal!M137=\"\",\"\",IF(journal!M137=\"a\",\"a\",journal!M137/journal!M$7))","v":""},{"$f":"IF(journal!N137=\"\",\"\",IF(journal!N137=\"a\",\"a\",journal!N137/journal!N$7))","v":""},{"$f":"IF(journal!O137=\"\",\"\",IF(journal!O137=\"a\",\"a\",journal!O137/journal!O$7))","v":""},{"$f":"IF(journal!P137=\"\",\"\",IF(journal!P137=\"a\",\"a\",journal!P137/journal!P$7))","v":""},{"$f":"IF(journal!Q137=\"\",\"\",IF(journal!Q137=\"a\",\"a\",journal!Q137/journal!Q$7))","v":""},{"$f":"IF(journal!R137=\"\",\"\",IF(journal!R137=\"a\",\"a\",journal!R137/journal!R$7))","v":""},{"$f":"IF(journal!S137=\"\",\"\",IF(journal!S137=\"a\",\"a\",journal!S137/journal!S$7))","v":""},{"$f":"IF(journal!T137=\"\",\"\",IF(journal!T137=\"a\",\"a\",journal!T137/journal!T$7))","v":""},{"$f":"IF(journal!U137=\"\",\"\",IF(journal!U137=\"a\",\"a\",journal!U137/journal!U$7))","v":""},{"$f":"IF(journal!V137=\"\",\"\",IF(journal!V137=\"a\",\"a\",journal!V137/journal!V$7))","v":""},{"$f":"IF(journal!W137=\"\",\"\",IF(journal!W137=\"a\",\"a\",journal!W137/journal!W$7))","v":""},{"$f":"IF(journal!X137=\"\",\"\",IF(journal!X137=\"a\",\"a\",journal!X137/journal!X$7))","v":""},{"$f":"IF(journal!Y137=\"\",\"\",IF(journal!Y137=\"a\",\"a\",journal!Y137/journal!Y$7))","v":""},{"$f":"IF(journal!Z137=\"\",\"\",IF(journal!Z137=\"a\",\"a\",journal!Z137/journal!Z$7))","v":""},{"$f":"IF(journal!AA137=\"\",\"\",IF(journal!AA137=\"a\",\"a\",journal!AA137/journal!AA$7))","v":""},{"$f":"IF(journal!AB137=\"\",\"\",IF(journal!AB137=\"a\",\"a\",journal!AB137/journal!AB$7))","v":""},{"$f":"IF(journal!AC137=\"\",\"\",IF(journal!AC137=\"a\",\"a\",journal!AC137/journal!AC$7))","v":""},{"$f":"IF(journal!AD137=\"\",\"\",IF(journal!AD137=\"a\",\"a\",journal!AD137/journal!AD$7))","v":""},{"$f":"IF(journal!AE137=\"\",\"\",IF(journal!AE137=\"a\",\"a\",journal!AE137/journal!AE$7))","v":""},{"$f":"IF(journal!AF137=\"\",\"\",IF(journal!AF137=\"a\",\"a\",journal!AF137/journal!AF$7))","v":""},{"$f":"IF(journal!AG137=\"\",\"\",IF(journal!AG137=\"a\",\"a\",journal!AG137/journal!AG$7))","v":""},{"$f":"IF(journal!AH137=\"\",\"\",IF(journal!AH137=\"a\",\"a\",journal!AH137/journal!AH$7))","v":""},{"$f":"IF(journal!AI137=\"\",\"\",IF(journal!AI137=\"a\",\"a\",journal!AI137/journal!AI$7))","v":""},{"$f":"IF(journal!AJ137=\"\",\"\",IF(journal!AJ137=\"a\",\"a\",journal!AJ137/journal!AJ$7))","v":""},{"$f":"IF(journal!AK137=\"\",\"\",IF(journal!AK137=\"a\",\"a\",journal!AK137/journal!AK$7))","v":""},{"$f":"IF(journal!AL137=\"\",\"\",IF(journal!AL137=\"a\",\"a\",journal!AL137/journal!AL$7))","v":""},{"$f":"IF(journal!AM137=\"\",\"\",IF(journal!AM137=\"a\",\"a\",journal!AM137/journal!AM$7))","v":""},{"$f":"IF(journal!AN137=\"\",\"\",IF(journal!AN137=\"a\",\"a\",journal!AN137/journal!AN$7))","v":""},{"$f":"IF(journal!AO137=\"\",\"\",IF(journal!AO137=\"a\",\"a\",journal!AO137/journal!AO$7))","v":""},{"$f":"IF(journal!AP137=\"\",\"\",IF(journal!AP137=\"a\",\"a\",journal!AP137/journal!AP$7))","v":""},{"$f":"IF(journal!AQ137=\"\",\"\",IF(journal!AQ137=\"a\",\"a\",journal!AQ137/journal!AQ$7))","v":""},{"$f":"IF(journal!AR137=\"\",\"\",IF(journal!AR137=\"a\",\"a\",journal!AR137/journal!AR$7))","v":""},"","","",""]
[null,"R",{"$f":"IF(journal!C138=\"\",\"\",IF(journal!C138=\"a\",\"a\",journal!C138/journal!C$8))","v":""},{"$f":"IF(journal!D138=\"\",\"\",IF(journal!D138=\"a\",\"a\",journal!D138/journal!D$8))","v":""},{"$f":"IF(journal!E138=\"\",\"\",IF(journal!E138=\"a\",\"a\",journal!E138/journal!E$8))","v":""},{"$f":"IF(journal!F138=\"\",\"\",IF(journal!F138=\"a\",\"a\",journal!F138/journal!F$8))","v":""},{"$f":"IF(journal!G138=\"\",\"\",IF(journal!G138=\"a\",\"a\",journal!G138/journal!G$8))","v":""},{"$f":"IF(journal!H138=\"\",\"\",IF(journal!H138=\"a\",\"a\",journal!H138/journal!H$8))","v":""},{"$f":"IF(journal!I138=\"\",\"\",IF(journal!I138=\"a\",\"a\",journal!I138/journal!I$8))","v":""},{"$f":"IF(journal!J138=\"\",\"\",IF(journal!J138=\"a\",\"a\",journal!J138/journal!J$8))","v":""},{"$f":"IF(journal!K138=\"\",\"\",IF(journal!K138=\"a\",\"a\",journal!K138/journal!K$8))","v":""},{"$f":"IF(journal!L138=\"\",\"\",IF(journal!L138=\"a\",\"a\",journal!L138/journal!L$8))","v":""},{"$f":"IF(journal!M138=\"\",\"\",IF(journal!M138=\"a\",\"a\",journal!M138/journal!M$8))","v":""},{"$f":"IF(journal!N138=\"\",\"\",IF(journal!N138=\"a\",\"a\",journal!N138/journal!N$8))","v":""},{"$f":"IF(journal!O138=\"\",\"\",IF(journal!O138=\"a\",\"a\",journal!O138/journal!O$8))","v":""},{"$f":"IF(journal!P138=\"\",\"\",IF(journal!P138=\"a\",\"a\",journal!P138/journal!P$8))","v":""},{"$f":"IF(journal!Q138=\"\",\"\",IF(journal!Q138=\"a\",\"a\",journal!Q138/journal!Q$8))","v":""},{"$f":"IF(journal!R138=\"\",\"\",IF(journal!R138=\"a\",\"a\",journal!R138/journal!R$8))","v":""},{"$f":"IF(journal!S138=\"\",\"\",IF(journal!S138=\"a\",\"a\",journal!S138/journal!S$8))","v":""},{"$f":"IF(journal!T138=\"\",\"\",IF(journal!T138=\"a\",\"a\",journal!T138/journal!T$8))","v":""},{"$f":"IF(journal!U138=\"\",\"\",IF(journal!U138=\"a\",\"a\",journal!U138/journal!U$8))","v":""},{"$f":"IF(journal!V138=\"\",\"\",IF(journal!V138=\"a\",\"a\",journal!V138/journal!V$8))","v":""},{"$f":"IF(journal!W138=\"\",\"\",IF(journal!W138=\"a\",\"a\",journal!W138/journal!W$8))","v":""},{"$f":"IF(journal!X138=\"\",\"\",IF(journal!X138=\"a\",\"a\",journal!X138/journal!X$8))","v":""},{"$f":"IF(journal!Y138=\"\",\"\",IF(journal!Y138=\"a\",\"a\",journal!Y138/journal!Y$8))","v":""},{"$f":"IF(journal!Z138=\"\",\"\",IF(journal!Z138=\"a\",\"a\",journal!Z138/journal!Z$8))","v":""},{"$f":"IF(journal!AA138=\"\",\"\",IF(journal!AA138=\"a\",\"a\",journal!AA138/journal!AA$8))","v":""},{"$f":"IF(journal!AB138=\"\",\"\",IF(journal!AB138=\"a\",\"a\",journal!AB138/journal!AB$8))","v":""},{"$f":"IF(journal!AC138=\"\",\"\",IF(journal!AC138=\"a\",\"a\",journal!AC138/journal!AC$8))","v":""},{"$f":"IF(journal!AD138=\"\",\"\",IF(journal!AD138=\"a\",\"a\",journal!AD138/journal!AD$8))","v":""},{"$f":"IF(journal!AE138=\"\",\"\",IF(journal!AE138=\"a\",\"a\",journal!AE138/journal!AE$8))","v":""},{"$f":"IF(journal!AF138=\"\",\"\",IF(journal!AF138=\"a\",\"a\",journal!AF138/journal!AF$8))","v":""},{"$f":"IF(journal!AG138=\"\",\"\",IF(journal!AG138=\"a\",\"a\",journal!AG138/journal!AG$8))","v":""},{"$f":"IF(journal!AH138=\"\",\"\",IF(journal!AH138=\"a\",\"a\",journal!AH138/journal!AH$8))","v":""},{"$f":"IF(journal!AI138=\"\",\"\",IF(journal!AI138=\"a\",\"a\",journal!AI138/journal!AI$8))","v":""},{"$f":"IF(journal!AJ138=\"\",\"\",IF(journal!AJ138=\"a\",\"a\",journal!AJ138/journal!AJ$8))","v":""},{"$f":"IF(journal!AK138=\"\",\"\",IF(journal!AK138=\"a\",\"a\",journal!AK138/journal!AK$8))","v":""},{"$f":"IF(journal!AL138=\"\",\"\",IF(journal!AL138=\"a\",\"a\",journal!AL138/journal!AL$8))","v":""},{"$f":"IF(journal!AM138=\"\",\"\",IF(journal!AM138=\"a\",\"a\",journal!AM138/journal!AM$8))","v":""},{"$f":"IF(journal!AN138=\"\",\"\",IF(journal!AN138=\"a\",\"a\",journal!AN138/journal!AN$8))","v":""},{"$f":"IF(journal!AO138=\"\",\"\",IF(journal!AO138=\"a\",\"a\",journal!AO138/journal!AO$8))","v":""},{"$f":"IF(journal!AP138=\"\",\"\",IF(journal!AP138=\"a\",\"a\",journal!AP138/journal!AP$8))","v":""},{"$f":"IF(journal!AQ138=\"\",\"\",IF(journal!AQ138=\"a\",\"a\",journal!AQ138/journal!AQ$8))","v":""},{"$f":"IF(journal!AR138=\"\",\"\",IF(journal!AR138=\"a\",\"a\",journal!AR138/journal!AR$8))","v":""},"","","",""]
[null,"V",{"$f":"IF(journal!C139=\"\",\"\",IF(journal!C139=\"a\",\"a\",journal!C139/journal!C$9))","v":""},{"$f":"IF(journal!D139=\"\",\"\",IF(journal!D139=\"a\",\"a\",journal!D139/journal!D$9))","v":""},{"$f":"IF(journal!E139=\"\",\"\",IF(journal!E139=\"a\",\"a\",journal!E139/journal!E$9))","v":""},{"$f":"IF(journal!F139=\"\",\"\",IF(journal!F139=\"a\",\"a\",journal!F139/journal!F$9))","v":""},{"$f":"IF(journal!G139=\"\",\"\",IF(journal!G139=\"a\",\"a\",journal!G139/journal!G$9))","v":""},{"$f":"IF(journal!H139=\"\",\"\",IF(journal!H139=\"a\",\"a\",journal!H139/journal!H$9))","v":""},{"$f":"IF(journal!I139=\"\",\"\",IF(journal!I139=\"a\",\"a\",journal!I139/journal!I$9))","v":""},{"$f":"IF(journal!J139=\"\",\"\",IF(journal!J139=\"a\",\"a\",journal!J139/journal!J$9))","v":""},{"$f":"IF(journal!K139=\"\",\"\",IF(journal!K139=\"a\",\"a\",journal!K139/journal!K$9))","v":""},{"$f":"IF(journal!L139=\"\",\"\",IF(journal!L139=\"a\",\"a\",journal!L139/journal!L$9))","v":""},{"$f":"IF(journal!M139=\"\",\"\",IF(journal!M139=\"a\",\"a\",journal!M139/journal!M$9))","v":""},{"$f":"IF(journal!N139=\"\",\"\",IF(journal!N139=\"a\",\"a\",journal!N139/journal!N$9))","v":""},{"$f":"IF(journal!O139=\"\",\"\",IF(journal!O139=\"a\",\"a\",journal!O139/journal!O$9))","v":""},{"$f":"IF(journal!P139=\"\",\"\",IF(journal!P139=\"a\",\"a\",journal!P139/journal!P$9))","v":""},{"$f":"IF(journal!Q139=\"\",\"\",IF(journal!Q139=\"a\",\"a\",journal!Q139/journal!Q$9))","v":""},{"$f":"IF(journal!R139=\"\",\"\",IF(journal!R139=\"a\",\"a\",journal!R139/journal!R$9))","v":""},{"$f":"IF(journal!S139=\"\",\"\",IF(journal!S139=\"a\",\"a\",journal!S139/journal!S$9))","v":""},{"$f":"IF(journal!T139=\"\",\"\",IF(journal!T139=\"a\",\"a\",journal!T139/journal!T$9))","v":""},{"$f":"IF(journal!U139=\"\",\"\",IF(journal!U139=\"a\",\"a\",journal!U139/journal!U$9))","v":""},{"$f":"IF(journal!V139=\"\",\"\",IF(journal!V139=\"a\",\"a\",journal!V139/journal!V$9))","v":""},{"$f":"IF(journal!W139=\"\",\"\",IF(journal!W139=\"a\",\"a\",journal!W139/journal!W$9))","v":""},{"$f":"IF(journal!X139=\"\",\"\",IF(journal!X139=\"a\",\"a\",journal!X139/journal!X$9))","v":""},{"$f":"IF(journal!Y139=\"\",\"\",IF(journal!Y139=\"a\",\"a\",journal!Y139/journal!Y$9))","v":""},{"$f":"IF(journal!Z139=\"\",\"\",IF(journal!Z139=\"a\",\"a\",journal!Z139/journal!Z$9))","v":""},{"$f":"IF(journal!AA139=\"\",\"\",IF(journal!AA139=\"a\",\"a\",journal!AA139/journal!AA$9))","v":""},{"$f":"IF(journal!AB139=\"\",\"\",IF(journal!AB139=\"a\",\"a\",journal!AB139/journal!AB$9))","v":""},{"$f":"IF(journal!AC139=\"\",\"\",IF(journal!AC139=\"a\",\"a\",journal!AC139/journal!AC$9))","v":""},{"$f":"IF(journal!AD139=\"\",\"\",IF(journal!AD139=\"a\",\"a\",journal!AD139/journal!AD$9))","v":""},{"$f":"IF(journal!AE139=\"\",\"\",IF(journal!AE139=\"a\",\"a\",journal!AE139/journal!AE$9))","v":""},{"$f":"IF(journal!AF139=\"\",\"\",IF(journal!AF139=\"a\",\"a\",journal!AF139/journal!AF$9))","v":""},{"$f":"IF(journal!AG139=\"\",\"\",IF(journal!AG139=\"a\",\"a\",journal!AG139/journal!AG$9))","v":""},{"$f":"IF(journal!AH139=\"\",\"\",IF(journal!AH139=\"a\",\"a\",journal!AH139/journal!AH$9))","v":""},{"$f":"IF(journal!AI139=\"\",\"\",IF(journal!AI139=\"a\",\"a\",journal!AI139/journal!AI$9))","v":""},{"$f":"IF(journal!AJ139=\"\",\"\",IF(journal!AJ139=\"a\",\"a\",journal!AJ139/journal!AJ$9))","v":""},{"$f":"IF(journal!AK139=\"\",\"\",IF(journal!AK139=\"a\",\"a\",journal!AK139/journal!AK$9))","v":""},{"$f":"IF(journal!AL139=\"\",\"\",IF(journal!AL139=\"a\",\"a\",journal!AL139/journal!AL$9))","v":""},{"$f":"IF(journal!AM139=\"\",\"\",IF(journal!AM139=\"a\",\"a\",journal!AM139/journal!AM$9))","v":""},{"$f":"IF(journal!AN139=\"\",\"\",IF(journal!AN139=\"a\",\"a\",journal!AN139/journal!AN$9))","v":""},{"$f":"IF(journal!AO139=\"\",\"\",IF(journal!AO139=\"a\",\"a\",journal!AO139/journal!AO$9))","v":""},{"$f":"IF(journal!AP139=\"\",\"\",IF(journal!AP139=\"a\",\"a\",journal!AP139/journal!AP$9))","v":""},{"$f":"IF(journal!AQ139=\"\",\"\",IF(journal!AQ139=\"a\",\"a\",journal!AQ139/journal!AQ$9))","v":""},{"$f":"IF(journal!AR139=\"\",\"\",IF(journal!AR139=\"a\",\"a\",journal!AR139/journal!AR$9))","v":""},"","","",""]
[null,"C",{"$f":"IF(journal!C140=\"\",\"\",IF(journal!C140=\"a\",\"a\",journal!C140/journal!C$10))","v":""},{"$f":"IF(journal!D140=\"\",\"\",IF(journal!D140=\"a\",\"a\",journal!D140/journal!D$10))","v":""},{"$f":"IF(journal!E140=\"\",\"\",IF(journal!E140=\"a\",\"a\",journal!E140/journal!E$10))","v":""},{"$f":"IF(journal!F140=\"\",\"\",IF(journal!F140=\"a\",\"a\",journal!F140/journal!F$10))","v":""},{"$f":"IF(journal!G140=\"\",\"\",IF(journal!G140=\"a\",\"a\",journal!G140/journal!G$10))","v":""},{"$f":"IF(journal!H140=\"\",\"\",IF(journal!H140=\"a\",\"a\",journal!H140/journal!H$10))","v":""},{"$f":"IF(journal!I140=\"\",\"\",IF(journal!I140=\"a\",\"a\",journal!I140/journal!I$10))","v":""},{"$f":"IF(journal!J140=\"\",\"\",IF(journal!J140=\"a\",\"a\",journal!J140/journal!J$10))","v":""},{"$f":"IF(journal!K140=\"\",\"\",IF(journal!K140=\"a\",\"a\",journal!K140/journal!K$10))","v":""},{"$f":"IF(journal!L140=\"\",\"\",IF(journal!L140=\"a\",\"a\",journal!L140/journal!L$10))","v":""},{"$f":"IF(journal!M140=\"\",\"\",IF(journal!M140=\"a\",\"a\",journal!M140/journal!M$10))","v":""},{"$f":"IF(journal!N140=\"\",\"\",IF(journal!N140=\"a\",\"a\",journal!N140/journal!N$10))","v":""},{"$f":"IF(journal!O140=\"\",\"\",IF(journal!O140=\"a\",\"a\",journal!O140/journal!O$10))","v":""},{"$f":"IF(journal!P140=\"\",\"\",IF(journal!P140=\"a\",\"a\",journal!P140/journal!P$10))","v":""},{"$f":"IF(journal!Q140=\"\",\"\",IF(journal!Q140=\"a\",\"a\",journal!Q140/journal!Q$10))","v":""},{"$f":"IF(journal!R140=\"\",\"\",IF(journal!R140=\"a\",\"a\",journal!R140/journal!R$10))","v":""},{"$f":"IF(journal!S140=\"\",\"\",IF(journal!S140=\"a\",\"a\",journal!S140/journal!S$10))","v":""},{"$f":"IF(journal!T140=\"\",\"\",IF(journal!T140=\"a\",\"a\",journal!T140/journal!T$10))","v":""},{"$f":"IF(journal!U140=\"\",\"\",IF(journal!U140=\"a\",\"a\",journal!U140/journal!U$10))","v":""},{"$f":"IF(journal!V140=\"\",\"\",IF(journal!V140=\"a\",\"a\",journal!V140/journal!V$10))","v":""},{"$f":"IF(journal!W140=\"\",\"\",IF(journal!W140=\"a\",\"a\",journal!W140/journal!W$10))","v":""},{"$f":"IF(journal!X140=\"\",\"\",IF(journal!X140=\"a\",\"a\",journal!X140/journal!X$10))","v":""},{"$f":"IF(journal!Y140=\"\",\"\",IF(journal!Y140=\"a\",\"a\",journal!Y140/journal!Y$10))","v":""},{"$f":"IF(journal!Z140=\"\",\"\",IF(journal!Z140=\"a\",\"a\",journal!Z140/journal!Z$10))","v":""},{"$f":"IF(journal!AA140=\"\",\"\",IF(journal!AA140=\"a\",\"a\",journal!AA140/journal!AA$10))","v":""},{"$f":"IF(journal!AB140=\"\",\"\",IF(journal!AB140=\"a\",\"a\",journal!AB140/journal!AB$10))","v":""},{"$f":"IF(journal!AC140=\"\",\"\",IF(journal!AC140=\"a\",\"a\",journal!AC140/journal!AC$10))","v":""},{"$f":"IF(journal!AD140=\"\",\"\",IF(journal!AD140=\"a\",\"a\",journal!AD140/journal!AD$10))","v":""},{"$f":"IF(journal!AE140=\"\",\"\",IF(journal!AE140=\"a\",\"a\",journal!AE140/journal!AE$10))","v":""},{"$f":"IF(journal!AF140=\"\",\"\",IF(journal!AF140=\"a\",\"a\",journal!AF140/journal!AF$10))","v":""},{"$f":"IF(journal!AG140=\"\",\"\",IF(journal!AG140=\"a\",\"a\",journal!AG140/journal!AG$10))","v":""},{"$f":"IF(journal!AH140=\"\",\"\",IF(journal!AH140=\"a\",\"a\",journal!AH140/journal!AH$10))","v":""},{"$f":"IF(journal!AI140=\"\",\"\",IF(journal!AI140=\"a\",\"a\",journal!AI140/journal!AI$10))","v":""},{"$f":"IF(journal!AJ140=\"\",\"\",IF(journal!AJ140=\"a\",\"a\",journal!AJ140/journal!AJ$10))","v":""},{"$f":"IF(journal!AK140=\"\",\"\",IF(journal!AK140=\"a\",\"a\",journal!AK140/journal!AK$10))","v":""},{"$f":"IF(journal!AL140=\"\",\"\",IF(journal!AL140=\"a\",\"a\",journal!AL140/journal!AL$10))","v":""},{"$f":"IF(journal!AM140=\"\",\"\",IF(journal!AM140=\"a\",\"a\",journal!AM140/journal!AM$10))","v":""},{"$f":"IF(journal!AN140=\"\",\"\",IF(journal!AN140=\"a\",\"a\",journal!AN140/journal!AN$10))","v":""},{"$f":"IF(journal!AO140=\"\",\"\",IF(journal!AO140=\"a\",\"a\",journal!AO140/journal!AO$10))","v":""},{"$f":"IF(journal!AP140=\"\",\"\",IF(journal!AP140=\"a\",\"a\",journal!AP140/journal!AP$10))","v":""},{"$f":"IF(journal!AQ140=\"\",\"\",IF(journal!AQ140=\"a\",\"a\",journal!AQ140/journal!AQ$10))","v":""},{"$f":"IF(journal!AR140=\"\",\"\",IF(journal!AR140=\"a\",\"a\",journal!AR140/journal!AR$10))","v":""},"","","",""]
[{"$f":"Saisie!A37","v":0},"S",{"$f":"IF(journal!C141=\"\",\"\",IF(journal!C141=\"a\",\"a\",journal!C141/journal!C$6))","v":""},{"$f":"IF(journal!D141=\"\",\"\",IF(journal!D141=\"a\",\"a\",journal!D141/journal!D$6))","v":""},{"$f":"IF(journal!E141=\"\",\"\",IF(journal!E141=\"a\",\"a\",journal!E141/journal!E$6))","v":""},{"$f":"IF(journal!F141=\"\",\"\",IF(journal!F141=\"a\",\"a\",journal!F141/journal!F$6))","v":""},{"$f":"IF(journal!G141=\"\",\"\",IF(journal!G141=\"a\",\"a\",journal!G141/journal!G$6))","v":""},{"$f":"IF(journal!H141=\"\",\"\",IF(journal!H141=\"a\",\"a\",journal!H141/journal!H$6))","v":""},{"$f":"IF(journal!I141=\"\",\"\",IF(journal!I141=\"a\",\"a\",journal!I141/journal!I$6))","v":""},{"$f":"IF(journal!J141=\"\",\"\",IF(journal!J141=\"a\",\"a\",journal!J141/journal!J$6))","v":""},{"$f":"IF(journal!K141=\"\",\"\",IF(journal!K141=\"a\",\"a\",journal!K141/journal!K$6))","v":""},{"$f":"IF(journal!L141=\"\",\"\",IF(journal!L141=\"a\",\"a\",journal!L141/journal!L$6))","v":""},{"$f":"IF(journal!M141=\"\",\"\",IF(journal!M141=\"a\",\"a\",journal!M141/journal!M$6))","v":""},{"$f":"IF(journal!N141=\"\",\"\",IF(journal!N141=\"a\",\"a\",journal!N141/journal!N$6))","v":""},{"$f":"IF(journal!O141=\"\",\"\",IF(journal!O141=\"a\",\"a\",journal!O141/journal!O$6))","v":""},{"$f":"IF(journal!P141=\"\",\"\",IF(journal!P141=\"a\",\"a\",journal!P141/journal!P$6))","v":""},{"$f":"IF(journal!Q141=\"\",\"\",IF(journal!Q141=\"a\",\"a\",journal!Q141/journal!Q$6))","v":""},{"$f":"IF(journal!R141=\"\",\"\",IF(journal!R141=\"a\",\"a\",journal!R141/journal!R$6))","v":""},{"$f":"IF(journal!S141=\"\",\"\",IF(journal!S141=\"a\",\"a\",journal!S141/journal!S$6))","v":""},{"$f":"IF(journal!T141=\"\",\"\",IF(journal!T141=\"a\",\"a\",journal!T141/journal!T$6))","v":""},{"$f":"IF(journal!U141=\"\",\"\",IF(journal!U141=\"a\",\"a\",journal!U141/journal!U$6))","v":""},{"$f":"IF(journal!V141=\"\",\"\",IF(journal!V141=\"a\",\"a\",journal!V141/journal!V$6))","v":""},{"$f":"IF(journal!W141=\"\",\"\",IF(journal!W141=\"a\",\"a\",journal!W141/journal!W$6))","v":""},{"$f":"IF(journal!X141=\"\",\"\",IF(journal!X141=\"a\",\"a\",journal!X141/journal!X$6))","v":""},{"$f":"IF(journal!Y141=\"\",\"\",IF(journal!Y141=\"a\",\"a\",journal!Y141/journal!Y$6))","v":""},{"$f":"IF(journal!Z141=\"\",\"\",IF(journal!Z141=\"a\",\"a\",journal!Z141/journal!Z$6))","v":""},{"$f":"IF(journal!AA141=\"\",\"\",IF(journal!AA141=\"a\",\"a\",journal!AA141/journal!AA$6))","v":""},{"$f":"IF(journal!AB141=\"\",\"\",IF(journal!AB141=\"a\",\"a\",journal!AB141/journal!AB$6))","v":""},{"$f":"IF(journal!AC141=\"\",\"\",IF(journal!AC141=\"a\",\"a\",journal!AC141/journal!AC$6))","v":""},{"$f":"IF(journal!AD141=\"\",\"\",IF(journal!AD141=\"a\",\"a\",journal!AD141/journal!AD$6))","v":""},{"$f":"IF(journal!AE141=\"\",\"\",IF(journal!AE141=\"a\",\"a\",journal!AE141/journal!AE$6))","v":""},{"$f":"IF(journal!AF141=\"\",\"\",IF(journal!AF141=\"a\",\"a\",journal!AF141/journal!AF$6))","v":""},{"$f":"IF(journal!AG141=\"\",\"\",IF(journal!AG141=\"a\",\"a\",journal!AG141/journal!AG$6))","v":""},{"$f":"IF(journal!AH141=\"\",\"\",IF(journal!AH141=\"a\",\"a\",journal!AH141/journal!AH$6))","v":""},{"$f":"IF(journal!AI141=\"\",\"\",IF(journal!AI141=\"a\",\"a\",journal!AI141/journal!AI$6))","v":""},{"$f":"IF(journal!AJ141=\"\",\"\",IF(journal!AJ141=\"a\",\"a\",journal!AJ141/journal!AJ$6))","v":""},{"$f":"IF(journal!AK141=\"\",\"\",IF(journal!AK141=\"a\",\"a\",journal!AK141/journal!AK$6))","v":""},{"$f":"IF(journal!AL141=\"\",\"\",IF(journal!AL141=\"a\",\"a\",journal!AL141/journal!AL$6))","v":""},{"$f":"IF(journal!AM141=\"\",\"\",IF(journal!AM141=\"a\",\"a\",journal!AM141/journal!AM$6))","v":""},{"$f":"IF(journal!AN141=\"\",\"\",IF(journal!AN141=\"a\",\"a\",journal!AN141/journal!AN$6))","v":""},{"$f":"IF(journal!AO141=\"\",\"\",IF(journal!AO141=\"a\",\"a\",journal!AO141/journal!AO$6))","v":""},{"$f":"IF(journal!AP141=\"\",\"\",IF(journal!AP141=\"a\",\"a\",journal!AP141/journal!AP$6))","v":""},{"$f":"IF(journal!AQ141=\"\",\"\",IF(journal!AQ141=\"a\",\"a\",journal!AQ141/journal!AQ$6))","v":""},{"$f":"IF(journal!AR141=\"\",\"\",IF(journal!AR141=\"a\",\"a\",journal!AR141/journal!AR$6))","v":""},"","","",""]
[null,"A",{"$f":"IF(journal!C142=\"\",\"\",IF(journal!C142=\"a\",\"a\",journal!C142/journal!C$7))","v":""},{"$f":"IF(journal!D142=\"\",\"\",IF(journal!D142=\"a\",\"a\",journal!D142/journal!D$7))","v":""},{"$f":"IF(journal!E142=\"\",\"\",IF(journal!E142=\"a\",\"a\",journal!E142/journal!E$7))","v":""},{"$f":"IF(journal!F142=\"\",\"\",IF(journal!F142=\"a\",\"a\",journal!F142/journal!F$7))","v":""},{"$f":"IF(journal!G142=\"\",\"\",IF(journal!G142=\"a\",\"a\",journal!G142/journal!G$7))","v":""},{"$f":"IF(journal!H142=\"\",\"\",IF(journal!H142=\"a\",\"a\",journal!H142/journal!H$7))","v":""},{"$f":"IF(journal!I142=\"\",\"\",IF(journal!I142=\"a\",\"a\",journal!I142/journal!I$7))","v":""},{"$f":"IF(journal!J142=\"\",\"\",IF(journal!J142=\"a\",\"a\",journal!J142/journal!J$7))","v":""},{"$f":"IF(journal!K142=\"\",\"\",IF(journal!K142=\"a\",\"a\",journal!K142/journal!K$7))","v":""},{"$f":"IF(journal!L142=\"\",\"\",IF(journal!L142=\"a\",\"a\",journal!L142/journal!L$7))","v":""},{"$f":"IF(journal!M142=\"\",\"\",IF(journal!M142=\"a\",\"a\",journal!M142/journal!M$7))","v":""},{"$f":"IF(journal!N142=\"\",\"\",IF(journal!N142=\"a\",\"a\",journal!N142/journal!N$7))","v":""},{"$f":"IF(journal!O142=\"\",\"\",IF(journal!O142=\"a\",\"a\",journal!O142/journal!O$7))","v":""},{"$f":"IF(journal!P142=\"\",\"\",IF(journal!P142=\"a\",\"a\",journal!P142/journal!P$7))","v":""},{"$f":"IF(journal!Q142=\"\",\"\",IF(journal!Q142=\"a\",\"a\",journal!Q142/journal!Q$7))","v":""},{"$f":"IF(journal!R142=\"\",\"\",IF(journal!R142=\"a\",\"a\",journal!R142/journal!R$7))","v":""},{"$f":"IF(journal!S142=\"\",\"\",IF(journal!S142=\"a\",\"a\",journal!S142/journal!S$7))","v":""},{"$f":"IF(journal!T142=\"\",\"\",IF(journal!T142=\"a\",\"a\",journal!T142/journal!T$7))","v":""},{"$f":"IF(journal!U142=\"\",\"\",IF(journal!U142=\"a\",\"a\",journal!U142/journal!U$7))","v":""},{"$f":"IF(journal!V142=\"\",\"\",IF(journal!V142=\"a\",\"a\",journal!V142/journal!V$7))","v":""},{"$f":"IF(journal!W142=\"\",\"\",IF(journal!W142=\"a\",\"a\",journal!W142/journal!W$7))","v":""},{"$f":"IF(journal!X142=\"\",\"\",IF(journal!X142=\"a\",\"a\",journal!X142/journal!X$7))","v":""},{"$f":"IF(journal!Y142=\"\",\"\",IF(journal!Y142=\"a\",\"a\",journal!Y142/journal!Y$7))","v":""},{"$f":"IF(journal!Z142=\"\",\"\",IF(journal!Z142=\"a\",\"a\",journal!Z142/journal!Z$7))","v":""},{"$f":"IF(journal!AA142=\"\",\"\",IF(journal!AA142=\"a\",\"a\",journal!AA142/journal!AA$7))","v":""},{"$f":"IF(journal!AB142=\"\",\"\",IF(journal!AB142=\"a\",\"a\",journal!AB142/journal!AB$7))","v":""},{"$f":"IF(journal!AC142=\"\",\"\",IF(journal!AC142=\"a\",\"a\",journal!AC142/journal!AC$7))","v":""},{"$f":"IF(journal!AD142=\"\",\"\",IF(journal!AD142=\"a\",\"a\",journal!AD142/journal!AD$7))","v":""},{"$f":"IF(journal!AE142=\"\",\"\",IF(journal!AE142=\"a\",\"a\",journal!AE142/journal!AE$7))","v":""},{"$f":"IF(journal!AF142=\"\",\"\",IF(journal!AF142=\"a\",\"a\",journal!AF142/journal!AF$7))","v":""},{"$f":"IF(journal!AG142=\"\",\"\",IF(journal!AG142=\"a\",\"a\",journal!AG142/journal!AG$7))","v":""},{"$f":"IF(journal!AH142=\"\",\"\",IF(journal!AH142=\"a\",\"a\",journal!AH142/journal!AH$7))","v":""},{"$f":"IF(journal!AI142=\"\",\"\",IF(journal!AI142=\"a\",\"a\",journal!AI142/journal!AI$7))","v":""},{"$f":"IF(journal!AJ142=\"\",\"\",IF(journal!AJ142=\"a\",\"a\",journal!AJ142/journal!AJ$7))","v":""},{"$f":"IF(journal!AK142=\"\",\"\",IF(journal!AK142=\"a\",\"a\",journal!AK142/journal!AK$7))","v":""},{"$f":"IF(journal!AL142=\"\",\"\",IF(journal!AL142=\"a\",\"a\",journal!AL142/journal!AL$7))","v":""},{"$f":"IF(journal!AM142=\"\",\"\",IF(journal!AM142=\"a\",\"a\",journal!AM142/journal!AM$7))","v":""},{"$f":"IF(journal!AN142=\"\",\"\",IF(journal!AN142=\"a\",\"a\",journal!AN142/journal!AN$7))","v":""},{"$f":"IF(journal!AO142=\"\",\"\",IF(journal!AO142=\"a\",\"a\",journal!AO142/journal!AO$7))","v":""},{"$f":"IF(journal!AP142=\"\",\"\",IF(journal!AP142=\"a\",\"a\",journal!AP142/journal!AP$7))","v":""},{"$f":"IF(journal!AQ142=\"\",\"\",IF(journal!AQ142=\"a\",\"a\",journal!AQ142/journal!AQ$7))","v":""},{"$f":"IF(journal!AR142=\"\",\"\",IF(journal!AR142=\"a\",\"a\",journal!AR142/journal!AR$7))","v":""},"","","",""]
[null,"R",{"$f":"IF(journal!C143=\"\",\"\",IF(journal!C143=\"a\",\"a\",journal!C143/journal!C$8))","v":""},{"$f":"IF(journal!D143=\"\",\"\",IF(journal!D143=\"a\",\"a\",journal!D143/journal!D$8))","v":""},{"$f":"IF(journal!E143=\"\",\"\",IF(journal!E143=\"a\",\"a\",journal!E143/journal!E$8))","v":""},{"$f":"IF(journal!F143=\"\",\"\",IF(journal!F143=\"a\",\"a\",journal!F143/journal!F$8))","v":""},{"$f":"IF(journal!G143=\"\",\"\",IF(journal!G143=\"a\",\"a\",journal!G143/journal!G$8))","v":""},{"$f":"IF(journal!H143=\"\",\"\",IF(journal!H143=\"a\",\"a\",journal!H143/journal!H$8))","v":""},{"$f":"IF(journal!I143=\"\",\"\",IF(journal!I143=\"a\",\"a\",journal!I143/journal!I$8))","v":""},{"$f":"IF(journal!J143=\"\",\"\",IF(journal!J143=\"a\",\"a\",journal!J143/journal!J$8))","v":""},{"$f":"IF(journal!K143=\"\",\"\",IF(journal!K143=\"a\",\"a\",journal!K143/journal!K$8))","v":""},{"$f":"IF(journal!L143=\"\",\"\",IF(journal!L143=\"a\",\"a\",journal!L143/journal!L$8))","v":""},{"$f":"IF(journal!M143=\"\",\"\",IF(journal!M143=\"a\",\"a\",journal!M143/journal!M$8))","v":""},{"$f":"IF(journal!N143=\"\",\"\",IF(journal!N143=\"a\",\"a\",journal!N143/journal!N$8))","v":""},{"$f":"IF(journal!O143=\"\",\"\",IF(journal!O143=\"a\",\"a\",journal!O143/journal!O$8))","v":""},{"$f":"IF(journal!P143=\"\",\"\",IF(journal!P143=\"a\",\"a\",journal!P143/journal!P$8))","v":""},{"$f":"IF(journal!Q143=\"\",\"\",IF(journal!Q143=\"a\",\"a\",journal!Q143/journal!Q$8))","v":""},{"$f":"IF(journal!R143=\"\",\"\",IF(journal!R143=\"a\",\"a\",journal!R143/journal!R$8))","v":""},{"$f":"IF(journal!S143=\"\",\"\",IF(journal!S143=\"a\",\"a\",journal!S143/journal!S$8))","v":""},{"$f":"IF(journal!T143=\"\",\"\",IF(journal!T143=\"a\",\"a\",journal!T143/journal!T$8))","v":""},{"$f":"IF(journal!U143=\"\",\"\",IF(journal!U143=\"a\",\"a\",journal!U143/journal!U$8))","v":""},{"$f":"IF(journal!V143=\"\",\"\",IF(journal!V143=\"a\",\"a\",journal!V143/journal!V$8))","v":""},{"$f":"IF(journal!W143=\"\",\"\",IF(journal!W143=\"a\",\"a\",journal!W143/journal!W$8))","v":""},{"$f":"IF(journal!X143=\"\",\"\",IF(journal!X143=\"a\",\"a\",journal!X143/journal!X$8))","v":""},{"$f":"IF(journal!Y143=\"\",\"\",IF(journal!Y143=\"a\",\"a\",journal!Y143/journal!Y$8))","v":""},{"$f":"IF(journal!Z143=\"\",\"\",IF(journal!Z143=\"a\",\"a\",journal!Z143/journal!Z$8))","v":""},{"$f":"IF(journal!AA143=\"\",\"\",IF(journal!AA143=\"a\",\"a\",journal!AA143/journal!AA$8))","v":""},{"$f":"IF(journal!AB143=\"\",\"\",IF(journal!AB143=\"a\",\"a\",journal!AB143/journal!AB$8))","v":""},{"$f":"IF(journal!AC143=\"\",\"\",IF(journal!AC143=\"a\",\"a\",journal!AC143/journal!AC$8))","v":""},{"$f":"IF(journal!AD143=\"\",\"\",IF(journal!AD143=\"a\",\"a\",journal!AD143/journal!AD$8))","v":""},{"$f":"IF(journal!AE143=\"\",\"\",IF(journal!AE143=\"a\",\"a\",journal!AE143/journal!AE$8))","v":""},{"$f":"IF(journal!AF143=\"\",\"\",IF(journal!AF143=\"a\",\"a\",journal!AF143/journal!AF$8))","v":""},{"$f":"IF(journal!AG143=\"\",\"\",IF(journal!AG143=\"a\",\"a\",journal!AG143/journal!AG$8))","v":""},{"$f":"IF(journal!AH143=\"\",\"\",IF(journal!AH143=\"a\",\"a\",journal!AH143/journal!AH$8))","v":""},{"$f":"IF(journal!AI143=\"\",\"\",IF(journal!AI143=\"a\",\"a\",journal!AI143/journal!AI$8))","v":""},{"$f":"IF(journal!AJ143=\"\",\"\",IF(journal!AJ143=\"a\",\"a\",journal!AJ143/journal!AJ$8))","v":""},{"$f":"IF(journal!AK143=\"\",\"\",IF(journal!AK143=\"a\",\"a\",journal!AK143/journal!AK$8))","v":""},{"$f":"IF(journal!AL143=\"\",\"\",IF(journal!AL143=\"a\",\"a\",journal!AL143/journal!AL$8))","v":""},{"$f":"IF(journal!AM143=\"\",\"\",IF(journal!AM143=\"a\",\"a\",journal!AM143/journal!AM$8))","v":""},{"$f":"IF(journal!AN143=\"\",\"\",IF(journal!AN143=\"a\",\"a\",journal!AN143/journal!AN$8))","v":""},{"$f":"IF(journal!AO143=\"\",\"\",IF(journal!AO143=\"a\",\"a\",journal!AO143/journal!AO$8))","v":""},{"$f":"IF(journal!AP143=\"\",\"\",IF(journal!AP143=\"a\",\"a\",journal!AP143/journal!AP$8))","v":""},{"$f":"IF(journal!AQ143=\"\",\"\",IF(journal!AQ143=\"a\",\"a\",journal!AQ143/journal!AQ$8))","v":""},{"$f":"IF(journal!AR143=\"\",\"\",IF(journal!AR143=\"a\",\"a\",journal!AR143/journal!AR$8))","v":""},"","","",""]
[null,"V",{"$f":"IF(journal!C144=\"\",\"\",IF(journal!C144=\"a\",\"a\",journal!C144/journal!C$9))","v":""},{"$f":"IF(journal!D144=\"\",\"\",IF(journal!D144=\"a\",\"a\",journal!D144/journal!D$9))","v":""},{"$f":"IF(journal!E144=\"\",\"\",IF(journal!E144=\"a\",\"a\",journal!E144/journal!E$9))","v":""},{"$f":"IF(journal!F144=\"\",\"\",IF(journal!F144=\"a\",\"a\",journal!F144/journal!F$9))","v":""},{"$f":"IF(journal!G144=\"\",\"\",IF(journal!G144=\"a\",\"a\",journal!G144/journal!G$9))","v":""},{"$f":"IF(journal!H144=\"\",\"\",IF(journal!H144=\"a\",\"a\",journal!H144/journal!H$9))","v":""},{"$f":"IF(journal!I144=\"\",\"\",IF(journal!I144=\"a\",\"a\",journal!I144/journal!I$9))","v":""},{"$f":"IF(journal!J144=\"\",\"\",IF(journal!J144=\"a\",\"a\",journal!J144/journal!J$9))","v":""},{"$f":"IF(journal!K144=\"\",\"\",IF(journal!K144=\"a\",\"a\",journal!K144/journal!K$9))","v":""},{"$f":"IF(journal!L144=\"\",\"\",IF(journal!L144=\"a\",\"a\",journal!L144/journal!L$9))","v":""},{"$f":"IF(journal!M144=\"\",\"\",IF(journal!M144=\"a\",\"a\",journal!M144/journal!M$9))","v":""},{"$f":"IF(journal!N144=\"\",\"\",IF(journal!N144=\"a\",\"a\",journal!N144/journal!N$9))","v":""},{"$f":"IF(journal!O144=\"\",\"\",IF(journal!O144=\"a\",\"a\",journal!O144/journal!O$9))","v":""},{"$f":"IF(journal!P144=\"\",\"\",IF(journal!P144=\"a\",\"a\",journal!P144/journal!P$9))","v":""},{"$f":"IF(journal!Q144=\"\",\"\",IF(journal!Q144=\"a\",\"a\",journal!Q144/journal!Q$9))","v":""},{"$f":"IF(journal!R144=\"\",\"\",IF(journal!R144=\"a\",\"a\",journal!R144/journal!R$9))","v":""},{"$f":"IF(journal!S144=\"\",\"\",IF(journal!S144=\"a\",\"a\",journal!S144/journal!S$9))","v":""},{"$f":"IF(journal!T144=\"\",\"\",IF(journal!T144=\"a\",\"a\",journal!T144/journal!T$9))","v":""},{"$f":"IF(journal!U144=\"\",\"\",IF(journal!U144=\"a\",\"a\",journal!U144/journal!U$9))","v":""},{"$f":"IF(journal!V144=\"\",\"\",IF(journal!V144=\"a\",\"a\",journal!V144/journal!V$9))","v":""},{"$f":"IF(journal!W144=\"\",\"\",IF(journal!W144=\"a\",\"a\",journal!W144/journal!W$9))","v":""},{"$f":"IF(journal!X144=\"\",\"\",IF(journal!X144=\"a\",\"a\",journal!X144/journal!X$9))","v":""},{"$f":"IF(journal!Y144=\"\",\"\",IF(journal!Y144=\"a\",\"a\",journal!Y144/journal!Y$9))","v":""},{"$f":"IF(journal!Z144=\"\",\"\",IF(journal!Z144=\"a\",\"a\",journal!Z144/journal!Z$9))","v":""},{"$f":"IF(journal!AA144=\"\",\"\",IF(journal!AA144=\"a\",\"a\",journal!AA144/journal!AA$9))","v":""},{"$f":"IF(journal!AB144=\"\",\"\",IF(journal!AB144=\"a\",\"a\",journal!AB144/journal!AB$9))","v":""},{"$f":"IF(journal!AC144=\"\",\"\",IF(journal!AC144=\"a\",\"a\",journal!AC144/journal!AC$9))","v":""},{"$f":"IF(journal!AD144=\"\",\"\",IF(journal!AD144=\"a\",\"a\",journal!AD144/journal!AD$9))","v":""},{"$f":"IF(journal!AE144=\"\",\"\",IF(journal!AE144=\"a\",\"a\",journal!AE144/journal!AE$9))","v":""},{"$f":"IF(journal!AF144=\"\",\"\",IF(journal!AF144=\"a\",\"a\",journal!AF144/journal!AF$9))","v":""},{"$f":"IF(journal!AG144=\"\",\"\",IF(journal!AG144=\"a\",\"a\",journal!AG144/journal!AG$9))","v":""},{"$f":"IF(journal!AH144=\"\",\"\",IF(journal!AH144=\"a\",\"a\",journal!AH144/journal!AH$9))","v":""},{"$f":"IF(journal!AI144=\"\",\"\",IF(journal!AI144=\"a\",\"a\",journal!AI144/journal!AI$9))","v":""},{"$f":"IF(journal!AJ144=\"\",\"\",IF(journal!AJ144=\"a\",\"a\",journal!AJ144/journal!AJ$9))","v":""},{"$f":"IF(journal!AK144=\"\",\"\",IF(journal!AK144=\"a\",\"a\",journal!AK144/journal!AK$9))","v":""},{"$f":"IF(journal!AL144=\"\",\"\",IF(journal!AL144=\"a\",\"a\",journal!AL144/journal!AL$9))","v":""},{"$f":"IF(journal!AM144=\"\",\"\",IF(journal!AM144=\"a\",\"a\",journal!AM144/journal!AM$9))","v":""},{"$f":"IF(journal!AN144=\"\",\"\",IF(journal!AN144=\"a\",\"a\",journal!AN144/journal!AN$9))","v":""},{"$f":"IF(journal!AO144=\"\",\"\",IF(journal!AO144=\"a\",\"a\",journal!AO144/journal!AO$9))","v":""},{"$f":"IF(journal!AP144=\"\",\"\",IF(journal!AP144=\"a\",\"a\",journal!AP144/journal!AP$9))","v":""},{"$f":"IF(journal!AQ144=\"\",\"\",IF(journal!AQ144=\"a\",\"a\",journal!AQ144/journal!AQ$9))","v":""},{"$f":"IF(journal!AR144=\"\",\"\",IF(journal!AR144=\"a\",\"a\",journal!AR144/journal!AR$9))","v":""},"","","",""]
[null,"C",{"$f":"IF(journal!C145=\"\",\"\",IF(journal!C145=\"a\",\"a\",journal!C145/journal!C$10))","v":""},{"$f":"IF(journal!D145=\"\",\"\",IF(journal!D145=\"a\",\"a\",journal!D145/journal!D$10))","v":""},{"$f":"IF(journal!E145=\"\",\"\",IF(journal!E145=\"a\",\"a\",journal!E145/journal!E$10))","v":""},{"$f":"IF(journal!F145=\"\",\"\",IF(journal!F145=\"a\",\"a\",journal!F145/journal!F$10))","v":""},{"$f":"IF(journal!G145=\"\",\"\",IF(journal!G145=\"a\",\"a\",journal!G145/journal!G$10))","v":""},{"$f":"IF(journal!H145=\"\",\"\",IF(journal!H145=\"a\",\"a\",journal!H145/journal!H$10))","v":""},{"$f":"IF(journal!I145=\"\",\"\",IF(journal!I145=\"a\",\"a\",journal!I145/journal!I$10))","v":""},{"$f":"IF(journal!J145=\"\",\"\",IF(journal!J145=\"a\",\"a\",journal!J145/journal!J$10))","v":""},{"$f":"IF(journal!K145=\"\",\"\",IF(journal!K145=\"a\",\"a\",journal!K145/journal!K$10))","v":""},{"$f":"IF(journal!L145=\"\",\"\",IF(journal!L145=\"a\",\"a\",journal!L145/journal!L$10))","v":""},{"$f":"IF(journal!M145=\"\",\"\",IF(journal!M145=\"a\",\"a\",journal!M145/journal!M$10))","v":""},{"$f":"IF(journal!N145=\"\",\"\",IF(journal!N145=\"a\",\"a\",journal!N145/journal!N$10))","v":""},{"$f":"IF(journal!O145=\"\",\"\",IF(journal!O145=\"a\",\"a\",journal!O145/journal!O$10))","v":""},{"$f":"IF(journal!P145=\"\",\"\",IF(journal!P145=\"a\",\"a\",journal!P145/journal!P$10))","v":""},{"$f":"IF(journal!Q145=\"\",\"\",IF(journal!Q145=\"a\",\"a\",journal!Q145/journal!Q$10))","v":""},{"$f":"IF(journal!R145=\"\",\"\",IF(journal!R145=\"a\",\"a\",journal!R145/journal!R$10))","v":""},{"$f":"IF(journal!S145=\"\",\"\",IF(journal!S145=\"a\",\"a\",journal!S145/journal!S$10))","v":""},{"$f":"IF(journal!T145=\"\",\"\",IF(journal!T145=\"a\",\"a\",journal!T145/journal!T$10))","v":""},{"$f":"IF(journal!U145=\"\",\"\",IF(journal!U145=\"a\",\"a\",journal!U145/journal!U$10))","v":""},{"$f":"IF(journal!V145=\"\",\"\",IF(journal!V145=\"a\",\"a\",journal!V145/journal!V$10))","v":""},{"$f":"IF(journal!W145=\"\",\"\",IF(journal!W145=\"a\",\"a\",journal!W145/journal!W$10))","v":""},{"$f":"IF(journal!X145=\"\",\"\",IF(journal!X145=\"a\",\"a\",journal!X145/journal!X$10))","v":""},{"$f":"IF(journal!Y145=\"\",\"\",IF(journal!Y145=\"a\",\"a\",journal!Y145/journal!Y$10))","v":""},{"$f":"IF(journal!Z145=\"\",\"\",IF(journal!Z145=\"a\",\"a\",journal!Z145/journal!Z$10))","v":""},{"$f":"IF(journal!AA145=\"\",\"\",IF(journal!AA145=\"a\",\"a\",journal!AA145/journal!AA$10))","v":""},{"$f":"IF(journal!AB145=\"\",\"\",IF(journal!AB145=\"a\",\"a\",journal!AB145/journal!AB$10))","v":""},{"$f":"IF(journal!AC145=\"\",\"\",IF(journal!AC145=\"a\",\"a\",journal!AC145/journal!AC$10))","v":""},{"$f":"IF(journal!AD145=\"\",\"\",IF(journal!AD145=\"a\",\"a\",journal!AD145/journal!AD$10))","v":""},{"$f":"IF(journal!AE145=\"\",\"\",IF(journal!AE145=\"a\",\"a\",journal!AE145/journal!AE$10))","v":""},{"$f":"IF(journal!AF145=\"\",\"\",IF(journal!AF145=\"a\",\"a\",journal!AF145/journal!AF$10))","v":""},{"$f":"IF(journal!AG145=\"\",\"\",IF(journal!AG145=\"a\",\"a\",journal!AG145/journal!AG$10))","v":""},{"$f":"IF(journal!AH145=\"\",\"\",IF(journal!AH145=\"a\",\"a\",journal!AH145/journal!AH$10))","v":""},{"$f":"IF(journal!AI145=\"\",\"\",IF(journal!AI145=\"a\",\"a\",journal!AI145/journal!AI$10))","v":""},{"$f":"IF(journal!AJ145=\"\",\"\",IF(journal!AJ145=\"a\",\"a\",journal!AJ145/journal!AJ$10))","v":""},{"$f":"IF(journal!AK145=\"\",\"\",IF(journal!AK145=\"a\",\"a\",journal!AK145/journal!AK$10))","v":""},{"$f":"IF(journal!AL145=\"\",\"\",IF(journal!AL145=\"a\",\"a\",journal!AL145/journal!AL$10))","v":""},{"$f":"IF(journal!AM145=\"\",\"\",IF(journal!AM145=\"a\",\"a\",journal!AM145/journal!AM$10))","v":""},{"$f":"IF(journal!AN145=\"\",\"\",IF(journal!AN145=\"a\",\"a\",journal!AN145/journal!AN$10))","v":""},{"$f":"IF(journal!AO145=\"\",\"\",IF(journal!AO145=\"a\",\"a\",journal!AO145/journal!AO$10))","v":""},{"$f":"IF(journal!AP145=\"\",\"\",IF(journal!AP145=\"a\",\"a\",journal!AP145/journal!AP$10))","v":""},{"$f":"IF(journal!AQ145=\"\",\"\",IF(journal!AQ145=\"a\",\"a\",journal!AQ145/journal!AQ$10))","v":""},{"$f":"IF(journal!AR145=\"\",\"\",IF(journal!AR145=\"a\",\"a\",journal!AR145/journal!AR$10))","v":""},"",{"$f":"IF(ISERROR(AVERAGEIF($C$3:$AR$3,\"T1\",C145:AR145))=TRUE,\"\",AVERAGEIF($C$3:$AR$3,\"T1\",C145:AR145))","v":""},{"$f":"IF(ISERROR(AVERAGEIF($C$3:$AR$3,\"T2\",C145:AR145))=TRUE,\"\",AVERAGEIF($C$3:$AR$3,\"T2\",C145:AR145))","v":""},{"$f":"IF(ISERROR(AVERAGEIF($C$3:$AR$3,\"T3\",C145:AR145))=TRUE,\"\",AVERAGEIF($C$3:$AR$3,\"T3\",C145:AR145))","v":""}]
[{"$f":"Saisie!A38","v":0},"S",{"$f":"IF(journal!C146=\"\",\"\",IF(journal!C146=\"a\",\"a\",journal!C146/journal!C$6))","v":""},{"$f":"IF(journal!D146=\"\",\"\",IF(journal!D146=\"a\",\"a\",journal!D146/journal!D$6))","v":""},{"$f":"IF(journal!E146=\"\",\"\",IF(journal!E146=\"a\",\"a\",journal!E146/journal!E$6))","v":""},{"$f":"IF(journal!F146=\"\",\"\",IF(journal!F146=\"a\",\"a\",journal!F146/journal!F$6))","v":""},{"$f":"IF(journal!G146=\"\",\"\",IF(journal!G146=\"a\",\"a\",journal!G146/journal!G$6))","v":""},{"$f":"IF(journal!H146=\"\",\"\",IF(journal!H146=\"a\",\"a\",journal!H146/journal!H$6))","v":""},{"$f":"IF(journal!I146=\"\",\"\",IF(journal!I146=\"a\",\"a\",journal!I146/journal!I$6))","v":""},{"$f":"IF(journal!J146=\"\",\"\",IF(journal!J146=\"a\",\"a\",journal!J146/journal!J$6))","v":""},{"$f":"IF(journal!K146=\"\",\"\",IF(journal!K146=\"a\",\"a\",journal!K146/journal!K$6))","v":""},{"$f":"IF(journal!L146=\"\",\"\",IF(journal!L146=\"a\",\"a\",journal!L146/journal!L$6))","v":""},{"$f":"IF(journal!M146=\"\",\"\",IF(journal!M146=\"a\",\"a\",journal!M146/journal!M$6))","v":""},{"$f":"IF(journal!N146=\"\",\"\",IF(journal!N146=\"a\",\"a\",journal!N146/journal!N$6))","v":""},{"$f":"IF(journal!O146=\"\",\"\",IF(journal!O146=\"a\",\"a\",journal!O146/journal!O$6))","v":""},{"$f":"IF(journal!P146=\"\",\"\",IF(journal!P146=\"a\",\"a\",journal!P146/journal!P$6))","v":""},{"$f":"IF(journal!Q146=\"\",\"\",IF(journal!Q146=\"a\",\"a\",journal!Q146/journal!Q$6))","v":""},{"$f":"IF(journal!R146=\"\",\"\",IF(journal!R146=\"a\",\"a\",journal!R146/journal!R$6))","v":""},{"$f":"IF(journal!S146=\"\",\"\",IF(journal!S146=\"a\",\"a\",journal!S146/journal!S$6))","v":""},{"$f":"IF(journal!T146=\"\",\"\",IF(journal!T146=\"a\",\"a\",journal!T146/journal!T$6))","v":""},{"$f":"IF(journal!U146=\"\",\"\",IF(journal!U146=\"a\",\"a\",journal!U146/journal!U$6))","v":""},{"$f":"IF(journal!V146=\"\",\"\",IF(journal!V146=\"a\",\"a\",journal!V146/journal!V$6))","v":""},{"$f":"IF(journal!W146=\"\",\"\",IF(journal!W146=\"a\",\"a\",journal!W146/journal!W$6))","v":""},{"$f":"IF(journal!X146=\"\",\"\",IF(journal!X146=\"a\",\"a\",journal!X146/journal!X$6))","v":""},{"$f":"IF(journal!Y146=\"\",\"\",IF(journal!Y146=\"a\",\"a\",journal!Y146/journal!Y$6))","v":""},{"$f":"IF(journal!Z146=\"\",\"\",IF(journal!Z146=\"a\",\"a\",journal!Z146/journal!Z$6))","v":""},{"$f":"IF(journal!AA146=\"\",\"\",IF(journal!AA146=\"a\",\"a\",journal!AA146/journal!AA$6))","v":""},{"$f":"IF(journal!AB146=\"\",\"\",IF(journal!AB146=\"a\",\"a\",journal!AB146/journal!AB$6))","v":""},{"$f":"IF(journal!AC146=\"\",\"\",IF(journal!AC146=\"a\",\"a\",journal!AC146/journal!AC$6))","v":""},{"$f":"IF(journal!AD146=\"\",\"\",IF(journal!AD146=\"a\",\"a\",journal!AD146/journal!AD$6))","v":""},{"$f":"IF(journal!AE146=\"\",\"\",IF(journal!AE146=\"a\",\"a\",journal!AE146/journal!AE$6))","v":""},{"$f":"IF(journal!AF146=\"\",\"\",IF(journal!AF146=\"a\",\"a\",journal!AF146/journal!AF$6))","v":""},{"$f":"IF(journal!AG146=\"\",\"\",IF(journal!AG146=\"a\",\"a\",journal!AG146/journal!AG$6))","v":""},{"$f":"IF(journal!AH146=\"\",\"\",IF(journal!AH146=\"a\",\"a\",journal!AH146/journal!AH$6))","v":""},{"$f":"IF(journal!AI146=\"\",\"\",IF(journal!AI146=\"a\",\"a\",journal!AI146/journal!AI$6))","v":""},{"$f":"IF(journal!AJ146=\"\",\"\",IF(journal!AJ146=\"a\",\"a\",journal!AJ146/journal!AJ$6))","v":""},{"$f":"IF(journal!AK146=\"\",\"\",IF(journal!AK146=\"a\",\"a\",journal!AK146/journal!AK$6))","v":""},{"$f":"IF(journal!AL146=\"\",\"\",IF(journal!AL146=\"a\",\"a\",journal!AL146/journal!AL$6))","v":""},{"$f":"IF(journal!AM146=\"\",\"\",IF(journal!AM146=\"a\",\"a\",journal!AM146/journal!AM$6))","v":""},{"$f":"IF(journal!AN146=\"\",\"\",IF(journal!AN146=\"a\",\"a\",journal!AN146/journal!AN$6))","v":""},{"$f":"IF(journal!AO146=\"\",\"\",IF(journal!AO146=\"a\",\"a\",journal!AO146/journal!AO$6))","v":""},{"$f":"IF(journal!AP146=\"\",\"\",IF(journal!AP146=\"a\",\"a\",journal!AP146/journal!AP$6))","v":""},{"$f":"IF(journal!AQ146=\"\",\"\",IF(journal!AQ146=\"a\",\"a\",journal!AQ146/journal!AQ$6))","v":""},{"$f":"IF(journal!AR146=\"\",\"\",IF(journal!AR146=\"a\",\"a\",journal!AR146/journal!AR$6))","v":""},"","","",""]
[null,"A",{"$f":"IF(journal!C147=\"\",\"\",IF(journal!C147=\"a\",\"a\",journal!C147/journal!C$7))","v":""},{"$f":"IF(journal!D147=\"\",\"\",IF(journal!D147=\"a\",\"a\",journal!D147/journal!D$7))","v":""},{"$f":"IF(journal!E147=\"\",\"\",IF(journal!E147=\"a\",\"a\",journal!E147/journal!E$7))","v":""},{"$f":"IF(journal!F147=\"\",\"\",IF(journal!F147=\"a\",\"a\",journal!F147/journal!F$7))","v":""},{"$f":"IF(journal!G147=\"\",\"\",IF(journal!G147=\"a\",\"a\",journal!G147/journal!G$7))","v":""},{"$f":"IF(journal!H147=\"\",\"\",IF(journal!H147=\"a\",\"a\",journal!H147/journal!H$7))","v":""},{"$f":"IF(journal!I147=\"\",\"\",IF(journal!I147=\"a\",\"a\",journal!I147/journal!I$7))","v":""},{"$f":"IF(journal!J147=\"\",\"\",IF(journal!J147=\"a\",\"a\",journal!J147/journal!J$7))","v":""},{"$f":"IF(journal!K147=\"\",\"\",IF(journal!K147=\"a\",\"a\",journal!K147/journal!K$7))","v":""},{"$f":"IF(journal!L147=\"\",\"\",IF(journal!L147=\"a\",\"a\",journal!L147/journal!L$7))","v":""},{"$f":"IF(journal!M147=\"\",\"\",IF(journal!M147=\"a\",\"a\",journal!M147/journal!M$7))","v":""},{"$f":"IF(journal!N147=\"\",\"\",IF(journal!N147=\"a\",\"a\",journal!N147/journal!N$7))","v":""},{"$f":"IF(journal!O147=\"\",\"\",IF(journal!O147=\"a\",\"a\",journal!O147/journal!O$7))","v":""},{"$f":"IF(journal!P147=\"\",\"\",IF(journal!P147=\"a\",\"a\",journal!P147/journal!P$7))","v":""},{"$f":"IF(journal!Q147=\"\",\"\",IF(journal!Q147=\"a\",\"a\",journal!Q147/journal!Q$7))","v":""},{"$f":"IF(journal!R147=\"\",\"\",IF(journal!R147=\"a\",\"a\",journal!R147/journal!R$7))","v":""},{"$f":"IF(journal!S147=\"\",\"\",IF(journal!S147=\"a\",\"a\",journal!S147/journal!S$7))","v":""},{"$f":"IF(journal!T147=\"\",\"\",IF(journal!T147=\"a\",\"a\",journal!T147/journal!T$7))","v":""},{"$f":"IF(journal!U147=\"\",\"\",IF(journal!U147=\"a\",\"a\",journal!U147/journal!U$7))","v":""},{"$f":"IF(journal!V147=\"\",\"\",IF(journal!V147=\"a\",\"a\",journal!V147/journal!V$7))","v":""},{"$f":"IF(journal!W147=\"\",\"\",IF(journal!W147=\"a\",\"a\",journal!W147/journal!W$7))","v":""},{"$f":"IF(journal!X147=\"\",\"\",IF(journal!X147=\"a\",\"a\",journal!X147/journal!X$7))","v":""},{"$f":"IF(journal!Y147=\"\",\"\",IF(journal!Y147=\"a\",\"a\",journal!Y147/journal!Y$7))","v":""},{"$f":"IF(journal!Z147=\"\",\"\",IF(journal!Z147=\"a\",\"a\",journal!Z147/journal!Z$7))","v":""},{"$f":"IF(journal!AA147=\"\",\"\",IF(journal!AA147=\"a\",\"a\",journal!AA147/journal!AA$7))","v":""},{"$f":"IF(journal!AB147=\"\",\"\",IF(journal!AB147=\"a\",\"a\",journal!AB147/journal!AB$7))","v":""},{"$f":"IF(journal!AC147=\"\",\"\",IF(journal!AC147=\"a\",\"a\",journal!AC147/journal!AC$7))","v":""},{"$f":"IF(journal!AD147=\"\",\"\",IF(journal!AD147=\"a\",\"a\",journal!AD147/journal!AD$7))","v":""},{"$f":"IF(journal!AE147=\"\",\"\",IF(journal!AE147=\"a\",\"a\",journal!AE147/journal!AE$7))","v":""},{"$f":"IF(journal!AF147=\"\",\"\",IF(journal!AF147=\"a\",\"a\",journal!AF147/journal!AF$7))","v":""},{"$f":"IF(journal!AG147=\"\",\"\",IF(journal!AG147=\"a\",\"a\",journal!AG147/journal!AG$7))","v":""},{"$f":"IF(journal!AH147=\"\",\"\",IF(journal!AH147=\"a\",\"a\",journal!AH147/journal!AH$7))","v":""},{"$f":"IF(journal!AI147=\"\",\"\",IF(journal!AI147=\"a\",\"a\",journal!AI147/journal!AI$7))","v":""},{"$f":"IF(journal!AJ147=\"\",\"\",IF(journal!AJ147=\"a\",\"a\",journal!AJ147/journal!AJ$7))","v":""},{"$f":"IF(journal!AK147=\"\",\"\",IF(journal!AK147=\"a\",\"a\",journal!AK147/journal!AK$7))","v":""},{"$f":"IF(journal!AL147=\"\",\"\",IF(journal!AL147=\"a\",\"a\",journal!AL147/journal!AL$7))","v":""},{"$f":"IF(journal!AM147=\"\",\"\",IF(journal!AM147=\"a\",\"a\",journal!AM147/journal!AM$7))","v":""},{"$f":"IF(journal!AN147=\"\",\"\",IF(journal!AN147=\"a\",\"a\",journal!AN147/journal!AN$7))","v":""},{"$f":"IF(journal!AO147=\"\",\"\",IF(journal!AO147=\"a\",\"a\",journal!AO147/journal!AO$7))","v":""},{"$f":"IF(journal!AP147=\"\",\"\",IF(journal!AP147=\"a\",\"a\",journal!AP147/journal!AP$7))","v":""},{"$f":"IF(journal!AQ147=\"\",\"\",IF(journal!AQ147=\"a\",\"a\",journal!AQ147/journal!AQ$7))","v":""},{"$f":"IF(journal!AR147=\"\",\"\",IF(journal!AR147=\"a\",\"a\",journal!AR147/journal!AR$7))","v":""},"","","",""]
[null,"R",{"$f":"IF(journal!C148=\"\",\"\",IF(journal!C148=\"a\",\"a\",journal!C148/journal!C$8))","v":""},{"$f":"IF(journal!D148=\"\",\"\",IF(journal!D148=\"a\",\"a\",journal!D148/journal!D$8))","v":""},{"$f":"IF(journal!E148=\"\",\"\",IF(journal!E148=\"a\",\"a\",journal!E148/journal!E$8))","v":""},{"$f":"IF(journal!F148=\"\",\"\",IF(journal!F148=\"a\",\"a\",journal!F148/journal!F$8))","v":""},{"$f":"IF(journal!G148=\"\",\"\",IF(journal!G148=\"a\",\"a\",journal!G148/journal!G$8))","v":""},{"$f":"IF(journal!H148=\"\",\"\",IF(journal!H148=\"a\",\"a\",journal!H148/journal!H$8))","v":""},{"$f":"IF(journal!I148=\"\",\"\",IF(journal!I148=\"a\",\"a\",journal!I148/journal!I$8))","v":""},{"$f":"IF(journal!J148=\"\",\"\",IF(journal!J148=\"a\",\"a\",journal!J148/journal!J$8))","v":""},{"$f":"IF(journal!K148=\"\",\"\",IF(journal!K148=\"a\",\"a\",journal!K148/journal!K$8))","v":""},{"$f":"IF(journal!L148=\"\",\"\",IF(journal!L148=\"a\",\"a\",journal!L148/journal!L$8))","v":""},{"$f":"IF(journal!M148=\"\",\"\",IF(journal!M148=\"a\",\"a\",journal!M148/journal!M$8))","v":""},{"$f":"IF(journal!N148=\"\",\"\",IF(journal!N148=\"a\",\"a\",journal!N148/journal!N$8))","v":""},{"$f":"IF(journal!O148=\"\",\"\",IF(journal!O148=\"a\",\"a\",journal!O148/journal!O$8))","v":""},{"$f":"IF(journal!P148=\"\",\"\",IF(journal!P148=\"a\",\"a\",journal!P148/journal!P$8))","v":""},{"$f":"IF(journal!Q148=\"\",\"\",IF(journal!Q148=\"a\",\"a\",journal!Q148/journal!Q$8))","v":""},{"$f":"IF(journal!R148=\"\",\"\",IF(journal!R148=\"a\",\"a\",journal!R148/journal!R$8))","v":""},{"$f":"IF(journal!S148=\"\",\"\",IF(journal!S148=\"a\",\"a\",journal!S148/journal!S$8))","v":""},{"$f":"IF(journal!T148=\"\",\"\",IF(journal!T148=\"a\",\"a\",journal!T148/journal!T$8))","v":""},{"$f":"IF(journal!U148=\"\",\"\",IF(journal!U148=\"a\",\"a\",journal!U148/journal!U$8))","v":""},{"$f":"IF(journal!V148=\"\",\"\",IF(journal!V148=\"a\",\"a\",journal!V148/journal!V$8))","v":""},{"$f":"IF(journal!W148=\"\",\"\",IF(journal!W148=\"a\",\"a\",journal!W148/journal!W$8))","v":""},{"$f":"IF(journal!X148=\"\",\"\",IF(journal!X148=\"a\",\"a\",journal!X148/journal!X$8))","v":""},{"$f":"IF(journal!Y148=\"\",\"\",IF(journal!Y148=\"a\",\"a\",journal!Y148/journal!Y$8))","v":""},{"$f":"IF(journal!Z148=\"\",\"\",IF(journal!Z148=\"a\",\"a\",journal!Z148/journal!Z$8))","v":""},{"$f":"IF(journal!AA148=\"\",\"\",IF(journal!AA148=\"a\",\"a\",journal!AA148/journal!AA$8))","v":""},{"$f":"IF(journal!AB148=\"\",\"\",IF(journal!AB148=\"a\",\"a\",journal!AB148/journal!AB$8))","v":""},{"$f":"IF(journal!AC148=\"\",\"\",IF(journal!AC148=\"a\",\"a\",journal!AC148/journal!AC$8))","v":""},{"$f":"IF(journal!AD148=\"\",\"\",IF(journal!AD148=\"a\",\"a\",journal!AD148/journal!AD$8))","v":""},{"$f":"IF(journal!AE148=\"\",\"\",IF(journal!AE148=\"a\",\"a\",journal!AE148/journal!AE$8))","v":""},{"$f":"IF(journal!AF148=\"\",\"\",IF(journal!AF148=\"a\",\"a\",journal!AF148/journal!AF$8))","v":""},{"$f":"IF(journal!AG148=\"\",\"\",IF(journal!AG148=\"a\",\"a\",journal!AG148/journal!AG$8))","v":""},{"$f":"IF(journal!AH148=\"\",\"\",IF(journal!AH148=\"a\",\"a\",journal!AH148/journal!AH$8))","v":""},{"$f":"IF(journal!AI148=\"\",\"\",IF(journal!AI148=\"a\",\"a\",journal!AI148/journal!AI$8))","v":""},{"$f":"IF(journal!AJ148=\"\",\"\",IF(journal!AJ148=\"a\",\"a\",journal!AJ148/journal!AJ$8))","v":""},{"$f":"IF(journal!AK148=\"\",\"\",IF(journal!AK148=\"a\",\"a\",journal!AK148/journal!AK$8))","v":""},{"$f":"IF(journal!AL148=\"\",\"\",IF(journal!AL148=\"a\",\"a\",journal!AL148/journal!AL$8))","v":""},{"$f":"IF(journal!AM148=\"\",\"\",IF(journal!AM148=\"a\",\"a\",journal!AM148/journal!AM$8))","v":""},{"$f":"IF(journal!AN148=\"\",\"\",IF(journal!AN148=\"a\",\"a\",journal!AN148/journal!AN$8))","v":""},{"$f":"IF(journal!AO148=\"\",\"\",IF(journal!AO148=\"a\",\"a\",journal!AO148/journal!AO$8))","v":""},{"$f":"IF(journal!AP148=\"\",\"\",IF(journal!AP148=\"a\",\"a\",journal!AP148/journal!AP$8))","v":""},{"$f":"IF(journal!AQ148=\"\",\"\",IF(journal!AQ148=\"a\",\"a\",journal!AQ148/journal!AQ$8))","v":""},{"$f":"IF(journal!AR148=\"\",\"\",IF(journal!AR148=\"a\",\"a\",journal!AR148/journal!AR$8))","v":""},"","","",""]
[null,"V",{"$f":"IF(journal!C149=\"\",\"\",IF(journal!C149=\"a\",\"a\",journal!C149/journal!C$9))","v":""},{"$f":"IF(journal!D149=\"\",\"\",IF(journal!D149=\"a\",\"a\",journal!D149/journal!D$9))","v":""},{"$f":"IF(journal!E149=\"\",\"\",IF(journal!E149=\"a\",\"a\",journal!E149/journal!E$9))","v":""},{"$f":"IF(journal!F149=\"\",\"\",IF(journal!F149=\"a\",\"a\",journal!F149/journal!F$9))","v":""},{"$f":"IF(journal!G149=\"\",\"\",IF(journal!G149=\"a\",\"a\",journal!G149/journal!G$9))","v":""},{"$f":"IF(journal!H149=\"\",\"\",IF(journal!H149=\"a\",\"a\",journal!H149/journal!H$9))","v":""},{"$f":"IF(journal!I149=\"\",\"\",IF(journal!I149=\"a\",\"a\",journal!I149/journal!I$9))","v":""},{"$f":"IF(journal!J149=\"\",\"\",IF(journal!J149=\"a\",\"a\",journal!J149/journal!J$9))","v":""},{"$f":"IF(journal!K149=\"\",\"\",IF(journal!K149=\"a\",\"a\",journal!K149/journal!K$9))","v":""},{"$f":"IF(journal!L149=\"\",\"\",IF(journal!L149=\"a\",\"a\",journal!L149/journal!L$9))","v":""},{"$f":"IF(journal!M149=\"\",\"\",IF(journal!M149=\"a\",\"a\",journal!M149/journal!M$9))","v":""},{"$f":"IF(journal!N149=\"\",\"\",IF(journal!N149=\"a\",\"a\",journal!N149/journal!N$9))","v":""},{"$f":"IF(journal!O149=\"\",\"\",IF(journal!O149=\"a\",\"a\",journal!O149/journal!O$9))","v":""},{"$f":"IF(journal!P149=\"\",\"\",IF(journal!P149=\"a\",\"a\",journal!P149/journal!P$9))","v":""},{"$f":"IF(journal!Q149=\"\",\"\",IF(journal!Q149=\"a\",\"a\",journal!Q149/journal!Q$9))","v":""},{"$f":"IF(journal!R149=\"\",\"\",IF(journal!R149=\"a\",\"a\",journal!R149/journal!R$9))","v":""},{"$f":"IF(journal!S149=\"\",\"\",IF(journal!S149=\"a\",\"a\",journal!S149/journal!S$9))","v":""},{"$f":"IF(journal!T149=\"\",\"\",IF(journal!T149=\"a\",\"a\",journal!T149/journal!T$9))","v":""},{"$f":"IF(journal!U149=\"\",\"\",IF(journal!U149=\"a\",\"a\",journal!U149/journal!U$9))","v":""},{"$f":"IF(journal!V149=\"\",\"\",IF(journal!V149=\"a\",\"a\",journal!V149/journal!V$9))","v":""},{"$f":"IF(journal!W149=\"\",\"\",IF(journal!W149=\"a\",\"a\",journal!W149/journal!W$9))","v":""},{"$f":"IF(journal!X149=\"\",\"\",IF(journal!X149=\"a\",\"a\",journal!X149/journal!X$9))","v":""},{"$f":"IF(journal!Y149=\"\",\"\",IF(journal!Y149=\"a\",\"a\",journal!Y149/journal!Y$9))","v":""},{"$f":"IF(journal!Z149=\"\",\"\",IF(journal!Z149=\"a\",\"a\",journal!Z149/journal!Z$9))","v":""},{"$f":"IF(journal!AA149=\"\",\"\",IF(journal!AA149=\"a\",\"a\",journal!AA149/journal!AA$9))","v":""},{"$f":"IF(journal!AB149=\"\",\"\",IF(journal!AB149=\"a\",\"a\",journal!AB149/journal!AB$9))","v":""},{"$f":"IF(journal!AC149=\"\",\"\",IF(journal!AC149=\"a\",\"a\",journal!AC149/journal!AC$9))","v":""},{"$f":"IF(journal!AD149=\"\",\"\",IF(journal!AD149=\"a\",\"a\",journal!AD149/journal!AD$9))","v":""},{"$f":"IF(journal!AE149=\"\",\"\",IF(journal!AE149=\"a\",\"a\",journal!AE149/journal!AE$9))","v":""},{"$f":"IF(journal!AF149=\"\",\"\",IF(journal!AF149=\"a\",\"a\",journal!AF149/journal!AF$9))","v":""},{"$f":"IF(journal!AG149=\"\",\"\",IF(journal!AG149=\"a\",\"a\",journal!AG149/journal!AG$9))","v":""},{"$f":"IF(journal!AH149=\"\",\"\",IF(journal!AH149=\"a\",\"a\",journal!AH149/journal!AH$9))","v":""},{"$f":"IF(journal!AI149=\"\",\"\",IF(journal!AI149=\"a\",\"a\",journal!AI149/journal!AI$9))","v":""},{"$f":"IF(journal!AJ149=\"\",\"\",IF(journal!AJ149=\"a\",\"a\",journal!AJ149/journal!AJ$9))","v":""},{"$f":"IF(journal!AK149=\"\",\"\",IF(journal!AK149=\"a\",\"a\",journal!AK149/journal!AK$9))","v":""},{"$f":"IF(journal!AL149=\"\",\"\",IF(journal!AL149=\"a\",\"a\",journal!AL149/journal!AL$9))","v":""},{"$f":"IF(journal!AM149=\"\",\"\",IF(journal!AM149=\"a\",\"a\",journal!AM149/journal!AM$9))","v":""},{"$f":"IF(journal!AN149=\"\",\"\",IF(journal!AN149=\"a\",\"a\",journal!AN149/journal!AN$9))","v":""},{"$f":"IF(journal!AO149=\"\",\"\",IF(journal!AO149=\"a\",\"a\",journal!AO149/journal!AO$9))","v":""},{"$f":"IF(journal!AP149=\"\",\"\",IF(journal!AP149=\"a\",\"a\",journal!AP149/journal!AP$9))","v":""},{"$f":"IF(journal!AQ149=\"\",\"\",IF(journal!AQ149=\"a\",\"a\",journal!AQ149/journal!AQ$9))","v":""},{"$f":"IF(journal!AR149=\"\",\"\",IF(journal!AR149=\"a\",\"a\",journal!AR149/journal!AR$9))","v":""},"","","",""]
[null,"C",{"$f":"IF(journal!C150=\"\",\"\",IF(journal!C150=\"a\",\"a\",journal!C150/journal!C$10))","v":""},{"$f":"IF(journal!D150=\"\",\"\",IF(journal!D150=\"a\",\"a\",journal!D150/journal!D$10))","v":""},{"$f":"IF(journal!E150=\"\",\"\",IF(journal!E150=\"a\",\"a\",journal!E150/journal!E$10))","v":""},{"$f":"IF(journal!F150=\"\",\"\",IF(journal!F150=\"a\",\"a\",journal!F150/journal!F$10))","v":""},{"$f":"IF(journal!G150=\"\",\"\",IF(journal!G150=\"a\",\"a\",journal!G150/journal!G$10))","v":""},{"$f":"IF(journal!H150=\"\",\"\",IF(journal!H150=\"a\",\"a\",journal!H150/journal!H$10))","v":""},{"$f":"IF(journal!I150=\"\",\"\",IF(journal!I150=\"a\",\"a\",journal!I150/journal!I$10))","v":""},{"$f":"IF(journal!J150=\"\",\"\",IF(journal!J150=\"a\",\"a\",journal!J150/journal!J$10))","v":""},{"$f":"IF(journal!K150=\"\",\"\",IF(journal!K150=\"a\",\"a\",journal!K150/journal!K$10))","v":""},{"$f":"IF(journal!L150=\"\",\"\",IF(journal!L150=\"a\",\"a\",journal!L150/journal!L$10))","v":""},{"$f":"IF(journal!M150=\"\",\"\",IF(journal!M150=\"a\",\"a\",journal!M150/journal!M$10))","v":""},{"$f":"IF(journal!N150=\"\",\"\",IF(journal!N150=\"a\",\"a\",journal!N150/journal!N$10))","v":""},{"$f":"IF(journal!O150=\"\",\"\",IF(journal!O150=\"a\",\"a\",journal!O150/journal!O$10))","v":""},{"$f":"IF(journal!P150=\"\",\"\",IF(journal!P150=\"a\",\"a\",journal!P150/journal!P$10))","v":""},{"$f":"IF(journal!Q150=\"\",\"\",IF(journal!Q150=\"a\",\"a\",journal!Q150/journal!Q$10))","v":""},{"$f":"IF(journal!R150=\"\",\"\",IF(journal!R150=\"a\",\"a\",journal!R150/journal!R$10))","v":""},{"$f":"IF(journal!S150=\"\",\"\",IF(journal!S150=\"a\",\"a\",journal!S150/journal!S$10))","v":""},{"$f":"IF(journal!T150=\"\",\"\",IF(journal!T150=\"a\",\"a\",journal!T150/journal!T$10))","v":""},{"$f":"IF(journal!U150=\"\",\"\",IF(journal!U150=\"a\",\"a\",journal!U150/journal!U$10))","v":""},{"$f":"IF(journal!V150=\"\",\"\",IF(journal!V150=\"a\",\"a\",journal!V150/journal!V$10))","v":""},{"$f":"IF(journal!W150=\"\",\"\",IF(journal!W150=\"a\",\"a\",journal!W150/journal!W$10))","v":""},{"$f":"IF(journal!X150=\"\",\"\",IF(journal!X150=\"a\",\"a\",journal!X150/journal!X$10))","v":""},{"$f":"IF(journal!Y150=\"\",\"\",IF(journal!Y150=\"a\",\"a\",journal!Y150/journal!Y$10))","v":""},{"$f":"IF(journal!Z150=\"\",\"\",IF(journal!Z150=\"a\",\"a\",journal!Z150/journal!Z$10))","v":""},{"$f":"IF(journal!AA150=\"\",\"\",IF(journal!AA150=\"a\",\"a\",journal!AA150/journal!AA$10))","v":""},{"$f":"IF(journal!AB150=\"\",\"\",IF(journal!AB150=\"a\",\"a\",journal!AB150/journal!AB$10))","v":""},{"$f":"IF(journal!AC150=\"\",\"\",IF(journal!AC150=\"a\",\"a\",journal!AC150/journal!AC$10))","v":""},{"$f":"IF(journal!AD150=\"\",\"\",IF(journal!AD150=\"a\",\"a\",journal!AD150/journal!AD$10))","v":""},{"$f":"IF(journal!AE150=\"\",\"\",IF(journal!AE150=\"a\",\"a\",journal!AE150/journal!AE$10))","v":""},{"$f":"IF(journal!AF150=\"\",\"\",IF(journal!AF150=\"a\",\"a\",journal!AF150/journal!AF$10))","v":""},{"$f":"IF(journal!AG150=\"\",\"\",IF(journal!AG150=\"a\",\"a\",journal!AG150/journal!AG$10))","v":""},{"$f":"IF(journal!AH150=\"\",\"\",IF(journal!AH150=\"a\",\"a\",journal!AH150/journal!AH$10))","v":""},{"$f":"IF(journal!AI150=\"\",\"\",IF(journal!AI150=\"a\",\"a\",journal!AI150/journal!AI$10))","v":""},{"$f":"IF(journal!AJ150=\"\",\"\",IF(journal!AJ150=\"a\",\"a\",journal!AJ150/journal!AJ$10))","v":""},{"$f":"IF(journal!AK150=\"\",\"\",IF(journal!AK150=\"a\",\"a\",journal!AK150/journal!AK$10))","v":""},{"$f":"IF(journal!AL150=\"\",\"\",IF(journal!AL150=\"a\",\"a\",journal!AL150/journal!AL$10))","v":""},{"$f":"IF(journal!AM150=\"\",\"\",IF(journal!AM150=\"a\",\"a\",journal!AM150/journal!AM$10))","v":""},{"$f":"IF(journal!AN150=\"\",\"\",IF(journal!AN150=\"a\",\"a\",journal!AN150/journal!AN$10))","v":""},{"$f":"IF(journal!AO150=\"\",\"\",IF(journal!AO150=\"a\",\"a\",journal!AO150/journal!AO$10))","v":""},{"$f":"IF(journal!AP150=\"\",\"\",IF(journal!AP150=\"a\",\"a\",journal!AP150/journal!AP$10))","v":""},{"$f":"IF(journal!AQ150=\"\",\"\",IF(journal!AQ150=\"a\",\"a\",journal!AQ150/journal!AQ$10))","v":""},{"$f":"IF(journal!AR150=\"\",\"\",IF(journal!AR150=\"a\",\"a\",journal!AR150/journal!AR$10))","v":""},"","","",""]
[{"$f":"Saisie!A39","v":0},"S",{"$f":"IF(journal!C151=\"\",\"\",IF(journal!C151=\"a\",\"a\",journal!C151/journal!C$6))","v":""},{"$f":"IF(journal!D151=\"\",\"\",IF(journal!D151=\"a\",\"a\",journal!D151/journal!D$6))","v":""},{"$f":"IF(journal!E151=\"\",\"\",IF(journal!E151=\"a\",\"a\",journal!E151/journal!E$6))","v":""},{"$f":"IF(journal!F151=\"\",\"\",IF(journal!F151=\"a\",\"a\",journal!F151/journal!F$6))","v":""},{"$f":"IF(journal!G151=\"\",\"\",IF(journal!G151=\"a\",\"a\",journal!G151/journal!G$6))","v":""},{"$f":"IF(journal!H151=\"\",\"\",IF(journal!H151=\"a\",\"a\",journal!H151/journal!H$6))","v":""},{"$f":"IF(journal!I151=\"\",\"\",IF(journal!I151=\"a\",\"a\",journal!I151/journal!I$6))","v":""},{"$f":"IF(journal!J151=\"\",\"\",IF(journal!J151=\"a\",\"a\",journal!J151/journal!J$6))","v":""},{"$f":"IF(journal!K151=\"\",\"\",IF(journal!K151=\"a\",\"a\",journal!K151/journal!K$6))","v":""},{"$f":"IF(journal!L151=\"\",\"\",IF(journal!L151=\"a\",\"a\",journal!L151/journal!L$6))","v":""},{"$f":"IF(journal!M151=\"\",\"\",IF(journal!M151=\"a\",\"a\",journal!M151/journal!M$6))","v":""},{"$f":"IF(journal!N151=\"\",\"\",IF(journal!N151=\"a\",\"a\",journal!N151/journal!N$6))","v":""},{"$f":"IF(journal!O151=\"\",\"\",IF(journal!O151=\"a\",\"a\",journal!O151/journal!O$6))","v":""},{"$f":"IF(journal!P151=\"\",\"\",IF(journal!P151=\"a\",\"a\",journal!P151/journal!P$6))","v":""},{"$f":"IF(journal!Q151=\"\",\"\",IF(journal!Q151=\"a\",\"a\",journal!Q151/journal!Q$6))","v":""},{"$f":"IF(journal!R151=\"\",\"\",IF(journal!R151=\"a\",\"a\",journal!R151/journal!R$6))","v":""},{"$f":"IF(journal!S151=\"\",\"\",IF(journal!S151=\"a\",\"a\",journal!S151/journal!S$6))","v":""},{"$f":"IF(journal!T151=\"\",\"\",IF(journal!T151=\"a\",\"a\",journal!T151/journal!T$6))","v":""},{"$f":"IF(journal!U151=\"\",\"\",IF(journal!U151=\"a\",\"a\",journal!U151/journal!U$6))","v":""},{"$f":"IF(journal!V151=\"\",\"\",IF(journal!V151=\"a\",\"a\",journal!V151/journal!V$6))","v":""},{"$f":"IF(journal!W151=\"\",\"\",IF(journal!W151=\"a\",\"a\",journal!W151/journal!W$6))","v":""},{"$f":"IF(journal!X151=\"\",\"\",IF(journal!X151=\"a\",\"a\",journal!X151/journal!X$6))","v":""},{"$f":"IF(journal!Y151=\"\",\"\",IF(journal!Y151=\"a\",\"a\",journal!Y151/journal!Y$6))","v":""},{"$f":"IF(journal!Z151=\"\",\"\",IF(journal!Z151=\"a\",\"a\",journal!Z151/journal!Z$6))","v":""},{"$f":"IF(journal!AA151=\"\",\"\",IF(journal!AA151=\"a\",\"a\",journal!AA151/journal!AA$6))","v":""},{"$f":"IF(journal!AB151=\"\",\"\",IF(journal!AB151=\"a\",\"a\",journal!AB151/journal!AB$6))","v":""},{"$f":"IF(journal!AC151=\"\",\"\",IF(journal!AC151=\"a\",\"a\",journal!AC151/journal!AC$6))","v":""},{"$f":"IF(journal!AD151=\"\",\"\",IF(journal!AD151=\"a\",\"a\",journal!AD151/journal!AD$6))","v":""},{"$f":"IF(journal!AE151=\"\",\"\",IF(journal!AE151=\"a\",\"a\",journal!AE151/journal!AE$6))","v":""},{"$f":"IF(journal!AF151=\"\",\"\",IF(journal!AF151=\"a\",\"a\",journal!AF151/journal!AF$6))","v":""},{"$f":"IF(journal!AG151=\"\",\"\",IF(journal!AG151=\"a\",\"a\",journal!AG151/journal!AG$6))","v":""},{"$f":"IF(journal!AH151=\"\",\"\",IF(journal!AH151=\"a\",\"a\",journal!AH151/journal!AH$6))","v":""},{"$f":"IF(journal!AI151=\"\",\"\",IF(journal!AI151=\"a\",\"a\",journal!AI151/journal!AI$6))","v":""},{"$f":"IF(journal!AJ151=\"\",\"\",IF(journal!AJ151=\"a\",\"a\",journal!AJ151/journal!AJ$6))","v":""},{"$f":"IF(journal!AK151=\"\",\"\",IF(journal!AK151=\"a\",\"a\",journal!AK151/journal!AK$6))","v":""},{"$f":"IF(journal!AL151=\"\",\"\",IF(journal!AL151=\"a\",\"a\",journal!AL151/journal!AL$6))","v":""},{"$f":"IF(journal!AM151=\"\",\"\",IF(journal!AM151=\"a\",\"a\",journal!AM151/journal!AM$6))","v":""},{"$f":"IF(journal!AN151=\"\",\"\",IF(journal!AN151=\"a\",\"a\",journal!AN151/journal!AN$6))","v":""},{"$f":"IF(journal!AO151=\"\",\"\",IF(journal!AO151=\"a\",\"a\",journal!AO151/journal!AO$6))","v":""},{"$f":"IF(journal!AP151=\"\",\"\",IF(journal!AP151=\"a\",\"a\",journal!AP151/journal!AP$6))","v":""},{"$f":"IF(journal!AQ151=\"\",\"\",IF(journal!AQ151=\"a\",\"a\",journal!AQ151/journal!AQ$6))","v":""},{"$f":"IF(journal!AR151=\"\",\"\",IF(journal!AR151=\"a\",\"a\",journal!AR151/journal!AR$6))","v":""},"","","",""]
[null,"A",{"$f":"IF(journal!C152=\"\",\"\",IF(journal!C152=\"a\",\"a\",journal!C152/journal!C$7))","v":""},{"$f":"IF(journal!D152=\"\",\"\",IF(journal!D152=\"a\",\"a\",journal!D152/journal!D$7))","v":""},{"$f":"IF(journal!E152=\"\",\"\",IF(journal!E152=\"a\",\"a\",journal!E152/journal!E$7))","v":""},{"$f":"IF(journal!F152=\"\",\"\",IF(journal!F152=\"a\",\"a\",journal!F152/journal!F$7))","v":""},{"$f":"IF(journal!G152=\"\",\"\",IF(journal!G152=\"a\",\"a\",journal!G152/journal!G$7))","v":""},{"$f":"IF(journal!H152=\"\",\"\",IF(journal!H152=\"a\",\"a\",journal!H152/journal!H$7))","v":""},{"$f":"IF(journal!I152=\"\",\"\",IF(journal!I152=\"a\",\"a\",journal!I152/journal!I$7))","v":""},{"$f":"IF(journal!J152=\"\",\"\",IF(journal!J152=\"a\",\"a\",journal!J152/journal!J$7))","v":""},{"$f":"IF(journal!K152=\"\",\"\",IF(journal!K152=\"a\",\"a\",journal!K152/journal!K$7))","v":""},{"$f":"IF(journal!L152=\"\",\"\",IF(journal!L152=\"a\",\"a\",journal!L152/journal!L$7))","v":""},{"$f":"IF(journal!M152=\"\",\"\",IF(journal!M152=\"a\",\"a\",journal!M152/journal!M$7))","v":""},{"$f":"IF(journal!N152=\"\",\"\",IF(journal!N152=\"a\",\"a\",journal!N152/journal!N$7))","v":""},{"$f":"IF(journal!O152=\"\",\"\",IF(journal!O152=\"a\",\"a\",journal!O152/journal!O$7))","v":""},{"$f":"IF(journal!P152=\"\",\"\",IF(journal!P152=\"a\",\"a\",journal!P152/journal!P$7))","v":""},{"$f":"IF(journal!Q152=\"\",\"\",IF(journal!Q152=\"a\",\"a\",journal!Q152/journal!Q$7))","v":""},{"$f":"IF(journal!R152=\"\",\"\",IF(journal!R152=\"a\",\"a\",journal!R152/journal!R$7))","v":""},{"$f":"IF(journal!S152=\"\",\"\",IF(journal!S152=\"a\",\"a\",journal!S152/journal!S$7))","v":""},{"$f":"IF(journal!T152=\"\",\"\",IF(journal!T152=\"a\",\"a\",journal!T152/journal!T$7))","v":""},{"$f":"IF(journal!U152=\"\",\"\",IF(journal!U152=\"a\",\"a\",journal!U152/journal!U$7))","v":""},{"$f":"IF(journal!V152=\"\",\"\",IF(journal!V152=\"a\",\"a\",journal!V152/journal!V$7))","v":""},{"$f":"IF(journal!W152=\"\",\"\",IF(journal!W152=\"a\",\"a\",journal!W152/journal!W$7))","v":""},{"$f":"IF(journal!X152=\"\",\"\",IF(journal!X152=\"a\",\"a\",journal!X152/journal!X$7))","v":""},{"$f":"IF(journal!Y152=\"\",\"\",IF(journal!Y152=\"a\",\"a\",journal!Y152/journal!Y$7))","v":""},{"$f":"IF(journal!Z152=\"\",\"\",IF(journal!Z152=\"a\",\"a\",journal!Z152/journal!Z$7))","v":""},{"$f":"IF(journal!AA152=\"\",\"\",IF(journal!AA152=\"a\",\"a\",journal!AA152/journal!AA$7))","v":""},{"$f":"IF(journal!AB152=\"\",\"\",IF(journal!AB152=\"a\",\"a\",journal!AB152/journal!AB$7))","v":""},{"$f":"IF(journal!AC152=\"\",\"\",IF(journal!AC152=\"a\",\"a\",journal!AC152/journal!AC$7))","v":""},{"$f":"IF(journal!AD152=\"\",\"\",IF(journal!AD152=\"a\",\"a\",journal!AD152/journal!AD$7))","v":""},{"$f":"IF(journal!AE152=\"\",\"\",IF(journal!AE152=\"a\",\"a\",journal!AE152/journal!AE$7))","v":""},{"$f":"IF(journal!AF152=\"\",\"\",IF(journal!AF152=\"a\",\"a\",journal!AF152/journal!AF$7))","v":""},{"$f":"IF(journal!AG152=\"\",\"\",IF(journal!AG152=\"a\",\"a\",journal!AG152/journal!AG$7))","v":""},{"$f":"IF(journal!AH152=\"\",\"\",IF(journal!AH152=\"a\",\"a\",journal!AH152/journal!AH$7))","v":""},{"$f":"IF(journal!AI152=\"\",\"\",IF(journal!AI152=\"a\",\"a\",journal!AI152/journal!AI$7))","v":""},{"$f":"IF(journal!AJ152=\"\",\"\",IF(journal!AJ152=\"a\",\"a\",journal!AJ152/journal!AJ$7))","v":""},{"$f":"IF(journal!AK152=\"\",\"\",IF(journal!AK152=\"a\",\"a\",journal!AK152/journal!AK$7))","v":""},{"$f":"IF(journal!AL152=\"\",\"\",IF(journal!AL152=\"a\",\"a\",journal!AL152/journal!AL$7))","v":""},{"$f":"IF(journal!AM152=\"\",\"\",IF(journal!AM152=\"a\",\"a\",journal!AM152/journal!AM$7))","v":""},{"$f":"IF(journal!AN152=\"\",\"\",IF(journal!AN152=\"a\",\"a\",journal!AN152/journal!AN$7))","v":""},{"$f":"IF(journal!AO152=\"\",\"\",IF(journal!AO152=\"a\",\"a\",journal!AO152/journal!AO$7))","v":""},{"$f":"IF(journal!AP152=\"\",\"\",IF(journal!AP152=\"a\",\"a\",journal!AP152/journal!AP$7))","v":""},{"$f":"IF(journal!AQ152=\"\",\"\",IF(journal!AQ152=\"a\",\"a\",journal!AQ152/journal!AQ$7))","v":""},{"$f":"IF(journal!AR152=\"\",\"\",IF(journal!AR152=\"a\",\"a\",journal!AR152/journal!AR$7))","v":""},"","","",""]
[null,"R",{"$f":"IF(journal!C153=\"\",\"\",IF(journal!C153=\"a\",\"a\",journal!C153/journal!C$8))","v":""},{"$f":"IF(journal!D153=\"\",\"\",IF(journal!D153=\"a\",\"a\",journal!D153/journal!D$8))","v":""},{"$f":"IF(journal!E153=\"\",\"\",IF(journal!E153=\"a\",\"a\",journal!E153/journal!E$8))","v":""},{"$f":"IF(journal!F153=\"\",\"\",IF(journal!F153=\"a\",\"a\",journal!F153/journal!F$8))","v":""},{"$f":"IF(journal!G153=\"\",\"\",IF(journal!G153=\"a\",\"a\",journal!G153/journal!G$8))","v":""},{"$f":"IF(journal!H153=\"\",\"\",IF(journal!H153=\"a\",\"a\",journal!H153/journal!H$8))","v":""},{"$f":"IF(journal!I153=\"\",\"\",IF(journal!I153=\"a\",\"a\",journal!I153/journal!I$8))","v":""},{"$f":"IF(journal!J153=\"\",\"\",IF(journal!J153=\"a\",\"a\",journal!J153/journal!J$8))","v":""},{"$f":"IF(journal!K153=\"\",\"\",IF(journal!K153=\"a\",\"a\",journal!K153/journal!K$8))","v":""},{"$f":"IF(journal!L153=\"\",\"\",IF(journal!L153=\"a\",\"a\",journal!L153/journal!L$8))","v":""},{"$f":"IF(journal!M153=\"\",\"\",IF(journal!M153=\"a\",\"a\",journal!M153/journal!M$8))","v":""},{"$f":"IF(journal!N153=\"\",\"\",IF(journal!N153=\"a\",\"a\",journal!N153/journal!N$8))","v":""},{"$f":"IF(journal!O153=\"\",\"\",IF(journal!O153=\"a\",\"a\",journal!O153/journal!O$8))","v":""},{"$f":"IF(journal!P153=\"\",\"\",IF(journal!P153=\"a\",\"a\",journal!P153/journal!P$8))","v":""},{"$f":"IF(journal!Q153=\"\",\"\",IF(journal!Q153=\"a\",\"a\",journal!Q153/journal!Q$8))","v":""},{"$f":"IF(journal!R153=\"\",\"\",IF(journal!R153=\"a\",\"a\",journal!R153/journal!R$8))","v":""},{"$f":"IF(journal!S153=\"\",\"\",IF(journal!S153=\"a\",\"a\",journal!S153/journal!S$8))","v":""},{"$f":"IF(journal!T153=\"\",\"\",IF(journal!T153=\"a\",\"a\",journal!T153/journal!T$8))","v":""},{"$f":"IF(journal!U153=\"\",\"\",IF(journal!U153=\"a\",\"a\",journal!U153/journal!U$8))","v":""},{"$f":"IF(journal!V153=\"\",\"\",IF(journal!V153=\"a\",\"a\",journal!V153/journal!V$8))","v":""},{"$f":"IF(journal!W153=\"\",\"\",IF(journal!W153=\"a\",\"a\",journal!W153/journal!W$8))","v":""},{"$f":"IF(journal!X153=\"\",\"\",IF(journal!X153=\"a\",\"a\",journal!X153/journal!X$8))","v":""},{"$f":"IF(journal!Y153=\"\",\"\",IF(journal!Y153=\"a\",\"a\",journal!Y153/journal!Y$8))","v":""},{"$f":"IF(journal!Z153=\"\",\"\",IF(journal!Z153=\"a\",\"a\",journal!Z153/journal!Z$8))","v":""},{"$f":"IF(journal!AA153=\"\",\"\",IF(journal!AA153=\"a\",\"a\",journal!AA153/journal!AA$8))","v":""},{"$f":"IF(journal!AB153=\"\",\"\",IF(journal!AB153=\"a\",\"a\",journal!AB153/journal!AB$8))","v":""},{"$f":"IF(journal!AC153=\"\",\"\",IF(journal!AC153=\"a\",\"a\",journal!AC153/journal!AC$8))","v":""},{"$f":"IF(journal!AD153=\"\",\"\",IF(journal!AD153=\"a\",\"a\",journal!AD153/journal!AD$8))","v":""},{"$f":"IF(journal!AE153=\"\",\"\",IF(journal!AE153=\"a\",\"a\",journal!AE153/journal!AE$8))","v":""},{"$f":"IF(journal!AF153=\"\",\"\",IF(journal!AF153=\"a\",\"a\",journal!AF153/journal!AF$8))","v":""},{"$f":"IF(journal!AG153=\"\",\"\",IF(journal!AG153=\"a\",\"a\",journal!AG153/journal!AG$8))","v":""},{"$f":"IF(journal!AH153=\"\",\"\",IF(journal!AH153=\"a\",\"a\",journal!AH153/journal!AH$8))","v":""},{"$f":"IF(journal!AI153=\"\",\"\",IF(journal!AI153=\"a\",\"a\",journal!AI153/journal!AI$8))","v":""},{"$f":"IF(journal!AJ153=\"\",\"\",IF(journal!AJ153=\"a\",\"a\",journal!AJ153/journal!AJ$8))","v":""},{"$f":"IF(journal!AK153=\"\",\"\",IF(journal!AK153=\"a\",\"a\",journal!AK153/journal!AK$8))","v":""},{"$f":"IF(journal!AL153=\"\",\"\",IF(journal!AL153=\"a\",\"a\",journal!AL153/journal!AL$8))","v":""},{"$f":"IF(journal!AM153=\"\",\"\",IF(journal!AM153=\"a\",\"a\",journal!AM153/journal!AM$8))","v":""},{"$f":"IF(journal!AN153=\"\",\"\",IF(journal!AN153=\"a\",\"a\",journal!AN153/journal!AN$8))","v":""},{"$f":"IF(journal!AO153=\"\",\"\",IF(journal!AO153=\"a\",\"a\",journal!AO153/journal!AO$8))","v":""},{"$f":"IF(journal!AP153=\"\",\"\",IF(journal!AP153=\"a\",\"a\",journal!AP153/journal!AP$8))","v":""},{"$f":"IF(journal!AQ153=\"\",\"\",IF(journal!AQ153=\"a\",\"a\",journal!AQ153/journal!AQ$8))","v":""},{"$f":"IF(journal!AR153=\"\",\"\",IF(journal!AR153=\"a\",\"a\",journal!AR153/journal!AR$8))","v":""},"","","",""]
[null,"V",{"$f":"IF(journal!C154=\"\",\"\",IF(journal!C154=\"a\",\"a\",journal!C154/journal!C$9))","v":""},{"$f":"IF(journal!D154=\"\",\"\",IF(journal!D154=\"a\",\"a\",journal!D154/journal!D$9))","v":""},{"$f":"IF(journal!E154=\"\",\"\",IF(journal!E154=\"a\",\"a\",journal!E154/journal!E$9))","v":""},{"$f":"IF(journal!F154=\"\",\"\",IF(journal!F154=\"a\",\"a\",journal!F154/journal!F$9))","v":""},{"$f":"IF(journal!G154=\"\",\"\",IF(journal!G154=\"a\",\"a\",journal!G154/journal!G$9))","v":""},{"$f":"IF(journal!H154=\"\",\"\",IF(journal!H154=\"a\",\"a\",journal!H154/journal!H$9))","v":""},{"$f":"IF(journal!I154=\"\",\"\",IF(journal!I154=\"a\",\"a\",journal!I154/journal!I$9))","v":""},{"$f":"IF(journal!J154=\"\",\"\",IF(journal!J154=\"a\",\"a\",journal!J154/journal!J$9))","v":""},{"$f":"IF(journal!K154=\"\",\"\",IF(journal!K154=\"a\",\"a\",journal!K154/journal!K$9))","v":""},{"$f":"IF(journal!L154=\"\",\"\",IF(journal!L154=\"a\",\"a\",journal!L154/journal!L$9))","v":""},{"$f":"IF(journal!M154=\"\",\"\",IF(journal!M154=\"a\",\"a\",journal!M154/journal!M$9))","v":""},{"$f":"IF(journal!N154=\"\",\"\",IF(journal!N154=\"a\",\"a\",journal!N154/journal!N$9))","v":""},{"$f":"IF(journal!O154=\"\",\"\",IF(journal!O154=\"a\",\"a\",journal!O154/journal!O$9))","v":""},{"$f":"IF(journal!P154=\"\",\"\",IF(journal!P154=\"a\",\"a\",journal!P154/journal!P$9))","v":""},{"$f":"IF(journal!Q154=\"\",\"\",IF(journal!Q154=\"a\",\"a\",journal!Q154/journal!Q$9))","v":""},{"$f":"IF(journal!R154=\"\",\"\",IF(journal!R154=\"a\",\"a\",journal!R154/journal!R$9))","v":""},{"$f":"IF(journal!S154=\"\",\"\",IF(journal!S154=\"a\",\"a\",journal!S154/journal!S$9))","v":""},{"$f":"IF(journal!T154=\"\",\"\",IF(journal!T154=\"a\",\"a\",journal!T154/journal!T$9))","v":""},{"$f":"IF(journal!U154=\"\",\"\",IF(journal!U154=\"a\",\"a\",journal!U154/journal!U$9))","v":""},{"$f":"IF(journal!V154=\"\",\"\",IF(journal!V154=\"a\",\"a\",journal!V154/journal!V$9))","v":""},{"$f":"IF(journal!W154=\"\",\"\",IF(journal!W154=\"a\",\"a\",journal!W154/journal!W$9))","v":""},{"$f":"IF(journal!X154=\"\",\"\",IF(journal!X154=\"a\",\"a\",journal!X154/journal!X$9))","v":""},{"$f":"IF(journal!Y154=\"\",\"\",IF(journal!Y154=\"a\",\"a\",journal!Y154/journal!Y$9))","v":""},{"$f":"IF(journal!Z154=\"\",\"\",IF(journal!Z154=\"a\",\"a\",journal!Z154/journal!Z$9))","v":""},{"$f":"IF(journal!AA154=\"\",\"\",IF(journal!AA154=\"a\",\"a\",journal!AA154/journal!AA$9))","v":""},{"$f":"IF(journal!AB154=\"\",\"\",IF(journal!AB154=\"a\",\"a\",journal!AB154/journal!AB$9))","v":""},{"$f":"IF(journal!AC154=\"\",\"\",IF(journal!AC154=\"a\",\"a\",journal!AC154/journal!AC$9))","v":""},{"$f":"IF(journal!AD154=\"\",\"\",IF(journal!AD154=\"a\",\"a\",journal!AD154/journal!AD$9))","v":""},{"$f":"IF(journal!AE154=\"\",\"\",IF(journal!AE154=\"a\",\"a\",journal!AE154/journal!AE$9))","v":""},{"$f":"IF(journal!AF154=\"\",\"\",IF(journal!AF154=\"a\",\"a\",journal!AF154/journal!AF$9))","v":""},{"$f":"IF(journal!AG154=\"\",\"\",IF(journal!AG154=\"a\",\"a\",journal!AG154/journal!AG$9))","v":""},{"$f":"IF(journal!AH154=\"\",\"\",IF(journal!AH154=\"a\",\"a\",journal!AH154/journal!AH$9))","v":""},{"$f":"IF(journal!AI154=\"\",\"\",IF(journal!AI154=\"a\",\"a\",journal!AI154/journal!AI$9))","v":""},{"$f":"IF(journal!AJ154=\"\",\"\",IF(journal!AJ154=\"a\",\"a\",journal!AJ154/journal!AJ$9))","v":""},{"$f":"IF(journal!AK154=\"\",\"\",IF(journal!AK154=\"a\",\"a\",journal!AK154/journal!AK$9))","v":""},{"$f":"IF(journal!AL154=\"\",\"\",IF(journal!AL154=\"a\",\"a\",journal!AL154/journal!AL$9))","v":""},{"$f":"IF(journal!AM154=\"\",\"\",IF(journal!AM154=\"a\",\"a\",journal!AM154/journal!AM$9))","v":""},{"$f":"IF(journal!AN154=\"\",\"\",IF(journal!AN154=\"a\",\"a\",journal!AN154/journal!AN$9))","v":""},{"$f":"IF(journal!AO154=\"\",\"\",IF(journal!AO154=\"a\",\"a\",journal!AO154/journal!AO$9))","v":""},{"$f":"IF(journal!AP154=\"\",\"\",IF(journal!AP154=\"a\",\"a\",journal!AP154/journal!AP$9))","v":""},{"$f":"IF(journal!AQ154=\"\",\"\",IF(journal!AQ154=\"a\",\"a\",journal!AQ154/journal!AQ$9))","v":""},{"$f":"IF(journal!AR154=\"\",\"\",IF(journal!AR154=\"a\",\"a\",journal!AR154/journal!AR$9))","v":""},"","","",""]
[null,"C",{"$f":"IF(journal!C155=\"\",\"\",IF(journal!C155=\"a\",\"a\",journal!C155/journal!C$10))","v":""},{"$f":"IF(journal!D155=\"\",\"\",IF(journal!D155=\"a\",\"a\",journal!D155/journal!D$10))","v":""},{"$f":"IF(journal!E155=\"\",\"\",IF(journal!E155=\"a\",\"a\",journal!E155/journal!E$10))","v":""},{"$f":"IF(journal!F155=\"\",\"\",IF(journal!F155=\"a\",\"a\",journal!F155/journal!F$10))","v":""},{"$f":"IF(journal!G155=\"\",\"\",IF(journal!G155=\"a\",\"a\",journal!G155/journal!G$10))","v":""},{"$f":"IF(journal!H155=\"\",\"\",IF(journal!H155=\"a\",\"a\",journal!H155/journal!H$10))","v":""},{"$f":"IF(journal!I155=\"\",\"\",IF(journal!I155=\"a\",\"a\",journal!I155/journal!I$10))","v":""},{"$f":"IF(journal!J155=\"\",\"\",IF(journal!J155=\"a\",\"a\",journal!J155/journal!J$10))","v":""},{"$f":"IF(journal!K155=\"\",\"\",IF(journal!K155=\"a\",\"a\",journal!K155/journal!K$10))","v":""},{"$f":"IF(journal!L155=\"\",\"\",IF(journal!L155=\"a\",\"a\",journal!L155/journal!L$10))","v":""},{"$f":"IF(journal!M155=\"\",\"\",IF(journal!M155=\"a\",\"a\",journal!M155/journal!M$10))","v":""},{"$f":"IF(journal!N155=\"\",\"\",IF(journal!N155=\"a\",\"a\",journal!N155/journal!N$10))","v":""},{"$f":"IF(journal!O155=\"\",\"\",IF(journal!O155=\"a\",\"a\",journal!O155/journal!O$10))","v":""},{"$f":"IF(journal!P155=\"\",\"\",IF(journal!P155=\"a\",\"a\",journal!P155/journal!P$10))","v":""},{"$f":"IF(journal!Q155=\"\",\"\",IF(journal!Q155=\"a\",\"a\",journal!Q155/journal!Q$10))","v":""},{"$f":"IF(journal!R155=\"\",\"\",IF(journal!R155=\"a\",\"a\",journal!R155/journal!R$10))","v":""},{"$f":"IF(journal!S155=\"\",\"\",IF(journal!S155=\"a\",\"a\",journal!S155/journal!S$10))","v":""},{"$f":"IF(journal!T155=\"\",\"\",IF(journal!T155=\"a\",\"a\",journal!T155/journal!T$10))","v":""},{"$f":"IF(journal!U155=\"\",\"\",IF(journal!U155=\"a\",\"a\",journal!U155/journal!U$10))","v":""},{"$f":"IF(journal!V155=\"\",\"\",IF(journal!V155=\"a\",\"a\",journal!V155/journal!V$10))","v":""},{"$f":"IF(journal!W155=\"\",\"\",IF(journal!W155=\"a\",\"a\",journal!W155/journal!W$10))","v":""},{"$f":"IF(journal!X155=\"\",\"\",IF(journal!X155=\"a\",\"a\",journal!X155/journal!X$10))","v":""},{"$f":"IF(journal!Y155=\"\",\"\",IF(journal!Y155=\"a\",\"a\",journal!Y155/journal!Y$10))","v":""},{"$f":"IF(journal!Z155=\"\",\"\",IF(journal!Z155=\"a\",\"a\",journal!Z155/journal!Z$10))","v":""},{"$f":"IF(journal!AA155=\"\",\"\",IF(journal!AA155=\"a\",\"a\",journal!AA155/journal!AA$10))","v":""},{"$f":"IF(journal!AB155=\"\",\"\",IF(journal!AB155=\"a\",\"a\",journal!AB155/journal!AB$10))","v":""},{"$f":"IF(journal!AC155=\"\",\"\",IF(journal!AC155=\"a\",\"a\",journal!AC155/journal!AC$10))","v":""},{"$f":"IF(journal!AD155=\"\",\"\",IF(journal!AD155=\"a\",\"a\",journal!AD155/journal!AD$10))","v":""},{"$f":"IF(journal!AE155=\"\",\"\",IF(journal!AE155=\"a\",\"a\",journal!AE155/journal!AE$10))","v":""},{"$f":"IF(journal!AF155=\"\",\"\",IF(journal!AF155=\"a\",\"a\",journal!AF155/journal!AF$10))","v":""},{"$f":"IF(journal!AG155=\"\",\"\",IF(journal!AG155=\"a\",\"a\",journal!AG155/journal!AG$10))","v":""},{"$f":"IF(journal!AH155=\"\",\"\",IF(journal!AH155=\"a\",\"a\",journal!AH155/journal!AH$10))","v":""},{"$f":"IF(journal!AI155=\"\",\"\",IF(journal!AI155=\"a\",\"a\",journal!AI155/journal!AI$10))","v":""},{"$f":"IF(journal!AJ155=\"\",\"\",IF(journal!AJ155=\"a\",\"a\",journal!AJ155/journal!AJ$10))","v":""},{"$f":"IF(journal!AK155=\"\",\"\",IF(journal!AK155=\"a\",\"a\",journal!AK155/journal!AK$10))","v":""},{"$f":"IF(journal!AL155=\"\",\"\",IF(journal!AL155=\"a\",\"a\",journal!AL155/journal!AL$10))","v":""},{"$f":"IF(journal!AM155=\"\",\"\",IF(journal!AM155=\"a\",\"a\",journal!AM155/journal!AM$10))","v":""},{"$f":"IF(journal!AN155=\"\",\"\",IF(journal!AN155=\"a\",\"a\",journal!AN155/journal!AN$10))","v":""},{"$f":"IF(journal!AO155=\"\",\"\",IF(journal!AO155=\"a\",\"a\",journal!AO155/journal!AO$10))","v":""},{"$f":"IF(journal!AP155=\"\",\"\",IF(journal!AP155=\"a\",\"a\",journal!AP155/journal!AP$10))","v":""},{"$f":"IF(journal!AQ155=\"\",\"\",IF(journal!AQ155=\"a\",\"a\",journal!AQ155/journal!AQ$10))","v":""},{"$f":"IF(journal!AR155=\"\",\"\",IF(journal!AR155=\"a\",\"a\",journal!AR155/journal!AR$10))","v":""},"","","",""]
[{"$f":"Saisie!A40","v":0},"S",{"$f":"IF(journal!C156=\"\",\"\",IF(journal!C156=\"a\",\"a\",journal!C156/journal!C$6))","v":""},{"$f":"IF(journal!D156=\"\",\"\",IF(journal!D156=\"a\",\"a\",journal!D156/journal!D$6))","v":""},{"$f":"IF(journal!E156=\"\",\"\",IF(journal!E156=\"a\",\"a\",journal!E156/journal!E$6))","v":""},{"$f":"IF(journal!F156=\"\",\"\",IF(journal!F156=\"a\",\"a\",journal!F156/journal!F$6))","v":""},{"$f":"IF(journal!G156=\"\",\"\",IF(journal!G156=\"a\",\"a\",journal!G156/journal!G$6))","v":""},{"$f":"IF(journal!H156=\"\",\"\",IF(journal!H156=\"a\",\"a\",journal!H156/journal!H$6))","v":""},{"$f":"IF(journal!I156=\"\",\"\",IF(journal!I156=\"a\",\"a\",journal!I156/journal!I$6))","v":""},{"$f":"IF(journal!J156=\"\",\"\",IF(journal!J156=\"a\",\"a\",journal!J156/journal!J$6))","v":""},{"$f":"IF(journal!K156=\"\",\"\",IF(journal!K156=\"a\",\"a\",journal!K156/journal!K$6))","v":""},{"$f":"IF(journal!L156=\"\",\"\",IF(journal!L156=\"a\",\"a\",journal!L156/journal!L$6))","v":""},{"$f":"IF(journal!M156=\"\",\"\",IF(journal!M156=\"a\",\"a\",journal!M156/journal!M$6))","v":""},{"$f":"IF(journal!N156=\"\",\"\",IF(journal!N156=\"a\",\"a\",journal!N156/journal!N$6))","v":""},{"$f":"IF(journal!O156=\"\",\"\",IF(journal!O156=\"a\",\"a\",journal!O156/journal!O$6))","v":""},{"$f":"IF(journal!P156=\"\",\"\",IF(journal!P156=\"a\",\"a\",journal!P156/journal!P$6))","v":""},{"$f":"IF(journal!Q156=\"\",\"\",IF(journal!Q156=\"a\",\"a\",journal!Q156/journal!Q$6))","v":""},{"$f":"IF(journal!R156=\"\",\"\",IF(journal!R156=\"a\",\"a\",journal!R156/journal!R$6))","v":""},{"$f":"IF(journal!S156=\"\",\"\",IF(journal!S156=\"a\",\"a\",journal!S156/journal!S$6))","v":""},{"$f":"IF(journal!T156=\"\",\"\",IF(journal!T156=\"a\",\"a\",journal!T156/journal!T$6))","v":""},{"$f":"IF(journal!U156=\"\",\"\",IF(journal!U156=\"a\",\"a\",journal!U156/journal!U$6))","v":""},{"$f":"IF(journal!V156=\"\",\"\",IF(journal!V156=\"a\",\"a\",journal!V156/journal!V$6))","v":""},{"$f":"IF(journal!W156=\"\",\"\",IF(journal!W156=\"a\",\"a\",journal!W156/journal!W$6))","v":""},{"$f":"IF(journal!X156=\"\",\"\",IF(journal!X156=\"a\",\"a\",journal!X156/journal!X$6))","v":""},{"$f":"IF(journal!Y156=\"\",\"\",IF(journal!Y156=\"a\",\"a\",journal!Y156/journal!Y$6))","v":""},{"$f":"IF(journal!Z156=\"\",\"\",IF(journal!Z156=\"a\",\"a\",journal!Z156/journal!Z$6))","v":""},{"$f":"IF(journal!AA156=\"\",\"\",IF(journal!AA156=\"a\",\"a\",journal!AA156/journal!AA$6))","v":""},{"$f":"IF(journal!AB156=\"\",\"\",IF(journal!AB156=\"a\",\"a\",journal!AB156/journal!AB$6))","v":""},{"$f":"IF(journal!AC156=\"\",\"\",IF(journal!AC156=\"a\",\"a\",journal!AC156/journal!AC$6))","v":""},{"$f":"IF(journal!AD156=\"\",\"\",IF(journal!AD156=\"a\",\"a\",journal!AD156/journal!AD$6))","v":""},{"$f":"IF(journal!AE156=\"\",\"\",IF(journal!AE156=\"a\",\"a\",journal!AE156/journal!AE$6))","v":""},{"$f":"IF(journal!AF156=\"\",\"\",IF(journal!AF156=\"a\",\"a\",journal!AF156/journal!AF$6))","v":""},{"$f":"IF(journal!AG156=\"\",\"\",IF(journal!AG156=\"a\",\"a\",journal!AG156/journal!AG$6))","v":""},{"$f":"IF(journal!AH156=\"\",\"\",IF(journal!AH156=\"a\",\"a\",journal!AH156/journal!AH$6))","v":""},{"$f":"IF(journal!AI156=\"\",\"\",IF(journal!AI156=\"a\",\"a\",journal!AI156/journal!AI$6))","v":""},{"$f":"IF(journal!AJ156=\"\",\"\",IF(journal!AJ156=\"a\",\"a\",journal!AJ156/journal!AJ$6))","v":""},{"$f":"IF(journal!AK156=\"\",\"\",IF(journal!AK156=\"a\",\"a\",journal!AK156/journal!AK$6))","v":""},{"$f":"IF(journal!AL156=\"\",\"\",IF(journal!AL156=\"a\",\"a\",journal!AL156/journal!AL$6))","v":""},{"$f":"IF(journal!AM156=\"\",\"\",IF(journal!AM156=\"a\",\"a\",journal!AM156/journal!AM$6))","v":""},{"$f":"IF(journal!AN156=\"\",\"\",IF(journal!AN156=\"a\",\"a\",journal!AN156/journal!AN$6))","v":""},{"$f":"IF(journal!AO156=\"\",\"\",IF(journal!AO156=\"a\",\"a\",journal!AO156/journal!AO$6))","v":""},{"$f":"IF(journal!AP156=\"\",\"\",IF(journal!AP156=\"a\",\"a\",journal!AP156/journal!AP$6))","v":""},{"$f":"IF(journal!AQ156=\"\",\"\",IF(journal!AQ156=\"a\",\"a\",journal!AQ156/journal!AQ$6))","v":""},{"$f":"IF(journal!AR156=\"\",\"\",IF(journal!AR156=\"a\",\"a\",journal!AR156/journal!AR$6))","v":""},"","","",""]
[null,"A",{"$f":"IF(journal!C157=\"\",\"\",IF(journal!C157=\"a\",\"a\",journal!C157/journal!C$7))","v":""},{"$f":"IF(journal!D157=\"\",\"\",IF(journal!D157=\"a\",\"a\",journal!D157/journal!D$7))","v":""},{"$f":"IF(journal!E157=\"\",\"\",IF(journal!E157=\"a\",\"a\",journal!E157/journal!E$7))","v":""},{"$f":"IF(journal!F157=\"\",\"\",IF(journal!F157=\"a\",\"a\",journal!F157/journal!F$7))","v":""},{"$f":"IF(journal!G157=\"\",\"\",IF(journal!G157=\"a\",\"a\",journal!G157/journal!G$7))","v":""},{"$f":"IF(journal!H157=\"\",\"\",IF(journal!H157=\"a\",\"a\",journal!H157/journal!H$7))","v":""},{"$f":"IF(journal!I157=\"\",\"\",IF(journal!I157=\"a\",\"a\",journal!I157/journal!I$7))","v":""},{"$f":"IF(journal!J157=\"\",\"\",IF(journal!J157=\"a\",\"a\",journal!J157/journal!J$7))","v":""},{"$f":"IF(journal!K157=\"\",\"\",IF(journal!K157=\"a\",\"a\",journal!K157/journal!K$7))","v":""},{"$f":"IF(journal!L157=\"\",\"\",IF(journal!L157=\"a\",\"a\",journal!L157/journal!L$7))","v":""},{"$f":"IF(journal!M157=\"\",\"\",IF(journal!M157=\"a\",\"a\",journal!M157/journal!M$7))","v":""},{"$f":"IF(journal!N157=\"\",\"\",IF(journal!N157=\"a\",\"a\",journal!N157/journal!N$7))","v":""},{"$f":"IF(journal!O157=\"\",\"\",IF(journal!O157=\"a\",\"a\",journal!O157/journal!O$7))","v":""},{"$f":"IF(journal!P157=\"\",\"\",IF(journal!P157=\"a\",\"a\",journal!P157/journal!P$7))","v":""},{"$f":"IF(journal!Q157=\"\",\"\",IF(journal!Q157=\"a\",\"a\",journal!Q157/journal!Q$7))","v":""},{"$f":"IF(journal!R157=\"\",\"\",IF(journal!R157=\"a\",\"a\",journal!R157/journal!R$7))","v":""},{"$f":"IF(journal!S157=\"\",\"\",IF(journal!S157=\"a\",\"a\",journal!S157/journal!S$7))","v":""},{"$f":"IF(journal!T157=\"\",\"\",IF(journal!T157=\"a\",\"a\",journal!T157/journal!T$7))","v":""},{"$f":"IF(journal!U157=\"\",\"\",IF(journal!U157=\"a\",\"a\",journal!U157/journal!U$7))","v":""},{"$f":"IF(journal!V157=\"\",\"\",IF(journal!V157=\"a\",\"a\",journal!V157/journal!V$7))","v":""},{"$f":"IF(journal!W157=\"\",\"\",IF(journal!W157=\"a\",\"a\",journal!W157/journal!W$7))","v":""},{"$f":"IF(journal!X157=\"\",\"\",IF(journal!X157=\"a\",\"a\",journal!X157/journal!X$7))","v":""},{"$f":"IF(journal!Y157=\"\",\"\",IF(journal!Y157=\"a\",\"a\",journal!Y157/journal!Y$7))","v":""},{"$f":"IF(journal!Z157=\"\",\"\",IF(journal!Z157=\"a\",\"a\",journal!Z157/journal!Z$7))","v":""},{"$f":"IF(journal!AA157=\"\",\"\",IF(journal!AA157=\"a\",\"a\",journal!AA157/journal!AA$7))","v":""},{"$f":"IF(journal!AB157=\"\",\"\",IF(journal!AB157=\"a\",\"a\",journal!AB157/journal!AB$7))","v":""},{"$f":"IF(journal!AC157=\"\",\"\",IF(journal!AC157=\"a\",\"a\",journal!AC157/journal!AC$7))","v":""},{"$f":"IF(journal!AD157=\"\",\"\",IF(journal!AD157=\"a\",\"a\",journal!AD157/journal!AD$7))","v":""},{"$f":"IF(journal!AE157=\"\",\"\",IF(journal!AE157=\"a\",\"a\",journal!AE157/journal!AE$7))","v":""},{"$f":"IF(journal!AF157=\"\",\"\",IF(journal!AF157=\"a\",\"a\",journal!AF157/journal!AF$7))","v":""},{"$f":"IF(journal!AG157=\"\",\"\",IF(journal!AG157=\"a\",\"a\",journal!AG157/journal!AG$7))","v":""},{"$f":"IF(journal!AH157=\"\",\"\",IF(journal!AH157=\"a\",\"a\",journal!AH157/journal!AH$7))","v":""},{"$f":"IF(journal!AI157=\"\",\"\",IF(journal!AI157=\"a\",\"a\",journal!AI157/journal!AI$7))","v":""},{"$f":"IF(journal!AJ157=\"\",\"\",IF(journal!AJ157=\"a\",\"a\",journal!AJ157/journal!AJ$7))","v":""},{"$f":"IF(journal!AK157=\"\",\"\",IF(journal!AK157=\"a\",\"a\",journal!AK157/journal!AK$7))","v":""},{"$f":"IF(journal!AL157=\"\",\"\",IF(journal!AL157=\"a\",\"a\",journal!AL157/journal!AL$7))","v":""},{"$f":"IF(journal!AM157=\"\",\"\",IF(journal!AM157=\"a\",\"a\",journal!AM157/journal!AM$7))","v":""},{"$f":"IF(journal!AN157=\"\",\"\",IF(journal!AN157=\"a\",\"a\",journal!AN157/journal!AN$7))","v":""},{"$f":"IF(journal!AO157=\"\",\"\",IF(journal!AO157=\"a\",\"a\",journal!AO157/journal!AO$7))","v":""},{"$f":"IF(journal!AP157=\"\",\"\",IF(journal!AP157=\"a\",\"a\",journal!AP157/journal!AP$7))","v":""},{"$f":"IF(journal!AQ157=\"\",\"\",IF(journal!AQ157=\"a\",\"a\",journal!AQ157/journal!AQ$7))","v":""},{"$f":"IF(journal!AR157=\"\",\"\",IF(journal!AR157=\"a\",\"a\",journal!AR157/journal!AR$7))","v":""},"","","",""]
[null,"R",{"$f":"IF(journal!C158=\"\",\"\",IF(journal!C158=\"a\",\"a\",journal!C158/journal!C$8))","v":""},{"$f":"IF(journal!D158=\"\",\"\",IF(journal!D158=\"a\",\"a\",journal!D158/journal!D$8))","v":""},{"$f":"IF(journal!E158=\"\",\"\",IF(journal!E158=\"a\",\"a\",journal!E158/journal!E$8))","v":""},{"$f":"IF(journal!F158=\"\",\"\",IF(journal!F158=\"a\",\"a\",journal!F158/journal!F$8))","v":""},{"$f":"IF(journal!G158=\"\",\"\",IF(journal!G158=\"a\",\"a\",journal!G158/journal!G$8))","v":""},{"$f":"IF(journal!H158=\"\",\"\",IF(journal!H158=\"a\",\"a\",journal!H158/journal!H$8))","v":""},{"$f":"IF(journal!I158=\"\",\"\",IF(journal!I158=\"a\",\"a\",journal!I158/journal!I$8))","v":""},{"$f":"IF(journal!J158=\"\",\"\",IF(journal!J158=\"a\",\"a\",journal!J158/journal!J$8))","v":""},{"$f":"IF(journal!K158=\"\",\"\",IF(journal!K158=\"a\",\"a\",journal!K158/journal!K$8))","v":""},{"$f":"IF(journal!L158=\"\",\"\",IF(journal!L158=\"a\",\"a\",journal!L158/journal!L$8))","v":""},{"$f":"IF(journal!M158=\"\",\"\",IF(journal!M158=\"a\",\"a\",journal!M158/journal!M$8))","v":""},{"$f":"IF(journal!N158=\"\",\"\",IF(journal!N158=\"a\",\"a\",journal!N158/journal!N$8))","v":""},{"$f":"IF(journal!O158=\"\",\"\",IF(journal!O158=\"a\",\"a\",journal!O158/journal!O$8))","v":""},{"$f":"IF(journal!P158=\"\",\"\",IF(journal!P158=\"a\",\"a\",journal!P158/journal!P$8))","v":""},{"$f":"IF(journal!Q158=\"\",\"\",IF(journal!Q158=\"a\",\"a\",journal!Q158/journal!Q$8))","v":""},{"$f":"IF(journal!R158=\"\",\"\",IF(journal!R158=\"a\",\"a\",journal!R158/journal!R$8))","v":""},{"$f":"IF(journal!S158=\"\",\"\",IF(journal!S158=\"a\",\"a\",journal!S158/journal!S$8))","v":""},{"$f":"IF(journal!T158=\"\",\"\",IF(journal!T158=\"a\",\"a\",journal!T158/journal!T$8))","v":""},{"$f":"IF(journal!U158=\"\",\"\",IF(journal!U158=\"a\",\"a\",journal!U158/journal!U$8))","v":""},{"$f":"IF(journal!V158=\"\",\"\",IF(journal!V158=\"a\",\"a\",journal!V158/journal!V$8))","v":""},{"$f":"IF(journal!W158=\"\",\"\",IF(journal!W158=\"a\",\"a\",journal!W158/journal!W$8))","v":""},{"$f":"IF(journal!X158=\"\",\"\",IF(journal!X158=\"a\",\"a\",journal!X158/journal!X$8))","v":""},{"$f":"IF(journal!Y158=\"\",\"\",IF(journal!Y158=\"a\",\"a\",journal!Y158/journal!Y$8))","v":""},{"$f":"IF(journal!Z158=\"\",\"\",IF(journal!Z158=\"a\",\"a\",journal!Z158/journal!Z$8))","v":""},{"$f":"IF(journal!AA158=\"\",\"\",IF(journal!AA158=\"a\",\"a\",journal!AA158/journal!AA$8))","v":""},{"$f":"IF(journal!AB158=\"\",\"\",IF(journal!AB158=\"a\",\"a\",journal!AB158/journal!AB$8))","v":""},{"$f":"IF(journal!AC158=\"\",\"\",IF(journal!AC158=\"a\",\"a\",journal!AC158/journal!AC$8))","v":""},{"$f":"IF(journal!AD158=\"\",\"\",IF(journal!AD158=\"a\",\"a\",journal!AD158/journal!AD$8))","v":""},{"$f":"IF(journal!AE158=\"\",\"\",IF(journal!AE158=\"a\",\"a\",journal!AE158/journal!AE$8))","v":""},{"$f":"IF(journal!AF158=\"\",\"\",IF(journal!AF158=\"a\",\"a\",journal!AF158/journal!AF$8))","v":""},{"$f":"IF(journal!AG158=\"\",\"\",IF(journal!AG158=\"a\",\"a\",journal!AG158/journal!AG$8))","v":""},{"$f":"IF(journal!AH158=\"\",\"\",IF(journal!AH158=\"a\",\"a\",journal!AH158/journal!AH$8))","v":""},{"$f":"IF(journal!AI158=\"\",\"\",IF(journal!AI158=\"a\",\"a\",journal!AI158/journal!AI$8))","v":""},{"$f":"IF(journal!AJ158=\"\",\"\",IF(journal!AJ158=\"a\",\"a\",journal!AJ158/journal!AJ$8))","v":""},{"$f":"IF(journal!AK158=\"\",\"\",IF(journal!AK158=\"a\",\"a\",journal!AK158/journal!AK$8))","v":""},{"$f":"IF(journal!AL158=\"\",\"\",IF(journal!AL158=\"a\",\"a\",journal!AL158/journal!AL$8))","v":""},{"$f":"IF(journal!AM158=\"\",\"\",IF(journal!AM158=\"a\",\"a\",journal!AM158/journal!AM$8))","v":""},{"$f":"IF(journal!AN158=\"\",\"\",IF(journal!AN158=\"a\",\"a\",journal!AN158/journal!AN$8))","v":""},{"$f":"IF(journal!AO158=\"\",\"\",IF(journal!AO158=\"a\",\"a\",journal!AO158/journal!AO$8))","v":""},{"$f":"IF(journal!AP158=\"\",\"\",IF(journal!AP158=\"a\",\"a\",journal!AP158/journal!AP$8))","v":""},{"$f":"IF(journal!AQ158=\"\",\"\",IF(journal!AQ158=\"a\",\"a\",journal!AQ158/journal!AQ$8))","v":""},{"$f":"IF(journal!AR158=\"\",\"\",IF(journal!AR158=\"a\",\"a\",journal!AR158/journal!AR$8))","v":""},"","","",""]
[null,"V",{"$f":"IF(journal!C159=\"\",\"\",IF(journal!C159=\"a\",\"a\",journal!C159/journal!C$9))","v":""},{"$f":"IF(journal!D159=\"\",\"\",IF(journal!D159=\"a\",\"a\",journal!D159/journal!D$9))","v":""},{"$f":"IF(journal!E159=\"\",\"\",IF(journal!E159=\"a\",\"a\",journal!E159/journal!E$9))","v":""},{"$f":"IF(journal!F159=\"\",\"\",IF(journal!F159=\"a\",\"a\",journal!F159/journal!F$9))","v":""},{"$f":"IF(journal!G159=\"\",\"\",IF(journal!G159=\"a\",\"a\",journal!G159/journal!G$9))","v":""},{"$f":"IF(journal!H159=\"\",\"\",IF(journal!H159=\"a\",\"a\",journal!H159/journal!H$9))","v":""},{"$f":"IF(journal!I159=\"\",\"\",IF(journal!I159=\"a\",\"a\",journal!I159/journal!I$9))","v":""},{"$f":"IF(journal!J159=\"\",\"\",IF(journal!J159=\"a\",\"a\",journal!J159/journal!J$9))","v":""},{"$f":"IF(journal!K159=\"\",\"\",IF(journal!K159=\"a\",\"a\",journal!K159/journal!K$9))","v":""},{"$f":"IF(journal!L159=\"\",\"\",IF(journal!L159=\"a\",\"a\",journal!L159/journal!L$9))","v":""},{"$f":"IF(journal!M159=\"\",\"\",IF(journal!M159=\"a\",\"a\",journal!M159/journal!M$9))","v":""},{"$f":"IF(journal!N159=\"\",\"\",IF(journal!N159=\"a\",\"a\",journal!N159/journal!N$9))","v":""},{"$f":"IF(journal!O159=\"\",\"\",IF(journal!O159=\"a\",\"a\",journal!O159/journal!O$9))","v":""},{"$f":"IF(journal!P159=\"\",\"\",IF(journal!P159=\"a\",\"a\",journal!P159/journal!P$9))","v":""},{"$f":"IF(journal!Q159=\"\",\"\",IF(journal!Q159=\"a\",\"a\",journal!Q159/journal!Q$9))","v":""},{"$f":"IF(journal!R159=\"\",\"\",IF(journal!R159=\"a\",\"a\",journal!R159/journal!R$9))","v":""},{"$f":"IF(journal!S159=\"\",\"\",IF(journal!S159=\"a\",\"a\",journal!S159/journal!S$9))","v":""},{"$f":"IF(journal!T159=\"\",\"\",IF(journal!T159=\"a\",\"a\",journal!T159/journal!T$9))","v":""},{"$f":"IF(journal!U159=\"\",\"\",IF(journal!U159=\"a\",\"a\",journal!U159/journal!U$9))","v":""},{"$f":"IF(journal!V159=\"\",\"\",IF(journal!V159=\"a\",\"a\",journal!V159/journal!V$9))","v":""},{"$f":"IF(journal!W159=\"\",\"\",IF(journal!W159=\"a\",\"a\",journal!W159/journal!W$9))","v":""},{"$f":"IF(journal!X159=\"\",\"\",IF(journal!X159=\"a\",\"a\",journal!X159/journal!X$9))","v":""},{"$f":"IF(journal!Y159=\"\",\"\",IF(journal!Y159=\"a\",\"a\",journal!Y159/journal!Y$9))","v":""},{"$f":"IF(journal!Z159=\"\",\"\",IF(journal!Z159=\"a\",\"a\",journal!Z159/journal!Z$9))","v":""},{"$f":"IF(journal!AA159=\"\",\"\",IF(journal!AA159=\"a\",\"a\",journal!AA159/journal!AA$9))","v":""},{"$f":"IF(journal!AB159=\"\",\"\",IF(journal!AB159=\"a\",\"a\",journal!AB159/journal!AB$9))","v":""},{"$f":"IF(journal!AC159=\"\",\"\",IF(journal!AC159=\"a\",\"a\",journal!AC159/journal!AC$9))","v":""},{"$f":"IF(journal!AD159=\"\",\"\",IF(journal!AD159=\"a\",\"a\",journal!AD159/journal!AD$9))","v":""},{"$f":"IF(journal!AE159=\"\",\"\",IF(journal!AE159=\"a\",\"a\",journal!AE159/journal!AE$9))","v":""},{"$f":"IF(journal!AF159=\"\",\"\",IF(journal!AF159=\"a\",\"a\",journal!AF159/journal!AF$9))","v":""},{"$f":"IF(journal!AG159=\"\",\"\",IF(journal!AG159=\"a\",\"a\",journal!AG159/journal!AG$9))","v":""},{"$f":"IF(journal!AH159=\"\",\"\",IF(journal!AH159=\"a\",\"a\",journal!AH159/journal!AH$9))","v":""},{"$f":"IF(journal!AI159=\"\",\"\",IF(journal!AI159=\"a\",\"a\",journal!AI159/journal!AI$9))","v":""},{"$f":"IF(journal!AJ159=\"\",\"\",IF(journal!AJ159=\"a\",\"a\",journal!AJ159/journal!AJ$9))","v":""},{"$f":"IF(journal!AK159=\"\",\"\",IF(journal!AK159=\"a\",\"a\",journal!AK159/journal!AK$9))","v":""},{"$f":"IF(journal!AL159=\"\",\"\",IF(journal!AL159=\"a\",\"a\",journal!AL159/journal!AL$9))","v":""},{"$f":"IF(journal!AM159=\"\",\"\",IF(journal!AM159=\"a\",\"a\",journal!AM159/journal!AM$9))","v":""},{"$f":"IF(journal!AN159=\"\",\"\",IF(journal!AN159=\"a\",\"a\",journal!AN159/journal!AN$9))","v":""},{"$f":"IF(journal!AO159=\"\",\"\",IF(journal!AO159=\"a\",\"a\",journal!AO159/journal!AO$9))","v":""},{"$f":"IF(journal!AP159=\"\",\"\",IF(journal!AP159=\"a\",\"a\",journal!AP159/journal!AP$9))","v":""},{"$f":"IF(journal!AQ159=\"\",\"\",IF(journal!AQ159=\"a\",\"a\",journal!AQ159/journal!AQ$9))","v":""},{"$f":"IF(journal!AR159=\"\",\"\",IF(journal!AR159=\"a\",\"a\",journal!AR159/journal!AR$9))","v":""},"","","",""]
[null,"C",{"$f":"IF(journal!C160=\"\",\"\",IF(journal!C160=\"a\",\"a\",journal!C160/journal!C$10))","v":""},{"$f":"IF(journal!D160=\"\",\"\",IF(journal!D160=\"a\",\"a\",journal!D160/journal!D$10))","v":""},{"$f":"IF(journal!E160=\"\",\"\",IF(journal!E160=\"a\",\"a\",journal!E160/journal!E$10))","v":""},{"$f":"IF(journal!F160=\"\",\"\",IF(journal!F160=\"a\",\"a\",journal!F160/journal!F$10))","v":""},{"$f":"IF(journal!G160=\"\",\"\",IF(journal!G160=\"a\",\"a\",journal!G160/journal!G$10))","v":""},{"$f":"IF(journal!H160=\"\",\"\",IF(journal!H160=\"a\",\"a\",journal!H160/journal!H$10))","v":""},{"$f":"IF(journal!I160=\"\",\"\",IF(journal!I160=\"a\",\"a\",journal!I160/journal!I$10))","v":""},{"$f":"IF(journal!J160=\"\",\"\",IF(journal!J160=\"a\",\"a\",journal!J160/journal!J$10))","v":""},{"$f":"IF(journal!K160=\"\",\"\",IF(journal!K160=\"a\",\"a\",journal!K160/journal!K$10))","v":""},{"$f":"IF(journal!L160=\"\",\"\",IF(journal!L160=\"a\",\"a\",journal!L160/journal!L$10))","v":""},{"$f":"IF(journal!M160=\"\",\"\",IF(journal!M160=\"a\",\"a\",journal!M160/journal!M$10))","v":""},{"$f":"IF(journal!N160=\"\",\"\",IF(journal!N160=\"a\",\"a\",journal!N160/journal!N$10))","v":""},{"$f":"IF(journal!O160=\"\",\"\",IF(journal!O160=\"a\",\"a\",journal!O160/journal!O$10))","v":""},{"$f":"IF(journal!P160=\"\",\"\",IF(journal!P160=\"a\",\"a\",journal!P160/journal!P$10))","v":""},{"$f":"IF(journal!Q160=\"\",\"\",IF(journal!Q160=\"a\",\"a\",journal!Q160/journal!Q$10))","v":""},{"$f":"IF(journal!R160=\"\",\"\",IF(journal!R160=\"a\",\"a\",journal!R160/journal!R$10))","v":""},{"$f":"IF(journal!S160=\"\",\"\",IF(journal!S160=\"a\",\"a\",journal!S160/journal!S$10))","v":""},{"$f":"IF(journal!T160=\"\",\"\",IF(journal!T160=\"a\",\"a\",journal!T160/journal!T$10))","v":""},{"$f":"IF(journal!U160=\"\",\"\",IF(journal!U160=\"a\",\"a\",journal!U160/journal!U$10))","v":""},{"$f":"IF(journal!V160=\"\",\"\",IF(journal!V160=\"a\",\"a\",journal!V160/journal!V$10))","v":""},{"$f":"IF(journal!W160=\"\",\"\",IF(journal!W160=\"a\",\"a\",journal!W160/journal!W$10))","v":""},{"$f":"IF(journal!X160=\"\",\"\",IF(journal!X160=\"a\",\"a\",journal!X160/journal!X$10))","v":""},{"$f":"IF(journal!Y160=\"\",\"\",IF(journal!Y160=\"a\",\"a\",journal!Y160/journal!Y$10))","v":""},{"$f":"IF(journal!Z160=\"\",\"\",IF(journal!Z160=\"a\",\"a\",journal!Z160/journal!Z$10))","v":""},{"$f":"IF(journal!AA160=\"\",\"\",IF(journal!AA160=\"a\",\"a\",journal!AA160/journal!AA$10))","v":""},{"$f":"IF(journal!AB160=\"\",\"\",IF(journal!AB160=\"a\",\"a\",journal!AB160/journal!AB$10))","v":""},{"$f":"IF(journal!AC160=\"\",\"\",IF(journal!AC160=\"a\",\"a\",journal!AC160/journal!AC$10))","v":""},{"$f":"IF(journal!AD160=\"\",\"\",IF(journal!AD160=\"a\",\"a\",journal!AD160/journal!AD$10))","v":""},{"$f":"IF(journal!AE160=\"\",\"\",IF(journal!AE160=\"a\",\"a\",journal!AE160/journal!AE$10))","v":""},{"$f":"IF(journal!AF160=\"\",\"\",IF(journal!AF160=\"a\",\"a\",journal!AF160/journal!AF$10))","v":""},{"$f":"IF(journal!AG160=\"\",\"\",IF(journal!AG160=\"a\",\"a\",journal!AG160/journal!AG$10))","v":""},{"$f":"IF(journal!AH160=\"\",\"\",IF(journal!AH160=\"a\",\"a\",journal!AH160/journal!AH$10))","v":""},{"$f":"IF(journal!AI160=\"\",\"\",IF(journal!AI160=\"a\",\"a\",journal!AI160/journal!AI$10))","v":""},{"$f":"IF(journal!AJ160=\"\",\"\",IF(journal!AJ160=\"a\",\"a\",journal!AJ160/journal!AJ$10))","v":""},{"$f":"IF(journal!AK160=\"\",\"\",IF(journal!AK160=\"a\",\"a\",journal!AK160/journal!AK$10))","v":""},{"$f":"IF(journal!AL160=\"\",\"\",IF(journal!AL160=\"a\",\"a\",journal!AL160/journal!AL$10))","v":""},{"$f":"IF(journal!AM160=\"\",\"\",IF(journal!AM160=\"a\",\"a\",journal!AM160/journal!AM$10))","v":""},{"$f":"IF(journal!AN160=\"\",\"\",IF(journal!AN160=\"a\",\"a\",journal!AN160/journal!AN$10))","v":""},{"$f":"IF(journal!AO160=\"\",\"\",IF(journal!AO160=\"a\",\"a\",journal!AO160/journal!AO$10))","v":""},{"$f":"IF(journal!AP160=\"\",\"\",IF(journal!AP160=\"a\",\"a\",journal!AP160/journal!AP$10))","v":""},{"$f":"IF(journal!AQ160=\"\",\"\",IF(journal!AQ160=\"a\",\"a\",journal!AQ160/journal!AQ$10))","v":""},{"$f":"IF(journal!AR160=\"\",\"\",IF(journal!AR160=\"a\",\"a\",journal!AR160/journal!AR$10))","v":""},{"$f":"IF(ISERROR(AVERAGE(C160:AR160)),\"\",AVERAGE(C160:AR160))","v":""},"","",""]
["Classe","S",{"$f":"IF(COUNTIF(C11:C160,\"\")=150,\"\",AVERAGE(C156,C151,C146,C141,C136,C131,C126,C121,C116,C111,C106,C101,C96,C91,C86,C81,C76,C71,C66,C61,C56,C51,C46,C41,C36,C31,C26,C21,C16,C11))","v":""},{"$f":"IF(COUNTIF(D11:D160,\"\")=150,\"\",AVERAGE(D156,D151,D146,D141,D136,D131,D126,D121,D116,D111,D106,D101,D96,D91,D86,D81,D76,D71,D66,D61,D56,D51,D46,D41,D36,D31,D26,D21,D16,D11))","v":""},"","","","","","","","","","","","","","",{"$f":"IF(COUNTIF(S11:S160,\"\")=150,\"\",AVERAGE(S156,S151,S146,S141,S136,S131,S126,S121,S116,S111,S106,S101,S96,S91,S86,S81,S76,S71,S66,S61,S56,S51,S46,S41,S36,S31,S26,S21,S16,S11))","v":""},{"$f":"IF(COUNTIF(T11:T160,\"\")=150,\"\",AVERAGE(T156,T151,T146,T141,T136,T131,T126,T121,T116,T111,T106,T101,T96,T91,T86,T81,T76,T71,T66,T61,T56,T51,T46,T41,T36,T31,T26,T21,T16,T11))","v":""},{"$f":"IF(COUNTIF(U11:U160,\"\")=150,\"\",AVERAGE(U156,U151,U146,U141,U136,U131,U126,U121,U116,U111,U106,U101,U96,U91,U86,U81,U76,U71,U66,U61,U56,U51,U46,U41,U36,U31,U26,U21,U16,U11))","v":""},{"$f":"IF(COUNTIF(V11:V160,\"\")=150,\"\",AVERAGE(V156,V151,V146,V141,V136,V131,V126,V121,V116,V111,V106,V101,V96,V91,V86,V81,V76,V71,V66,V61,V56,V51,V46,V41,V36,V31,V26,V21,V16,V11))","v":""},{"$f":"IF(COUNTIF(W11:W160,\"\")=150,\"\",AVERAGE(W156,W151,W146,W141,W136,W131,W126,W121,W116,W111,W106,W101,W96,W91,W86,W81,W76,W71,W66,W61,W56,W51,W46,W41,W36,W31,W26,W21,W16,W11))","v":""},{"$f":"IF(COUNTIF(X11:X160,\"\")=150,\"\",AVERAGE(X156,X151,X146,X141,X136,X131,X126,X121,X116,X111,X106,X101,X96,X91,X86,X81,X76,X71,X66,X61,X56,X51,X46,X41,X36,X31,X26,X21,X16,X11))","v":""},{"$f":"IF(COUNTIF(Y11:Y160,\"\")=150,\"\",AVERAGE(Y156,Y151,Y146,Y141,Y136,Y131,Y126,Y121,Y116,Y111,Y106,Y101,Y96,Y91,Y86,Y81,Y76,Y71,Y66,Y61,Y56,Y51,Y46,Y41,Y36,Y31,Y26,Y21,Y16,Y11))","v":""},{"$f":"IF(COUNTIF(Z11:Z160,\"\")=150,\"\",AVERAGE(Z156,Z151,Z146,Z141,Z136,Z131,Z126,Z121,Z116,Z111,Z106,Z101,Z96,Z91,Z86,Z81,Z76,Z71,Z66,Z61,Z56,Z51,Z46,Z41,Z36,Z31,Z26,Z21,Z16,Z11))","v":""},{"$f":"IF(COUNTIF(AA11:AA160,\"\")=150,\"\",AVERAGE(AA156,AA151,AA146,AA141,AA136,AA131,AA126,AA121,AA116,AA111,AA106,AA101,AA96,AA91,AA86,AA81,AA76,AA71,AA66,AA61,AA56,AA51,AA46,AA41,AA36,AA31,AA26,AA21,AA16,AA11))","v":""},{"$f":"IF(COUNTIF(AB11:AB160,\"\")=150,\"\",AVERAGE(AB156,AB151,AB146,AB141,AB136,AB131,AB126,AB121,AB116,AB111,AB106,AB101,AB96,AB91,AB86,AB81,AB76,AB71,AB66,AB61,AB56,AB51,AB46,AB41,AB36,AB31,AB26,AB21,AB16,AB11))","v":""},{"$f":"IF(COUNTIF(AC11:AC160,\"\")=150,\"\",AVERAGE(AC156,AC151,AC146,AC141,AC136,AC131,AC126,AC121,AC116,AC111,AC106,AC101,AC96,AC91,AC86,AC81,AC76,AC71,AC66,AC61,AC56,AC51,AC46,AC41,AC36,AC31,AC26,AC21,AC16,AC11))","v":""},{"$f":"IF(COUNTIF(AD11:AD160,\"\")=150,\"\",AVERAGE(AD156,AD151,AD146,AD141,AD136,AD131,AD126,AD121,AD116,AD111,AD106,AD101,AD96,AD91,AD86,AD81,AD76,AD71,AD66,AD61,AD56,AD51,AD46,AD41,AD36,AD31,AD26,AD21,AD16,AD11))","v":""},{"$f":"IF(COUNTIF(AE11:AE160,\"\")=150,\"\",AVERAGE(AE156,AE151,AE146,AE141,AE136,AE131,AE126,AE121,AE116,AE111,AE106,AE101,AE96,AE91,AE86,AE81,AE76,AE71,AE66,AE61,AE56,AE51,AE46,AE41,AE36,AE31,AE26,AE21,AE16,AE11))","v":""},{"$f":"IF(COUNTIF(AF11:AF160,\"\")=150,\"\",AVERAGE(AF156,AF151,AF146,AF141,AF136,AF131,AF126,AF121,AF116,AF111,AF106,AF101,AF96,AF91,AF86,AF81,AF76,AF71,AF66,AF61,AF56,AF51,AF46,AF41,AF36,AF31,AF26,AF21,AF16,AF11))","v":""},{"$f":"IF(COUNTIF(AG11:AG160,\"\")=150,\"\",AVERAGE(AG156,AG151,AG146,AG141,AG136,AG131,AG126,AG121,AG116,AG111,AG106,AG101,AG96,AG91,AG86,AG81,AG76,AG71,AG66,AG61,AG56,AG51,AG46,AG41,AG36,AG31,AG26,AG21,AG16,AG11))","v":""},{"$f":"IF(COUNTIF(AH11:AH160,\"\")=150,\"\",AVERAGE(AH156,AH151,AH146,AH141,AH136,AH131,AH126,AH121,AH116,AH111,AH106,AH101,AH96,AH91,AH86,AH81,AH76,AH71,AH66,AH61,AH56,AH51,AH46,AH41,AH36,AH31,AH26,AH21,AH16,AH11))","v":""},{"$f":"IF(COUNTIF(AI11:AI160,\"\")=150,\"\",AVERAGE(AI156,AI151,AI146,AI141,AI136,AI131,AI126,AI121,AI116,AI111,AI106,AI101,AI96,AI91,AI86,AI81,AI76,AI71,AI66,AI61,AI56,AI51,AI46,AI41,AI36,AI31,AI26,AI21,AI16,AI11))","v":""},{"$f":"IF(COUNTIF(AJ11:AJ160,\"\")=150,\"\",AVERAGE(AJ156,AJ151,AJ146,AJ141,AJ136,AJ131,AJ126,AJ121,AJ116,AJ111,AJ106,AJ101,AJ96,AJ91,AJ86,AJ81,AJ76,AJ71,AJ66,AJ61,AJ56,AJ51,AJ46,AJ41,AJ36,AJ31,AJ26,AJ21,AJ16,AJ11))","v":""},{"$f":"IF(COUNTIF(AK11:AK160,\"\")=150,\"\",AVERAGE(AK156,AK151,AK146,AK141,AK136,AK131,AK126,AK121,AK116,AK111,AK106,AK101,AK96,AK91,AK86,AK81,AK76,AK71,AK66,AK61,AK56,AK51,AK46,AK41,AK36,AK31,AK26,AK21,AK16,AK11))","v":""},{"$f":"IF(COUNTIF(AL11:AL160,\"\")=150,\"\",AVERAGE(AL156,AL151,AL146,AL141,AL136,AL131,AL126,AL121,AL116,AL111,AL106,AL101,AL96,AL91,AL86,AL81,AL76,AL71,AL66,AL61,AL56,AL51,AL46,AL41,AL36,AL31,AL26,AL21,AL16,AL11))","v":""},{"$f":"IF(COUNTIF(AM11:AM160,\"\")=150,\"\",AVERAGE(AM156,AM151,AM146,AM141,AM136,AM131,AM126,AM121,AM116,AM111,AM106,AM101,AM96,AM91,AM86,AM81,AM76,AM71,AM66,AM61,AM56,AM51,AM46,AM41,AM36,AM31,AM26,AM21,AM16,AM11))","v":""},{"$f":"IF(COUNTIF(AN11:AN160,\"\")=150,\"\",AVERAGE(AN156,AN151,AN146,AN141,AN136,AN131,AN126,AN121,AN116,AN111,AN106,AN101,AN96,AN91,AN86,AN81,AN76,AN71,AN66,AN61,AN56,AN51,AN46,AN41,AN36,AN31,AN26,AN21,AN16,AN11))","v":""},{"$f":"IF(COUNTIF(AO11:AO160,\"\")=150,\"\",AVERAGE(AO156,AO151,AO146,AO141,AO136,AO131,AO126,AO121,AO116,AO111,AO106,AO101,AO96,AO91,AO86,AO81,AO76,AO71,AO66,AO61,AO56,AO51,AO46,AO41,AO36,AO31,AO26,AO21,AO16,AO11))","v":""},{"$f":"IF(COUNTIF(AP11:AP160,\"\")=150,\"\",AVERAGE(AP156,AP151,AP146,AP141,AP136,AP131,AP126,AP121,AP116,AP111,AP106,AP101,AP96,AP91,AP86,AP81,AP76,AP71,AP66,AP61,AP56,AP51,AP46,AP41,AP36,AP31,AP26,AP21,AP16,AP11))","v":""},{"$f":"IF(COUNTIF(AQ11:AQ160,\"\")=150,\"\",AVERAGE(AQ156,AQ151,AQ146,AQ141,AQ136,AQ131,AQ126,AQ121,AQ116,AQ111,AQ106,AQ101,AQ96,AQ91,AQ86,AQ81,AQ76,AQ71,AQ66,AQ61,AQ56,AQ51,AQ46,AQ41,AQ36,AQ31,AQ26,AQ21,AQ16,AQ11))","v":""},{"$f":"IF(COUNTIF(AR11:AR160,\"\")=150,\"\",AVERAGE(AR156,AR151,AR146,AR141,AR136,AR131,AR126,AR121,AR116,AR111,AR106,AR101,AR96,AR91,AR86,AR81,AR76,AR71,AR66,AR61,AR56,AR51,AR46,AR41,AR36,AR31,AR26,AR21,AR16,AR11))","v":""},{"$f":"IF(COUNTIF(AS11:AS160,\"\")=150,\"\",AVERAGE(AS156,AS151,AS146,AS141,AS136,AS131,AS126,AS121,AS116,AS111,AS106,AS101,AS96,AS91,AS86,AS81,AS76,AS71,AS66,AS61,AS56,AS51,AS46,AS41,AS36,AS31,AS26,AS21,AS16,AS11))","v":""},{"$f":"IF(COUNTIF(AT11:AT160,\"\")=150,\"\",AVERAGE(AT156,AT151,AT146,AT141,AT136,AT131,AT126,AT121,AT116,AT111,AT106,AT101,AT96,AT91,AT86,AT81,AT76,AT71,AT66,AT61,AT56,AT51,AT46,AT41,AT36,AT31,AT26,AT21,AT16,AT11))","v":""},{"$f":"IF(COUNTIF(AU11:AU160,\"\")=150,\"\",AVERAGE(AU156,AU151,AU146,AU141,AU136,AU131,AU126,AU121,AU116,AU111,AU106,AU101,AU96,AU91,AU86,AU81,AU76,AU71,AU66,AU61,AU56,AU51,AU46,AU41,AU36,AU31,AU26,AU21,AU16,AU11))","v":""},{"$f":"IF(COUNTIF(AV11:AV160,\"\")=150,\"\",AVERAGE(AV156,AV151,AV146,AV141,AV136,AV131,AV126,AV121,AV116,AV111,AV106,AV101,AV96,AV91,AV86,AV81,AV76,AV71,AV66,AV61,AV56,AV51,AV46,AV41,AV36,AV31,AV26,AV21,AV16,AV11))","v":""}]
[null,"A",{"$f":"IF(COUNTIF(C12:C161,\"\")=150,\"\",AVERAGE(C157,C152,C147,C142,C137,C132,C127,C122,C117,C112,C107,C102,C97,C92,C87,C82,C77,C72,C67,C62,C57,C52,C47,C42,C37,C32,C27,C22,C17,C12))","v":""},"","","","","","","","","","","","","","","","","","","","","","","","","","","","","","","","","","","","","","","","","",{"$f":"IF(COUNTIF(AS12:AS161,\"\")=150,\"\",AVERAGE(AS157,AS152,AS147,AS142,AS137,AS132,AS127,AS122,AS117,AS112,AS107,AS102,AS97,AS92,AS87,AS82,AS77,AS72,AS67,AS62,AS57,AS52,AS47,AS42,AS37,AS32,AS27,AS22,AS17,AS12))","v":""},{"$f":"IF(COUNTIF(AT12:AT161,\"\")=150,\"\",AVERAGE(AT157,AT152,AT147,AT142,AT137,AT132,AT127,AT122,AT117,AT112,AT107,AT102,AT97,AT92,AT87,AT82,AT77,AT72,AT67,AT62,AT57,AT52,AT47,AT42,AT37,AT32,AT27,AT22,AT17,AT12))","v":""},{"$f":"IF(COUNTIF(AU12:AU161,\"\")=150,\"\",AVERAGE(AU157,AU152,AU147,AU142,AU137,AU132,AU127,AU122,AU117,AU112,AU107,AU102,AU97,AU92,AU87,AU82,AU77,AU72,AU67,AU62,AU57,AU52,AU47,AU42,AU37,AU32,AU27,AU22,AU17,AU12))","v":""},""]
[null,"R","","","","","","","","","","","","","","","","","","","","","","","","","","","","","","","","","","","","","","","","","","","","","",""]
[null,"V",{"$f":"IF(COUNTIF(C14:C163,\"\")=150,\"\",AVERAGE(C159,C154,C149,C144,C139,C134,C129,C124,C119,C114,C109,C104,C99,C94,C89,C84,C79,C74,C69,C64,C59,C54,C49,C44,C39,C34,C29,C24,C19,C14))","v":""},"","","","","","","","","","","","","","","","","","","","","","","","","","","","","","","","","","","","","","","","","","","","",""]
[null,"C","","","","","","","","","","","","","","","","","","","","","","","","","","","","","","","","","","","","","","","","","","","","","",""]

{"sheet":"journal","index":4,"n_rows":160,"n_cols":44,"rows_kept":160,"cut":false,"hidden":false,"merged":[[160,0,164,0],[165,0,169,0],[170,0,174,0],[175,0,179,0],[5,0,9,0],[130,0,134,0],[135,0,139,0],[140,0,144,0],[145,0,149,0],[150,0,154,0],[155,0,159,0],[100,0,104,0],[105,0,109,0],[110,0,114,0],[115,0,119,0],[120,0,124,0],[125,0,129,0],[70,0,74,0],[75,0,79,0],[80,0,84,0],[85,0,89,0],[90,0,94,0],[95,0,99,0],[65,0,69,0],[10,0,14,0],[15,0,19,0],[20,0,24,0],[25,0,29,0],[30,0,34,0],[35,0,39,0],[40,0,44,0],[45,0,49,0],[50,0,54,0],[55,0,59,0],[60,0,64,0]]}
["Thème","                 ","Statistiques","                 ","                 ","                 ","                 ","                 ","                 ","                 ","                 ","                 ","                 ","                 ","                 ","                 ","                 ","                 ","                 ","                 ","                 ","                 ","                 ","                 ","                 ","                 ","                 ","                 ","                 ","                 ","                 ","                 ","                 ","                 ","                 ","                 ","                 ","                 ","                 ","                 ","                 ","                 ","                 ","                 "]
["Type"]
[]
[]
[null,"n°Eval"]
["Total","S"]
[null,"A"]
[null,"R"]
[null,"V"]
[null,"C"]
[{"$f":"Saisie!A11","v":0},"S"]
[null,"A"]
[null,"R"]
[null,"V"]
[null,"C"]
[{"$f":"Saisie!A12","v":0},"S"]
[null,"A"]
[null,"R"]
[null,"V"]
[null,"C"]
[{"$f":"Saisie!A13","v":0},"S"]
[null,"A"]
[null,"R"]
[null,"V"]
[null,"C"]
[{"$f":"Saisie!A14","v":0},"S"]
[null,"A"]
[null,"R"]
[null,"V"]
[null,"C"]
[{"$f":"Saisie!A15","v":0},"S"]
[null,"A"]
[null,"R"]
[null,"V"]
[null,"C"]
[{"$f":"Saisie!A16","v":0},"S"]
[null,"A"]
[null,"R"]
[null,"V"]
[null,"C"]
[{"$f":"Saisie!A17","v":0},"S"]
[null,"A"]
[null,"R"]
[null,"V"]
[null,"C"]
[{"$f":"Saisie!A18","v":0},"S"]
[null,"A"]
[null,"R"]
[null,"V"]
[null,"C"]
[{"$f":"Saisie!A19","v":0},"S"]
[null,"A"]
[null,"R"]
[null,"V"]
[null,"C"]
[{"$f":"Saisie!A20","v":0},"S"]
[null,"A"]
[null,"R"]
[null,"V"]
[null,"C"]
[{"$f":"Saisie!A21","v":0},"S"]
[null,"A"]
[null,"R"]
[null,"V"]
[null,"C"]
[{"$f":"Saisie!A22","v":0},"S"]
[null,"A"]
[null,"R"]
[null,"V"]
[null,"C"]
[{"$f":"Saisie!A23","v":0},"S"]
[null,"A"]
[null,"R"]
[null,"V"]
[null,"C"]
[{"$f":"Saisie!A24","v":0},"S"]
[null,"A"]
[null,"R"]
[null,"V"]
[null,"C"]
[{"$f":"Saisie!A25","v":0},"S"]
[null,"A"]
[null,"R"]
[null,"V"]
[null,"C"]
[{"$f":"Saisie!A26","v":0},"S"]
[null,"A"]
[null,"R"]
[null,"V"]
[null,"C"]
[{"$f":"Saisie!A27","v":0},"S"]
[null,"A"]
[null,"R"]
[null,"V"]
[null,"C"]
[{"$f":"Saisie!A28","v":0},"S"]
[null,"A"]
[null,"R"]
[null,"V"]
[null,"C"]
[{"$f":"Saisie!A29","v":0},"S"]
[null,"A"]
[null,"R"]
[null,"V"]
[null,"C"]
[{"$f":"Saisie!A30","v":0},"S"]
[null,"A"]
[null,"R"]
[null,"V"]
[null,"C"]
[{"$f":"Saisie!A31","v":0},"S"]
[null,"A"]
[null,"R"]
[null,"V"]
[null,"C"]
[{"$f":"Saisie!A32","v":0},"S"]
[null,"A"]
[null,"R"]
[null,"V"]
[null,"C"]
[{"$f":"Saisie!A33","v":0},"S"]
[null,"A"]
[null,"R"]
[null,"V"]
[null,"C"]
[{"$f":"Saisie!A34","v":0},"S"]
[null,"A"]
[null,"R"]
[null,"V"]
[null,"C"]
[{"$f":"Saisie!A35","v":0},"S"]
[null,"A"]
[null,"R"]
[null,"V"]
[null,"C"]
[{"$f":"Saisie!A36","v":0},"S"]
[null,"A"]
[null,"R"]
[null,"V"]
[null,"C"]
[{"$f":"Saisie!A37","v":0},"S"]
[null,"A"]
[null,"R"]
[null,"V"]
[null,"C"]
[{"$f":"Saisie!A38","v":0},"S"]
[null,"A"]
[null,"R"]
[null,"V"]
[null,"C"]
[{"$f":"Saisie!A39","v":0},"S"]
[null,"A"]
[null,"R"]
[null,"V"]
[null,"C"]
[{"$f":"Saisie!A40","v":0},"S"]
[null,"A"]
[null,"R"]
[null,"V"]
[null,"C"]

{"sheet":"Références","index":5,"n_rows":22,"n_cols":11,"rows_kept":22,"cut":false,"hidden":false,"merged":[]}
["Liste des Types",null,null,"Liste des thèmes",null,"Valeurs autorisées pour les compétences"]
["Devoir surveillé",null,null,"Statistiques",null,0,null,null,null,null,"Noté"]
["Interrogation surprise",null,null,"Probabilités",null,{"$f":"F2+0.5","v":0.5},null,null,null,null,"Non Noté"]
["QCM",null,null,"Premier degré",null,{"$f":"F3+0.5","v":1}]
["Devoir Maison",null,null,"Fonctions ",null,1.5]
["Exercice ramassé",null,null,"Géométrie",null,2]
["Activité",null,null,"Fonctions ",null,2.5]
["Autre",null,null,"Dérivées",null,3]
[null,null,null,null,null,3.5]
[null,null,null,null,null,4]
[null,null,null,null,null,4.5]
[null,null,null,null,null,5]
[null,null,null,null,null,5.5]
[null,null,null,null,null,6]
[null,null,null,null,null,{"$f":"F14+0.5","v":6.5}]
[null,null,null,null,null,7]
[null,null,null,null,null,7.5]
[null,null,null,null,null,8]
[null,null,null,null,null,8.5]
[null,null,null,null,null,{"$f":"F19+0.5","v":9}]
[null,null,null,null,null,9.5]
[null,null,null,null,null,10]